Workbook

Sheet ORDER
C1: DC PRO d.o.o. | E1: IBAN: | F1: SI56 0700 0000 3615 474
C2: Beguje 28 D | E2: bank details: | F2: Gorenjska banka d.d.
C3: 4275 Begunje na Gorenjskem | F3: Bleiweisova cesta 1, 4000 Kranj
C4: Slovenia | E4: SWIFT: | F4: GORE SI 2X
C5: VAT number | D5: SI33331766
C6: EORI number | D6: SI33331766
C7: matical number | D7: 8792135000
A10: Billing information
A11: Company name
A12: Company address
A13: City
A14: ZIP
A15: Country
A16: VAT number
A17: Douane number
A18: Responsible person
A19: Telephone
A20: Email
A22: PROFORMA INVOICE - DELTA CLIMB
A25: Proforma invoice number | B25: 26-000
A26: Invoice number | B26: 26-0001
A27: Place | B27: Begunje
A28: Date | B28: 46211
A29: payment conditions | B29: 50% to confirm the order, 50%+shipping costs before shipping
A30: Shipping date
A31: Payment date | B31: =B28+14 -> 46225
B33: Sum pieces | C33: Sum kg | D33: Price without VAT | E33: discount | F33: discounted price without VAT | H33: custom colour
A34: DELTA GRP | B34: =SUM('DELTA GRP'!AB8:AN8) -> 0 | C34: ='DELTA GRP'!AB6 -> 0 | D34: ='DELTA GRP'!AB3 -> 0 | E34: 0 | F34: =D34-D34*E34 -> 0 | H34: 0
A35: DELTA WOOD | B35: =SUM('DELTA WOOD'!AC8:AO8) -> 0 | C35: ='DELTA WOOD'!AC6 -> 0 | D35: ='DELTA WOOD'!AC3 -> 0 | E35: 0 | F35: =D35-D35*E35 -> 0 | H35: 0
A36: DELTA PU | B36: =SUM('DELTA PU'!X8:AG8) -> 0 | C36: ='DELTA PU'!X6 -> 0 | D36: ='DELTA PU'!X3 -> 0 | E36: 0 | F36: =D36-D36*E36 -> 0 | H36: 0
A37: sum | B37: =SUM(B34:B36) -> 0 | C37: =SUM(C34:C36) -> 0 | D37: =SUM(D34:D36) -> 0 | F37: =SUM(F34:F36) -> 0 | G37: =SUM(G34:G36) -> 0 | H37: =SUM(H34:H36) -> 0
A39: Cargo details: | E39: sum price without VAT | H39: =SUM(F34:H36) -> 0
E40: packaging | H40: 0
A41: net weight | B41: =C37 -> 0 | C41: kg | E41: transport | H41: 0
A42: gross weight | C42: kg | E42: total without VAT | H42: =H39+H40+H41 -> 0
E43: VAT | F43: 0 | H43: =H42*F43 -> 0
E44: *0% VAT pursuant to article 46. of the ZDDV-1
A45: Fiberglass and plywood climbing equipment
A46: HS-Code(s): 95069990 | E46: subtotal [eur] | H46: =H42+H43 -> 0
E48: order confirmation payment (50%) | H48: =H39/2 -> 0
...

Sheet DELTA GRP
B2: #VALUE! | Z2: DELTA GRP
AA3: Sum Price without VAT | AB3: =SUM(AO$11:AO$1048576) -> 0 | AC3: EUR
AA4: Sum SETS | AB4: =SUM(AB11:AN24)+SUM(AB25:AN25)*COUNTIF(D11:D24, "*")+SUM(AB27:AN42)+SUM(AB43:AN43)*COUNTIF(D27:D42, "*")+SUM(AB45:AN50)+SUM(AB51:AN51)*COUNTIF(D45:D50, "*")+SUM(AB52:AN56)+SUM(AB57:AN57)*COUNTIF(D52:D56, "*")+SUM(AB58:AN63)+SUM(AB64:AN64)*COUNTIF(D58:D63, "*")+SUM(AB65:AN70)+SUM(AB71:AN71)*COUNTIF(D65:D70, "*")+SUM(AB73:AN86)+SUM(AB87:AN87)*COUNTIF(D73:D86, "*") -> 0
AA5: Sum of pcs | AB5: =AO8 -> 0
AA6: SUM | AB6: =SUM(G$11:G$1048576) -> 0 | AC6: kg | AO6: SUM of pcs.
AA8: Sum pcs. by colour: | AB8: =SUM(H:H) -> 0 | AC8: =SUM(I:I) -> 0 | AD8: =SUM(J:J) -> 0 | AE8: =SUM(K:K) -> 0 | AF8: =SUM(L:L) -> 0 | AG8: =SUM(M:M) -> 0 | AH8: =SUM(N:N) -> 0 | AI8: =SUM(O:O) -> 0 | AJ8: =SUM(P:P) -> 0 | AK8: =SUM(Q:Q) -> 0 | AL8: =SUM(R:R) -> 0 | AM8: =SUM(S:S) -> 0 | AN8: =SUM(T:T) -> 0 | AO8: =SUM(AB8:AN8) -> 0
B9: NAME | D9: ID | E9: NOTES | F9: kg | G9: sum kg | H9: BLACK RAL 9005 | I9: WHITE | J9: RED RAL 3000 | K9: YELLOW RAL 1018 | L9: BLUE RAL 5015 | M9: GREEN RAL 6018 | N9: ORANGE RAL 1033 | O9: DEEP ORANGE RAL 2011 | P9: PINK RAL 4003 | Q9: GREY RAL 7001 | R9: PURPLE S4050-R60B/M | S9: MINT RAL6027 | T9: DEEP ROSE RAL4008 | U9: norma | V9: SIZE | W9: DIMENSIONS | X9: PCS. IN SET | Y9: T-NUTS | Z9: FIXING | AA9: PRICE WITHOUT VAT | AB9: BLACK RAL 9005 | AC9: WHITE | AD9: RED RAL 3000 | AE9: YELLOW RAL 1018 | AF9: BLUE RAL 5015 | AG9: GREEN RAL 6018 | AH9: ORANGE RAL 1033 | AI9: DEEP ORANGE RAL 2011 | AJ9: PINK RAL 4003 | AK9: GREY RAL 7001 | AL9: PURPLE S4050-R60B/M | AM9: MINT RAL 6027 | AN9: DEEP ROSE RAL 4008 | AO9: Sum
AA10: BEGINNING
B11: BEGINNING 1 | C11: #VALUE! | D11: D-BEG1-GRP-DT | E11: Dual tex. | F11: =0.5+0.6 -> 1.1 | G11: =SUM(AB11:AN11)*F11 -> 0 | H11: =AB11*$X$11 -> 0 | I11: =AC11*$X$11 -> 0 | J11: =AD11*$X$11 -> 0 | K11: =AE11*$X$11 -> 0 | L11: =AF11*$X$11 -> 0 | M11: =AG11*$X$11 -> 0 | N11: =AH11*$X$11 -> 0 | O11: =AI11*$X$11 -> 0 | ... T11: =AN11*$X$11 -> 0 | U11: 1 | V11: M | W11: 38x15,5x5,5 cm, 38x15,5x6 cm | X11: 2 | Y11: 0 | Z11: screw-ons | AA11: 370 | AO11: =AA11*SUM(AB11:AN11) -> 0
B12: BEGINNING 2 | C12: #VALUE! | D12: D-BEG2-GRP-DT | E12: Dual tex. | F12: =0.7+0.5 -> 1.2 | G12: =SUM(AB12:AN12)*F12 -> 0 | H12: =AB12*$X$12 -> 0 | I12: =AC12*$X$12 -> 0 | J12: =AD12*$X$12 -> 0 | K12: =AE12*$X$12 -> 0 | L12: =AF12*$X$12 -> 0 | M12: =AG12*$X$12 -> 0 | N12: =AH12*$X$12 -> 0 | O12: =AI12*$X$12 -> 0 | ... T12: =AN12*$X$12 -> 0 | U12: 1 | V12: M | W12: 37,5x15,5x8 cm, 38x14x7 cm | X12: 2 | Y12: 0 | Z12: screw-ons | AA12: 370 | AO12: =AA12*SUM(AB12:AN12) -> 0
B13: BEGINNING 3 | C13: #VALUE! | D13: D-BEG3-GRP-DT | E13: Dual tex. | F13: 0.7 | G13: =SUM(AB13:AN13)*F13 -> 0 | H13: =AB13*$X$13 -> 0 | I13: =AC13*$X$13 -> 0 | J13: =AD13*$X$13 -> 0 | K13: =AE13*$X$13 -> 0 | L13: =AF13*$X$13 -> 0 | M13: =AG13*$X$13 -> 0 | N13: =AH13*$X$13 -> 0 | O13: =AI13*$X$13 -> 0 | ... T13: =AN13*$X$13 -> 0 | U13: 1 | V13: M | W13: 43x18,5x6,5 cm | X13: 1 | Y13: 0 | Z13: screw-ons | AA13: 220 | AO13: =AA13*SUM(AB13:AN13) -> 0
B14: BEGINNING 4 | C14: #VALUE! | D14: D-BEG4-GRP-DT | E14: Dual tex. | F14: 1.3 | G14: =SUM(AB14:AN14)*F14 -> 0 | H14: =AB14*$X$14 -> 0 | I14: =AC14*$X$14 -> 0 | J14: =AD14*$X$14 -> 0 | K14: =AE14*$X$14 -> 0 | L14: =AF14*$X$14 -> 0 | M14: =AG14*$X$14 -> 0 | N14: =AH14*$X$14 -> 0 | O14: =AI14*$X$14 -> 0 | ... T14: =AN14*$X$14 -> 0 | U14: 1 | V14: L | W14: 66x25,5x4,5 cm | X14: 1 | Y14: 0 | Z14: screw-ons | AA14: 220 | AO14: =AA14*SUM(AB14:AN14) -> 0
B15: BEGINNING 5 | C15: #VALUE! | D15: D-BEG5-GRP-DT | E15: Dual tex. | F15: 1.2 | G15: =SUM(AB15:AN15)*F15 -> 0 | H15: =AB15*$X$15 -> 0 | I15: =AC15*$X$15 -> 0 | J15: =AD15*$X$15 -> 0 | K15: =AE15*$X$15 -> 0 | L15: =AF15*$X$15 -> 0 | M15: =AG15*$X$15 -> 0 | N15: =AH15*$X$15 -> 0 | O15: =AI15*$X$15 -> 0 | ... T15: =AN15*$X$15 -> 0 | U15: 1 | V15: L | W15: 64,5x26x6 cm | X15: 1 | Y15: 0 | Z15: screw-ons | AA15: 245 | AO15: =AA15*SUM(AB15:AN15) -> 0
B16: BEGINNING 6 | C16: #VALUE! | D16: D-BEG6-GRP-DT | E16: Dual tex. | F16: 1.75 | G16: =SUM(AB16:AN16)*F16 -> 0 | H16: =AB16*$X$16 -> 0 | I16: =AC16*$X$16 -> 0 | J16: =AD16*$X$16 -> 0 | K16: =AE16*$X$16 -> 0 | L16: =AF16*$X$16 -> 0 | M16: =AG16*$X$16 -> 0 | N16: =AH16*$X$16 -> 0 | O16: =AI16*$X$16 -> 0 | ... T16: =AN16*$X$16 -> 0 | U16: 1 | V16: L | W16: 67x28,5x8,5 cm | X16: 1 | Y16: 0 | Z16: screw-ons | AA16: 245 | AO16: =AA16*SUM(AB16:AN16) -> 0
B17: BEGINNING 7 | C17: #VALUE! | D17: D-BEG7-GRP-DT | E17: Dual tex. | F17: 1.45 | G17: =SUM(AB17:AN17)*F17 -> 0 | H17: =AB17*$X$17 -> 0 | I17: =AC17*$X$17 -> 0 | J17: =AD17*$X$17 -> 0 | K17: =AE17*$X$17 -> 0 | L17: =AF17*$X$17 -> 0 | M17: =AG17*$X$17 -> 0 | N17: =AH17*$X$17 -> 0 | O17: =AI17*$X$17 -> 0 | ... T17: =AN17*$X$17 -> 0 | U17: 1 | V17: L | W17: 67,5x29x11 cm | X17: 1 | Y17: 0 | Z17: screw-ons | AA17: 245 | AO17: =AA17*SUM(AB17:AN17) -> 0
B18: BEGINNING 8 | C18: #VALUE! | D18: D-BEG8-GRP-DT | E18: Dual tex. | F18: 1.5 | G18: =SUM(AB18:AN18)*F18 -> 0 | H18: =AB18*$X$18 -> 0 | I18: =AC18*$X$18 -> 0 | J18: =AD18*$X$18 -> 0 | K18: =AE18*$X$18 -> 0 | L18: =AF18*$X$18 -> 0 | M18: =AG18*$X$18 -> 0 | N18: =AH18*$X$18 -> 0 | O18: =AI18*$X$18 -> 0 | ... T18: =AN18*$X$18 -> 0 | U18: 1 | V18: L | W18: 67,5x26,5x9,5 cm | X18: 1 | Y18: 0 | Z18: screw-ons | AA18: 245 | AO18: =AA18*SUM(AB18:AN18) -> 0
B19: BEGINNING 9 | C19: #VALUE! | D19: D-BEG9-GRP-DT | E19: Dual tex. | F19: 2.05 | G19: =SUM(AB19:AN19)*F19 -> 0 | H19: =AB19*$X$19 -> 0 | I19: =AC19*$X$19 -> 0 | J19: =AD19*$X$19 -> 0 | K19: =AE19*$X$19 -> 0 | L19: =AF19*$X$19 -> 0 | M19: =AG19*$X$19 -> 0 | N19: =AH19*$X$19 -> 0 | O19: =AI19*$X$19 -> 0 | ... T19: =AN19*$X$19 -> 0 | U19: 1 | V19: L | W19: 65x27x11 cm | X19: 1 | Y19: 0 | Z19: screw-ons | AA19: 275 | AO19: =AA19*SUM(AB19:AN19) -> 0
B20: BEGINNING 10 | C20: #VALUE! | D20: D-BEG10-GRP-DT | E20: Dual tex. | F20: 2.05 | G20: =SUM(AB20:AN20)*F20 -> 0 | H20: =AB20*$X$20 -> 0 | I20: =AC20*$X$20 -> 0 | J20: =AD20*$X$20 -> 0 | K20: =AE20*$X$20 -> 0 | L20: =AF20*$X$20 -> 0 | M20: =AG20*$X$20 -> 0 | N20: =AH20*$X$20 -> 0 | O20: =AI20*$X$20 -> 0 | ... T20: =AN20*$X$20 -> 0 | U20: 1 | V20: L | W20: 75x30,5x13,5 cm | X20: 1 | Y20: 0 | Z20: screw-ons | AA20: 275 | AO20: =AA20*SUM(AB20:AN20) -> 0
B21: BEGINNING 11 | C21: #VALUE! | D21: D-BEG11-GRP-DT | E21: Dual tex. | F21: 2.6 | G21: =SUM(AB21:AN21)*F21 -> 0 | H21: =AB21*$X$21 -> 0 | I21: =AC21*$X$21 -> 0 | J21: =AD21*$X$21 -> 0 | K21: =AE21*$X$21 -> 0 | L21: =AF21*$X$21 -> 0 | M21: =AG21*$X$21 -> 0 | N21: =AH21*$X$21 -> 0 | O21: =AI21*$X$21 -> 0 | ... T21: =AN21*$X$21 -> 0 | U21: 1 | V21: L | W21: 77,5x29,5x14 cm | X21: 1 | Y21: 0 | Z21: screw-ons | AA21: 275 | AO21: =AA21*SUM(AB21:AN21) -> 0
B22: BEGINNING 12 | C22: #VALUE! | D22: D-BEG12-GRP-DT | E22: Dual tex. | F22: 2.35 | G22: =SUM(AB22:AN22)*F22 -> 0 | H22: =AB22*$X$22 -> 0 | I22: =AC22*$X$22 -> 0 | J22: =AD22*$X$22 -> 0 | K22: =AE22*$X$22 -> 0 | L22: =AF22*$X$22 -> 0 | M22: =AG22*$X$22 -> 0 | N22: =AH22*$X$22 -> 0 | O22: =AI22*$X$22 -> 0 | ... T22: =AN22*$X$22 -> 0 | U22: 1 | V22: L | W22: 74,5x28x13 cm | X22: 1 | Y22: 0 | Z22: screw-ons | AA22: 275 | AO22: =AA22*SUM(AB22:AN22) -> 0
B23: BEGINNING 13 | C23: #VALUE! | D23: D-BEG13-GRP-DT | E23: Dual tex. | F23: 3 | G23: =SUM(AB23:AN23)*F23 -> 0 | H23: =AB23*$X$23 -> 0 | I23: =AC23*$X$23 -> 0 | J23: =AD23*$X$23 -> 0 | K23: =AE23*$X$23 -> 0 | L23: =AF23*$X$23 -> 0 | M23: =AG23*$X$23 -> 0 | N23: =AH23*$X$23 -> 0 | O23: =AI23*$X$23 -> 0 | ... T23: =AN23*$X$23 -> 0 | U23: 2 | V23: XL | W23: 94,5x32x17 cm | X23: 1 | Y23: 0 | Z23: screw-ons | AA23: 380 | AO23: =AA23*SUM(AB23:AN23) -> 0
B24: BEGINNING 14 | C24: #VALUE! | D24: D-BEG14-GRP-DT | E24: Dual tex. | F24: 4.4 | G24: =SUM(AB24:AN24)*F24 -> 0 | H24: =AB24*$X$24 -> 0 | I24: =AC24*$X$24 -> 0 | J24: =AD24*$X$24 -> 0 | K24: =AE24*$X$24 -> 0 | L24: =AF24*$X$24 -> 0 | M24: =AG24*$X$24 -> 0 | N24: =AH24*$X$24 -> 0 | O24: =AI24*$X$24 -> 0 | ... T24: =AN24*$X$24 -> 0 | U24: 2 | V24: XL | W24: 116,5x42,5x22 cm | X24: 1 | Y24: 0 | Z24: screw-ons | AA24: 420 | AO24: =AA24*SUM(AB24:AN24) -> 0
B25: BEGINNING | C25: BEGINNING: THE WHOLE RANGE | D25: D-BEG-GRP-DT | E25: Dual tex. | F25: =SUM(F11:F24) -> 26.65 | G25: =SUM(AB25:AN25)*F25 -> 0 | H25: =AB25*$X$25 -> 0 | I25: =AC25*$X$25 -> 0 | J25: =AD25*$X$25 -> 0 | K25: =AE25*$X$25 -> 0 | L25: =AF25*$X$25 -> 0 | M25: =AG25*$X$25 -> 0 | N25: =AH25*$X$25 -> 0 | O25: =AI25*$X$25 -> 0 | ... T25: =AN25*$X$25 -> 0 | U25: =SUM(U11:U24) -> 16 | V25: M-XL | X25: =SUM(X11:X24) -> 16 | Y25: 0 | Z25: screw-ons | AA25: 4060 | AO25: =AA25*SUM(AB25:AN25) -> 0
AA26: COLLISION
B27: COLLISION 1 | C27: #VALUE! | D27: D-COL1-GRP-DT | E27: Dual tex. | F27: 0.8 | G27: =SUM(AB27:AN27)*F27 -> 0 | H27: =AB27*$X$27 -> 0 | I27: =AC27*$X$27 -> 0 | J27: =AD27*$X$27 -> 0 | K27: =AE27*$X$27 -> 0 | L27: =AF27*$X$27 -> 0 | M27: =AG27*$X$27 -> 0 | N27: =AH27*$X$27 -> 0 | O27: =AI27*$X$27 -> 0 | ... T27: =AN27*$X$27 -> 0 | U27: 1 | V27: S | W27: 27x14x6,5 cm 29,5x14,5x5,5 cm | X27: 2 | Y27: 0 | Z27: screw-ons | AA27: 355 | AO27: =AA27*SUM(AB27:AN27) -> 0
B28: COLLISION 2 | C28: #VALUE! | D28: D-COL2-GRP-DT | E28: Dual tex. | F28: 1.94 | G28: =SUM(AB28:AN28)*F28 -> 0 | H28: =AB28*$X$28 -> 0 | I28: =AC28*$X$28 -> 0 | J28: =AD28*$X$28 -> 0 | K28: =AE28*$X$28 -> 0 | L28: =AF28*$X$28 -> 0 | M28: =AG28*$X$28 -> 0 | N28: =AH28*$X$28 -> 0 | O28: =AI28*$X$28 -> 0 | ... T28: =AN28*$X$28 -> 0 | U28: 2 | V28: M | W28: 46,5x30x8,5 cm 50,5x24x7 cm | X28: 2 | Y28: 0 | Z28: screw-ons | AA28: 400 | AO28: =AA28*SUM(AB28:AN28) -> 0
B29: COLLISION 3 | C29: #VALUE! | D29: D-COL3-GRP-DT | E29: Dual tex. | F29: 3.35 | G29: =SUM(AB29:AN29)*F29 -> 0 | H29: =AB29*$X$29 -> 0 | I29: =AC29*$X$29 -> 0 | J29: =AD29*$X$29 -> 0 | K29: =AE29*$X$29 -> 0 | L29: =AF29*$X$29 -> 0 | M29: =AG29*$X$29 -> 0 | N29: =AH29*$X$29 -> 0 | O29: =AI29*$X$29 -> 0 | ... T29: =AN29*$X$29 -> 0 | U29: 2 | V29: L | W29: 54x34x15 cm 63x31x13,5 cm | X29: 2 | Y29: 0 | Z29: screw-ons | AA29: 455 | AO29: =AA29*SUM(AB29:AN29) -> 0
B30: COLLISION 4 | C30: #VALUE! | D30: D-COL4-GRP-DT | E30: Dual tex. | F30: 1.35 | G30: =SUM(AB30:AN30)*F30 -> 0 | H30: =AB30*$X$30 -> 0 | I30: =AC30*$X$30 -> 0 | J30: =AD30*$X$30 -> 0 | K30: =AE30*$X$30 -> 0 | L30: =AF30*$X$30 -> 0 | M30: =AG30*$X$30 -> 0 | N30: =AH30*$X$30 -> 0 | O30: =AI30*$X$30 -> 0 | ... T30: =AN30*$X$30 -> 0 | U30: 1 | V30: L | W30: 62x30x8,5 cm | X30: 1 | Y30: 0 | Z30: screw-ons | AA30: 235 | AO30: =AA30*SUM(AB30:AN30) -> 0
B31: COLLISION 5 | C31: #VALUE! | D31: D-COL5-GRP-DT | E31: Dual tex. | F31: 2.1 | G31: =SUM(AB31:AN31)*F31 -> 0 | H31: =AB31*$X$31 -> 0 | I31: =AC31*$X$31 -> 0 | J31: =AD31*$X$31 -> 0 | K31: =AE31*$X$31 -> 0 | L31: =AF31*$X$31 -> 0 | M31: =AG31*$X$31 -> 0 | N31: =AH31*$X$31 -> 0 | O31: =AI31*$X$31 -> 0 | ... T31: =AN31*$X$31 -> 0 | U31: 1 | V31: L | W31: 74x35x16 cm | X31: 1 | Y31: 0 | Z31: screw-ons | AA31: 265 | AO31: =AA31*SUM(AB31:AN31) -> 0
B32: COLLISION 7 | C32: #VALUE! | D32: D-COL7-GRP-DT | E32: Dual tex. | F32: 2.8 | G32: =SUM(AB32:AN32)*F32 -> 0 | H32: =AB32*$X$32 -> 0 | I32: =AC32*$X$32 -> 0 | J32: =AD32*$X$32 -> 0 | K32: =AE32*$X$32 -> 0 | L32: =AF32*$X$32 -> 0 | M32: =AG32*$X$32 -> 0 | N32: =AH32*$X$32 -> 0 | O32: =AI32*$X$32 -> 0 | ... T32: =AN32*$X$32 -> 0 | U32: 1 | V32: L | W32: 80x39,5x13 cm | X32: 1 | Y32: 0 | Z32: screw-ons | AA32: 285 | AO32: =AA32*SUM(AB32:AN32) -> 0
B33: COLLISION 8 | C33: #VALUE! | D33: D-COL8-GRP-DT | E33: Dual tex. | F33: 3.3 | G33: =SUM(AB33:AN33)*F33 -> 0 | H33: =AB33*$X$33 -> 0 | I33: =AC33*$X$33 -> 0 | J33: =AD33*$X$33 -> 0 | K33: =AE33*$X$33 -> 0 | L33: =AF33*$X$33 -> 0 | M33: =AG33*$X$33 -> 0 | N33: =AH33*$X$33 -> 0 | O33: =AI33*$X$33 -> 0 | ... T33: =AN33*$X$33 -> 0 | U33: 1 | V33: XL | W33: 83x45x21 cm | X33: 1 | Y33: 0 | Z33: screw-ons | AA33: 315 | AO33: =AA33*SUM(AB33:AN33) -> 0
B34: COLLISION 9 | C34: #VALUE! | D34: D-COL9-GRP-DT | E34: Dual tex. | F34: 5.3 | G34: =SUM(AB34:AN34)*F34 -> 0 | H34: =AB34*$X$34 -> 0 | I34: =AC34*$X$34 -> 0 | J34: =AD34*$X$34 -> 0 | K34: =AE34*$X$34 -> 0 | L34: =AF34*$X$34 -> 0 | M34: =AG34*$X$34 -> 0 | N34: =AH34*$X$34 -> 0 | O34: =AI34*$X$34 -> 0 | ... T34: =AN34*$X$34 -> 0 | U34: 1 | V34: XL | W34: 108x51x22,5 cm | X34: 1 | Y34: 0 | Z34: screw-ons | AA34: 385 | AO34: =AA34*SUM(AB34:AN34) -> 0
B35: COLLISION 10 | C35: #VALUE! | D35: D-COL10-GRP-DT | E35: Dual tex. | F35: 4.6 | G35: =SUM(AB35:AN35)*F35 -> 0 | H35: =AB35*$X$35 -> 0 | I35: =AC35*$X$35 -> 0 | J35: =AD35*$X$35 -> 0 | K35: =AE35*$X$35 -> 0 | L35: =AF35*$X$35 -> 0 | M35: =AG35*$X$35 -> 0 | N35: =AH35*$X$35 -> 0 | O35: =AI35*$X$35 -> 0 | ... T35: =AN35*$X$35 -> 0 | U35: 1.5 | V35: XL | W35: 99x52x24 cm | X35: 1 | Y35: 0 | Z35: screw-ons | AA35: 370 | AO35: =AA35*SUM(AB35:AN35) -> 0
B36: COLLISION 13 | C36: #VALUE! | D36: D-COL13-GRP-DT | E36: Dual tex. | F36: 2.4 | G36: =SUM(AB36:AN36)*F36 -> 0 | H36: =AB36*$X$36 -> 0 | I36: =AC36*$X$36 -> 0 | J36: =AD36*$X$36 -> 0 | K36: =AE36*$X$36 -> 0 | L36: =AF36*$X$36 -> 0 | M36: =AG36*$X$36 -> 0 | N36: =AH36*$X$36 -> 0 | O36: =AI36*$X$36 -> 0 | ... T36: =AN36*$X$36 -> 0 | U36: 3 | V36: M | W36: 40x19,5x7,5 cm 40x22,5x12 cm 39,5x19x7 cm | X36: 3 | Y36: 0 | Z36: screw-ons | AA36: 555 | AO36: =AA36*SUM(AB36:AN36) -> 0
B37: COLLISION 14 | C37: #VALUE! | D37: D-COL14-GRP-DT | E37: Dual tex. | F37: 3.4 | G37: =SUM(AB37:AN37)*F37 -> 0 | H37: =AB37*$X$37 -> 0 | I37: =AC37*$X$37 -> 0 | J37: =AD37*$X$37 -> 0 | K37: =AE37*$X$37 -> 0 | L37: =AF37*$X$37 -> 0 | M37: =AG37*$X$37 -> 0 | N37: =AH37*$X$37 -> 0 | O37: =AI37*$X$37 -> 0 | ... T37: =AN37*$X$37 -> 0 | U37: 2 | V37: L | W37: 45,5x29,5x13,5 cm 56x37x16 cm | X37: 2 | Y37: 0 | Z37: screw-ons | AA37: 455 | AO37: =AA37*SUM(AB37:AN37) -> 0
B38: COLLISION 15 | C38: #VALUE! | D38: D-COL15-GRP-DT | E38: Dual tex. | F38: 4.25 | G38: =SUM(AB38:AN38)*F38 -> 0 | H38: =AB38*$X$38 -> 0 | I38: =AC38*$X$38 -> 0 | J38: =AD38*$X$38 -> 0 | K38: =AE38*$X$38 -> 0 | L38: =AF38*$X$38 -> 0 | M38: =AG38*$X$38 -> 0 | N38: =AH38*$X$38 -> 0 | O38: =AI38*$X$38 -> 0 | ... T38: =AN38*$X$38 -> 0 | U38: 2 | V38: L | W38: 66x36,5x14 cm 66x35x14,5 cm | X38: 2 | Y38: 0 | Z38: screw-ons | AA38: 510 | AO38: =AA38*SUM(AB38:AN38) -> 0
B39: COLLISION 16 | C39: #VALUE! | D39: D-COL16-GRP-DT | E39: Dual tex. | F39: 2.55 | G39: =SUM(AB39:AN39)*F39 -> 0 | H39: =AB39*$X$39 -> 0 | I39: =AC39*$X$39 -> 0 | J39: =AD39*$X$39 -> 0 | K39: =AE39*$X$39 -> 0 | L39: =AF39*$X$39 -> 0 | M39: =AG39*$X$39 -> 0 | N39: =AH39*$X$39 -> 0 | O39: =AI39*$X$39 -> 0 | ... T39: =AN39*$X$39 -> 0 | U39: 1 | V39: L | W39: 79,5x40,5x12 cm | X39: 1 | Y39: 0 | Z39: screw-ons | AA39: 270 | AO39: =AA39*SUM(AB39:AN39) -> 0
B40: COLLISION 17 | C40: #VALUE! | D40: D-COL17-GRP-DT | E40: Dual tex. | F40: 2.8 | G40: =SUM(AB40:AN40)*F40 -> 0 | H40: =AB40*$X$40 -> 0 | I40: =AC40*$X$40 -> 0 | J40: =AD40*$X$40 -> 0 | K40: =AE40*$X$40 -> 0 | L40: =AF40*$X$40 -> 0 | M40: =AG40*$X$40 -> 0 | N40: =AH40*$X$40 -> 0 | O40: =AI40*$X$40 -> 0 | ... T40: =AN40*$X$40 -> 0 | U40: 1 | V40: L | W40: 70x42x18,5 cm | X40: 1 | Y40: 0 | Z40: screw-ons | AA40: 285 | AO40: =AA40*SUM(AB40:AN40) -> 0
B41: COLLISION 18 | C41: #VALUE! | D41: D-COL18-GRP-DT | E41: Dual tex. | F41: 4.1 | G41: =SUM(AB41:AN41)*F41 -> 0 | H41: =AB41*$X$41 -> 0 | I41: =AC41*$X$41 -> 0 | J41: =AD41*$X$41 -> 0 | K41: =AE41*$X$41 -> 0 | L41: =AF41*$X$41 -> 0 | M41: =AG41*$X$41 -> 0 | N41: =AH41*$X$41 -> 0 | O41: =AI41*$X$41 -> 0 | ... T41: =AN41*$X$41 -> 0 | U41: 1 | V41: L | W41: 80x49x21,5 cm | X41: 1 | Y41: 0 | Z41: screw-ons | AA41: 365 | AO41: =AA41*SUM(AB41:AN41) -> 0
B42: COLLISION 19 | C42: #VALUE! | D42: D-COL19-GRP-DT | E42: Dual tex. | F42: 5.2 | G42: =SUM(AB42:AN42)*F42 -> 0 | H42: =AB42*$X$42 -> 0 | I42: =AC42*$X$24 -> 0 | J42: =AD42*$X$24 -> 0 | K42: =AE42*$X$24 -> 0 | L42: =AF42*$X$24 -> 0 | M42: =AG42*$X$24 -> 0 | N42: =AH42*$X$24 -> 0 | O42: =AI42*$X$24 -> 0 | P42: =AJ42*$X$24 -> 0 | ... T42: =AN42*$X$24 -> 0 | U42: 1 | V42: XL | W42: 96x55x24 cm | X42: 1 | Y42: 0 | Z42: screw-ons | AA42: 370 | AO42: =AA42*SUM(AB42:AN42) -> 0
...

Sheet DELTA WOOD
B2: #VALUE! | Z2: DELTA WOOD
AB3: Sum Price without VAT | AC3: =SUM(AP$11:AP$1048576) -> 0 | AD3: EUR
AB4: Sum SETS | AC4: =SUM(AC11:AO195) -> 0
AB5: Sum of pcs | AC5: =AP8 -> 0
AB6: SUM | AC6: =SUM(G$11:G$1048576) -> 0 | AD6: kg
AP7: SUM of pcs.
AB8: Sum pcs. by colour: | AC8: =SUM(H:H) -> 0 | AD8: =SUM(I:I) -> 0 | AE8: =SUM(J:J) -> 0 | AF8: =SUM(K:K) -> 0 | AG8: =SUM(L:L) -> 0 | AH8: =SUM(M:M) -> 0 | AI8: =SUM(N:N) -> 0 | AJ8: =SUM(O:O) -> 0 | AK8: =SUM(P:P) -> 0 | AL8: =SUM(Q:Q) -> 0 | AM8: =SUM(R:R) -> 0 | AN8: =SUM(S:S) -> 0 | AO8: =SUM(T:T) -> 0 | AP8: =SUM(AC8:AO8) -> 0
B9: NAME | D9: ID | E9: NOTES | F9: KG | G9: sum kg | H9: black | I9: white | J9: red | K9: yellow | L9: blue | M9: green | N9: orange | O9: deep orange | P9: pink | Q9: grey | R9: purple | S9: mint | T9: deep rose | U9: norma | V9: SIZE | W9: DIMENSIONS | X9: PCS. IN SET | Y9: T-NUTS | Z9: FIXING | AB9: PRICE WITHOUT VAT | AC9: BLACK RAL 9005 | AD9: WHITE | AE9: RED RAL 3000 | AF9: YELLOW RAL 1018 | AG9: BLUE RAL 5015 | AH9: GREEN RAL 6018 | AI9: ORANGE RAL 1033 | AJ9: DEEP ORANGE RAL 2011 | AK9: PINK RAL 4003 | AL9: GREY RAL 7001 | AM9: PURPLE S4050-R60B/M | AN9: MINT RAL 6027 | AO9: DEEP ROSE RAL 4008 | AP9: Sum
B10: #VALUE! | V10: #VALUE! | AB10: GIZA
B11: Giza-1 | C11: #VALUE! | D11: D-GI1-W | F11: 13.71 | G11: =SUM(AC11:AO11)*F11 -> 0 | H11: =AC11*$X$11 -> 0 | I11: =AD11*$X$11 -> 0 | J11: =AE11*$X$11 -> 0 | K11: =AF11*$X$11 -> 0 | L11: =AG11*$X$11 -> 0 | M11: =AH11*$X$11 -> 0 | N11: =AI11*$X$11 -> 0 | O11: =AJ11*$X$11 -> 0 | ... T11: =AO11*$X$11 -> 0 | U11: 1 | V11: XL | W11: 900x900x200 mm | X11: 1 | Y11: 11 | Z11: screw-ons | AB11: 500 | AP11: =AB11*SUM(AC11:AO11) -> 0
B12: Giza-2 | C12: #VALUE! | D12: D-GI2-W | F12: 3.23 | G12: =SUM(AC12:AO12)*F12 -> 0 | H12: =AC12*$X$12 -> 0 | I12: =AD12*$X$12 -> 0 | J12: =AE12*$X$12 -> 0 | K12: =AF12*$X$12 -> 0 | L12: =AG12*$X$12 -> 0 | M12: =AH12*$X$12 -> 0 | N12: =AI12*$X$12 -> 0 | O12: =AJ12*$X$12 -> 0 | ... T12: =AO12*$X$12 -> 0 | U12: 1 | V12: M | W12: 450x450x100 mm | X12: 1 | Y12: 3 | Z12: screw-ons | AB12: 210 | AP12: =AB12*SUM(AC12:AO12) -> 0
B13: Giza-3 | C13: #VALUE! | D13: D-GI3-W | F13: 0.88 | G13: =SUM(AC13:AO13)*F13 -> 0 | H13: =AC13*$X$13 -> 0 | I13: =AD13*$X$13 -> 0 | J13: =AE13*$X$13 -> 0 | K13: =AF13*$X$13 -> 0 | L13: =AG13*$X$13 -> 0 | M13: =AH13*$X$13 -> 0 | N13: =AI13*$X$13 -> 0 | O13: =AJ13*$X$13 -> 0 | ... T13: =AO13*$X$13 -> 0 | U13: 1 | V13: S | W13: 225x225x100 mm | X13: 1 | Y13: 0 | Z13: screw-ons | AB13: 135 | AP13: =AB13*SUM(AC13:AO13) -> 0
B14: GIZA: THE WHOLE RANGE | C14: #VALUE! | D14: D-GI-W | F14: =SUM(F11:F13) -> 17.82 | G14: =SUM(AC14:AO14)*F14 -> 0 | H14: =AC14*$X$14 -> 0 | I14: =AD14*$X$14 -> 0 | J14: =AE14*$X$14 -> 0 | K14: =AF14*$X$14 -> 0 | L14: =AG14*$X$14 -> 0 | M14: =AH14*$X$14 -> 0 | N14: =AI14*$X$14 -> 0 | O14: =AJ14*$X$14 -> 0 | ... T14: =AO14*$X$14 -> 0 | U14: =SUM(U11:U13) -> 3 | V14: S-XL | X14: 3 | Y14: =SUM(Y11:Y13) -> 14 | Z14: screw-ons | AB14: 845 | AP14: =AB14*SUM(AC14:AO14) -> 0
B15: #VALUE! | V15: #VALUE! | AB15: POINTER
B16: Pointer-1 | C16: #VALUE! | D16: D-PO1-W | F16: 7.63 | G16: =SUM(AC16:AO16)*F16 -> 0 | H16: =AC16*$X$16 -> 0 | I16: =AD16*$X$16 -> 0 | J16: =AE16*$X$16 -> 0 | K16: =AF16*$X$16 -> 0 | L16: =AG16*$X$16 -> 0 | M16: =AH16*$X$16 -> 0 | N16: =AI16*$X$16 -> 0 | O16: =AJ16*$X$16 -> 0 | ... T16: =AO16*$X$16 -> 0 | U16: 1 | V16: 3XL | W16: 1800x1038x180 mm | X16: 1 | Y16: 6 | Z16: screw-ons | AB16: 500 | AP16: =AB16*SUM(AC16:AO16) -> 0
B17: Pointer-2 | C17: #VALUE! | D17: D-PO2-W | F17: 7.32 | G17: =SUM(AC17:AO17)*F17 -> 0 | H17: =AC17*$X$17 -> 0 | I17: =AD17*$X$17 -> 0 | J17: =AE17*$X$17 -> 0 | K17: =AF17*$X$17 -> 0 | L17: =AG17*$X$17 -> 0 | M17: =AH17*$X$17 -> 0 | N17: =AI17*$X$17 -> 0 | O17: =AJ17*$X$17 -> 0 | ... T17: =AO17*$X$17 -> 0 | U17: 1 | V17: 3XL | W17: 1800x1053x180 mm | X17: 1 | Y17: 6 | Z17: screw-ons | AB17: 500 | AP17: =AB17*SUM(AC17:AO17) -> 0
B18: Pointer-3 | C18: #VALUE! | D18: D-PO3-W | F18: 7.4 | G18: =SUM(AC18:AO18)*F18 -> 0 | H18: =AC18*$X$18 -> 0 | I18: =AD18*$X$18 -> 0 | J18: =AE18*$X$18 -> 0 | K18: =AF18*$X$18 -> 0 | L18: =AG18*$X$18 -> 0 | M18: =AH18*$X$18 -> 0 | N18: =AI18*$X$18 -> 0 | O18: =AJ18*$X$18 -> 0 | ... T18: =AO18*$X$18 -> 0 | U18: 1 | V18: 3XL | W18: 1800x1053x180 mm | X18: 1 | Y18: 5 | Z18: screw-ons | AB18: 500 | AP18: =AB18*SUM(AC18:AO18) -> 0
B19: Pointer-4 | C19: #VALUE! | D19: D-PO4-W | F19: 7.75 | G19: =SUM(AC19:AO19)*F19 -> 0 | H19: =AC19*$X$19 -> 0 | I19: =AD19*$X$19 -> 0 | J19: =AE19*$X$19 -> 0 | K19: =AF19*$X$19 -> 0 | L19: =AG19*$X$19 -> 0 | M19: =AH19*$X$19 -> 0 | N19: =AI19*$X$19 -> 0 | O19: =AJ19*$X$19 -> 0 | ... T19: =AO19*$X$19 -> 0 | U19: 1 | V19: 3XL | W19: 1800x1053x180 mm | X19: 1 | Y19: 6 | Z19: screw-ons | AB19: 500 | AP19: =AB19*SUM(AC19:AO19) -> 0
B20: POINTER: THE WHOLE RANGE | C20: #VALUE! | D20: D-PO-W | F20: =SUM(F16:F19) -> 30.1 | G20: =SUM(AC20:AO20)*F20 -> 0 | H20: =AC20*$X$20 -> 0 | I20: =AD20*$X$20 -> 0 | J20: =AE20*$X$20 -> 0 | K20: =AF20*$X$20 -> 0 | L20: =AG20*$X$20 -> 0 | M20: =AH20*$X$20 -> 0 | N20: =AI20*$X$20 -> 0 | O20: =AJ20*$X$20 -> 0 | ... T20: =AO20*$X$20 -> 0 | U20: =SUM(U16:U19) -> 4 | V20: 3XL | X20: 4 | Y20: =SUM(Y16:Y19) -> 23 | Z20: screw-ons | AB20: 2000 | AP20: =AB20*SUM(AC20:AO20) -> 0
B21: #VALUE! | G21: =SUM(AC21:AO21)*F21 -> 0 | AB21: MATRIX
B22: Matrix-1.1 | C22: #VALUE! | D22: D-MX1.1-W | F22: 0.39 | G22: =SUM(AC22:AO22)*F22 -> 0 | H22: =AC22*$X$22 -> 0 | I22: =AD22*$X$22 -> 0 | J22: =AE22*$X$22 -> 0 | K22: =AF22*$X$22 -> 0 | L22: =AG22*$X$22 -> 0 | M22: =AH22*$X$22 -> 0 | N22: =AI22*$X$22 -> 0 | O22: =AJ22*$X$22 -> 0 | ... T22: =AO22*$X$22 -> 0 | U22: 1 | V22: S | W22: 300x33x30 mm | X22: 1 | Y22: 0 | Z22: screw-ons | AB22: 125 | AP22: =AB22*SUM(AC22:AO22) -> 0
B23: Matrix-1.2 | C23: #VALUE! | D23: D-MX1.2-W | F23: 0.48 | G23: =SUM(AC23:AO23)*F23 -> 0 | H23: =AC23*$X$23 -> 0 | I23: =AD23*$X$23 -> 0 | J23: =AE23*$X$23 -> 0 | K23: =AF23*$X$23 -> 0 | L23: =AG23*$X$23 -> 0 | M23: =AH23*$X$23 -> 0 | N23: =AI23*$X$23 -> 0 | O23: =AJ23*$X$23 -> 0 | ... T23: =AO23*$X$23 -> 0 | U23: 1 | V23: S | W23: 300x48x40 mm | X23: 1 | Y23: 0 | Z23: screw-ons | AB23: 125 | AP23: =AB23*SUM(AC23:AO23) -> 0
B24: Matrix-1.3 | C24: #VALUE! | D24: D-MX1.3-W | F24: 0.61 | G24: =SUM(AC24:AO24)*F24 -> 0 | H24: =AC24*$X$24 -> 0 | I24: =AD24*$X$24 -> 0 | J24: =AE24*$X$24 -> 0 | K24: =AF24*$X$24 -> 0 | L24: =AG24*$X$24 -> 0 | M24: =AH24*$X$24 -> 0 | N24: =AI24*$X$24 -> 0 | O24: =AJ24*$X$24 -> 0 | ... T24: =AO24*$X$24 -> 0 | U24: 1 | V24: S | W24: 300x69x50 mm | X24: 1 | Y24: 0 | Z24: screw-ons | AB24: 125 | AP24: =AB24*SUM(AC24:AO24) -> 0
B25: Matrix-1.4 | C25: #VALUE! | D25: D-MX1.4-W | F25: 0.69 | G25: =SUM(AC25:AO25)*F25 -> 0 | H25: =AC25*$X$25 -> 0 | I25: =AD25*$X$25 -> 0 | J25: =AE25*$X$25 -> 0 | K25: =AF25*$X$25 -> 0 | L25: =AG25*$X$25 -> 0 | M25: =AH25*$X$25 -> 0 | N25: =AI25*$X$25 -> 0 | O25: =AJ25*$X$25 -> 0 | ... T25: =AO25*$X$25 -> 0 | U25: 1 | V25: S | W25: 300x82x55 mm | X25: 1 | Y25: 0 | Z25: screw-ons | AB25: 125 | AP25: =AB25*SUM(AC25:AO25) -> 0
B26: Matrix-2.1 | C26: #VALUE! | D26: D-MX2.1-W | F26: 0.76 | G26: =SUM(AC26:AO26)*F26 -> 0 | H26: =AC26*$X$26 -> 0 | I26: =AD26*$X$26 -> 0 | J26: =AE26*$X$26 -> 0 | K26: =AF26*$X$26 -> 0 | L26: =AG26*$X$26 -> 0 | M26: =AH26*$X$26 -> 0 | N26: =AI26*$X$26 -> 0 | O26: =AJ26*$X$26 -> 0 | ... T26: =AO26*$X$26 -> 0 | U26: 1 | V26: M | W26: 400x50x30 mm | X26: 1 | Y26: 0 | Z26: screw-ons | AB26: 135 | AP26: =AB26*SUM(AC26:AO26) -> 0
B27: Matrix-2.2 | C27: #VALUE! | D27: D-MX2.2-W | F27: 0.93 | G27: =SUM(AC27:AO27)*F27 -> 0 | H27: =AC27*$X$27 -> 0 | I27: =AD27*$X$27 -> 0 | J27: =AE27*$X$27 -> 0 | K27: =AF27*$X$27 -> 0 | L27: =AG27*$X$27 -> 0 | M27: =AH27*$X$27 -> 0 | N27: =AI27*$X$27 -> 0 | O27: =AJ27*$X$27 -> 0 | ... T27: =AO27*$X$27 -> 0 | U27: 1 | V27: M | W27: 400x73x40 mm | X27: 1 | Y27: 0 | Z27: screw-ons | AB27: 135 | AP27: =AB27*SUM(AC27:AO27) -> 0
B28: Matrix-2.3 | C28: #VALUE! | D28: D-MX2.3-W | F28: 1.15 | G28: =SUM(AC28:AO28)*F28 -> 0 | H28: =AC28*$X$28 -> 0 | I28: =AD28*$X$28 -> 0 | J28: =AE28*$X$28 -> 0 | K28: =AF28*$X$28 -> 0 | L28: =AG28*$X$28 -> 0 | M28: =AH28*$X$28 -> 0 | N28: =AI28*$X$28 -> 0 | O28: =AJ28*$X$28 -> 0 | ... T28: =AO28*$X$28 -> 0 | U28: 1 | V28: M | W28: 400x103x50 mm | X28: 1 | Y28: 0 | Z28: screw-ons | AB28: 140 | AP28: =AB28*SUM(AC28:AO28) -> 0
B29: Matrix-2.4 | C29: #VALUE! | D29: D-MX2.4-W | F29: 1.3 | G29: =SUM(AC29:AO29)*F29 -> 0 | H29: =AC29*$X$29 -> 0 | I29: =AD29*$X$29 -> 0 | J29: =AE29*$X$29 -> 0 | K29: =AF29*$X$29 -> 0 | L29: =AG29*$X$29 -> 0 | M29: =AH29*$X$29 -> 0 | N29: =AI29*$X$29 -> 0 | O29: =AJ29*$X$29 -> 0 | ... T29: =AO29*$X$29 -> 0 | U29: 1 | V29: M | W29: 400x124x55 mm | X29: 1 | Y29: 0 | Z29: screw-ons | AB29: 140 | AP29: =AB29*SUM(AC29:AO29) -> 0
B30: Matrix-3.1 | C30: #VALUE! | D30: D-MX3.1-W | F30: 1.9 | G30: =SUM(AC30:AO30)*F30 -> 0 | H30: =AC30*$X$30 -> 0 | I30: =AD30*$X$30 -> 0 | J30: =AE30*$X$30 -> 0 | K30: =AF30*$X$30 -> 0 | L30: =AG30*$X$30 -> 0 | M30: =AH30*$X$30 -> 0 | N30: =AI30*$X$30 -> 0 | O30: =AJ30*$X$30 -> 0 | ... T30: =AO30*$X$30 -> 0 | U30: 1 | V30: L | W30: 600x67x30 mm | X30: 1 | Y30: 0 | Z30: screw-ons | AB30: 180 | AP30: =AB30*SUM(AC30:AO30) -> 0
B31: Matrix-3.2 | C31: #VALUE! | D31: D-MX3.2-W | F31: 2.25 | G31: =SUM(AC31:AO31)*F31 -> 0 | H31: =AC31*$X$31 -> 0 | I31: =AD31*$X$31 -> 0 | J31: =AE31*$X$31 -> 0 | K31: =AF31*$X$31 -> 0 | L31: =AG31*$X$31 -> 0 | M31: =AH31*$X$31 -> 0 | N31: =AI31*$X$31 -> 0 | O31: =AJ31*$X$31 -> 0 | ... T31: =AO31*$X$31 -> 0 | U31: 1 | V31: L | W31: 600x97x40 mm | X31: 1 | Y31: 0 | Z31: screw-ons | AB31: 180 | AP31: =AB31*SUM(AC31:AO31) -> 0
B32: Matrix-3.3 | C32: #VALUE! | D32: D-MX3.3-W | F32: 2.7 | G32: =SUM(AC32:AO32)*F32 -> 0 | H32: =AC32*$X$32 -> 0 | I32: =AD32*$X$32 -> 0 | J32: =AE32*$X$32 -> 0 | K32: =AF32*$X$32 -> 0 | L32: =AG32*$X$32 -> 0 | M32: =AH32*$X$32 -> 0 | N32: =AI32*$X$32 -> 0 | O32: =AJ32*$X$32 -> 0 | ... T32: =AO32*$X$32 -> 0 | U32: 1 | V32: L | W32: 600x138x50 mm | X32: 1 | Y32: 0 | Z32: screw-ons | AB32: 190 | AP32: =AB32*SUM(AC32:AO32) -> 0
B33: Matrix-3.4 | C33: #VALUE! | D33: D-MX3.4-W | F33: 3.11 | G33: =SUM(AC33:AO33)*F33 -> 0 | H33: =AC33*$X$33 -> 0 | I33: =AD33*$X$33 -> 0 | J33: =AE33*$X$33 -> 0 | K33: =AF33*$X$33 -> 0 | L33: =AG33*$X$33 -> 0 | M33: =AH33*$X$33 -> 0 | N33: =AI33*$X$33 -> 0 | O33: =AJ33*$X$33 -> 0 | ... T33: =AO33*$X$33 -> 0 | U33: 1 | V33: L | W33: 600x165x55 mm | X33: 1 | Y33: 0 | Z33: screw-ons | AB33: 190 | AP33: =AB33*SUM(AC33:AO33) -> 0
B34: Matrix-4.1 | C34: #VALUE! | D34: D-MX4.1-W | F34: 3.53 | G34: =SUM(AC34:AO34)*F34 -> 0 | H34: =AC34*$X$34 -> 0 | I34: =AD34*$X$34 -> 0 | J34: =AE34*$X$34 -> 0 | K34: =AF34*$X$34 -> 0 | L34: =AG34*$X$34 -> 0 | M34: =AH34*$X$34 -> 0 | N34: =AI34*$X$34 -> 0 | O34: =AJ34*$X$34 -> 0 | ... T34: =AO34*$X$34 -> 0 | U34: 1 | V34: L | W34: 800x100x30 mm | X34: 1 | Y34: 2 | Z34: screw-ons | AB34: 220 | AP34: =AB34*SUM(AC34:AO34) -> 0
B35: Matrix-4.2 | C35: #VALUE! | D35: D-MX4.2-W | F35: 4.14 | G35: =SUM(AC35:AO35)*F35 -> 0 | H35: =AC35*$X$35 -> 0 | I35: =AD35*$X$35 -> 0 | J35: =AE35*$X$35 -> 0 | K35: =AF35*$X$35 -> 0 | L35: =AG35*$X$35 -> 0 | M35: =AH35*$X$35 -> 0 | N35: =AI35*$X$35 -> 0 | O35: =AJ35*$X$35 -> 0 | ... T35: =AO35*$X$35 -> 0 | U35: 1 | V35: L | W35: 800x145x40 mm | X35: 1 | Y35: 2 | Z35: screw-ons | AB35: 220 | AP35: =AB35*SUM(AC35:AO35) -> 0
B36: Matrix-4.3 | C36: #VALUE! | D36: D-MX4.3-W | F36: 5.03 | G36: =SUM(AC36:AO36)*F36 -> 0 | H36: =AC36*$X$36 -> 0 | I36: =AD36*$X$36 -> 0 | J36: =AE36*$X$36 -> 0 | K36: =AF36*$X$36 -> 0 | L36: =AG36*$X$36 -> 0 | M36: =AH36*$X$36 -> 0 | N36: =AI36*$X$36 -> 0 | O36: =AJ36*$X$36 -> 0 | ... T36: =AO36*$X$36 -> 0 | U36: 1 | V36: L | W36: 800x206x50 mm | X36: 1 | Y36: 2 | Z36: screw-ons | AB36: 230 | AP36: =AB36*SUM(AC36:AO36) -> 0
B37: Matrix-4.4 | C37: #VALUE! | D37: D-MX4.4-W | F37: 5.68 | G37: =SUM(AC37:AO37)*F37 -> 0 | H37: =AC37*$X$37 -> 0 | I37: =AD37*$X$37 -> 0 | J37: =AE37*$X$37 -> 0 | K37: =AF37*$X$37 -> 0 | L37: =AG37*$X$37 -> 0 | M37: =AH37*$X$37 -> 0 | N37: =AI37*$X$37 -> 0 | O37: =AJ37*$X$37 -> 0 | ... T37: =AO37*$X$37 -> 0 | U37: 1 | V37: L | W37: 800x247x55 mm | X37: 1 | Y37: 2 | Z37: screw-ons | AB37: 230 | AP37: =AB37*SUM(AC37:AO37) -> 0
B38: Matrix-5.1 | C38: #VALUE! | D38: D-MX5.1-W | F38: 5.7 | G38: =SUM(AC38:AO38)*F38 -> 0 | H38: =AC38*$X$38 -> 0 | I38: =AD38*$X$38 -> 0 | J38: =AE38*$X$38 -> 0 | K38: =AF38*$X$38 -> 0 | L38: =AG38*$X$38 -> 0 | M38: =AH38*$X$38 -> 0 | N38: =AI38*$X$38 -> 0 | O38: =AJ38*$X$38 -> 0 | ... T38: =AO38*$X$38 -> 0 | U38: 1 | V38: XL | W38: 1000x13330 mm | X38: 1 | Y38: 6 | Z38: screw-ons | AB38: 250 | AP38: =AB38*SUM(AC38:AO38) -> 0
B39: Matrix-5.2 | C39: #VALUE! | D39: D-MX5.2-W | F39: 6.67 | G39: =SUM(AC39:AO39)*F39 -> 0 | H39: =AC39*$X$39 -> 0 | I39: =AD39*$X$39 -> 0 | J39: =AE39*$X$39 -> 0 | K39: =AF39*$X$39 -> 0 | L39: =AG39*$X$39 -> 0 | M39: =AH39*$X$39 -> 0 | N39: =AI39*$X$39 -> 0 | O39: =AJ39*$X$39 -> 0 | ... T39: =AO39*$X$39 -> 0 | U39: 1 | V39: XL | W39: 1000x194x40 mm | X39: 1 | Y39: 6 | Z39: screw-ons | AB39: 250 | AP39: =AB39*SUM(AC39:AO39) -> 0
B40: Matrix-5.3 | C40: #VALUE! | D40: D-MX5.3-W | F40: 8.01 | G40: =SUM(AC40:AO40)*F40 -> 0 | H40: =AC40*$X$40 -> 0 | I40: =AD40*$X$40 -> 0 | J40: =AE40*$X$40 -> 0 | K40: =AF40*$X$40 -> 0 | L40: =AG40*$X$40 -> 0 | M40: =AH40*$X$40 -> 0 | N40: =AI40*$X$40 -> 0 | O40: =AJ40*$X$40 -> 0 | ... T40: =AO40*$X$40 -> 0 | U40: 1 | V40: XL | W40: 1000x275x50 mm | X40: 1 | Y40: 6 | Z40: screw-ons | AB40: 280 | AP40: =AB40*SUM(AC40:AO40) -> 0
B41: Matrix-5.4 | C41: #VALUE! | D41: D-MX5.4-W | F41: 9.07 | G41: =SUM(AC41:AO41)*F41 -> 0 | H41: =AC41*$X$41 -> 0 | I41: =AD41*$X$41 -> 0 | J41: =AE41*$X$41 -> 0 | K41: =AF41*$X$41 -> 0 | L41: =AG41*$X$41 -> 0 | M41: =AH41*$X$41 -> 0 | N41: =AI41*$X$41 -> 0 | O41: =AJ41*$X$41 -> 0 | ... T41: =AO41*$X$41 -> 0 | U41: 1 | V41: XL | W41: 1000x330x55 mm | X41: 1 | Y41: 6 | Z41: screw-ons | AB41: 290 | AP41: =AB41*SUM(AC41:AO41) -> 0
...

Sheet DELTA PU
B2: #VALUE! | V2: DELTA PU
W3: Sum Price without VAT | X3: =SUM(AH$11:AH$1048576) -> 0 | Y3: EUR
W4: Sum SETS | X4: =SUM(X11:AG37)+SUM(X38:AG38)*COUNTIF(D11:D35, "*") -> 0
W5: Sum of pcs | X5: =AH8 -> 0
W6: SUM | X6: =SUM(F$11:F$1048576) -> 0 | Y6: kg | AH6: SUM of pcs.
W8: Sum pcs. by colour: | X8: =SUM(G:G) -> 0 | Y8: =SUM(H:H) -> 0 | Z8: =SUM(I:I) -> 0 | AA8: =SUM(J:J) -> 0 | AB8: =SUM(K:K) -> 0 | AC8: =SUM(L:L) -> 0 | AD8: =SUM(M:M) -> 0 | AE8: =SUM(N:N) -> 0 | AF8: =SUM(O:O) -> 0 | AG8: =SUM(P:P) -> 0 | AH8: =SUM(X8:AG8) -> 0
B9: NAME | D9: ID | E9: kg | F9: sum kg | G9: BLACK RAL 9005 | H9: WHITE | I9: RED RAL 3000 | J9: YELLOW RAL 1018 | K9: BLUE RAL 5015 | L9: GREEN RAL 6018 | M9: PINK RAL 4003 | N9: PURPLE S4050-R60B/M | O9: MINT RAL6027 | P9: BROWN | Q9: norma | R9: NOTES | S9: SIZE | T9: DIMENSIONS | U9: PCS. IN SET | V9: FIXING | W9: PRICE WITHOUT VAT | X9: BLACK RAL 9005 | Y9: WHITE | Z9: RED RAL 3000 | AA9: YELLOW RAL 1018 | AB9: BLUE RAL 5015 | AC9: GREEN RAL 6018 | AD9: PINK RAL 4003 | AE9: PURPLE nS4050-R60B/M | AF9: MINT RAL 6027 | AG9: BROWN RAL 8003 | AH9: Sum
W10: BEGINNING
B11: Beginning-PU-1 | C11: #VALUE! | D11: D-BEG1-PU | E11: 0.15 | F11: =SUM(X11:AG11)*E11 -> 0 | G11: =X11*$U$11 -> 0 | H11: =Y11*$U$11 -> 0 | I11: =Z11*$U$11 -> 0 | J11: =AA11*$U$11 -> 0 | K11: =AB11*$U$11 -> 0 | L11: =AC11*$U$11 -> 0 | M11: =AD11*$U$11 -> 0 | N11: =AE11*$U$11 -> 0 | ... P11: =AG11*$U$11 -> 0 | Q11: 1 | S11: XS-S | T11: 9x 5x2x1 cm, 5x2x2 cm, 6x3x1 cm | U11: 11 | V11: screw-ons | W11: 77 | AH11: =W11*SUM(X11:AG11) -> 0
B12: Beginning-PU-2 | C12: #VALUE! | D12: D-BEG2-PU | E12: 0.2 | F12: =SUM(X12:AG12)*E12 -> 0 | G12: =X12*$U$12 -> 0 | H12: =Y12*$U$12 -> 0 | I12: =Z12*$U$12 -> 0 | J12: =AA12*$U$12 -> 0 | K12: =AB12*$U$12 -> 0 | L12: =AC12*$U$12 -> 0 | M12: =AD12*$U$12 -> 0 | N12: =AE12*$U$12 -> 0 | ... P12: =AG12*$U$12 -> 0 | Q12: 1 | S12: S-M | T12: 3x 8x3x1 cm, 3x 8x2x1 cm, 8x3x2 cm, 9x3x1 cm | U12: 8 | V12: screw-ons | W12: 77 | AH12: =W12*SUM(X12:AG12) -> 0
B13: Beginning-PU-3 | C13: #VALUE! | D13: D-BEG3-PU | E13: 0.45 | F13: =SUM(X13:AG13)*E13 -> 0 | G13: =X13*$U$13 -> 0 | H13: =Y13*$U$13 -> 0 | I13: =Z13*$U$13 -> 0 | J13: =AA13*$U$13 -> 0 | K13: =AB13*$U$13 -> 0 | L13: =AC13*$U$13 -> 0 | M13: =AD13*$U$13 -> 0 | N13: =AE13*$U$13 -> 0 | ... P13: =AG13*$U$13 -> 0 | Q13: 1 | S13: M | T13: 10x3x1 cm, 4x 10x3x2 cm, 10x3x3 cm, 2x 10x4x2 cm, 10x4x1 cm, 11x4x1 cm | U13: 10 | V13: screw-ons | W13: 89 | AH13: =W13*SUM(X13:AG13) -> 0
B14: Beginning-PU-4 | C14: #VALUE! | D14: D-BEG4-PU | E14: 0.8 | F14: =SUM(X14:AG14)*E14 -> 0 | G14: =X14*$U$14 -> 0 | H14: =Y14*$U$14 -> 0 | I14: =Z14*$U$14 -> 0 | J14: =AA14*$U$14 -> 0 | K14: =AB14*$U$14 -> 0 | L14: =AC14*$U$14 -> 0 | M14: =AD14*$U$14 -> 0 | N14: =AE14*$U$14 -> 0 | ... P14: =AG14*$U$14 -> 0 | Q14: 1 | S14: M-L | T14: 3x 13x6x2 cm, 2x 13x5x2 cm, 13x6x1 cm, 2x 13x5x1 cm, 14x6x1 cm, 14x6x2 cm | U14: 10 | V14: screw-ons | W14: 100 | AH14: =W14*SUM(X14:AG14) -> 0
B15: Beginning-PU-5 | C15: #VALUE! | D15: D-BEG5-PU | E15: 0.95 | F15: =SUM(X15:AG15)*E15 -> 0 | G15: =X15*$U$15 -> 0 | H15: =Y15*$U$15 -> 0 | I15: =Z15*$U$15 -> 0 | J15: =AA15*$U$15 -> 0 | K15: =AB15*$U$15 -> 0 | L15: =AC15*$U$15 -> 0 | M15: =AD15*$U$15 -> 0 | N15: =AE15*$U$15 -> 0 | ... P15: =AG15*$U$15 -> 0 | Q15: 1 | S15: M-L | T15: 2x 13x6x2 cm, 13x5x1 cm, 13x7x2 cm, 14x4x2 cm, 16x6x1 cm, 16x6x2 cm, 16x8x3 cm | U15: 8 | V15: screw-ons | W15: 103 | AH15: =W15*SUM(X15:AG15) -> 0
B16: Beginning-PU-6 | C16: #VALUE! | D16: D-BEG6-PU | E16: 0.95 | F16: =SUM(X16:AG16)*E16 -> 0 | G16: =X16*$U$16 -> 0 | H16: =Y16*$U$16 -> 0 | I16: =Z16*$U$16 -> 0 | J16: =AA16*$U$16 -> 0 | K16: =AB16*$U$16 -> 0 | L16: =AC16*$U$16 -> 0 | M16: =AD16*$U$16 -> 0 | N16: =AE16*$U$16 -> 0 | ... P16: =AG16*$U$16 -> 0 | Q16: 1 | S16: L | T16: 18x9x3 cm,21x7x2 cm, 21x8x1 cm,21x7x3 cm, 21x8x1 cm, 2x 21x8x2 cm | U16: 7 | V16: screw-ons | W16: 103 | AH16: =W16*SUM(X16:AG16) -> 0
B17: Beginning-PU-8 | C17: #VALUE! | D17: D-BEG8-PU | E17: 1 | F17: =SUM(X17:AG17)*E17 -> 0 | G17: =X17*$U$17 -> 0 | H17: =Y17*$U$17 -> 0 | I17: =Z17*$U$17 -> 0 | J17: =AA17*$U$17 -> 0 | K17: =AB17*$U$17 -> 0 | L17: =AC17*$U$17 -> 0 | M17: =AD17*$U$17 -> 0 | N17: =AE17*$U$17 -> 0 | ... P17: =AG17*$U$17 -> 0 | Q17: 1 | S17: L-XL | T17: 16x3x3 cm, 16x3x1 cm, 15x4x2 cm, 19x3x2 cm, 21x5x4 cm, 29x4x4 cm | U17: 6 | V17: screw-ons | W17: 103 | AH17: =W17*SUM(X17:AG17) -> 0
B18: Beginning-PU-9 | C18: #VALUE! | D18: D-BEG9-PU | E18: 1.5 | F18: =SUM(X18:AG18)*E18 -> 0 | G18: =X18*$U$18 -> 0 | H18: =Y18*$U$18 -> 0 | I18: =Z18*$U$18 -> 0 | J18: =AA18*$U$18 -> 0 | K18: =AB18*$U$18 -> 0 | L18: =AC18*$U$18 -> 0 | M18: =AD18*$U$18 -> 0 | N18: =AE18*$U$18 -> 0 | ... P18: =AG18*$U$18 -> 0 | Q18: 1 | S18: XL-2XL | T18: 31x6x4 cm, 39x7x4 cm, 42x14x8 cm | U18: 3 | V18: screw-ons | W18: 120 | AH18: =W18*SUM(X18:AG18) -> 0
B19: Beginning-PU-11 | C19: #VALUE! | D19: D-BEG11-PU | E19: 1.4 | F19: =SUM(X19:AG19)*E19 -> 0 | G19: =X19*$U$19 -> 0 | H19: =Y19*$U$19 -> 0 | I19: =Z19*$U$19 -> 0 | J19: =AA19*$U$19 -> 0 | K19: =AB19*$U$19 -> 0 | L19: =AC19*$U$19 -> 0 | M19: =AD19*$U$19 -> 0 | N19: =AE19*$U$19 -> 0 | ... P19: =AG19*$U$19 -> 0 | Q19: 1 | S19: XL | T19: 26x13x4 cm, 27x13x5 cm, 27x14x7 cm | U19: 3 | V19: screw-ons | W19: 120 | AH19: =W19*SUM(X19:AG19) -> 0
B20: Beginning-PU-13 | C20: #VALUE! | D20: D-BEG13-PU | E20: 0.85 | F20: =SUM(X20:AG20)*E20 -> 0 | G20: =X20*$U$20 -> 0 | H20: =Y20*$U$20 -> 0 | I20: =Z20*$U$20 -> 0 | J20: =AA20*$U$20 -> 0 | K20: =AB20*$U$20 -> 0 | L20: =AC20*$U$20 -> 0 | M20: =AD20*$U$20 -> 0 | N20: =AE20*$U$20 -> 0 | ... P20: =AG20*$U$20 -> 0 | Q20: 1 | S20: L-XL | T20: 21x10x2 cm, 24x10x2 cm, 27x10x3 cm, 27x11x2 cm | U20: 4 | V20: screw-ons | W20: 120 | AH20: =W20*SUM(X20:AG20) -> 0
B21: Beginning-PU-14 | C21: #VALUE! | D21: D-BEG14-PU | E21: 1 | F21: =SUM(X21:AG21)*E21 -> 0 | G21: =X21*$U$21 -> 0 | H21: =Y21*$U$21 -> 0 | I21: =Z21*$U$21 -> 0 | J21: =AA21*$U$21 -> 0 | K21: =AB21*$U$21 -> 0 | L21: =AC21*$U$21 -> 0 | M21: =AD21*$U$21 -> 0 | N21: =AE21*$U$21 -> 0 | ... P21: =AG21*$U$21 -> 0 | Q21: 1 | S21: XL | T21: 27x13x3 cm, 32x13x3 cm, 33x11x2 cm | U21: 3 | V21: screw-ons | W21: 120 | AH21: =W21*SUM(X21:AG21) -> 0
B22: Beginning-PU-15 | C22: #VALUE! | D22: D-BEG15-PU | E22: 1.2 | F22: =SUM(X22:AG22)*E22 -> 0 | G22: =X22*$U$22 -> 0 | H22: =Y22*$U$22 -> 0 | I22: =Z22*$U$22 -> 0 | J22: =AA22*$U$22 -> 0 | K22: =AB22*$U$22 -> 0 | L22: =AC22*$U$22 -> 0 | M22: =AD22*$U$22 -> 0 | N22: =AE22*$U$22 -> 0 | ... P22: =AG22*$U$22 -> 0 | Q22: 1 | S22: 2XL | T22: 35x18x2 cm, 38x20x5 cm | U22: 2 | V22: screw-ons | W22: 120 | AH22: =W22*SUM(X22:AG22) -> 0
B23: Beginning-PU-16 | C23: #VALUE! | D23: D-BEG16-PU | E23: 2 | F23: =SUM(X23:AG23)*E23 -> 0 | G23: =X23*$U$23 -> 0 | H23: =Y23*$U$23 -> 0 | I23: =Z23*$U$23 -> 0 | J23: =AA23*$U$23 -> 0 | K23: =AB23*$U$23 -> 0 | L23: =AC23*$U$23 -> 0 | M23: =AD23*$U$23 -> 0 | N23: =AE23*$U$23 -> 0 | ... P23: =AG23*$U$23 -> 0 | Q23: 1 | S23: XL-2XL | T23: 28x11x4 cm, 29x11x3 cm, 32x13x4 cm, 35x13x4 cm, 35x14x3 cm | U23: 5 | V23: screw-ons | W23: 130 | AH23: =W23*SUM(X23:AG23) -> 0
B24: Beginning-PU-17 | C24: #VALUE! | D24: D-BEG17-PU | E24: 3 | F24: =SUM(X24:AG24)*E24 -> 0 | G24: =X24*$U$24 -> 0 | H24: =Y24*$U$24 -> 0 | I24: =Z24*$U$24 -> 0 | J24: =AA24*$U$24 -> 0 | K24: =AB24*$U$24 -> 0 | L24: =AC24*$U$24 -> 0 | M24: =AD24*$U$24 -> 0 | N24: =AE24*$U$24 -> 0 | ... P24: =AG24*$U$24 -> 0 | Q24: 1 | S24: XL-2XL | T24: 33x14x7 cm, 39x15x10 cm, 46x18x11 cm | U24: 3 | V24: screw-ons/ bolt-on | W24: 168 | AH24: =W24*SUM(X24:AG24) -> 0
B25: Beginning-PU-18 | C25: #VALUE! | D25: D-BEG18-PU | E25: 2.35 | F25: =SUM(X25:AG25)*E25 -> 0 | G25: =X25*$U$25 -> 0 | H25: =Y25*$U$25 -> 0 | I25: =Z25*$U$25 -> 0 | J25: =AA25*$U$25 -> 0 | K25: =AB25*$U$25 -> 0 | L25: =AC25*$U$25 -> 0 | M25: =AD25*$U$25 -> 0 | N25: =AE25*$U$25 -> 0 | ... P25: =AG25*$U$25 -> 0 | Q25: 1 | S25: 2XL | T25: 37x20x9 cm, 37x21x8 cm | U25: 2 | V25: screw-ons/ bolt-on | W25: 140 | AH25: =W25*SUM(X25:AG25) -> 0
B26: Beginning-PU-19 | C26: #VALUE! | D26: D-BEG19-PU | E26: 2.3 | F26: =SUM(X26:AG26)*E26 -> 0 | G26: =X26*$U$26 -> 0 | H26: =Y26*$U$26 -> 0 | I26: =Z26*$U$26 -> 0 | J26: =AA26*$U$26 -> 0 | K26: =AB26*$U$26 -> 0 | L26: =AC26*$U$26 -> 0 | M26: =AD26*$U$26 -> 0 | N26: =AE26*$U$26 -> 0 | ... P26: =AG26*$U$26 -> 0 | Q26: 1 | S26: 3XL | T26: 57x23x11 cm | U26: 1 | V26: screw-ons/ bolt-on | W26: 135 | AH26: =W26*SUM(X26:AG26) -> 0
B27: Beginning-PU-20 | C27: #VALUE! | D27: D-BEG20-PU | E27: 1.4 | F27: =SUM(X27:AG27)*E27 -> 0 | G27: =X27*$U$27 -> 0 | H27: =Y27*$U$27 -> 0 | I27: =Z27*$U$27 -> 0 | J27: =AA27*$U$27 -> 0 | K27: =AB27*$U$27 -> 0 | L27: =AC27*$U$27 -> 0 | M27: =AD27*$U$27 -> 0 | N27: =AE27*$U$27 -> 0 | ... P27: =AG27*$U$27 -> 0 | Q27: 1 | S27: 3XL | T27: 51x18x11 cm | U27: 1 | V27: screw-ons/ bolt-on | W27: 120 | AH27: =W27*SUM(X27:AG27) -> 0
B28: Beginning-PU-21 | C28: #VALUE! | D28: D-BEG21-PU | E28: 1.7 | F28: =SUM(X28:AG28)*E28 -> 0 | G28: =X28*$U$28 -> 0 | H28: =Y28*$U$28 -> 0 | I28: =Z28*$U$28 -> 0 | J28: =AA28*$U$28 -> 0 | K28: =AB28*$U$28 -> 0 | L28: =AC28*$U$28 -> 0 | M28: =AD28*$U$28 -> 0 | N28: =AE28*$U$28 -> 0 | ... P28: =AG28*$U$28 -> 0 | Q28: 1 | S28: 3XL | T28: 52x21x11 cm | U28: 1 | V28: screw-ons/ bolt-on | W28: 120 | AH28: =W28*SUM(X28:AG28) -> 0
B29: Beginning-PU-22 | C29: #VALUE! | D29: D-BEG22-PU | E29: 2.7 | F29: =SUM(X29:AG29)*E29 -> 0 | G29: =X29*$U$29 -> 0 | H29: =Y29*$U$29 -> 0 | I29: =Z29*$U$29 -> 0 | J29: =AA29*$U$29 -> 0 | K29: =AB29*$U$29 -> 0 | L29: =AC29*$U$29 -> 0 | M29: =AD29*$U$29 -> 0 | N29: =AE29*$U$29 -> 0 | ... P29: =AG29*$U$29 -> 0 | Q29: 1 | S29: 3XL | T29: 51x26x15 cm | U29: 1 | V29: screw-ons/ bolt-on | W29: 149 | AH29: =W29*SUM(X29:AG29) -> 0
B30: Beginning-PU-23 | C30: #VALUE! | D30: D-BEG23-PU | E30: 1.35 | F30: =SUM(X30:AG30)*E30 -> 0 | G30: =X30*$U$30 -> 0 | H30: =Y30*$U$30 -> 0 | I30: =Z30*$U$30 -> 0 | J30: =AA30*$U$30 -> 0 | K30: =AB30*$U$30 -> 0 | L30: =AC30*$U$30 -> 0 | M30: =AD30*$U$30 -> 0 | N30: =AE30*$U$30 -> 0 | ... P30: =AG30*$U$30 -> 0 | Q30: 1 | S30: 3XL | T30: 51x26x9 cm | U30: 1 | V30: screw-ons/ bolt-on | W30: 120 | AH30: =W30*SUM(X30:AG30) -> 0
B31: Beginning-PU-25 | C31: #VALUE! | D31: D-BEG25-PU | E31: 1.45 | F31: =SUM(X31:AG31)*E31 -> 0 | G31: =X31*$U$31 -> 0 | H31: =Y31*$U$31 -> 0 | I31: =Z31*$U$31 -> 0 | J31: =AA31*$U$31 -> 0 | K31: =AB31*$U$31 -> 0 | L31: =AC31*$U$31 -> 0 | M31: =AD31*$U$31 -> 0 | N31: =AE31*$U$31 -> 0 | ... P31: =AG31*$U$31 -> 0 | Q31: 1 | S31: XL | T31: 24x13x7 cm, 27x15x7 cm | U31: 2 | V31: screw-ons/ bolt-on | W31: 120 | AH31: =W31*SUM(X31:AG31) -> 0
B32: Beginning-PU-26 | C32: #VALUE! | D32: D-BEG26-PU | E32: 1.55 | F32: =SUM(X32:AG32)*E32 -> 0 | G32: =X32*$U$32 -> 0 | H32: =Y32*$U$32 -> 0 | I32: =Z32*$U$32 -> 0 | J32: =AA32*$U$32 -> 0 | K32: =AB32*$U$32 -> 0 | L32: =AC32*$U$32 -> 0 | M32: =AD32*$U$32 -> 0 | N32: =AE32*$U$32 -> 0 | ... P32: =AG32*$U$32 -> 0 | Q32: 1 | S32: 2XL | T32: 35x13x4 cm, 41x17x5 cm | U32: 2 | V32: screw-ons/ bolt-on | W32: 120 | AH32: =W32*SUM(X32:AG32) -> 0
B33: Beginning-PU-27 | C33: #VALUE! | D33: D-BEG27-PU | E33: 1.6 | F33: =SUM(X33:AG33)*E33 -> 0 | G33: =X33*$U$33 -> 0 | H33: =Y33*$U$33 -> 0 | I33: =Z33*$U$33 -> 0 | J33: =AA33*$U$33 -> 0 | K33: =AB33*$U$33 -> 0 | L33: =AC33*$U$33 -> 0 | M33: =AD33*$U$33 -> 0 | N33: =AE33*$U$33 -> 0 | ... P33: =AG33*$U$33 -> 0 | Q33: 1 | S33: 2XL | T33: 35x13x4 cm, 40x16x5 cm | U33: 2 | V33: screw-ons/ bolt-on | W33: 120 | AH33: =W33*SUM(X33:AG33) -> 0
B34: Beginning-PU-28 | C34: #VALUE! | D34: D-BEG28-PU | E34: 1.9 | F34: =SUM(X34:AG34)*E34 -> 0 | G34: =X34*$U$34 -> 0 | H34: =Y34*$U$34 -> 0 | I34: =Z34*$U$34 -> 0 | J34: =AA34*$U$34 -> 0 | K34: =AB34*$U$34 -> 0 | L34: =AC34*$U$34 -> 0 | M34: =AD34*$U$34 -> 0 | N34: =AE34*$U$34 -> 0 | ... P34: =AG34*$U$34 -> 0 | Q34: 1 | S34: XL | T34: 27x13x8 cm, 29x16x8 cm | U34: 2 | V34: screw-ons/ bolt-on | W34: 129 | AH34: =W34*SUM(X34:AG34) -> 0
B35: Beginning-PU-29 | C35: #VALUE! | D35: D-BEG29-PU | E35: 2.6 | F35: =SUM(X35:AG35)*E35 -> 0 | G35: =X35*$U$35 -> 0 | H35: =Y35*$U$35 -> 0 | I35: =Z35*$U$35 -> 0 | J35: =AA35*$U$35 -> 0 | K35: =AB35*$U$35 -> 0 | L35: =AC35*$U$35 -> 0 | M35: =AD35*$U$35 -> 0 | N35: =AE35*$U$35 -> 0 | ... P35: =AG35*$U$35 -> 0 | Q35: 1 | S35: 2XL | T35: 37x20x10 cm, 38x20x11 cm | U35: 2 | V35: screw-ons/ bolt-on | W35: 157 | AH35: =W35*SUM(X35:AG35) -> 0
B36: Beginning-PU-30 | C36: #VALUE! | D36: D-BEG30-PU | E36: 1.2 | F36: =SUM(X36:AG36)*E36 -> 0 | G36: =X36*$U$36 -> 0 | H36: =Y36*$U$36 -> 0 | I36: =Z36*$U$36 -> 0 | J36: =AA36*$U$36 -> 0 | K36: =AB36*$U$36 -> 0 | L36: =AC36*$U$36 -> 0 | M36: =AD36*$U$36 -> 0 | N36: =AE36*$U$36 -> 0 | ... P36: =AG36*$U$36 -> 0 | Q36: 1 | S36: L | T36: 15x7x3 cm, 16x8x3 cm, 2x 16x7x3 cm, 18x8x4 cm, 19x9x4 cm | U36: 6 | V36: screw-ons/ bolt-on | W36: 120 | AH36: =W36*SUM(X36:AG36) -> 0
B37: Beginning-PU-31 | C37: #VALUE! | D37: D-BEG31-PU | E37: 1.25 | F37: =SUM(X37:AG37)*E37 -> 0 | G37: =X37*$U$37 -> 0 | H37: =Y37*$U$37 -> 0 | I37: =Z37*$U$37 -> 0 | J37: =AA37*$U$37 -> 0 | K37: =AB37*$U$37 -> 0 | L37: =AC37*$U$37 -> 0 | M37: =AD37*$U$37 -> 0 | N37: =AE37*$U$37 -> 0 | ... P37: =AG37*$U$37 -> 0 | Q37: 1 | S37: XL | T37: 23x11x5 cm, 26x10x5 cm, 28x14x5 cm | U37: 3 | V37: screw-ons/ bolt-on | W37: 120 | AH37: =W37*SUM(X37:AG37) -> 0
C38: BEGINNING: THE WHOLE RANGE | D38: D-BEG-PU | E38: =SUM(E11:E37) -> 38.8 | F38: =SUM(X38:AG38)*E38 -> 0 | G38: =X38*$U$38 -> 0 | H38: =Y38*$U$38 -> 0 | I38: =Z38*$U$38 -> 0 | J38: =AA38*$U$38 -> 0 | K38: =AB38*$U$38 -> 0 | L38: =AC38*$U$38 -> 0 | M38: =AD38*$U$38 -> 0 | N38: =AE38*$U$38 -> 0 | ... P38: =AG38*$U$38 -> 0 | Q38: =SUM(Q11:Q37) -> 27 | S38: XS-3XL | U38: =SUM(U11:U37) -> 109 | V38: screw-ons/ bolt-on | W38: 3220 | AH38: =W38*SUM(X38:AG38) -> 0

Sheet GRP - PRODUCTION LIST

Sheet WOOD - PRODUCTION LIST

Sheet Uvoz za Vasco

Sheet PACKING LIST WOOD

Sheet PACKING LIST GRP

Sheet PAKIRANJE 
