Workbook

Sheet Summary of order
A1: ignore:true;
A2: Billing Information | H2: #VALUE!
A3: Company name
A4: Company address
A5: City
A6: ZIP
A7: Country | J7: Total Sets | K7: Total Products | L7: Total excl. VAT
A8: VAT number | H8: Holds | J8: ='Holds '!T408 -> 0 | K8: ='Holds '!U408 -> 0 | L8: ='Holds '!V409 -> 0
A9: Responsible person | H9: Macros | J9: =Macros!R170 -> 0 | K9: =Macros!S170 -> 0 | L9: =Macros!T171 -> 0
A10: Phone | H10: Hybrids | J10: =Hybrids!U50 -> 0 | K10: =Hybrids!V50 -> 0 | L10: =Hybrids!W51 -> 0
A11: Email | H11: Volumes | J11: =Volumes!M136 -> 0 | K11: =Volumes!N136 -> 0 | L11: =Volumes!O137 -> 0
H12: Grand Total excl. VAT | L12: =SUM(L8:M11) -> 0
A13: Delivery Information | H13: Transport cost | L13: 0
A14: Company name | H14: Grand Total excl. VAT | L14: =L12 -> 0
A15: Company address | H15: VAT 0% | L15: =L14*J15 -> 0
A16: City | H16: Grand Total incl. VAT | L16: =L14+L15 -> 0
A17: ZIP
A18: Country
A19: VAT number
A20: Responsible person
A21: Phone
A22: Email
B25: Different colors are usually available in stock. Please contact us for current availability.
B26: Please contact us for our outlet stock list featuring discontinued items at reduced prices.

Sheet Holds 
B1: #VALUE! | F1: Gym Prices 15.05.2026 - Holds | AA1: Difficulty E = Easy M = Moderate H = Hard
A2: brand:Cheeta;start:3;End:407;Range:A;Reference:C;Colors:F->S;productName:Holds | D2: Production Color Code | F2: 0 | G2: 3020 | H2: 5015 | I2: 9005 | J2: 2005 | M2: 4008 | N2: 6027 | Q2: 6037 | R2: 9016 | U2: Total Weight | V2: =SUM(Y4:Y406) -> 0 | AA2: Diff | AB2: Size | BJ2: Size / holds | BT2: Grip | BV2: Difficulty / holds | BZ2: Grip / holds | CG2: Difficulty / holds
A3: Range | B3: Set | C3: Subset | D3: Products / set | E3: Price € | F3: Yellow | G3: Red | H3: Blue | I3: Black | J3: Fluo Orange | K3: Fluo Green | L3: Fluo Pink | M3: Violet | N3: Mint | O3: US Light Green | P3: US Orange | Q3: US Dark Green | R3: White | S3: US Purple | T3: Nb Sets | U3: Nb Holds | V3: Total € | W3: Bolts Sizes | X3: Weight/set | Y3: Total weight | BJ3: XXS | BK3: XS | BL3: S | BM3: M | BN3: L | BO3: XL | BP3: XXL | BQ3: XXXL | BR3: Meg | BT3: Footholds | BV3: E | BW3: I | BX3: H | BZ3: Screw on | CA3: Jug | CB3: Pocket | CC3: Sloper | CD3: Edge | CE3: Pinch | CG3: E | CH3: I | CI3: H
A4: New! | B4: Foot Flake XS1 | C4: 030.01.XS | D4: 12 | E4: 72 | T4: =I4+H4+F4+G4+M4+J4+L4+K4+N4+R4+Q4+O4+S4+P4 -> 0 | U4: =T4*D4 -> 0 | V4: =IF(T4>0,T4*E4,"-") -> - | W4: screw on | X4: 0.38 | Y4: =X4*T4 -> 0 | AA4: E | AB4: XS | BK4: 12 | BT4: 12 | BV4: 12 | BZ4: 12
A5: New! | B5: Crimpy Flake S1 | C5: 030.04.S | D5: 14 | E5: 97 | T5: =I5+H5+F5+G5+M5+J5+L5+K5+N5+R5+Q5+O5+S5+P5 -> 0 | U5: =T5*D5 -> 0 | V5: =IF(T5>0,T5*E5,"-") -> - | W5: screw on | X5: 0.69 | Y5: =X5*T5 -> 0 | AA5: H | AB5: S | BL5: 14 | CD5: 14 | CI5: 14
A6: New! | B6: Crimpy Flake S2 | C6: 030.05.S | D6: 8 | E6: 81 | T6: =I6+H6+F6+G6+M6+J6+L6+K6+N6+R6+Q6+O6+S6+P6 -> 0 | U6: =T6*D6 -> 0 | V6: =IF(T6>0,T6*E6,"-") -> - | W6: screw on | X6: 0.77 | Y6: =X6*T6 -> 0 | AA6: M | AB6: S | BL6: 8 | CD6: 8 | CH6: 8
A7: New! | B7: Crimpy Flake S3 | C7: 030.06.S | D7: 8 | E7: 92 | T7: =I7+H7+F7+G7+M7+J7+L7+K7+N7+R7+Q7+O7+S7+P7 -> 0 | U7: =T7*D7 -> 0 | V7: =IF(T7>0,T7*E7,"-") -> - | W7: screw on | X7: 0.98 | Y7: =X7*T7 -> 0 | AA7: M | AB7: S | BL7: 8 | CD7: 8 | CH7: 8
A8: New! | B8: Pocket Flake M1 | C8: 030.10.M | D8: 5 | E8: 80 | T8: =I8+H8+F8+G8+M8+J8+L8+K8+N8+R8+Q8+O8+S8+P8 -> 0 | U8: =T8*D8 -> 0 | V8: =IF(T8>0,T8*E8,"-") -> - | W8: screw on | X8: 0.94 | Y8: =X8*T8 -> 0 | AA8: M | AB8: M | BM8: 5 | CB8: 5 | CH8: 5
A9: New! | B9: Crimpy Flake M2 | C9: 030.11.M | D9: 5 | E9: 110 | T9: =I9+H9+F9+G9+M9+J9+L9+K9+N9+R9+Q9+O9+S9+P9 -> 0 | U9: =T9*D9 -> 0 | V9: =IF(T9>0,T9*E9,"-") -> - | W9: screw on | X9: 1.46 | Y9: =X9*T9 -> 0 | AA9: M | AB9: M | BM9: 5 | CD9: 5 | CH9: 5
A10: New! | B10: Crimpy Flake L1 | C10: 030.14.L | D10: 3 | E10: 88 | T10: =I10+H10+F10+G10+M10+J10+L10+K10+N10+R10+Q10+O10+S10+P10 -> 0 | U10: =T10*D10 -> 0 | V10: =IF(T10>0,T10*E10,"-") -> - | W10: screw on | X10: 1.22 | Y10: =X10*T10 -> 0 | AA10: M | AB10: L | BN10: 3 | CD10: 3 | CH10: 3
A11: New! | B11: Juggy Flake XL1 | C11: 030.17.XL | D11: 3 | E11: 166 | T11: =I11+H11+F11+G11+M11+J11+L11+K11+N11+R11+Q11+O11+S11+P11 -> 0 | U11: =T11*D11 -> 0 | V11: =IF(T11>0,T11*E11,"-") -> - | W11: 3x(B)60 | X11: 2.54 | Y11: =X11*T11 -> 0 | AA11: E | AB11: XL | BO11: 3 | CA11: 3 | CG11: 3
A12: Monster Flake | B12: Juggy Flake XL2 | C12: 030.18.XL | D12: 4 | E12: 197 | T12: =I12+H12+F12+G12+M12+J12+L12+K12+N12+R12+Q12+O12+S12+P12 -> 0 | U12: =T12*D12 -> 0 | V12: =IF(T12>0,T12*E12,"-") -> - | W12: 4x(B)60 | X12: 3.02 | Y12: =X12*T12 -> 0 | AA12: E | AB12: XL | BO12: 4 | CA12: 4 | CG12: 4
B13: Juggy Flake XL3 | C13: 030.19.XL | D13: 4 | E13: 171 | T13: =I13+H13+F13+G13+M13+J13+L13+K13+N13+R13+Q13+O13+S13+P13 -> 0 | U13: =T13*D13 -> 0 | V13: =IF(T13>0,T13*E13,"-") -> - | W13: 1x(B)50 2x(B)70 1x(B)60 | X13: 2.57 | Y13: =X13*T13 -> 0 | AA13: E | AB13: XL | BO13: 4 | CA13: 4 | CG13: 4
A14: New! | B14: Slopey Flake XL4 | C14: 030.20.XL | D14: 3 | E14: 166 | T14: =I14+H14+F14+G14+M14+J14+L14+K14+N14+R14+Q14+O14+S14+P14 -> 0 | U14: =T14*D14 -> 0 | V14: =IF(T14>0,T14*E14,"-") -> - | W14: 3x(B)90 | X14: 1.68 | Y14: =X14*T14 -> 0 | AA14: H | AB14: XL | BO14: 3 | CC14: 3 | CI14: 3
A15: New! | B15: Juggy Flake XXL1 | C15: 030.23.XXL | D15: 3 | E15: 212 | T15: =I15+H15+F15+G15+M15+J15+L15+K15+N15+R15+Q15+O15+S15+P15 -> 0 | U15: =T15*D15 -> 0 | V15: =IF(T15>0,T15*E15,"-") -> - | W15: 2x(B)90 1x(B)120 | X15: 2.38 | Y15: =X15*T15 -> 0 | AA15: M | AB15: XXL | BP15: 3 | CA15: 3 | CH15: 3
A16: New! | B16: Juggy Flake XXL2 | C16: 030.24.XXL | D16: 3 | E16: 260 | T16: =I16+H16+F16+G16+M16+J16+L16+K16+N16+R16+Q16+O16+S16+P16 -> 0 | U16: =T16*D16 -> 0 | V16: =IF(T16>0,T16*E16,"-") -> - | W16: 1x(B)90 2x(B)80 | X16: 3.09 | Y16: =X16*T16 -> 0 | AA16: E | AB16: XXL | BP16: 3 | CA16: 3 | CG16: 3
A17: New! | B17: Slopey Flake XXL3 | C17: 030.25.XXL | D17: 3 | E17: 243 | T17: =I17+H17+F17+G17+M17+J17+L17+K17+N17+R17+Q17+O17+S17+P17 -> 0 | U17: =T17*D17 -> 0 | V17: =IF(T17>0,T17*E17,"-") -> - | W17: 1x(B)120 2x(B)100 | X17: 2.83 | Y17: =X17*T17 -> 0 | AA17: H | AB17: XXL | BP17: 3 | CC17: 3 | CI17: 3
A18: New! | B18: Slopey Flake MEG 1 | C18: 030.28.MEG | D18: 2 | E18: 181 | T18: =I18+H18+F18+G18+M18+J18+L18+K18+N18+R18+Q18+O18+S18+P18 -> 0 | U18: =T18*D18 -> 0 | V18: =IF(T18>0,T18*E18,"-") -> - | W18: 1x(B)90 1x(B)140 | X18: 2.14 | Y18: =X18*T18 -> 0 | AA18: M | AB18: MEG | BR18: 2 | CC18: 2 | CH18: 2
A19: New! | B19: Juggy Flake MEG 2 | C19: 030.29.MEG | D19: 1 | E19: 155 | T19: =I19+H19+F19+G19+M19+J19+L19+K19+N19+R19+Q19+O19+S19+P19 -> 0 | U19: =T19*D19 -> 0 | V19: =IF(T19>0,T19*E19,"-") -> - | W19: 1x(B)100 | X19: 1.96 | Y19: =X19*T19 -> 0 | AA19: E | AB19: MEG | BR19: 1 | CA19: 1 | CG19: 1
A20: New! | B20: Juggy Flake MEG 3 | C20: 030.30.MEG | D20: 1 | E20: 191 | T20: =I20+H20+F20+G20+M20+J20+L20+K20+N20+R20+Q20+O20+S20+P20 -> 0 | U20: =T20*D20 -> 0 | V20: =IF(T20>0,T20*E20,"-") -> - | W20: 1x(B)200 | X20: 2.51 | Y20: =X20*T20 -> 0 | AA20: E | AB20: MEG | BR20: 1 | CA20: 1 | CG20: 1
A21: New! | B21: Juggy Flake MEG 4 | C21: 030.31.MEG | D21: 1 | E21: 191 | T21: =I21+H21+F21+G21+M21+J21+L21+K21+N21+R21+Q21+O21+S21+P21 -> 0 | U21: =T21*D21 -> 0 | V21: =IF(T21>0,T21*E21,"-") -> - | W21: 1x(B)200 | X21: 2.5 | Y21: =X21*T21 -> 0 | AA21: E | AB21: MEG | BR21: 1 | CA21: 1 | CG21: 1
A22: New! | B22: Juggy Flake MEG 5 | C22: 030.32.MEG | D22: 1 | E22: 338 | T22: =I22+H22+F22+G22+M22+J22+L22+K22+N22+R22+Q22+O22+S22+P22 -> 0 | U22: =T22*D22 -> 0 | V22: =IF(T22>0,T22*E22,"-") -> - | W22: 1x(B)160 | X22: 4.65 | Y22: =X22*T22 -> 0 | AA22: E | AB22: MEG | BR22: 1 | CA22: 1 | CG22: 1
A23: Link | B23: Link S1 | C23: 028.01.S | D23: 5 | E23: 50 | T23: =I23+H23+F23+G23+M23+J23+L23+K23+N23+R23+Q23+O23+S23+P23 -> 0 | U23: =T23*D23 -> 0 | V23: =IF(T23>0,T23*E23,"-") -> - | W23: 5x(B)40 | X23: 0.504 | Y23: =X23*T23 -> 0 | AA23: H | AB23: S | BL23: 5 | CC23: 5 | CI23: 5
B24: Link S2 | C24: 028.02.S | D24: 5 | E24: 60 | T24: =I24+H24+F24+G24+M24+J24+L24+K24+N24+R24+Q24+O24+S24+P24 -> 0 | U24: =T24*D24 -> 0 | V24: =IF(T24>0,T24*E24,"-") -> - | W24: 5x(B)40 | X24: 0.686 | Y24: =X24*T24 -> 0 | AA24: H | AB24: S | BL24: 5 | CC24: 5 | CI24: 5
B25: Link M1 | C25: 028.03.M | D25: 5 | E25: 65 | T25: =I25+H25+F25+G25+M25+J25+L25+K25+N25+R25+Q25+O25+S25+P25 -> 0 | U25: =T25*D25 -> 0 | V25: =IF(T25>0,T25*E25,"-") -> - | W25: 5x(B)40 | X25: 0.75 | Y25: =X25*T25 -> 0 | AA25: H | AB25: M | BM25: 5 | CC25: 5 | CI25: 5
B26: Link M2 | C26: 028.04.M | D26: 3 | E26: 51 | T26: =I26+H26+F26+G26+M26+J26+L26+K26+N26+R26+Q26+O26+S26+P26 -> 0 | U26: =T26*D26 -> 0 | V26: =IF(T26>0,T26*E26,"-") -> - | W26: screw on | X26: 0.627 | Y26: =X26*T26 -> 0 | AA26: H | AB26: M | BM26: 3 | CC26: 3 | CI26: 3
B27: Link M3 | C27: 028.05.M | D27: 3 | E27: 65 | T27: =I27+H27+F27+G27+M27+J27+L27+K27+N27+R27+Q27+O27+S27+P27 -> 0 | U27: =T27*D27 -> 0 | V27: =IF(T27>0,T27*E27,"-") -> - | W27: screw on | X27: 0.937 | Y27: =X27*T27 -> 0 | AA27: H | AB27: M | BM27: 3 | CC27: 3 | CI27: 3
B28: Link L1 | C28: 028.07.L | D28: 3 | E28: 85 | T28: =I28+H28+F28+G28+M28+J28+L28+K28+N28+R28+Q28+O28+S28+P28 -> 0 | U28: =T28*D28 -> 0 | V28: =IF(T28>0,T28*E28,"-") -> - | W28: 3x(B)40 | X28: 1.217 | Y28: =X28*T28 -> 0 | AA28: H | AB28: L | BN28: 3 | CC28: 3 | CI28: 3
B29: Link L2 | C29: 028.08.L | D29: 2 | E29: 67 | T29: =I29+H29+F29+G29+M29+J29+L29+K29+N29+R29+Q29+O29+S29+P29 -> 0 | U29: =T29*D29 -> 0 | V29: =IF(T29>0,T29*E29,"-") -> - | W29: 2x(B)40 | X29: 1.008 | Y29: =X29*T29 -> 0 | AA29: H | AB29: L | BN29: 2 | CC29: 2 | CI29: 2
B30: Link XL1 | C30: 028.12.XL | D30: 3 | E30: 146 | T30: =I30+H30+F30+G30+M30+J30+L30+K30+N30+R30+Q30+O30+S30+P30 -> 0 | U30: =T30*D30 -> 0 | V30: =IF(T30>0,T30*E30,"-") -> - | W30: 3x(B)40 | X30: 2.324 | Y30: =X30*T30 -> 0 | AA30: H | AB30: XL | BO30: 3 | CC30: 3 | CI30: 3
B31: Link XXL1 | C31: 028.16.XXL | D31: 3 | E31: 114 | T31: =I31+H31+F31+G31+M31+J31+L31+K31+N31+R31+Q31+O31+S31+P31 -> 0 | U31: =T31*D31 -> 0 | V31: =IF(T31>0,T31*E31,"-") -> - | W31: 1x(B)40 | X31: 1.77 | Y31: =X31*T31 -> 0 | AA31: H | AB31: XL | BO31: 3 | CC31: 3 | CI31: 3
B32: Link XXL2 | C32: 028.17.XXL | D32: 2 | E32: 152 | T32: =I32+H32+F32+G32+M32+J32+L32+K32+N32+R32+Q32+O32+S32+P32 -> 0 | U32: =T32*D32 -> 0 | V32: =IF(T32>0,T32*E32,"-") -> - | W32: 2x(B)40 | X32: 2.48 | Y32: =X32*T32 -> 0 | AA32: H | AB32: XL | BO32: 2 | CC32: 2 | CI32: 2
B33: Odyssey XS1 | C33: 027.01.XS | D33: 10 | E33: 87 | T33: =I33+H33+F33+G33+M33+J33+L33+K33+N33+R33+Q33+O33+S33+P33 -> 0 | U33: =T33*D33 -> 0 | V33: =IF(T33>0,T33*E33,"-") -> - | W33: screw on | X33: 0.792 | Y33: =X33*T33 -> 0 | AA33: H | AB33: XS | BK33: 10 | CD33: 10 | CI33: 10
B34: Odyssey S1 | C34: 027.02.S | D34: 10 | E34: 116 | T34: =I34+H34+F34+G34+M34+J34+L34+K34+N34+R34+Q34+O34+S34+P34 -> 0 | U34: =T34*D34 -> 0 | V34: =IF(T34>0,T34*E34,"-") -> - | W34: screw on | X34: 1.252 | Y34: =X34*T34 -> 0 | AA34: H | AB34: S | BL34: 10 | CD34: 10 | CH34: 1 | CI34: 9
A35: New! | B35: Odyssey S2 | C35: 027.03.S | D35: 15 | E35: 123 | T35: =I35+H35+F35+G35+M35+J35+L35+K35+N35+R35+Q35+O35+S35+P35 -> 0 | U35: =T35*D35 -> 0 | V35: =IF(T35>0,T35*E35,"-") -> - | W35: 12x(B)40 3x(B)50 | X35: 0.9 | Y35: =X35*T35 -> 0 | AA35: M | AB35: S | BL35: 15 | BT35: 15 | BW35: 15
A36: New! | B36: Odyssey S3 | C36: 027.04.S | D36: 10 | E36: 106 | T36: =I36+H36+F36+G36+M36+J36+L36+K36+N36+R36+Q36+O36+S36+P36 -> 0 | U36: =T36*D36 -> 0 | V36: =IF(T36>0,T36*E36,"-") -> - | W36: screw on | X36: 1.1 | Y36: =X36*T36 -> 0 | AA36: H | AB36: S | BL36: 10 | CD36: 10 | CH36: 3 | CI36: 7
A37: New! | B37: Odyssey M1 | C37: 027.05.M | D37: 10 | E37: 194 | T37: =I37+H37+F37+G37+M37+J37+L37+K37+N37+R37+Q37+O37+S37+P37 -> 0 | U37: =T37*D37 -> 0 | V37: =IF(T37>0,T37*E37,"-") -> - | W37: 6x(B)60 4x(B)50 | X37: 2.5 | Y37: =X37*T37 -> 0 | AA37: M | AB37: M | BM37: 10 | CD37: 10 | CH37: 10
A38: New! | B38: Odyssey M2 | C38: 027.06.M | D38: 10 | E38: 231 | T38: =I38+H38+F38+G38+M38+J38+L38+K38+N38+R38+Q38+O38+S38+P38 -> 0 | U38: =T38*D38 -> 0 | V38: =IF(T38>0,T38*E38,"-") -> - | W38: 8x(B)70 1x(B)80 1x(B)60 | X38: 3.16 | Y38: =X38*T38 -> 0 | AA38: M | AB38: M | BM38: 10 | CC38: 3 | CD38: 7 | CG38: 3 | CH38: 7
A39: New! | B39: Odyssey M3 | C39: 027.07.M | D39: 10 | E39: 175 | T39: =I39+H39+F39+G39+M39+J39+L39+K39+N39+R39+Q39+O39+S39+P39 -> 0 | U39: =T39*D39 -> 0 | V39: =IF(T39>0,T39*E39,"-") -> - | W39: 4x(B)50 4x(B)60 | X39: 2.16 | Y39: =X39*T39 -> 0 | AA39: H | AB39: M | BM39: 10 | CC39: 10 | CI39: 10
A40: New! | B40: Odyssey M4 | C40: 027.08.M | D40: 3 | E40: 101 | T40: =I40+H40+F40+G40+M40+J40+L40+K40+N40+R40+Q40+O40+S40+P40 -> 0 | U40: =T40*D40 -> 0 | V40: =IF(T40>0,T40*E40,"-") -> - | W40: 1x(B)50 2x(B)60 | X40: 1.42 | Y40: =X40*T40 -> 0 | AA40: H | AB40: M | BM40: 3 | CC40: 3 | CI40: 3
...

Sheet Macros
B1: #VALUE! | F1: Gym Prices 15.05.2026 - Macros | X1: Difficulty E = Easy M = Moderate H = Hard
A2: brand:Cheeta;start:3;End:169;Range:A;Reference:C;Colors:F->Q;productName:Fiberglass volumes | C2: Production Color Code | F2: 9016 | G2: 1018 | H2: 3020 | I2: 5015 | J2: 9005 | N2: 4008 | O2: 6027 | P2: 6037 | Q2: 7046 | S2: Total Weight | T2: =SUM(V4:V169) -> 0
A3: Range | B3: Set | C3: Subset | D3: Products / set | E3: Price € | F3: White | G3: Yellow | H3: Red | I3: Blue | J3: Black | K3: Fluo Orange | L3: Fluo Green | M3: Fluo Pink | N3: Violet | O3: Mint | P3: Dark Green | Q3: Dark Grey | R3: Nb Sets | S3: Nb Macros | T3: Total € | U3: Weight/set | V3: Total weight | X3: Diff | Y3: Size | BQ3: S | BR3: M | BS3: L | BT3: XL | BU3: XXL | BW3: E | BX3: I | BY3: H
A4: Spoon NEW! | B4: Spoon 1 | C4: VOL.F.241 | D4: 1 | E4: 262 | R4: =SUM(F4:Q4) -> 0 | S4: =R4*D4 -> 0 | T4: =IF(R4>0,R4*E4,"-") -> - | U4: 1.5 | V4: =U4*R4 -> 0 | X4: M | Y4: L | BS4: 1 | BX4: 1
B5: Spoon 2 | C5: VOL.F.242 | D5: 1 | E5: 262 | R5: =SUM(F5:Q5) -> 0 | S5: =R5*D5 -> 0 | T5: =IF(R5>0,R5*E5,"-") -> - | U5: 1.6 | V5: =U5*R5 -> 0 | X5: E | Y5: L | BS5: 1 | BW5: 1
B6: Spoon 3 | C6: VOL.F.243 | D6: 1 | E6: 269 | R6: =SUM(F6:Q6) -> 0 | S6: =R6*D6 -> 0 | T6: =IF(R6>0,R6*E6,"-") -> - | U6: 1.8 | V6: =U6*R6 -> 0 | X6: M | Y6: L | BS6: 1 | BX6: 1
B7: Spoon 4 | C7: VOL.F.244 | D7: 1 | E7: 289 | R7: =SUM(F7:Q7) -> 0 | S7: =R7*D7 -> 0 | T7: =IF(R7>0,R7*E7,"-") -> - | U7: 2 | V7: =U7*R7 -> 0 | X7: E | Y7: L | BS7: 1 | BW7: 1
B8: Spoon 5 | C8: VOL.F.245 | D8: 1 | E8: 289 | R8: =SUM(F8:Q8) -> 0 | S8: =R8*D8 -> 0 | T8: =IF(R8>0,R8*E8,"-") -> - | U8: 2.4 | V8: =U8*R8 -> 0 | X8: H | Y8: L | BS8: 1 | BY8: 1
B9: Spoon 6 | C9: VOL.F.246 | D9: 1 | E9: 289 | R9: =SUM(F9:Q9) -> 0 | S9: =R9*D9 -> 0 | T9: =IF(R9>0,R9*E9,"-") -> - | U9: 2.6 | V9: =U9*R9 -> 0 | X9: H | Y9: L | BS9: 1 | BY9: 1
B10: Spoon 7 | C10: VOL.F.247 | D10: 1 | E10: 299 | R10: =SUM(F10:Q10) -> 0 | S10: =R10*D10 -> 0 | T10: =IF(R10>0,R10*E10,"-") -> - | U10: 2.6 | V10: =U10*R10 -> 0 | X10: M | Y10: L | BS10: 1 | BX10: 1
B11: Spoon 8 | C11: VOL.F.248 | D11: 1 | E11: 299 | R11: =SUM(F11:Q11) -> 0 | S11: =R11*D11 -> 0 | T11: =IF(R11>0,R11*E11,"-") -> - | U11: 2.7 | V11: =U11*R11 -> 0 | X11: E | Y11: XL | BT11: 1 | BW11: 1
B12: Spoon 9 | C12: VOL.F.249 | D12: 1 | E12: 299 | R12: =SUM(F12:Q12) -> 0 | S12: =R12*D12 -> 0 | T12: =IF(R12>0,R12*E12,"-") -> - | U12: 2.8 | V12: =U12*R12 -> 0 | X12: H | Y12: XL | BT12: 1 | BY12: 1
B13: Spoon 10 | C13: VOL.F.250 | D13: 1 | E13: 311 | R13: =SUM(F13:Q13) -> 0 | S13: =R13*D13 -> 0 | T13: =IF(R13>0,R13*E13,"-") -> - | U13: 3.6 | V13: =U13*R13 -> 0 | X13: M | Y13: XL | BT13: 1 | BX13: 1
B14: Slide 1 M | C14: VOL.F.231 | D14: 2 | E14: 343 | R14: =SUM(F14:Q14) -> 0 | S14: =R14*D14 -> 0 | T14: =IF(R14>0,R14*E14,"-") -> - | U14: =1.39+1.27 -> 2.66 | V14: =U14*R14 -> 0 | X14: E | Y14: M | BR14: 2 | BW14: 1 | BX14: 1
A15: Slide | B15: Slide 2 M | C15: VOL.F.232 | D15: 2 | E15: 296 | R15: =SUM(F15:Q15) -> 0 | S15: =R15*D15 -> 0 | T15: =IF(R15>0,R15*E15,"-") -> - | U15: =0.92+0.67 -> 1.59 | V15: =U15*R15 -> 0 | X15: H | Y15: M | BR15: 2 | BY15: 2
B16: Slide 3 ML | C16: VOL.F.233 | D16: 2 | E16: 371 | R16: =SUM(F16:Q16) -> 0 | S16: =R16*D16 -> 0 | T16: =IF(R16>0,R16*E16,"-") -> - | U16: =1.97+0.92 -> 2.89 | V16: =U16*R16 -> 0 | X16: M | Y16: L | BR16: 1 | BS16: 1 | BX16: 1 | BY16: 1
B17: Sky-High 1 SM | C17: VOL.F.201 | D17: 2 | E17: 383 | R17: =SUM(F17:Q17) -> 0 | S17: =R17*D17 -> 0 | T17: =IF(R17>0,R17*E17,"-") -> - | U17: =2.27+1.25 -> 3.52 | V17: =U17*R17 -> 0 | X17: M | Y17: M | BQ17: 1 | BR17: 1 | BW17: 1 | BX17: 1
B18: Sky-High 2 L | C18: VOL.F.202 | D18: 1 | E18: 350 | R18: =SUM(F18:Q18) -> 0 | S18: =R18*D18 -> 0 | T18: =IF(R18>0,R18*E18,"-") -> - | U18: 5.21 | V18: =U18*R18 -> 0 | X18: M | Y18: L | BS18: 1 | BX18: 1
B19: Sky-Hole 1 SM | C19: VOL.F.211 | D19: 2 | E19: 378 | R19: =SUM(F19:Q19) -> 0 | S19: =R19*D19 -> 0 | T19: =IF(R19>0,R19*E19,"-") -> - | U19: =2.26+1.04 -> 3.3 | V19: =U19*R19 -> 0 | X19: H | Y19: M | BQ19: 1 | BR19: 1 | BX19: 1 | BY19: 1
B20: Sky-Hole 2 M | C20: VOL.F.212 | D20: 1 | E20: 251 | R20: =SUM(F20:Q20) -> 0 | S20: =R20*D20 -> 0 | T20: =IF(R20>0,R20*E20,"-") -> - | U20: 2.48 | V20: =U20*R20 -> 0 | X20: M | Y20: M | BR20: 1 | BX20: 1
A21: Sky Serie | B21: Sky-Hole 3 M | C21: VOL.F.213 | D21: 1 | E21: 261 | R21: =SUM(F21:Q21) -> 0 | S21: =R21*D21 -> 0 | T21: =IF(R21>0,R21*E21,"-") -> - | U21: 2.7 | V21: =U21*R21 -> 0 | X21: E | Y21: M | BR21: 1 | BW21: 1
B22: Sky-Hole 4 L | C22: VOL.F.214 | D22: 1 | E22: 315 | R22: =SUM(F22:Q22) -> 0 | S22: =R22*D22 -> 0 | T22: =IF(R22>0,R22*E22,"-") -> - | U22: 4.15 | V22: =U22*R22 -> 0 | X22: E | Y22: L | BS22: 1 | BW22: 1
B23: Sky-Walk 1 M | C23: VOL.F.221 | D23: 1 | E23: 263 | R23: =SUM(F23:Q23) -> 0 | S23: =R23*D23 -> 0 | T23: =IF(R23>0,R23*E23,"-") -> - | U23: 2.58 | V23: =U23*R23 -> 0 | X23: H | Y23: M | BR23: 1 | BY23: 1
B24: Sky-Walk 2 SM | C24: VOL.F.222 | D24: 2 | E24: 395 | R24: =SUM(F24:Q24) -> 0 | S24: =R24*D24 -> 0 | T24: =IF(R24>0,R24*E24,"-") -> - | U24: =2.26+1.28 -> 3.54 | V24: =U24*R24 -> 0 | X24: M | Y24: M | BQ24: 1 | BR24: 1 | BX24: 1 | BY24: 1
B25: Sky-Walk 3 ML | C25: VOL.F.223 | D25: 2 | E25: 506 | R25: =SUM(F25:Q25) -> 0 | S25: =R25*D25 -> 0 | T25: =IF(R25>0,R25*E25,"-") -> - | U25: =4.41+1.92 -> 6.33 | V25: =U25*R25 -> 0 | X25: H | Y25: L | BR25: 1 | BS25: 1 | BY25: 2
A26: Odyssey DT | B26: Odyssey 1 DT | C26: VOL.F.180 | D26: 1 | E26: 198 | R26: =SUM(F26:Q26) -> 0 | S26: =R26*D26 -> 0 | T26: =IF(R26>0,R26*E26,"-") -> - | U26: 1.73 | V26: =U26*R26 -> 0 | X26: M | Y26: L | BS26: 1 | BX26: 1
B27: Odyssey 2 DT | C27: VOL.F.181 | D27: 1 | E27: 197 | R27: =SUM(F27:Q27) -> 0 | S27: =R27*D27 -> 0 | T27: =IF(R27>0,R27*E27,"-") -> - | U27: 1.7 | V27: =U27*R27 -> 0 | X27: M | Y27: L | BS27: 1 | BX27: 1
B28: Odyssey 3 DT¨ | C28: VOL.F.182 | D28: 1 | E28: 194 | R28: =SUM(F28:Q28) -> 0 | S28: =R28*D28 -> 0 | T28: =IF(R28>0,R28*E28,"-") -> - | U28: 1.68 | V28: =U28*R28 -> 0 | X28: M | Y28: L | BS28: 1 | BX28: 1
B29: Odyssey 4 DT | C29: VOL.F.183 | D29: 1 | E29: 182 | R29: =SUM(F29:Q29) -> 0 | S29: =R29*D29 -> 0 | T29: =IF(R29>0,R29*E29,"-") -> - | U29: 1.47 | V29: =U29*R29 -> 0 | X29: H | Y29: L | BS29: 1 | BY29: 1
B30: Odyssey 5 DT | C30: VOL.F.184 | D30: 1 | E30: 154 | R30: =SUM(F30:Q30) -> 0 | S30: =R30*D30 -> 0 | T30: =IF(R30>0,R30*E30,"-") -> - | U30: 0.84 | V30: =U30*R30 -> 0 | X30: M | Y30: S | BQ30: 1 | BX30: 1
B31: Odyssey 6 DT | C31: VOL.F.185 | D31: 1 | E31: 184 | R31: =SUM(F31:Q31) -> 0 | S31: =R31*D31 -> 0 | T31: =IF(R31>0,R31*E31,"-") -> - | U31: 1.32 | V31: =U31*R31 -> 0 | X31: H | Y31: M | BR31: 1 | BY31: 1
B32: Odyssey 7 DT | C32: VOL.F.186 | D32: 1 | E32: 177 | R32: =SUM(F32:Q32) -> 0 | S32: =R32*D32 -> 0 | T32: =IF(R32>0,R32*E32,"-") -> - | U32: 1.22 | V32: =U32*R32 -> 0 | X32: H | Y32: M | BR32: 1 | BY32: 1
B33: Odyssey 8 DT | C33: VOL.F.187 | D33: 1 | E33: 154 | R33: =SUM(F33:Q33) -> 0 | S33: =R33*D33 -> 0 | T33: =IF(R33>0,R33*E33,"-") -> - | U33: 0.83 | V33: =U33*R33 -> 0 | X33: M | Y33: S | BQ33: 1 | BX33: 1
B34: Odyssey 9 DT | C34: VOL.F.188 | D34: 1 | E34: 148 | R34: =SUM(F34:Q34) -> 0 | S34: =R34*D34 -> 0 | T34: =IF(R34>0,R34*E34,"-") -> - | U34: 0.73 | V34: =U34*R34 -> 0 | X34: E | Y34: S | BQ34: 1 | BW34: 1
B35: Odyssey 10 DT | C35: VOL.F.189 | D35: 1 | E35: 171 | R35: =SUM(F35:Q35) -> 0 | S35: =R35*D35 -> 0 | T35: =IF(R35>0,R35*E35,"-") -> - | U35: 1.19 | V35: =U35*R35 -> 0 | X35: H | Y35: M | BR35: 1 | BY35: 1
B36: Odyssey 11 DT | C36: VOL.F.190 | D36: 1 | E36: 178 | R36: =SUM(F36:Q36) -> 0 | S36: =R36*D36 -> 0 | T36: =IF(R36>0,R36*E36,"-") -> - | U36: 1.26 | V36: =U36*R36 -> 0 | X36: H | Y36: L | BS36: 1 | BY36: 1
B37: Odyssey 12 DT | C37: VOL.F.191 | D37: 1 | E37: 144 | R37: =SUM(F37:Q37) -> 0 | S37: =R37*D37 -> 0 | T37: =IF(R37>0,R37*E37,"-") -> - | U37: 0.79 | V37: =U37*R37 -> 0 | X37: H | Y37: S | BQ37: 1 | BY37: 1
B38: Odyssey 13 DT | C38: VOL.F.192 | D38: 1 | E38: 135 | R38: =SUM(F38:Q38) -> 0 | S38: =R38*D38 -> 0 | T38: =IF(R38>0,R38*E38,"-") -> - | U38: 0.62 | V38: =U38*R38 -> 0 | X38: H | Y38: S | BQ38: 1 | BY38: 1
B39: Odyssey 14 DT | C39: VOL.F.193 | D39: 1 | E39: 141 | R39: =SUM(F39:Q39) -> 0 | S39: =R39*D39 -> 0 | T39: =IF(R39>0,R39*E39,"-") -> - | U39: 0.72 | V39: =U39*R39 -> 0 | X39: M | Y39: S | BQ39: 1 | BX39: 1
B40: Odyssey 15 DT | C40: VOL.F.194 | D40: 1 | E40: 140 | R40: =SUM(F40:Q40) -> 0 | S40: =R40*D40 -> 0 | T40: =IF(R40>0,R40*E40,"-") -> - | U40: 0.7 | V40: =U40*R40 -> 0 | X40: H | Y40: S | BQ40: 1 | BY40: 1
...

Sheet Hybrids
A1: #VALUE! | F1: Gym Prices 15.05.2026 - Hybrids
A2: brand:Cheeta;start:3;End:49;Range:A;Reference:C;Colors:F->T;productName:Hybrids | C2: Production Color Code | G2: 3020 | H2: 5015 | I2: 9005 | J2: 2005 | M2: 4008 | N2: 6027 | O2: 7001 | S2: 9016 | U2: Total Weight | W2: =SUM(Z4:Z49) -> 0 | BJ2: HYBRID Size / units | BP2: Difficulty / piece
A3: Range | B3: Set | C3: Subset | D3: Nb products / set | E3: Price € | F3: Yellow | G3: Red | H3: Blue | I3: Black | J3: Fluo Orange | K3: Fluo Green | L3: Fluo Pink | M3: Violet | N3: Mint | O3: Grey | P3: US Light Green | Q3: US Orange | R3: US Dark Green | S3: White | T3: US Purple | U3: Nb Sets | V3: Nb Products | W3: Total € | X3: Bolts Sizes | Y3: Weight/set | Z3: Total weight | AB3: Size | BJ3: < 30 | BK3: 30 - 40 | BL3: 40 - 60 | BM3: 60 - 90 | BN3: 90 - 120 | BO3: > 120 | BP3: E | BQ3: I | BR3: H
A4: #VALUE! | B4: Pocket Camembert S1 | C4: HY.29.01.S | D4: 4 | E4: 572 | U4: =SUM(F4:T4) -> 0 | V4: =U4*D4 -> 0 | W4: =IF(U4>0,U4*E4,"-") -> - | X4: / | Y4: 4.25 | Z4: =Y4*U4 -> 0 | AB4: M | BK4: 4 | BP4: 1 | BQ4: 1 | BR4: 2
B5: Pocket Camembert S2 | C5: HY.29.02.S | D5: 4 | E5: 575 | U5: =SUM(F5:T5) -> 0 | V5: =U5*D5 -> 0 | W5: =IF(U5>0,U5*E5,"-") -> - | X5: / | Y5: 4.25 | Z5: =Y5*U5 -> 0 | AB5: M | BK5: 4 | BP5: 2 | BQ5: 2
B6: Slopey Camembert S3 | C6: HY.29.03.S | D6: 4 | E6: 564 | U6: =SUM(F6:T6) -> 0 | V6: =U6*D6 -> 0 | W6: =IF(U6>0,U6*E6,"-") -> - | X6: / | Y6: 4.25 | Z6: =Y6*U6 -> 0 | AB6: M | BK6: 4 | BQ6: 1 | BR6: 3
B7: Pocket Camembert S4 | C7: HY.29.04.S | D7: 4 | E7: 578 | U7: =SUM(F7:T7) -> 0 | V7: =U7*D7 -> 0 | W7: =IF(U7>0,U7*E7,"-") -> - | X7: / | Y7: 4.3 | Z7: =Y7*U7 -> 0 | AB7: M | BK7: 4 | BP7: 3 | BQ7: 1
B8: Juggy Camembert S5 | C8: HY.29.05.S | D8: 4 | E8: 575 | U8: =SUM(F8:T8) -> 0 | V8: =U8*D8 -> 0 | W8: =IF(U8>0,U8*E8,"-") -> - | X8: / | Y8: 4.3 | Z8: =Y8*U8 -> 0 | AB8: M | BK8: 4 | BP8: 3 | BQ8: 1
B9: Juggy Camembert M1 | C9: HY.29.11.M | D9: 2 | E9: 544 | U9: =SUM(F9:T9) -> 0 | V9: =U9*D9 -> 0 | W9: =IF(U9>0,U9*E9,"-") -> - | X9: / | Y9: 5.3 | Z9: =Y9*U9 -> 0 | AB9: L | BL9: 2 | BP9: 1 | BQ9: 1
B10: Juggy Camembert M2 | C10: HY.29.12.M | D10: 2 | E10: 553 | U10: =SUM(F10:T10) -> 0 | V10: =U10*D10 -> 0 | W10: =IF(U10>0,U10*E10,"-") -> - | X10: / | Y10: 5.3 | Z10: =Y10*U10 -> 0 | AB10: L | BL10: 2 | BP10: 2
B11: Slopey Camembert M3 | C11: HY.29.13.M | D11: 2 | E11: 523 | U11: =SUM(F11:T11) -> 0 | V11: =U11*D11 -> 0 | W11: =IF(U11>0,U11*E11,"-") -> - | X11: / | Y11: 5.1 | Z11: =Y11*U11 -> 0 | AB11: L | BL11: 2 | BR11: 2
B12: Slopey Camembert M4 | C12: HY.29.14.M | D12: 2 | E12: 520 | U12: =SUM(F12:T12) -> 0 | V12: =U12*D12 -> 0 | W12: =IF(U12>0,U12*E12,"-") -> - | X12: / | Y12: 5.1 | Z12: =Y12*U12 -> 0 | AB12: L | BL12: 2 | BR12: 2
B13: Pebble Camembert M5 | C13: HY.29.15.M | D13: 2 | E13: 546 | U13: =SUM(F13:T13) -> 0 | V13: =U13*D13 -> 0 | W13: =IF(U13>0,U13*E13,"-") -> - | X13: / | Y13: 5.3 | Z13: =Y13*U13 -> 0 | AB13: L | BL13: 2 | BQ13: 1 | BR13: 1
B14: Pebble Camembert M6 | C14: HY.29.16.M | D14: 2 | E14: 534 | U14: =SUM(F14:T14) -> 0 | V14: =U14*D14 -> 0 | W14: =IF(U14>0,U14*E14,"-") -> - | X14: / | Y14: 5.3 | Z14: =Y14*U14 -> 0 | AB14: L | BL14: 2 | BQ14: 1 | BR14: 1
A15: #VALUE! | B15: Pocket Insert S1 | C15: HY.29.01.S-1 | D15: 4 | E15: 115 | U15: =SUM(F15:T15) -> 0 | V15: =U15*D15 -> 0 | W15: =IF(U15>0,U15*E15,"-") -> - | X15: / | Y15: 1.229 | Z15: =Y15*U15 -> 0 | AB15: M
B16: Pocket Insert S2 | C16: HY.29.02.S-1 | D16: 4 | E16: 117 | U16: =SUM(F16:T16) -> 0 | V16: =U16*D16 -> 0 | W16: =IF(U16>0,U16*E16,"-") -> - | X16: / | Y16: 1.281 | Z16: =Y16*U16 -> 0 | AB16: M
B17: Slopey Insert S3 | C17: HY.29.03.S-1 | D17: 4 | E17: 106 | U17: =SUM(F17:T17) -> 0 | V17: =U17*D17 -> 0 | W17: =IF(U17>0,U17*E17,"-") -> - | X17: / | Y17: 1.078 | Z17: =Y17*U17 -> 0 | AB17: M
B18: Pocket Insert S4 | C18: HY.29.04.S-1 | D18: 4 | E18: 117 | U18: =SUM(F18:T18) -> 0 | V18: =U18*D18 -> 0 | W18: =IF(U18>0,U18*E18,"-") -> - | X18: / | Y18: 1.281 | Z18: =Y18*U18 -> 0 | AB18: M
B19: Juggy Insert S5 | C19: HY.29.05.S-1 | D19: 4 | E19: 115 | U19: =SUM(F19:T19) -> 0 | V19: =U19*D19 -> 0 | W19: =IF(U19>0,U19*E19,"-") -> - | X19: / | Y19: 1.237 | Z19: =Y19*U19 -> 0 | AB19: M
B20: Juggy Insert M1 | C20: HY.29.11.M-1 | D20: 2 | E20: 105 | U20: =SUM(F20:T20) -> 0 | V20: =U20*D20 -> 0 | W20: =IF(U20>0,U20*E20,"-") -> - | X20: / | Y20: 1.468 | Z20: =Y20*U20 -> 0 | AB20: L
B21: Juggy Insert M2 | C21: HY.29.12.M-1 | D21: 2 | E21: 114 | U21: =SUM(F21:T21) -> 0 | V21: =U21*D21 -> 0 | W21: =IF(U21>0,U21*E21,"-") -> - | X21: / | Y21: 1.633 | Z21: =Y21*U21 -> 0 | AB21: L
B22: Slopey Insert M3 | C22: HY.29.13.M-1 | D22: 2 | E22: 84 | U22: =SUM(F22:T22) -> 0 | V22: =U22*D22 -> 0 | W22: =IF(U22>0,U22*E22,"-") -> - | X22: / | Y22: 1.062 | Z22: =Y22*U22 -> 0 | AB22: L
B23: Slopey Insert M4 | C23: HY.29.14.M-1 | D23: 2 | E23: 81 | U23: =SUM(F23:T23) -> 0 | V23: =U23*D23 -> 0 | W23: =IF(U23>0,U23*E23,"-") -> - | X23: / | Y23: 1.008 | Z23: =Y23*U23 -> 0 | AB23: L
B24: Pebble Insert M5 | C24: HY.29.15.M-1 | D24: 2 | E24: 107 | U24: =SUM(F24:T24) -> 0 | V24: =U24*D24 -> 0 | W24: =IF(U24>0,U24*E24,"-") -> - | X24: / | Y24: 1.501 | Z24: =Y24*U24 -> 0 | AB24: L
B25: Pebble Insert M6 | C25: HY.29.16.M-1 | D25: 2 | E25: 94 | U25: =SUM(F25:T25) -> 0 | V25: =U25*D25 -> 0 | W25: =IF(U25>0,U25*E25,"-") -> - | X25: / | Y25: 1.267 | Z25: =Y25*U25 -> 0 | AB25: L
A26: #VALUE! | B26: Base Set 1 SM | C26: HY.25.25.SM | D26: 2 | E26: 545 | U26: =SUM(F26:T26) -> 0 | V26: =U26*D26 -> 0 | W26: =IF(U26>0,U26*E26,"-") -> - | X26: / | Y26: 7.4 | Z26: =Y26*U26 -> 0 | AB26: M | BK26: 1 | BL26: 1
B27: Base Set 2 SM | C27: HY.25.26.SM | D27: 2 | E27: 510 | U27: =SUM(F27:T27) -> 0 | V27: =U27*D27 -> 0 | W27: =IF(U27>0,U27*E27,"-") -> - | X27: / | Y27: 6.25 | Z27: =Y27*U27 -> 0 | AB27: M | BK27: 1 | BL27: 1
B28: Base L1 | C28: HY.25.15.L | D28: 1 | E28: 565 | U28: =SUM(F28:T28) -> 0 | V28: =U28*D28 -> 0 | W28: =IF(U28>0,U28*E28,"-") -> - | X28: / | Y28: 10.7 | Z28: =Y28*U28 -> 0 | AB28: L | BM28: 1
B29: Base L2 | C29: HY.25.16.L | D29: 1 | E29: 552 | U29: =SUM(F29:T29) -> 0 | V29: =U29*D29 -> 0 | W29: =IF(U29>0,U29*E29,"-") -> - | X29: / | Y29: 10 | Z29: =Y29*U29 -> 0 | AB29: L | BM29: 1
B30: Base XL1 | C30: HY.25.21.XL | D30: 1 | E30: 767 | U30: =SUM(F30:T30) -> 0 | V30: =U30*D30 -> 0 | W30: =IF(U30>0,U30*E30,"-") -> - | X30: / | Y30: 18.35 | Z30: =Y30*U30 -> 0 | AB30: XL | BN30: 1
B31: Base XL2 | C31: HY.25.22.XL | D31: 1 | E31: 697 | U31: =SUM(F31:T31) -> 0 | V31: =U31*D31 -> 0 | W31: =IF(U31>0,U31*E31,"-") -> - | X31: / | Y31: 15.25 | Z31: =Y31*U31 -> 0 | AB31: XL | BN31: 1
B32: Base Set 1 SM DT | C32: HY.25.75.SM | D32: 2 | E32: 571 | U32: =SUM(F32:T32) -> 0 | V32: =U32*D32 -> 0 | W32: =IF(U32>0,U32*E32,"-") -> - | X32: / | Y32: 7.4 | Z32: =Y32*U32 -> 0 | AB32: M | BK32: 1 | BL32: 1
B33: Base Set 2 SM DT | C33: HY.25.76.SM | D33: 2 | E33: 534 | U33: =SUM(F33:T33) -> 0 | V33: =U33*D33 -> 0 | W33: =IF(U33>0,U33*E33,"-") -> - | X33: / | Y33: 6.25 | Z33: =Y33*U33 -> 0 | AB33: M | BK33: 1 | BL33: 1
B34: Base L1 DT | C34: HY.25.65.L | D34: 1 | E34: 578 | U34: =SUM(F34:T34) -> 0 | V34: =U34*D34 -> 0 | W34: =IF(U34>0,U34*E34,"-") -> - | X34: / | Y34: 10.7 | Z34: =Y34*U34 -> 0 | AB34: L | BM34: 1
B35: Base L2 DT | C35: HY.25.66.L | D35: 1 | E35: 565 | U35: =SUM(F35:T35) -> 0 | V35: =U35*D35 -> 0 | W35: =IF(U35>0,U35*E35,"-") -> - | X35: / | Y35: 10 | Z35: =Y35*U35 -> 0 | AB35: L | BM35: 1
B36: Base XL1 DT | C36: HY.25.71.XL | D36: 1 | E36: 785 | U36: =SUM(F36:T36) -> 0 | V36: =U36*D36 -> 0 | W36: =IF(U36>0,U36*E36,"-") -> - | X36: / | Y36: 18.35 | Z36: =Y36*U36 -> 0 | AB36: XL | BN36: 1
B37: Base XL2 DT | C37: HY.25.72.XL | D37: 1 | E37: 712 | U37: =SUM(F37:T37) -> 0 | V37: =U37*D37 -> 0 | W37: =IF(U37>0,U37*E37,"-") -> - | X37: / | Y37: 15.25 | Z37: =Y37*U37 -> 0 | AB37: XL | BN37: 1
A38: #VALUE! | B38: Link 21° S ** | C38: HY.28.32.S | D38: 1 | E38: 94 | U38: =SUM(F38:T38) -> 0 | V38: =U38*D38 -> 0 | W38: =IF(U38>0,U38*E38,"-") -> - | X38: 1x(B)70 | Y38: =0.956 -> 0.956 | Z38: =Y38*U38 -> 0 | AB38: S | AC38: ** This product is only available from stock, kindly ask the stock list before placing your order, thank you! | BK38: 1
B39: Link 21° M ** | C39: HY.28.33.M | D39: 1 | E39: 141 | U39: =SUM(F39:T39) -> 0 | V39: =U39*D39 -> 0 | W39: =IF(U39>0,U39*E39,"-") -> - | X39: 1x(B)90 | Y39: =0.949 -> 0.949 | Z39: =Y39*U39 -> 0 | AB39: M | BL39: 1
B40: Link 21° L ** | C40: HY.28.34.L | D40: 1 | E40: 255 | U40: =SUM(F40:T40) -> 0 | V40: =U40*D40 -> 0 | W40: =IF(U40>0,U40*E40,"-") -> - | X40: 1x(B)120 | Y40: =0.495 -> 0.495 | Z40: =Y40*U40 -> 0 | AB40: L | BM40: 1
...

Sheet Volumes
B1: #VALUE! | G1: Gym Prices 15.05.2026 - Volumes
A2: brand:Cheeta;start:3;End:135;Range:B;Reference:C;Colors:G->L;productName:Wooden volumes | E2: Production Color Code | G2: 7001 | H2: 9005 | I2: 7046 | J2: 5015 | K2: 1018 | L2: 3020 | M2: Total Weight | O2: =SUM(Q4:Q135) -> 0 | AM2: WOOD Size (cm) / units
A3: Range | B3: Set | C3: Subset | D3: Products / Set | E3: Sizes (cm) | F3: Price € | G3: Light Grey | H3: Black | I3: Dark Grey | J3: Blue | K3: Yellow | L3: Red | M3: Nb sets | N3: Nb Volumes | O3: Total € | P3: Weight/set | Q3: Total weight | S3: Size | AM3: < 35 | AN3: 35 - 50 | AO3: 50 - 80 | AP3: 80 - 130 | AQ3: 130 - 190 | AR3: > 190
A4: Pentagon | B4: Pentagon M | C4: W.02.01.M | D4: 2 | E4: 55x34x13 & 55x28x13 | F4: 234 | M4: =G4+H4+I4+J4+K4+L4 -> 0 | N4: =M4*D4 -> 0 | O4: =IF(M4>0,M4*F4,"-") -> - | P4: 4.4 | Q4: =P4*M4 -> 0 | S4: M | AL4: 1.48 | AO4: 2
B5: Pentagon L | C5: W.02.02.L | D5: 2 | E5: 80x50x21 & 80x42x21 | F5: 370 | M5: =G5+H5+I5+J5+K5+L5 -> 0 | N5: =M5*D5 -> 0 | O5: =IF(M5>0,M5*F5,"-") -> - | P5: 9.3 | Q5: =P5*M5 -> 0 | S5: L | AL5: 5.17 | AP5: 2
A6: Ramps | B6: Ramps 1 | C6: W.03.01.M | D6: 3 | E6: 59x29x12 & 59x29x12 & 59x29x12 | F6: 366 | M6: =G6+H6+I6+J6+K6+L6 -> 0 | N6: =M6*D6 -> 0 | O6: =IF(M6>0,M6*F6,"-") -> - | P6: 9.4 | Q6: =P6*M6 -> 0 | S6: M | AL6: 9 | AO6: 3
A7: Starwoods | B7: Starwoods 1 | C7: W.04.01.L | D7: 2 | E7: 75x45x7 & 56x38x17 | F7: 300 | M7: =G7+H7+I7+J7+K7+L7 -> 0 | N7: =M7*D7 -> 0 | O7: =IF(M7>0,M7*F7,"-") -> - | P7: 6.1 | Q7: =P7*M7 -> 0 | S7: L | AL7: 4.4 | AO7: 1 | AP7: 1
B8: Starwoods 2 | C8: W.04.02.L | D8: 2 | E8: 104x32x17 & 72x26x17 | F8: 303 | M8: =G8+H8+I8+J8+K8+L8 -> 0 | N8: =M8*D8 -> 0 | O8: =IF(M8>0,M8*F8,"-") -> - | P8: 6.3 | Q8: =P8*M8 -> 0 | S8: L | AL8: 6 | AO8: 1 | AP8: 1
B9: Starwoods 3 | C9: W.04.03.L | D9: 2 | E9: 133x26x17 & 90x22x17 | F9: 331 | M9: =G9+H9+I9+J9+K9+L9 -> 0 | N9: =M9*D9 -> 0 | O9: =IF(M9>0,M9*F9,"-") -> - | P9: 7 | Q9: =P9*M9 -> 0 | S9: L | AL9: 6 | AO9: 1 | AP9: 1
B10: Starwoods 4 | C10: W.04.04.L | D10: 2 | E10: 94x37x17 & 49x37x17 | F10: 303 | M10: =G10+H10+I10+J10+K10+L10 -> 0 | N10: =M10*D10 -> 0 | O10: =IF(M10>0,M10*F10,"-") -> - | P10: 6.2 | Q10: =P10*M10 -> 0 | S10: L | AL10: 6 | AO10: 1 | AP10: 1
B11: Starwoods 5 | C11: W.04.05.L | D11: 6 | E11: 6 x (60x42x17) | F11: 912 | M11: =G11+H11+I11+J11+K11+L11 -> 0 | N11: =M11*D11 -> 0 | O11: =IF(M11>0,M11*F11,"-") -> - | P11: 24.3 | Q11: =P11*M11 -> 0 | S11: L | AL11: 36 | AO11: 6
B12: Starwoods 6 | C12: W.04.06.L | D12: 6 | E12: 6 x (60x42x17) | F12: 954 | M12: =G12+H12+I12+J12+K12+L12 -> 0 | N12: =M12*D12 -> 0 | O12: =IF(M12>0,M12*F12,"-") -> - | P12: 22.3 | Q12: =P12*M12 -> 0 | S12: L | AL12: 36 | AO12: 6
B13: Starwoods 7 | C13: W.04.07.L | D13: 3 | E13: 100x48x17 & 60x48x17 & 30x48x17 | F13: 558 | M13: =G13+H13+I13+J13+K13+L13 -> 0 | N13: =M13*D13 -> 0 | O13: =IF(M13>0,M13*F13,"-") -> - | P13: 19.2 | Q13: =P13*M13 -> 0 | S13: L | AL13: 20 | AN13: 1 | AO13: 1 | AP13: 1
A14: Asymmetric pyramids | B14: Asymmetric pyramids 1 | C14: W.05.01.SML | D14: 3 | E14: 35x30x05 & 48x40x06 & 98x81x12 | F14: 418 | M14: =G14+H14+I14+J14+K14+L14 -> 0 | N14: =M14*D14 -> 0 | O14: =IF(M14>0,M14*F14,"-") -> - | P14: 8.1 | Q14: =P14*M14 -> 0 | S14: SML | AL14: 7 | AN14: 1 | AO14: 1 | AP14: 1
B15: Asymmetric pyramids 2 | C15: W.05.02.SML | D15: 3 | E15: 35x30x07 & 48x40x10 & 98x81x17 | F15: 418 | M15: =G15+H15+I15+J15+K15+L15 -> 0 | N15: =M15*D15 -> 0 | O15: =IF(M15>0,M15*F15,"-") -> - | P15: 8.8 | Q15: =P15*M15 -> 0 | S15: SML | AL15: 7 | AN15: 1 | AO15: 1 | AP15: 1
B16: Asymmetric pyramids 3 | C16: W.05.03.SML | D16: 3 | E16: 35x30x10 & 48x40x14 & 98x81x27 | F16: 418 | M16: =G16+H16+I16+J16+K16+L16 -> 0 | N16: =M16*D16 -> 0 | O16: =IF(M16>0,M16*F16,"-") -> - | P16: 9 | Q16: =P16*M16 -> 0 | S16: SML | AL16: 7 | AN16: 1 | AO16: 1 | AP16: 1
B17: Asymmetric pyramids 4 | C17: W.05.04.SML | D17: 3 | E17: 35x30x14 & 48x40x19 & 98x81x34 | F17: 418 | M17: =G17+H17+I17+J17+K17+L17 -> 0 | N17: =M17*D17 -> 0 | O17: =IF(M17>0,M17*F17,"-") -> - | P17: 9.5 | Q17: =P17*M17 -> 0 | S17: SML | AL17: 7 | AN17: 1 | AO17: 1 | AP17: 1
B18: Asymmetric pyramids 5 | C18: W.05.05.L | D18: 1 | E18: 120x84x10 | F18: 246 | M18: =G18+H18+I18+J18+K18+L18 -> 0 | N18: =M18*D18 -> 0 | O18: =IF(M18>0,M18*F18,"-") -> - | P18: 7.7 | Q18: =P18*M18 -> 0 | S18: L | AL18: 5 | AP18: 1
B19: Asymmetric pyramids 6 | C19: W.05.06.L | D19: 1 | E19: 109x77x12 | F19: 231 | M19: =G19+H19+I19+J19+K19+L19 -> 0 | N19: =M19*D19 -> 0 | O19: =IF(M19>0,M19*F19,"-") -> - | P19: 6.5 | Q19: =P19*M19 -> 0 | S19: L | AL19: 5 | AP19: 1
B20: Asymmetric pyramids 7 | C20: W.05.07.L | D20: 1 | E20: 113x74x17 | F20: 231 | M20: =G20+H20+I20+J20+K20+L20 -> 0 | N20: =M20*D20 -> 0 | O20: =IF(M20>0,M20*F20,"-") -> - | P20: 6.9 | Q20: =P20*M20 -> 0 | S20: L | AL20: 5 | AP20: 1
B21: Asymmetric pyramids 8 | C21: W.05.08.L | D21: 2 | E21: 200x170x50 | F21: 698 | M21: =G21+H21+I21+J21+K21+L21 -> 0 | N21: =M21*D21 -> 0 | O21: =IF(M21>0,M21*F21,"-") -> - | P21: 32.5 | Q21: =P21*M21 -> 0 | S21: L | AP21: 2
B22: Pyramid Set S1 | C22: W.05.11.S | D22: 4 | E22: 41x36x17 & 33x28x10 & 32x28x6 & 32x28x4 | F22: 236 | M22: =G22+H22+I22+J22+K22+L22 -> 0 | N22: =M22*D22 -> 0 | O22: =IF(M22>0,M22*F22,"-") -> - | P22: 2.9 | Q22: =P22*M22 -> 0 | S22: S | AN22: 4
B23: Pyramid Set M1 | C23: W.05.16.M | D23: 2 | E23: 68x58x28 & 58x50x17 | F23: 244 | M23: =G23+H23+I23+J23+K23+L23 -> 0 | N23: =M23*D23 -> 0 | O23: =IF(M23>0,M23*F23,"-") -> - | P23: 3.1 | Q23: =P23*M23 -> 0 | S23: M | AO23: 2
B24: Pyramid Set M2 | C24: W.05.17.M | D24: 2 | E24: 65x56x13 & 59x51x7 | F24: 218 | M24: =G24+H24+I24+J24+K24+L24 -> 0 | N24: =M24*D24 -> 0 | O24: =IF(M24>0,M24*F24,"-") -> - | P24: 4.9 | Q24: =P24*M24 -> 0 | S24: M | AO24: 2
B25: Pyramid L1 | C25: W.05.21.L | D25: 1 | E25: 113x98x48 | F25: 326 | M25: =G25+H25+I25+J25+K25+L25 -> 0 | N25: =M25*D25 -> 0 | O25: =IF(M25>0,M25*F25,"-") -> - | P25: 11.7 | Q25: =P25*M25 -> 0 | S25: L | AP25: 1
B26: Pyramid L2 | C26: W.05.22.L | D26: 1 | E26: 113x98x34 | F26: 299 | M26: =G26+H26+I26+J26+K26+L26 -> 0 | N26: =M26*D26 -> 0 | O26: =IF(M26>0,M26*F26,"-") -> - | P26: 9.7 | Q26: =P26*M26 -> 0 | S26: L | AP26: 1
B27: Pyramid L3 | C27: W.05.23.L | D27: 1 | E27: 113x98x22 | F27: 271 | M27: =G27+H27+I27+J27+K27+L27 -> 0 | N27: =M27*D27 -> 0 | O27: =IF(M27>0,M27*F27,"-") -> - | P27: 8 | Q27: =P27*M27 -> 0 | S27: L | AP27: 1
B28: Pyramid L4 | C28: W.05.24.L | D28: 1 | E28: 113x98x13 | F28: 258 | M28: =G28+H28+I28+J28+K28+L28 -> 0 | N28: =M28*D28 -> 0 | O28: =IF(M28>0,M28*F28,"-") -> - | P28: 6.7 | Q28: =P28*M28 -> 0 | S28: L | AP28: 1
A29: Asymmetric pyramids DT | B29: Pyramid Set S1 DT | C29: W.05.61.S-DT | D29: 4 | E29: 41x36x17 & 33x28x10 & 32x28x6 & 32x28x4 | F29: 279 | M29: =G29+H29+I29+J29+K29+L29 -> 0 | N29: =M29*D29 -> 0 | O29: =IF(M29>0,M29*F29,"-") -> - | P29: 2.9 | Q29: =P29*M29 -> 0 | S29: S | AN29: 4
B30: Pyramid Set M1 DT | C30: W.05.66.M-DT | D30: 2 | E30: 68x58x28 & 58x50x17 | F30: 299 | M30: =G30+H30+I30+J30+K30+L30 -> 0 | N30: =M30*D30 -> 0 | O30: =IF(M30>0,M30*F30,"-") -> - | P30: 3.1 | Q30: =P30*M30 -> 0 | S30: M | AO30: 2
B31: Pyramid Set M2 DT | C31: W.05.67.M-DT | D31: 2 | E31: 65x56x13 & 59x51x7 | F31: 279 | M31: =G31+H31+I31+J31+K31+L31 -> 0 | N31: =M31*D31 -> 0 | O31: =IF(M31>0,M31*F31,"-") -> - | P31: 4.9 | Q31: =P31*M31 -> 0 | S31: M | AO31: 2
B32: Pyramid L1 DT | C32: W.05.71.L-DT | D32: 1 | E32: 113x98x48 | F32: 370 | M32: =G32+H32+I32+J32+K32+L32 -> 0 | N32: =M32*D32 -> 0 | O32: =IF(M32>0,M32*F32,"-") -> - | P32: 11.7 | Q32: =P32*M32 -> 0 | S32: L | AP32: 1
B33: Pyramid L2 DT | C33: W.05.72.L-DT | D33: 1 | E33: 113x98x34 | F33: 344 | M33: =G33+H33+I33+J33+K33+L33 -> 0 | N33: =M33*D33 -> 0 | O33: =IF(M33>0,M33*F33,"-") -> - | P33: 9.7 | Q33: =P33*M33 -> 0 | S33: L | AP33: 1
B34: Pyramid L3 DT | C34: W.05.73.L-DT | D34: 1 | E34: 113x98x22 | F34: 327 | M34: =G34+H34+I34+J34+K34+L34 -> 0 | N34: =M34*D34 -> 0 | O34: =IF(M34>0,M34*F34,"-") -> - | P34: 8 | Q34: =P34*M34 -> 0 | S34: L | AP34: 1
B35: Pyramid L4 DT | C35: W.05.74.L-DT | D35: 1 | E35: 113x98x13 | F35: 313 | M35: =G35+H35+I35+J35+K35+L35 -> 0 | N35: =M35*D35 -> 0 | O35: =IF(M35>0,M35*F35,"-") -> - | P35: 6.7 | Q35: =P35*M35 -> 0 | S35: L | AP35: 1
A36: Balls | B36: Ball S1 | C36: W.06.01.S | D36: 1 | E36: 100x50x12 | F36: 229 | M36: =G36+H36+I36+J36+K36+L36 -> 0 | N36: =M36*D36 -> 0 | O36: =IF(M36>0,M36*F36,"-") -> - | P36: 4.8 | Q36: =P36*M36 -> 0 | S36: S | AL36: 2 | AP36: 1
B37: Ball S2 | C37: W.06.02.S | D37: 1 | E37: 100x42x17 | F37: 223 | M37: =G37+H37+I37+J37+K37+L37 -> 0 | N37: =M37*D37 -> 0 | O37: =IF(M37>0,M37*F37,"-") -> - | P37: 4.8 | Q37: =P37*M37 -> 0 | S37: S | AL37: 2 | AP37: 1
B38: Ball S3 | C38: W.06.03.S | D38: 1 | E38: 100x33x10 | F38: 191 | M38: =G38+H38+I38+J38+K38+L38 -> 0 | N38: =M38*D38 -> 0 | O38: =IF(M38>0,M38*F38,"-") -> - | P38: 3.1 | Q38: =P38*M38 -> 0 | S38: S | AL38: 3 | AP38: 1
B39: Ball S4 | C39: W.06.04.S | D39: 1 | E39: 100x29x11 | F39: 183 | M39: =G39+H39+I39+J39+K39+L39 -> 0 | N39: =M39*D39 -> 0 | O39: =IF(M39>0,M39*F39,"-") -> - | P39: 2.6 | Q39: =P39*M39 -> 0 | S39: S | AL39: 3 | AP39: 1
B40: Ball S5 | C40: W.06.05.S | D40: 1 | E40: 100x103x29 | F40: 333 | M40: =G40+H40+I40+J40+K40+L40 -> 0 | N40: =M40*D40 -> 0 | O40: =IF(M40>0,M40*F40,"-") -> - | P40: 14 | Q40: =P40*M40 -> 0 | S40: S | AP40: 1
...

Sheet Overview
A1: ignore:true;
C3: HOLDS | H3: FOOTHOLDS
C5: Difficulty | H5: Difficulty | L5: Size | V5: Style
C6: Easy | D6: Moderate | E6: Hard | H6: Easy | I6: Moderate | J6: Hard | L6: XXS | M6: XS | N6: S | O6: M | P6: L | Q6: XL | R6: XXL | S6: XXXL | T6: MEG | V6: Screw on | W6: Jug | X6: Pocket | Y6: Sloper | Z6: Edge | AA6: Pinch
B7: Yellow | C7: =IF(SUMPRODUCT('Holds '!$F$4:$F$406,'Holds '!CG$4:CG$406)=0,"",SUMPRODUCT('Holds '!$F$4:$F$406,'Holds '!CG$4:CG$406)) | D7: =IF(SUMPRODUCT('Holds '!$F$4:$F$406,'Holds '!CH$4:CH$406)=0,"",SUMPRODUCT('Holds '!$F$4:$F$406,'Holds '!CH$4:CH$406)) | E7: =IF(SUMPRODUCT('Holds '!$F$4:$F$406,'Holds '!CI$4:CI$406)=0,"",SUMPRODUCT('Holds '!$F$4:$F$406,'Holds '!CI$4:CI$406)) | G7: Yellow | H7: =IF(SUMPRODUCT('Holds '!$F$4:$F$406,'Holds '!BV$4:BV$406)=0,"",SUMPRODUCT('Holds '!$F$4:$F$406,'Holds '!BV$4:BV$406)) | I7: =IF(SUMPRODUCT('Holds '!$F$4:$F$406,'Holds '!BW$4:BW$406)=0,"",SUMPRODUCT('Holds '!$F$4:$F$406,'Holds '!BW$4:BW$406)) | J7: =IF(SUMPRODUCT('Holds '!$F$4:$F$406,'Holds '!BX$4:BX$406)=0,"",SUMPRODUCT('Holds '!$F$4:$F$406,'Holds '!BX$4:BX$406)) | L7: =IF(SUMPRODUCT('Holds '!$F$4:$F$406,'Holds '!BJ$4:BJ$406)=0,"",SUMPRODUCT('Holds '!$F$4:$F$406,'Holds '!BJ$4:BJ$406)) | M7: =IF(SUMPRODUCT('Holds '!$F$4:$F$406,'Holds '!BK$4:BK$406)=0,"",SUMPRODUCT('Holds '!$F$4:$F$406,'Holds '!BK$4:BK$406)) | N7: =IF(SUMPRODUCT('Holds '!$F$4:$F$406,'Holds '!BL$4:BL$406)=0,"",SUMPRODUCT('Holds '!$F$4:$F$406,'Holds '!BL$4:BL$406)) | O7: =IF(SUMPRODUCT('Holds '!$F$4:$F$406,'Holds '!BM$4:BM$406)=0,"",SUMPRODUCT('Holds '!$F$4:$F$406,'Holds '!BM$4:BM$406)) | P7: =IF(SUMPRODUCT('Holds '!$F$4:$F$406,'Holds '!BN$4:BN$406)=0,"",SUMPRODUCT('Holds '!$F$4:$F$406,'Holds '!BN$4:BN$406)) | Q7: =IF(SUMPRODUCT('Holds '!$F$4:$F$406,'Holds '!BO$4:BO$406)=0,"",SUMPRODUCT('Holds '!$F$4:$F$406,'Holds '!BO$4:BO$406)) | R7: =IF(SUMPRODUCT('Holds '!$F$4:$F$406,'Holds '!BP$4:BP$406)=0,"",SUMPRODUCT('Holds '!$F$4:$F$406,'Holds '!BP$4:BP$406)) | S7: =IF(SUMPRODUCT('Holds '!$F$4:$F$406,'Holds '!BQ$4:BQ$406)=0,"",SUMPRODUCT('Holds '!$F$4:$F$406,'Holds '!BQ$4:BQ$406)) | T7: =IF(SUMPRODUCT('Holds '!$F$4:$F$406,'Holds '!BR$4:BR$406)=0,"",SUMPRODUCT('Holds '!$F$4:$F$406,'Holds '!BR$4:BR$406)) | V7: =IF(SUMPRODUCT('Holds '!$F$4:$F$406,'Holds '!BZ$4:BZ$406)=0,"",SUMPRODUCT('Holds '!$F$4:$F$406,'Holds '!BZ$4:BZ$406)) | W7: =IF(SUMPRODUCT('Holds '!$F$4:$F$406,'Holds '!CA$4:CA$406)=0,"",SUMPRODUCT('Holds '!$F$4:$F$406,'Holds '!CA$4:CA$406)) | X7: =IF(SUMPRODUCT('Holds '!$F$4:$F$406,'Holds '!CB$4:CB$406)=0,"",SUMPRODUCT('Holds '!$F$4:$F$406,'Holds '!CB$4:CB$406)) | Y7: =IF(SUMPRODUCT('Holds '!$F$4:$F$406,'Holds '!CC$4:CC$406)=0,"",SUMPRODUCT('Holds '!$F$4:$F$406,'Holds '!CC$4:CC$406)) | Z7: =IF(SUMPRODUCT('Holds '!$F$4:$F$406,'Holds '!CD$4:CD$406)=0,"",SUMPRODUCT('Holds '!$F$4:$F$406,'Holds '!CD$4:CD$406)) | AA7: =IF(SUMPRODUCT('Holds '!$F$4:$F$406,'Holds '!CE$4:CE$406)=0,"",SUMPRODUCT('Holds '!$F$4:$F$406,'Holds '!CE$4:CE$406))
B8: Red | C8: =IF(SUMPRODUCT('Holds '!$G$4:$G$406,'Holds '!CG$4:CG$406)=0,"",SUMPRODUCT('Holds '!$G$4:$G$406,'Holds '!CG$4:CG$406)) | D8: =IF(SUMPRODUCT('Holds '!$G$4:$G$406,'Holds '!CH$4:CH$406)=0,"",SUMPRODUCT('Holds '!$G$4:$G$406,'Holds '!CH$4:CH$406)) | E8: =IF(SUMPRODUCT('Holds '!$G$4:$G$406,'Holds '!CI$4:CI$406)=0,"",SUMPRODUCT('Holds '!$G$4:$G$406,'Holds '!CI$4:CI$406)) | G8: Red | H8: =IF(SUMPRODUCT('Holds '!$G$4:$G$406,'Holds '!BV$4:BV$406)=0,"",SUMPRODUCT('Holds '!$G$4:$G$406,'Holds '!BV$4:BV$406)) | I8: =IF(SUMPRODUCT('Holds '!$G$4:$G$406,'Holds '!BW$4:BW$406)=0,"",SUMPRODUCT('Holds '!$G$4:$G$406,'Holds '!BW$4:BW$406)) | J8: =IF(SUMPRODUCT('Holds '!$G$4:$G$406,'Holds '!BX$4:BX$406)=0,"",SUMPRODUCT('Holds '!$G$4:$G$406,'Holds '!BX$4:BX$406)) | L8: =IF(SUMPRODUCT('Holds '!$G$4:$G$406,'Holds '!BJ$4:BJ$406)=0,"",SUMPRODUCT('Holds '!$G$4:$G$406,'Holds '!BJ$4:BJ$406)) | M8: =IF(SUMPRODUCT('Holds '!$G$4:$G$406,'Holds '!BK$4:BK$406)=0,"",SUMPRODUCT('Holds '!$G$4:$G$406,'Holds '!BK$4:BK$406)) | N8: =IF(SUMPRODUCT('Holds '!$G$4:$G$406,'Holds '!BL$4:BL$406)=0,"",SUMPRODUCT('Holds '!$G$4:$G$406,'Holds '!BL$4:BL$406)) | O8: =IF(SUMPRODUCT('Holds '!$G$4:$G$406,'Holds '!BM$4:BM$406)=0,"",SUMPRODUCT('Holds '!$G$4:$G$406,'Holds '!BM$4:BM$406)) | P8: =IF(SUMPRODUCT('Holds '!$G$4:$G$406,'Holds '!BN$4:BN$406)=0,"",SUMPRODUCT('Holds '!$G$4:$G$406,'Holds '!BN$4:BN$406)) | Q8: =IF(SUMPRODUCT('Holds '!$G$4:$G$406,'Holds '!BO$4:BO$406)=0,"",SUMPRODUCT('Holds '!$G$4:$G$406,'Holds '!BO$4:BO$406)) | R8: =IF(SUMPRODUCT('Holds '!$G$4:$G$406,'Holds '!BP$4:BP$406)=0,"",SUMPRODUCT('Holds '!$G$4:$G$406,'Holds '!BP$4:BP$406)) | S8: =IF(SUMPRODUCT('Holds '!$G$4:$G$406,'Holds '!BQ$4:BQ$406)=0,"",SUMPRODUCT('Holds '!$G$4:$G$406,'Holds '!BQ$4:BQ$406)) | T8: =IF(SUMPRODUCT('Holds '!$G$4:$G$406,'Holds '!BR$4:BR$406)=0,"",SUMPRODUCT('Holds '!$G$4:$G$406,'Holds '!BR$4:BR$406)) | V8: =IF(SUMPRODUCT('Holds '!$G$4:$G$406,'Holds '!BZ$4:BZ$406)=0,"",SUMPRODUCT('Holds '!$G$4:$G$406,'Holds '!BZ$4:BZ$406)) | W8: =IF(SUMPRODUCT('Holds '!$G$4:$G$406,'Holds '!CA$4:CA$406)=0,"",SUMPRODUCT('Holds '!$G$4:$G$406,'Holds '!CA$4:CA$406)) | X8: =IF(SUMPRODUCT('Holds '!$G$4:$G$406,'Holds '!CB$4:CB$406)=0,"",SUMPRODUCT('Holds '!$G$4:$G$406,'Holds '!CB$4:CB$406)) | Y8: =IF(SUMPRODUCT('Holds '!$G$4:$G$406,'Holds '!CC$4:CC$406)=0,"",SUMPRODUCT('Holds '!$G$4:$G$406,'Holds '!CC$4:CC$406)) | Z8: =IF(SUMPRODUCT('Holds '!$G$4:$G$406,'Holds '!CD$4:CD$406)=0,"",SUMPRODUCT('Holds '!$G$4:$G$406,'Holds '!CD$4:CD$406)) | AA8: =IF(SUMPRODUCT('Holds '!$G$4:$G$406,'Holds '!CE$4:CE$406)=0,"",SUMPRODUCT('Holds '!$G$4:$G$406,'Holds '!CE$4:CE$406))
B9: Blue | C9: =IF(SUMPRODUCT('Holds '!$H$4:$H$406,'Holds '!CG$4:CG$406)=0,"",SUMPRODUCT('Holds '!$H$4:$H$406,'Holds '!CG$4:CG$406)) | D9: =IF(SUMPRODUCT('Holds '!$H$4:$H$406,'Holds '!CH$4:CH$406)=0,"",SUMPRODUCT('Holds '!$H$4:$H$406,'Holds '!CH$4:CH$406)) | E9: =IF(SUMPRODUCT('Holds '!$H$4:$H$406,'Holds '!CI$4:CI$406)=0,"",SUMPRODUCT('Holds '!$H$4:$H$406,'Holds '!CI$4:CI$406)) | G9: Blue | H9: =IF(SUMPRODUCT('Holds '!$H$4:$H$406,'Holds '!BV$4:BV$406)=0,"",SUMPRODUCT('Holds '!$H$4:$H$406,'Holds '!BV$4:BV$406)) | I9: =IF(SUMPRODUCT('Holds '!$H$4:$H$406,'Holds '!BW$4:BW$406)=0,"",SUMPRODUCT('Holds '!$H$4:$H$406,'Holds '!BW$4:BW$406)) | J9: =IF(SUMPRODUCT('Holds '!$H$4:$H$406,'Holds '!BX$4:BX$406)=0,"",SUMPRODUCT('Holds '!$H$4:$H$406,'Holds '!BX$4:BX$406)) | L9: =IF(SUMPRODUCT('Holds '!$H$4:$H$406,'Holds '!BJ$4:BJ$406)=0,"",SUMPRODUCT('Holds '!$H$4:$H$406,'Holds '!BJ$4:BJ$406)) | M9: =IF(SUMPRODUCT('Holds '!$H$4:$H$406,'Holds '!BK$4:BK$406)=0,"",SUMPRODUCT('Holds '!$H$4:$H$406,'Holds '!BK$4:BK$406)) | N9: =IF(SUMPRODUCT('Holds '!$H$4:$H$406,'Holds '!BL$4:BL$406)=0,"",SUMPRODUCT('Holds '!$H$4:$H$406,'Holds '!BL$4:BL$406)) | O9: =IF(SUMPRODUCT('Holds '!$H$4:$H$406,'Holds '!BM$4:BM$406)=0,"",SUMPRODUCT('Holds '!$H$4:$H$406,'Holds '!BM$4:BM$406)) | P9: =IF(SUMPRODUCT('Holds '!$H$4:$H$406,'Holds '!BN$4:BN$406)=0,"",SUMPRODUCT('Holds '!$H$4:$H$406,'Holds '!BN$4:BN$406)) | Q9: =IF(SUMPRODUCT('Holds '!$H$4:$H$406,'Holds '!BO$4:BO$406)=0,"",SUMPRODUCT('Holds '!$H$4:$H$406,'Holds '!BO$4:BO$406)) | R9: =IF(SUMPRODUCT('Holds '!$H$4:$H$406,'Holds '!BP$4:BP$406)=0,"",SUMPRODUCT('Holds '!$H$4:$H$406,'Holds '!BP$4:BP$406)) | S9: =IF(SUMPRODUCT('Holds '!$H$4:$H$406,'Holds '!BQ$4:BQ$406)=0,"",SUMPRODUCT('Holds '!$H$4:$H$406,'Holds '!BQ$4:BQ$406)) | T9: =IF(SUMPRODUCT('Holds '!$H$4:$H$406,'Holds '!BR$4:BR$406)=0,"",SUMPRODUCT('Holds '!$H$4:$H$406,'Holds '!BR$4:BR$406)) | V9: =IF(SUMPRODUCT('Holds '!$H$4:$H$406,'Holds '!BZ$4:BZ$406)=0,"",SUMPRODUCT('Holds '!$H$4:$H$406,'Holds '!BZ$4:BZ$406)) | W9: =IF(SUMPRODUCT('Holds '!$H$4:$H$406,'Holds '!CA$4:CA$406)=0,"",SUMPRODUCT('Holds '!$H$4:$H$406,'Holds '!CA$4:CA$406)) | X9: =IF(SUMPRODUCT('Holds '!$H$4:$H$406,'Holds '!CB$4:CB$406)=0,"",SUMPRODUCT('Holds '!$H$4:$H$406,'Holds '!CB$4:CB$406)) | Y9: =IF(SUMPRODUCT('Holds '!$H$4:$H$406,'Holds '!CC$4:CC$406)=0,"",SUMPRODUCT('Holds '!$H$4:$H$406,'Holds '!CC$4:CC$406)) | Z9: =IF(SUMPRODUCT('Holds '!$H$4:$H$406,'Holds '!CD$4:CD$406)=0,"",SUMPRODUCT('Holds '!$H$4:$H$406,'Holds '!CD$4:CD$406)) | AA9: =IF(SUMPRODUCT('Holds '!$H$4:$H$406,'Holds '!CE$4:CE$406)=0,"",SUMPRODUCT('Holds '!$H$4:$H$406,'Holds '!CE$4:CE$406))
B10: Black | C10: =IF(SUMPRODUCT('Holds '!$I$4:$I$406,'Holds '!CG$4:CG$406)=0,"",SUMPRODUCT('Holds '!$I$4:$I$406,'Holds '!CG$4:CG$406)) | D10: =IF(SUMPRODUCT('Holds '!$I$4:$I$406,'Holds '!CH$4:CH$406)=0,"",SUMPRODUCT('Holds '!$I$4:$I$406,'Holds '!CH$4:CH$406)) | E10: =IF(SUMPRODUCT('Holds '!$I$4:$I$406,'Holds '!CI$4:CI$406)=0,"",SUMPRODUCT('Holds '!$I$4:$I$406,'Holds '!CI$4:CI$406)) | G10: Black | H10: =IF(SUMPRODUCT('Holds '!$I$4:$I$406,'Holds '!BV$4:BV$406)=0,"",SUMPRODUCT('Holds '!$I$4:$I$406,'Holds '!BV$4:BV$406)) | I10: =IF(SUMPRODUCT('Holds '!$I$4:$I$406,'Holds '!BW$4:BW$406)=0,"",SUMPRODUCT('Holds '!$I$4:$I$406,'Holds '!BW$4:BW$406)) | J10: =IF(SUMPRODUCT('Holds '!$I$4:$I$406,'Holds '!BX$4:BX$406)=0,"",SUMPRODUCT('Holds '!$I$4:$I$406,'Holds '!BX$4:BX$406)) | L10: =IF(SUMPRODUCT('Holds '!$I$4:$I$406,'Holds '!BJ$4:BJ$406)=0,"",SUMPRODUCT('Holds '!$I$4:$I$406,'Holds '!BJ$4:BJ$406)) | M10: =IF(SUMPRODUCT('Holds '!$I$4:$I$406,'Holds '!BK$4:BK$406)=0,"",SUMPRODUCT('Holds '!$I$4:$I$406,'Holds '!BK$4:BK$406)) | N10: =IF(SUMPRODUCT('Holds '!$I$4:$I$406,'Holds '!BL$4:BL$406)=0,"",SUMPRODUCT('Holds '!$I$4:$I$406,'Holds '!BL$4:BL$406)) | O10: =IF(SUMPRODUCT('Holds '!$I$4:$I$406,'Holds '!BM$4:BM$406)=0,"",SUMPRODUCT('Holds '!$I$4:$I$406,'Holds '!BM$4:BM$406)) | P10: =IF(SUMPRODUCT('Holds '!$I$4:$I$406,'Holds '!BN$4:BN$406)=0,"",SUMPRODUCT('Holds '!$I$4:$I$406,'Holds '!BN$4:BN$406)) | Q10: =IF(SUMPRODUCT('Holds '!$I$4:$I$406,'Holds '!BO$4:BO$406)=0,"",SUMPRODUCT('Holds '!$I$4:$I$406,'Holds '!BO$4:BO$406)) | R10: =IF(SUMPRODUCT('Holds '!$I$4:$I$406,'Holds '!BP$4:BP$406)=0,"",SUMPRODUCT('Holds '!$I$4:$I$406,'Holds '!BP$4:BP$406)) | S10: =IF(SUMPRODUCT('Holds '!$I$4:$I$406,'Holds '!BQ$4:BQ$406)=0,"",SUMPRODUCT('Holds '!$I$4:$I$406,'Holds '!BQ$4:BQ$406)) | T10: =IF(SUMPRODUCT('Holds '!$I$4:$I$406,'Holds '!BR$4:BR$406)=0,"",SUMPRODUCT('Holds '!$I$4:$I$406,'Holds '!BR$4:BR$406)) | V10: =IF(SUMPRODUCT('Holds '!$I$4:$I$406,'Holds '!BZ$4:BZ$406)=0,"",SUMPRODUCT('Holds '!$I$4:$I$406,'Holds '!BZ$4:BZ$406)) | W10: =IF(SUMPRODUCT('Holds '!$I$4:$I$406,'Holds '!CA$4:CA$406)=0,"",SUMPRODUCT('Holds '!$I$4:$I$406,'Holds '!CA$4:CA$406)) | X10: =IF(SUMPRODUCT('Holds '!$I$4:$I$406,'Holds '!CB$4:CB$406)=0,"",SUMPRODUCT('Holds '!$I$4:$I$406,'Holds '!CB$4:CB$406)) | Y10: =IF(SUMPRODUCT('Holds '!$I$4:$I$406,'Holds '!CC$4:CC$406)=0,"",SUMPRODUCT('Holds '!$I$4:$I$406,'Holds '!CC$4:CC$406)) | Z10: =IF(SUMPRODUCT('Holds '!$I$4:$I$406,'Holds '!CD$4:CD$406)=0,"",SUMPRODUCT('Holds '!$I$4:$I$406,'Holds '!CD$4:CD$406)) | AA10: =IF(SUMPRODUCT('Holds '!$I$4:$I$406,'Holds '!CE$4:CE$406)=0,"",SUMPRODUCT('Holds '!$I$4:$I$406,'Holds '!CE$4:CE$406))
B11: Fluo Orange | C11: =IF(SUMPRODUCT('Holds '!$J$4:$J$406,'Holds '!CG$4:CG$406)=0,"",SUMPRODUCT('Holds '!$J$4:$J$406,'Holds '!CG$4:CG$406)) | D11: =IF(SUMPRODUCT('Holds '!$J$4:$J$406,'Holds '!CH$4:CH$406)=0,"",SUMPRODUCT('Holds '!$J$4:$J$406,'Holds '!CH$4:CH$406)) | E11: =IF(SUMPRODUCT('Holds '!$J$4:$J$406,'Holds '!CI$4:CI$406)=0,"",SUMPRODUCT('Holds '!$J$4:$J$406,'Holds '!CI$4:CI$406)) | G11: Fluo Orange | H11: =IF(SUMPRODUCT('Holds '!$J$4:$J$406,'Holds '!BV$4:BV$406)=0,"",SUMPRODUCT('Holds '!$J$4:$J$406,'Holds '!BV$4:BV$406)) | I11: =IF(SUMPRODUCT('Holds '!$J$4:$J$406,'Holds '!BW$4:BW$406)=0,"",SUMPRODUCT('Holds '!$J$4:$J$406,'Holds '!BW$4:BW$406)) | J11: =IF(SUMPRODUCT('Holds '!$J$4:$J$406,'Holds '!BX$4:BX$406)=0,"",SUMPRODUCT('Holds '!$J$4:$J$406,'Holds '!BX$4:BX$406)) | L11: =IF(SUMPRODUCT('Holds '!$J$4:$J$406,'Holds '!BJ$4:BJ$406)=0,"",SUMPRODUCT('Holds '!$J$4:$J$406,'Holds '!BJ$4:BJ$406)) | M11: =IF(SUMPRODUCT('Holds '!$J$4:$J$406,'Holds '!BK$4:BK$406)=0,"",SUMPRODUCT('Holds '!$J$4:$J$406,'Holds '!BK$4:BK$406)) | N11: =IF(SUMPRODUCT('Holds '!$J$4:$J$406,'Holds '!BL$4:BL$406)=0,"",SUMPRODUCT('Holds '!$J$4:$J$406,'Holds '!BL$4:BL$406)) | O11: =IF(SUMPRODUCT('Holds '!$J$4:$J$406,'Holds '!BM$4:BM$406)=0,"",SUMPRODUCT('Holds '!$J$4:$J$406,'Holds '!BM$4:BM$406)) | P11: =IF(SUMPRODUCT('Holds '!$J$4:$J$406,'Holds '!BN$4:BN$406)=0,"",SUMPRODUCT('Holds '!$J$4:$J$406,'Holds '!BN$4:BN$406)) | Q11: =IF(SUMPRODUCT('Holds '!$J$4:$J$406,'Holds '!BO$4:BO$406)=0,"",SUMPRODUCT('Holds '!$J$4:$J$406,'Holds '!BO$4:BO$406)) | R11: =IF(SUMPRODUCT('Holds '!$J$4:$J$406,'Holds '!BP$4:BP$406)=0,"",SUMPRODUCT('Holds '!$J$4:$J$406,'Holds '!BP$4:BP$406)) | S11: =IF(SUMPRODUCT('Holds '!$J$4:$J$406,'Holds '!BQ$4:BQ$406)=0,"",SUMPRODUCT('Holds '!$J$4:$J$406,'Holds '!BQ$4:BQ$406)) | T11: =IF(SUMPRODUCT('Holds '!$J$4:$J$406,'Holds '!BR$4:BR$406)=0,"",SUMPRODUCT('Holds '!$J$4:$J$406,'Holds '!BR$4:BR$406)) | V11: =IF(SUMPRODUCT('Holds '!$J$4:$J$406,'Holds '!BZ$4:BZ$406)=0,"",SUMPRODUCT('Holds '!$J$4:$J$406,'Holds '!BZ$4:BZ$406)) | W11: =IF(SUMPRODUCT('Holds '!$J$4:$J$406,'Holds '!CA$4:CA$406)=0,"",SUMPRODUCT('Holds '!$J$4:$J$406,'Holds '!CA$4:CA$406)) | X11: =IF(SUMPRODUCT('Holds '!$J$4:$J$406,'Holds '!CB$4:CB$406)=0,"",SUMPRODUCT('Holds '!$J$4:$J$406,'Holds '!CB$4:CB$406)) | Y11: =IF(SUMPRODUCT('Holds '!$J$4:$J$406,'Holds '!CC$4:CC$406)=0,"",SUMPRODUCT('Holds '!$J$4:$J$406,'Holds '!CC$4:CC$406)) | Z11: =IF(SUMPRODUCT('Holds '!$J$4:$J$406,'Holds '!CD$4:CD$406)=0,"",SUMPRODUCT('Holds '!$J$4:$J$406,'Holds '!CD$4:CD$406)) | AA11: =IF(SUMPRODUCT('Holds '!$J$4:$J$406,'Holds '!CE$4:CE$406)=0,"",SUMPRODUCT('Holds '!$J$4:$J$406,'Holds '!CE$4:CE$406))
B12: Fluo Green | C12: =IF(SUMPRODUCT('Holds '!$K$4:$K$406,'Holds '!CG$4:CG$406)=0,"",SUMPRODUCT('Holds '!$K$4:$K$406,'Holds '!CG$4:CG$406)) | D12: =IF(SUMPRODUCT('Holds '!$K$4:$K$406,'Holds '!CH$4:CH$406)=0,"",SUMPRODUCT('Holds '!$K$4:$K$406,'Holds '!CH$4:CH$406)) | E12: =IF(SUMPRODUCT('Holds '!$K$4:$K$406,'Holds '!CI$4:CI$406)=0,"",SUMPRODUCT('Holds '!$K$4:$K$406,'Holds '!CI$4:CI$406)) | G12: Fluo Green | H12: =IF(SUMPRODUCT('Holds '!$K$4:$K$406,'Holds '!BV$4:BV$406)=0,"",SUMPRODUCT('Holds '!$K$4:$K$406,'Holds '!BV$4:BV$406)) | I12: =IF(SUMPRODUCT('Holds '!$K$4:$K$406,'Holds '!BW$4:BW$406)=0,"",SUMPRODUCT('Holds '!$K$4:$K$406,'Holds '!BW$4:BW$406)) | J12: =IF(SUMPRODUCT('Holds '!$K$4:$K$406,'Holds '!BX$4:BX$406)=0,"",SUMPRODUCT('Holds '!$K$4:$K$406,'Holds '!BX$4:BX$406)) | L12: =IF(SUMPRODUCT('Holds '!$K$4:$K$406,'Holds '!BJ$4:BJ$406)=0,"",SUMPRODUCT('Holds '!$K$4:$K$406,'Holds '!BJ$4:BJ$406)) | M12: =IF(SUMPRODUCT('Holds '!$K$4:$K$406,'Holds '!BK$4:BK$406)=0,"",SUMPRODUCT('Holds '!$K$4:$K$406,'Holds '!BK$4:BK$406)) | N12: =IF(SUMPRODUCT('Holds '!$K$4:$K$406,'Holds '!BL$4:BL$406)=0,"",SUMPRODUCT('Holds '!$K$4:$K$406,'Holds '!BL$4:BL$406)) | O12: =IF(SUMPRODUCT('Holds '!$K$4:$K$406,'Holds '!BM$4:BM$406)=0,"",SUMPRODUCT('Holds '!$K$4:$K$406,'Holds '!BM$4:BM$406)) | P12: =IF(SUMPRODUCT('Holds '!$K$4:$K$406,'Holds '!BN$4:BN$406)=0,"",SUMPRODUCT('Holds '!$K$4:$K$406,'Holds '!BN$4:BN$406)) | Q12: =IF(SUMPRODUCT('Holds '!$K$4:$K$406,'Holds '!BO$4:BO$406)=0,"",SUMPRODUCT('Holds '!$K$4:$K$406,'Holds '!BO$4:BO$406)) | R12: =IF(SUMPRODUCT('Holds '!$K$4:$K$406,'Holds '!BP$4:BP$406)=0,"",SUMPRODUCT('Holds '!$K$4:$K$406,'Holds '!BP$4:BP$406)) | S12: =IF(SUMPRODUCT('Holds '!$K$4:$K$406,'Holds '!BQ$4:BQ$406)=0,"",SUMPRODUCT('Holds '!$K$4:$K$406,'Holds '!BQ$4:BQ$406)) | T12: =IF(SUMPRODUCT('Holds '!$K$4:$K$406,'Holds '!BR$4:BR$406)=0,"",SUMPRODUCT('Holds '!$K$4:$K$406,'Holds '!BR$4:BR$406)) | V12: =IF(SUMPRODUCT('Holds '!$K$4:$K$406,'Holds '!BZ$4:BZ$406)=0,"",SUMPRODUCT('Holds '!$K$4:$K$406,'Holds '!BZ$4:BZ$406)) | W12: =IF(SUMPRODUCT('Holds '!$K$4:$K$406,'Holds '!CA$4:CA$406)=0,"",SUMPRODUCT('Holds '!$K$4:$K$406,'Holds '!CA$4:CA$406)) | X12: =IF(SUMPRODUCT('Holds '!$K$4:$K$406,'Holds '!CB$4:CB$406)=0,"",SUMPRODUCT('Holds '!$K$4:$K$406,'Holds '!CB$4:CB$406)) | Y12: =IF(SUMPRODUCT('Holds '!$K$4:$K$406,'Holds '!CC$4:CC$406)=0,"",SUMPRODUCT('Holds '!$K$4:$K$406,'Holds '!CC$4:CC$406)) | Z12: =IF(SUMPRODUCT('Holds '!$K$4:$K$406,'Holds '!CD$4:CD$406)=0,"",SUMPRODUCT('Holds '!$K$4:$K$406,'Holds '!CD$4:CD$406)) | AA12: =IF(SUMPRODUCT('Holds '!$K$4:$K$406,'Holds '!CE$4:CE$406)=0,"",SUMPRODUCT('Holds '!$K$4:$K$406,'Holds '!CE$4:CE$406))
A13: HOLDS | B13: Fluo Pink | C13: =IF(SUMPRODUCT('Holds '!$L$4:$L$406,'Holds '!CG$4:CG$406)=0,"",SUMPRODUCT('Holds '!$L$4:$L$406,'Holds '!CG$4:CG$406)) | D13: =IF(SUMPRODUCT('Holds '!$L$4:$L$406,'Holds '!CH$4:CH$406)=0,"",SUMPRODUCT('Holds '!$L$4:$L$406,'Holds '!CH$4:CH$406)) | E13: =IF(SUMPRODUCT('Holds '!$L$4:$L$406,'Holds '!CI$4:CI$406)=0,"",SUMPRODUCT('Holds '!$L$4:$L$406,'Holds '!CI$4:CI$406)) | G13: Fluo Pink | H13: =IF(SUMPRODUCT('Holds '!$L$4:$L$406,'Holds '!BV$4:BV$406)=0,"",SUMPRODUCT('Holds '!$L$4:$L$406,'Holds '!BV$4:BV$406)) | I13: =IF(SUMPRODUCT('Holds '!$L$4:$L$406,'Holds '!BW$4:BW$406)=0,"",SUMPRODUCT('Holds '!$L$4:$L$406,'Holds '!BW$4:BW$406)) | J13: =IF(SUMPRODUCT('Holds '!$L$4:$L$406,'Holds '!BX$4:BX$406)=0,"",SUMPRODUCT('Holds '!$L$4:$L$406,'Holds '!BX$4:BX$406)) | L13: =IF(SUMPRODUCT('Holds '!$L$4:$L$406,'Holds '!BJ$4:BJ$406)=0,"",SUMPRODUCT('Holds '!$L$4:$L$406,'Holds '!BJ$4:BJ$406)) | M13: =IF(SUMPRODUCT('Holds '!$L$4:$L$406,'Holds '!BK$4:BK$406)=0,"",SUMPRODUCT('Holds '!$L$4:$L$406,'Holds '!BK$4:BK$406)) | N13: =IF(SUMPRODUCT('Holds '!$L$4:$L$406,'Holds '!BL$4:BL$406)=0,"",SUMPRODUCT('Holds '!$L$4:$L$406,'Holds '!BL$4:BL$406)) | O13: =IF(SUMPRODUCT('Holds '!$L$4:$L$406,'Holds '!BM$4:BM$406)=0,"",SUMPRODUCT('Holds '!$L$4:$L$406,'Holds '!BM$4:BM$406)) | P13: =IF(SUMPRODUCT('Holds '!$L$4:$L$406,'Holds '!BN$4:BN$406)=0,"",SUMPRODUCT('Holds '!$L$4:$L$406,'Holds '!BN$4:BN$406)) | Q13: =IF(SUMPRODUCT('Holds '!$L$4:$L$406,'Holds '!BO$4:BO$406)=0,"",SUMPRODUCT('Holds '!$L$4:$L$406,'Holds '!BO$4:BO$406)) | R13: =IF(SUMPRODUCT('Holds '!$L$4:$L$406,'Holds '!BP$4:BP$406)=0,"",SUMPRODUCT('Holds '!$L$4:$L$406,'Holds '!BP$4:BP$406)) | S13: =IF(SUMPRODUCT('Holds '!$L$4:$L$406,'Holds '!BQ$4:BQ$406)=0,"",SUMPRODUCT('Holds '!$L$4:$L$406,'Holds '!BQ$4:BQ$406)) | T13: =IF(SUMPRODUCT('Holds '!$L$4:$L$406,'Holds '!BR$4:BR$406)=0,"",SUMPRODUCT('Holds '!$L$4:$L$406,'Holds '!BR$4:BR$406)) | V13: =IF(SUMPRODUCT('Holds '!$L$4:$L$406,'Holds '!BZ$4:BZ$406)=0,"",SUMPRODUCT('Holds '!$L$4:$L$406,'Holds '!BZ$4:BZ$406)) | W13: =IF(SUMPRODUCT('Holds '!$L$4:$L$406,'Holds '!CA$4:CA$406)=0,"",SUMPRODUCT('Holds '!$L$4:$L$406,'Holds '!CA$4:CA$406)) | X13: =IF(SUMPRODUCT('Holds '!$L$4:$L$406,'Holds '!CB$4:CB$406)=0,"",SUMPRODUCT('Holds '!$L$4:$L$406,'Holds '!CB$4:CB$406)) | Y13: =IF(SUMPRODUCT('Holds '!$L$4:$L$406,'Holds '!CC$4:CC$406)=0,"",SUMPRODUCT('Holds '!$L$4:$L$406,'Holds '!CC$4:CC$406)) | Z13: =IF(SUMPRODUCT('Holds '!$L$4:$L$406,'Holds '!CD$4:CD$406)=0,"",SUMPRODUCT('Holds '!$L$4:$L$406,'Holds '!CD$4:CD$406)) | AA13: =IF(SUMPRODUCT('Holds '!$L$4:$L$406,'Holds '!CE$4:CE$406)=0,"",SUMPRODUCT('Holds '!$L$4:$L$406,'Holds '!CE$4:CE$406))
