Workbook

Sheet Summary of order
A1: ignore:true;
A2: Billing Information | H2: #VALUE!
A3: Company name
A4: Company address
A5: City
A6: ZIP
A7: Country | J7: Total Sets | K7: Total Products | L7: Total excl. VAT
A8: VAT number | H8: Holds | J8: ='Holds '!T408 -> 0 | K8: ='Holds '!U408 -> 0 | L8: ='Holds '!V409 -> 0
A9: Responsible person | H9: Macros | J9: =Macros!R170 -> 0 | K9: =Macros!S170 -> 0 | L9: =Macros!T171 -> 0
A10: Phone | H10: Hybrids | J10: =Hybrids!U50 -> 0 | K10: =Hybrids!V50 -> 0 | L10: =Hybrids!W51 -> 0
A11: Email | H11: Volumes | J11: =Volumes!M136 -> 0 | K11: =Volumes!N136 -> 0 | L11: =Volumes!O137 -> 0
H12: Grand Total excl. VAT | L12: =SUM(L8:M11) -> 0
A13: Delivery Information | H13: Transport cost | L13: 0
A14: Company name | H14: Grand Total excl. VAT | L14: =L12 -> 0
A15: Company address | H15: VAT 0% | L15: =L14*J15 -> 0
A16: City | H16: Grand Total incl. VAT | L16: =L14+L15 -> 0
A17: ZIP
A18: Country
A19: VAT number
A20: Responsible person
A21: Phone
A22: Email
B25: Different colors are usually available in stock. Please contact us for current availability.
B26: Please contact us for our outlet stock list featuring discontinued items at reduced prices.

Sheet Holds 
B1: #VALUE! | F1: Gym Prices 15.05.2026 - Holds | AA1: Difficulty E = Easy M = Moderate H = Hard
A2: brand:Cheeta;start:3;End:407;Range:A;Reference:C;Colors:F->S;productName:Holds | D2: Production Color Code | F2: 0 | G2: 3020 | H2: 5015 | I2: 9005 | J2: 2005 | M2: 4008 | N2: 6027 | Q2: 6037 | R2: 9016 | U2: Total Weight | V2: =SUM(Y4:Y406) -> 0 | AA2: Diff | AB2: Size | BJ2: Size / holds | BT2: Grip | BV2: Difficulty / holds | BZ2: Grip / holds | CG2: Difficulty / holds
A3: Range | B3: Set | C3: Subset | D3: Products / set | E3: Price € | F3: Yellow | G3: Red | H3: Blue | I3: Black | J3: Fluo Orange | K3: Fluo Green | L3: Fluo Pink | M3: Violet | N3: Mint | O3: US Light Green | P3: US Orange | Q3: US Dark Green | R3: White | S3: US Purple | T3: Nb Sets | U3: Nb Holds | V3: Total € | W3: Bolts Sizes | X3: Weight/set | Y3: Total weight | BJ3: XXS | BK3: XS | BL3: S | BM3: M | BN3: L | BO3: XL | BP3: XXL | BQ3: XXXL | BR3: Meg | BT3: Footholds | BV3: E | BW3: I | BX3: H | BZ3: Screw on | CA3: Jug | CB3: Pocket | CC3: Sloper | CD3: Edge | CE3: Pinch | CG3: E | CH3: I | CI3: H
A4: New! | B4: Foot Flake XS1 | C4: 030.01.XS | D4: 12 | E4: 72 | T4: =I4+H4+F4+G4+M4+J4+L4+K4+N4+R4+Q4+O4+S4+P4 -> 0 | U4: =T4*D4 -> 0 | V4: =IF(T4>0,T4*E4,"-") -> - | W4: screw on | X4: 0.38 | Y4: =X4*T4 -> 0 | AA4: E | AB4: XS | BK4: 12 | BT4: 12 | BV4: 12 | BZ4: 12
A5: New! | B5: Crimpy Flake S1 | C5: 030.04.S | D5: 14 | E5: 97 | T5: =I5+H5+F5+G5+M5+J5+L5+K5+N5+R5+Q5+O5+S5+P5 -> 0 | U5: =T5*D5 -> 0 | V5: =IF(T5>0,T5*E5,"-") -> - | W5: screw on | X5: 0.69 | Y5: =X5*T5 -> 0 | AA5: H | AB5: S | BL5: 14 | CD5: 14 | CI5: 14
A6: New! | B6: Crimpy Flake S2 | C6: 030.05.S | D6: 8 | E6: 81 | T6: =I6+H6+F6+G6+M6+J6+L6+K6+N6+R6+Q6+O6+S6+P6 -> 0 | U6: =T6*D6 -> 0 | V6: =IF(T6>0,T6*E6,"-") -> - | W6: screw on | X6: 0.77 | Y6: =X6*T6 -> 0 | AA6: M | AB6: S | BL6: 8 | CD6: 8 | CH6: 8
A7: New! | B7: Crimpy Flake S3 | C7: 030.06.S | D7: 8 | E7: 92 | T7: =I7+H7+F7+G7+M7+J7+L7+K7+N7+R7+Q7+O7+S7+P7 -> 0 | U7: =T7*D7 -> 0 | V7: =IF(T7>0,T7*E7,"-") -> - | W7: screw on | X7: 0.98 | Y7: =X7*T7 -> 0 | AA7: M | AB7: S | BL7: 8 | CD7: 8 | CH7: 8
A8: New! | B8: Pocket Flake M1 | C8: 030.10.M | D8: 5 | E8: 80 | T8: =I8+H8+F8+G8+M8+J8+L8+K8+N8+R8+Q8+O8+S8+P8 -> 0 | U8: =T8*D8 -> 0 | V8: =IF(T8>0,T8*E8,"-") -> - | W8: screw on | X8: 0.94 | Y8: =X8*T8 -> 0 | AA8: M | AB8: M | BM8: 5 | CB8: 5 | CH8: 5
A9: New! | B9: Crimpy Flake M2 | C9: 030.11.M | D9: 5 | E9: 110 | T9: =I9+H9+F9+G9+M9+J9+L9+K9+N9+R9+Q9+O9+S9+P9 -> 0 | U9: =T9*D9 -> 0 | V9: =IF(T9>0,T9*E9,"-") -> - | W9: screw on | X9: 1.46 | Y9: =X9*T9 -> 0 | AA9: M | AB9: M | BM9: 5 | CD9: 5 | CH9: 5
A10: New! | B10: Crimpy Flake L1 | C10: 030.14.L | D10: 3 | E10: 88 | T10: =I10+H10+F10+G10+M10+J10+L10+K10+N10+R10+Q10+O10+S10+P10 -> 0 | U10: =T10*D10 -> 0 | V10: =IF(T10>0,T10*E10,"-") -> - | W10: screw on | X10: 1.22 | Y10: =X10*T10 -> 0 | AA10: M | AB10: L | BN10: 3 | CD10: 3 | CH10: 3
A11: New! | B11: Juggy Flake XL1 | C11: 030.17.XL | D11: 3 | E11: 166 | T11: =I11+H11+F11+G11+M11+J11+L11+K11+N11+R11+Q11+O11+S11+P11 -> 0 | U11: =T11*D11 -> 0 | V11: =IF(T11>0,T11*E11,"-") -> - | W11: 3x(B)60 | X11: 2.54 | Y11: =X11*T11 -> 0 | AA11: E | AB11: XL | BO11: 3 | CA11: 3 | CG11: 3
A12: Monster Flake | B12: Juggy Flake XL2 | C12: 030.18.XL | D12: 4 | E12: 197 | T12: =I12+H12+F12+G12+M12+J12+L12+K12+N12+R12+Q12+O12+S12+P12 -> 0 | U12: =T12*D12 -> 0 | V12: =IF(T12>0,T12*E12,"-") -> - | W12: 4x(B)60 | X12: 3.02 | Y12: =X12*T12 -> 0 | AA12: E | AB12: XL | BO12: 4 | CA12: 4 | CG12: 4
B13: Juggy Flake XL3 | C13: 030.19.XL | D13: 4 | E13: 171 | T13: =I13+H13+F13+G13+M13+J13+L13+K13+N13+R13+Q13+O13+S13+P13 -> 0 | U13: =T13*D13 -> 0 | V13: =IF(T13>0,T13*E13,"-") -> - | W13: 1x(B)50 2x(B)70 1x(B)60 | X13: 2.57 | Y13: =X13*T13 -> 0 | AA13: E | AB13: XL | BO13: 4 | CA13: 4 | CG13: 4
A14: New! | B14: Slopey Flake XL4 | C14: 030.20.XL | D14: 3 | E14: 166 | T14: =I14+H14+F14+G14+M14+J14+L14+K14+N14+R14+Q14+O14+S14+P14 -> 0 | U14: =T14*D14 -> 0 | V14: =IF(T14>0,T14*E14,"-") -> - | W14: 3x(B)90 | X14: 1.68 | Y14: =X14*T14 -> 0 | AA14: H | AB14: XL | BO14: 3 | CC14: 3 | CI14: 3
A15: New! | B15: Juggy Flake XXL1 | C15: 030.23.XXL | D15: 3 | E15: 212 | T15: =I15+H15+F15+G15+M15+J15+L15+K15+N15+R15+Q15+O15+S15+P15 -> 0 | U15: =T15*D15 -> 0 | V15: =IF(T15>0,T15*E15,"-") -> - | W15: 2x(B)90 1x(B)120 | X15: 2.38 | Y15: =X15*T15 -> 0 | AA15: M | AB15: XXL | BP15: 3 | CA15: 3 | CH15: 3
A16: New! | B16: Juggy Flake XXL2 | C16: 030.24.XXL | D16: 3 | E16: 260 | T16: =I16+H16+F16+G16+M16+J16+L16+K16+N16+R16+Q16+O16+S16+P16 -> 0 | U16: =T16*D16 -> 0 | V16: =IF(T16>0,T16*E16,"-") -> - | W16: 1x(B)90 2x(B)80 | X16: 3.09 | Y16: =X16*T16 -> 0 | AA16: E | AB16: XXL | BP16: 3 | CA16: 3 | CG16: 3
A17: New! | B17: Slopey Flake XXL3 | C17: 030.25.XXL | D17: 3 | E17: 243 | T17: =I17+H17+F17+G17+M17+J17+L17+K17+N17+R17+Q17+O17+S17+P17 -> 0 | U17: =T17*D17 -> 0 | V17: =IF(T17>0,T17*E17,"-") -> - | W17: 1x(B)120 2x(B)100 | X17: 2.83 | Y17: =X17*T17 -> 0 | AA17: H | AB17: XXL | BP17: 3 | CC17: 3 | CI17: 3
A18: New! | B18: Slopey Flake MEG 1 | C18: 030.28.MEG | D18: 2 | E18: 181 | T18: =I18+H18+F18+G18+M18+J18+L18+K18+N18+R18+Q18+O18+S18+P18 -> 0 | U18: =T18*D18 -> 0 | V18: =IF(T18>0,T18*E18,"-") -> - | W18: 1x(B)90 1x(B)140 | X18: 2.14 | Y18: =X18*T18 -> 0 | AA18: M | AB18: MEG | BR18: 2 | CC18: 2 | CH18: 2
A19: New! | B19: Juggy Flake MEG 2 | C19: 030.29.MEG | D19: 1 | E19: 155 | T19: =I19+H19+F19+G19+M19+J19+L19+K19+N19+R19+Q19+O19+S19+P19 -> 0 | U19: =T19*D19 -> 0 | V19: =IF(T19>0,T19*E19,"-") -> - | W19: 1x(B)100 | X19: 1.96 | Y19: =X19*T19 -> 0 | AA19: E | AB19: MEG | BR19: 1 | CA19: 1 | CG19: 1
A20: New! | B20: Juggy Flake MEG 3 | C20: 030.30.MEG | D20: 1 | E20: 191 | T20: =I20+H20+F20+G20+M20+J20+L20+K20+N20+R20+Q20+O20+S20+P20 -> 0 | U20: =T20*D20 -> 0 | V20: =IF(T20>0,T20*E20,"-") -> - | W20: 1x(B)200 | X20: 2.51 | Y20: =X20*T20 -> 0 | AA20: E | AB20: MEG | BR20: 1 | CA20: 1 | CG20: 1
A21: New! | B21: Juggy Flake MEG 4 | C21: 030.31.MEG | D21: 1 | E21: 191 | T21: =I21+H21+F21+G21+M21+J21+L21+K21+N21+R21+Q21+O21+S21+P21 -> 0 | U21: =T21*D21 -> 0 | V21: =IF(T21>0,T21*E21,"-") -> - | W21: 1x(B)200 | X21: 2.5 | Y21: =X21*T21 -> 0 | AA21: E | AB21: MEG | BR21: 1 | CA21: 1 | CG21: 1
A22: New! | B22: Juggy Flake MEG 5 | C22: 030.32.MEG | D22: 1 | E22: 338 | T22: =I22+H22+F22+G22+M22+J22+L22+K22+N22+R22+Q22+O22+S22+P22 -> 0 | U22: =T22*D22 -> 0 | V22: =IF(T22>0,T22*E22,"-") -> - | W22: 1x(B)160 | X22: 4.65 | Y22: =X22*T22 -> 0 | AA22: E | AB22: MEG | BR22: 1 | CA22: 1 | CG22: 1
A23: Link | B23: Link S1 | C23: 028.01.S | D23: 5 | E23: 50 | T23: =I23+H23+F23+G23+M23+J23+L23+K23+N23+R23+Q23+O23+S23+P23 -> 0 | U23: =T23*D23 -> 0 | V23: =IF(T23>0,T23*E23,"-") -> - | W23: 5x(B)40 | X23: 0.504 | Y23: =X23*T23 -> 0 | AA23: H | AB23: S | BL23: 5 | CC23: 5 | CI23: 5
B24: Link S2 | C24: 028.02.S | D24: 5 | E24: 60 | T24: =I24+H24+F24+G24+M24+J24+L24+K24+N24+R24+Q24+O24+S24+P24 -> 0 | U24: =T24*D24 -> 0 | V24: =IF(T24>0,T24*E24,"-") -> - | W24: 5x(B)40 | X24: 0.686 | Y24: =X24*T24 -> 0 | AA24: H | AB24: S | BL24: 5 | CC24: 5 | CI24: 5
B25: Link M1 | C25: 028.03.M | D25: 5 | E25: 65 | T25: =I25+H25+F25+G25+M25+J25+L25+K25+N25+R25+Q25+O25+S25+P25 -> 0 | U25: =T25*D25 -> 0 | V25: =IF(T25>0,T25*E25,"-") -> - | W25: 5x(B)40 | X25: 0.75 | Y25: =X25*T25 -> 0 | AA25: H | AB25: M | BM25: 5 | CC25: 5 | CI25: 5
B26: Link M2 | C26: 028.04.M | D26: 3 | E26: 51 | T26: =I26+H26+F26+G26+M26+J26+L26+K26+N26+R26+Q26+O26+S26+P26 -> 0 | U26: =T26*D26 -> 0 | V26: =IF(T26>0,T26*E26,"-") -> - | W26: screw on | X26: 0.627 | Y26: =X26*T26 -> 0 | AA26: H | AB26: M | BM26: 3 | CC26: 3 | CI26: 3
B27: Link M3 | C27: 028.05.M | D27: 3 | E27: 65 | T27: =I27+H27+F27+G27+M27+J27+L27+K27+N27+R27+Q27+O27+S27+P27 -> 0 | U27: =T27*D27 -> 0 | V27: =IF(T27>0,T27*E27,"-") -> - | W27: screw on | X27: 0.937 | Y27: =X27*T27 -> 0 | AA27: H | AB27: M | BM27: 3 | CC27: 3 | CI27: 3
B28: Link L1 | C28: 028.07.L | D28: 3 | E28: 85 | T28: =I28+H28+F28+G28+M28+J28+L28+K28+N28+R28+Q28+O28+S28+P28 -> 0 | U28: =T28*D28 -> 0 | V28: =IF(T28>0,T28*E28,"-") -> - | W28: 3x(B)40 | X28: 1.217 | Y28: =X28*T28 -> 0 | AA28: H | AB28: L | BN28: 3 | CC28: 3 | CI28: 3
B29: Link L2 | C29: 028.08.L | D29: 2 | E29: 67 | T29: =I29+H29+F29+G29+M29+J29+L29+K29+N29+R29+Q29+O29+S29+P29 -> 0 | U29: =T29*D29 -> 0 | V29: =IF(T29>0,T29*E29,"-") -> - | W29: 2x(B)40 | X29: 1.008 | Y29: =X29*T29 -> 0 | AA29: H | AB29: L | BN29: 2 | CC29: 2 | CI29: 2
B30: Link XL1 | C30: 028.12.XL | D30: 3 | E30: 146 | T30: =I30+H30+F30+G30+M30+J30+L30+K30+N30+R30+Q30+O30+S30+P30 -> 0 | U30: =T30*D30 -> 0 | V30: =IF(T30>0,T30*E30,"-") -> - | W30: 3x(B)40 | X30: 2.324 | Y30: =X30*T30 -> 0 | AA30: H | AB30: XL | BO30: 3 | CC30: 3 | CI30: 3
B31: Link XXL1 | C31: 028.16.XXL | D31: 3 | E31: 114 | T31: =I31+H31+F31+G31+M31+J31+L31+K31+N31+R31+Q31+O31+S31+P31 -> 0 | U31: =T31*D31 -> 0 | V31: =IF(T31>0,T31*E31,"-") -> - | W31: 1x(B)40 | X31: 1.77 | Y31: =X31*T31 -> 0 | AA31: H | AB31: XL | BO31: 3 | CC31: 3 | CI31: 3
B32: Link XXL2 | C32: 028.17.XXL | D32: 2 | E32: 152 | T32: =I32+H32+F32+G32+M32+J32+L32+K32+N32+R32+Q32+O32+S32+P32 -> 0 | U32: =T32*D32 -> 0 | V32: =IF(T32>0,T32*E32,"-") -> - | W32: 2x(B)40 | X32: 2.48 | Y32: =X32*T32 -> 0 | AA32: H | AB32: XL | BO32: 2 | CC32: 2 | CI32: 2
B33: Odyssey XS1 | C33: 027.01.XS | D33: 10 | E33: 87 | T33: =I33+H33+F33+G33+M33+J33+L33+K33+N33+R33+Q33+O33+S33+P33 -> 0 | U33: =T33*D33 -> 0 | V33: =IF(T33>0,T33*E33,"-") -> - | W33: screw on | X33: 0.792 | Y33: =X33*T33 -> 0 | AA33: H | AB33: XS | BK33: 10 | CD33: 10 | CI33: 10
B34: Odyssey S1 | C34: 027.02.S | D34: 10 | E34: 116 | T34: =I34+H34+F34+G34+M34+J34+L34+K34+N34+R34+Q34+O34+S34+P34 -> 0 | U34: =T34*D34 -> 0 | V34: =IF(T34>0,T34*E34,"-") -> - | W34: screw on | X34: 1.252 | Y34: =X34*T34 -> 0 | AA34: H | AB34: S | BL34: 10 | CD34: 10 | CH34: 1 | CI34: 9
A35: New! | B35: Odyssey S2 | C35: 027.03.S | D35: 15 | E35: 123 | T35: =I35+H35+F35+G35+M35+J35+L35+K35+N35+R35+Q35+O35+S35+P35 -> 0 | U35: =T35*D35 -> 0 | V35: =IF(T35>0,T35*E35,"-") -> - | W35: 12x(B)40 3x(B)50 | X35: 0.9 | Y35: =X35*T35 -> 0 | AA35: M | AB35: S | BL35: 15 | BT35: 15 | BW35: 15
A36: New! | B36: Odyssey S3 | C36: 027.04.S | D36: 10 | E36: 106 | T36: =I36+H36+F36+G36+M36+J36+L36+K36+N36+R36+Q36+O36+S36+P36 -> 0 | U36: =T36*D36 -> 0 | V36: =IF(T36>0,T36*E36,"-") -> - | W36: screw on | X36: 1.1 | Y36: =X36*T36 -> 0 | AA36: H | AB36: S | BL36: 10 | CD36: 10 | CH36: 3 | CI36: 7
A37: New! | B37: Odyssey M1 | C37: 027.05.M | D37: 10 | E37: 194 | T37: =I37+H37+F37+G37+M37+J37+L37+K37+N37+R37+Q37+O37+S37+P37 -> 0 | U37: =T37*D37 -> 0 | V37: =IF(T37>0,T37*E37,"-") -> - | W37: 6x(B)60 4x(B)50 | X37: 2.5 | Y37: =X37*T37 -> 0 | AA37: M | AB37: M | BM37: 10 | CD37: 10 | CH37: 10
A38: New! | B38: Odyssey M2 | C38: 027.06.M | D38: 10 | E38: 231 | T38: =I38+H38+F38+G38+M38+J38+L38+K38+N38+R38+Q38+O38+S38+P38 -> 0 | U38: =T38*D38 -> 0 | V38: =IF(T38>0,T38*E38,"-") -> - | W38: 8x(B)70 1x(B)80 1x(B)60 | X38: 3.16 | Y38: =X38*T38 -> 0 | AA38: M | AB38: M | BM38: 10 | CC38: 3 | CD38: 7 | CG38: 3 | CH38: 7
A39: New! | B39: Odyssey M3 | C39: 027.07.M | D39: 10 | E39: 175 | T39: =I39+H39+F39+G39+M39+J39+L39+K39+N39+R39+Q39+O39+S39+P39 -> 0 | U39: =T39*D39 -> 0 | V39: =IF(T39>0,T39*E39,"-") -> - | W39: 4x(B)50 4x(B)60 | X39: 2.16 | Y39: =X39*T39 -> 0 | AA39: H | AB39: M | BM39: 10 | CC39: 10 | CI39: 10
A40: New! | B40: Odyssey M4 | C40: 027.08.M | D40: 3 | E40: 101 | T40: =I40+H40+F40+G40+M40+J40+L40+K40+N40+R40+Q40+O40+S40+P40 -> 0 | U40: =T40*D40 -> 0 | V40: =IF(T40>0,T40*E40,"-") -> - | W40: 1x(B)50 2x(B)60 | X40: 1.42 | Y40: =X40*T40 -> 0 | AA40: H | AB40: M | BM40: 3 | CC40: 3 | CI40: 3
A41: New! | B41: Odyssey L1 | C41: 027.09.L | D41: 5 | E41: 162 | T41: =I41+H41+F41+G41+M41+J41+L41+K41+N41+R41+Q41+O41+S41+P41 -> 0 | U41: =T41*D41 -> 0 | V41: =IF(T41>0,T41*E41,"-") -> - | W41: 5x(B)60 | X41: 2.32 | Y41: =X41*T41 -> 0 | AA41: E | AB41: L | BN41: 5 | CB41: 5 | CG41: 3 | CH41: 2
A42: New! | B42: Odyssey L2 | C42: 027.10.L | D42: 6 | E42: 197 | T42: =I42+H42+F42+G42+M42+J42+L42+K42+N42+R42+Q42+O42+S42+P42 -> 0 | U42: =T42*D42 -> 0 | V42: =IF(T42>0,T42*E42,"-") -> - | W42: 2x(C)70 3x(C)60 1x(C)100 | X42: 2.85 | Y42: =X42*T42 -> 0 | AA42: E | AB42: L | BN42: 6 | CA42: 6 | CG42: 6
A43: New! | B43: Odyssey L3 | C43: 027.11.L | D43: 6 | E43: 217 | T43: =I43+H43+F43+G43+M43+J43+L43+K43+N43+R43+Q43+O43+S43+P43 -> 0 | U43: =T43*D43 -> 0 | V43: =IF(T43>0,T43*E43,"-") -> - | W43: 3x(B)70 3x(B)60 | X43: 1.69 | Y43: =X43*T43 -> 0 | AA43: M | AB43: L | BN43: 6 | CC43: 6 | CH43: 6
A44: New! | B44: Odyssey L4 | C44: 027.12.L | D44: 3 | E44: 112 | T44: =I44+H44+F44+G44+M44+J44+L44+K44+N44+R44+Q44+O44+S44+P44 -> 0 | U44: =T44*D44 -> 0 | V44: =IF(T44>0,T44*E44,"-") -> - | W44: 1x(B)60 2x(B)70 | X44: 0.86 | Y44: =X44*T44 -> 0 | AA44: H | AB44: L | BN44: 3 | CC44: 3 | CI44: 3
A45: New! | B45: Odyssey XL1 | C45: 027.15.XL | D45: 6 | E45: 232 | T45: =I45+H45+F45+G45+M45+J45+L45+K45+N45+R45+Q45+O45+S45+P45 -> 0 | U45: =T45*D45 -> 0 | V45: =IF(T45>0,T45*E45,"-") -> - | W45: 3x(B)80 1x(B)70 1x(B)100 1x(B)90 | X45: 1.96 | Y45: =X45*T45 -> 0 | AA45: H | AB45: XL | BO45: 6 | CC45: 6 | CH45: 1 | CI45: 5
A46: New! | B46: Odyssey XL2 | C46: 027.16.XL | D46: 5 | E46: 277 | T46: =I46+H46+F46+G46+M46+J46+L46+K46+N46+R46+Q46+O46+S46+P46 -> 0 | U46: =T46*D46 -> 0 | V46: =IF(T46>0,T46*E46,"-") -> - | W46: 4x(B)120 1x(B)100 | X46: 2.85 | Y46: =X46*T46 -> 0 | AA46: E | AB46: XL | BO46: 5 | CA46: 5 | CG46: 4 | CH46: 1
A47: New! | B47: Odyssey XL3 | C47: 027.17.XL | D47: 3 | E47: 159 | T47: =I47+H47+F47+G47+M47+J47+L47+K47+N47+R47+Q47+O47+S47+P47 -> 0 | U47: =T47*D47 -> 0 | V47: =IF(T47>0,T47*E47,"-") -> - | W47: 1x(B)90 2x(B)100 | X47: 1.56 | Y47: =X47*T47 -> 0 | AA47: E | AB47: XL | BO47: 3 | CA47: 3 | CG47: 3
A48: New! | B48: Odyssey XL4 | C48: 027.18.XL | D48: 2 | E48: 85 | T48: =I48+H48+F48+G48+M48+J48+L48+K48+N48+R48+Q48+O48+S48+P48 -> 0 | U48: =T48*D48 -> 0 | V48: =IF(T48>0,T48*E48,"-") -> - | W48: 1x(B)70 1x(B)50 | X48: 0.71 | Y48: =X48*T48 -> 0 | AA48: H | AB48: XL | BO48: 2 | CC48: 2 | CI48: 2
A49: New! | B49: Odyssey XL5 | C49: 027.19.XL | D49: 3 | E49: 142 | T49: =I49+H49+F49+G49+M49+J49+L49+K49+N49+R49+Q49+O49+S49+P49 -> 0 | U49: =T49*D49 -> 0 | V49: =IF(T49>0,T49*E49,"-") -> - | W49: 3x(B)30 | X49: 1.3 | Y49: =X49*T49 -> 0 | AA49: M | AB49: XL | BO49: 3 | CC49: 3 | CH49: 3
A50: Odyssey | B50: Odyssey XXL1 | C50: 027.20.XXL | D50: 3 | E50: 159 | T50: =I50+H50+F50+G50+M50+J50+L50+K50+N50+R50+Q50+O50+S50+P50 -> 0 | U50: =T50*D50 -> 0 | V50: =IF(T50>0,T50*E50,"-") -> - | W50: 3x(B)60 | X50: 1.574 | Y50: =X50*T50 -> 0 | AA50: H | AB50: XXL | BP50: 3 | CC50: 3 | CI50: 3
B51: Odyssey XXL2 | C51: 027.21.XXL | D51: 2 | E51: 127 | T51: =I51+H51+F51+G51+M51+J51+L51+K51+N51+R51+Q51+O51+S51+P51 -> 0 | U51: =T51*D51 -> 0 | V51: =IF(T51>0,T51*E51,"-") -> - | W51: 1x(B)70 1x(B)60 | X51: 1.329 | Y51: =X51*T51 -> 0 | AA51: H | AB51: XXL | BP51: 2 | CC51: 2 | CI51: 2
B52: Odyssey XXXL1 | C52: 027.22.XXXL | D52: 1 | E52: 88 | T52: =I52+H52+F52+G52+M52+J52+L52+K52+N52+R52+Q52+O52+S52+P52 -> 0 | U52: =T52*D52 -> 0 | V52: =IF(T52>0,T52*E52,"-") -> - | W52: 1x(B)70 | X52: 0.977 | Y52: =X52*T52 -> 0 | AA52: H | AB52: XXXL | BQ52: 1 | CC52: 1 | CI52: 1
A53: New! | B53: Odyssey XXXL2 | C53: 027.23.XXXL | D53: 2 | E53: 146 | T53: =I53+H53+F53+G53+M53+J53+L53+K53+N53+R53+Q53+O53+S53+P53 -> 0 | U53: =T53*D53 -> 0 | V53: =IF(T53>0,T53*E53,"-") -> - | W53: 2x(B)140 | X53: 1.57 | Y53: =X53*T53 -> 0 | AA53: E | AB53: XXXL | BQ53: 2 | CA53: 2 | CG53: 2
A54: New! | B54: Odyssey XXXL3 | C54: 027.24.XXXL | D54: 2 | E54: 141 | T54: =I54+H54+F54+G54+M54+J54+L54+K54+N54+R54+Q54+O54+S54+P54 -> 0 | U54: =T54*D54 -> 0 | V54: =IF(T54>0,T54*E54,"-") -> - | W54: 2x(B)120 | X54: 1.49 | Y54: =X54*T54 -> 0 | AA54: E | AB54: XXXL | BQ54: 2 | CA54: 2 | CG54: 2
A55: New! | B55: Odyssey XXXL4 | C55: 027.25.XXXL | D55: 2 | E55: 155 | T55: =I55+H55+F55+G55+M55+J55+L55+K55+N55+R55+Q55+O55+S55+P55 -> 0 | U55: =T55*D55 -> 0 | V55: =IF(T55>0,T55*E55,"-") -> - | W55: 1x(B)140 1x(B)120 | X55: 1.7 | Y55: =X55*T55 -> 0 | AA55: E | AB55: XXXL | BQ55: 2 | CA55: 2 | CG55: 2
B56: Odyssey MEG 1 DT | C56: 027.43.MEG | D56: 1 | E56: 89 | T56: =I56+H56+F56+G56+M56+J56+L56+K56+N56+R56+Q56+O56+S56+P56 -> 0 | U56: =T56*D56 -> 0 | V56: =IF(T56>0,T56*E56,"-") -> - | W56: 1x(B)100 | X56: 1.005 | Y56: =X56*T56 -> 0 | AA56: H | AB56: MEG | BR56: 1 | CC56: 1 | CI56: 1
B57: Odyssey MEG 2 DT | C57: 027.44.MEG | D57: 1 | E57: 99 | T57: =I57+H57+F57+G57+M57+J57+L57+K57+N57+R57+Q57+O57+S57+P57 -> 0 | U57: =T57*D57 -> 0 | V57: =IF(T57>0,T57*E57,"-") -> - | W57: 1x(B)100 | X57: 1.163 | Y57: =X57*T57 -> 0 | AA57: M | AB57: MEG | BR57: 1 | CC57: 1 | CH57: 1
B58: Odyssey MEG 3 DT | C58: 027.45.MEG | D58: 1 | E58: 85 | T58: =I58+H58+F58+G58+M58+J58+L58+K58+N58+R58+Q58+O58+S58+P58 -> 0 | U58: =T58*D58 -> 0 | V58: =IF(T58>0,T58*E58,"-") -> - | W58: 1x(B)100 | X58: 0.965 | Y58: =X58*T58 -> 0 | AA58: H | AB58: MEG | BR58: 1 | CC58: 1 | CI58: 1
B59: Odyssey MEG 4 DT | C59: 027.46.MEG | D59: 1 | E59: 101 | T59: =I59+H59+F59+G59+M59+J59+L59+K59+N59+R59+Q59+O59+S59+P59 -> 0 | U59: =T59*D59 -> 0 | V59: =IF(T59>0,T59*E59,"-") -> - | W59: 1x(B)80 | X59: 1.149 | Y59: =X59*T59 -> 0 | AA59: M | AB59: MEG | BR59: 1 | CC59: 1 | CH59: 1
B60: Odyssey MEG 5 DT | C60: 027.47.MEG | D60: 1 | E60: 106 | T60: =I60+H60+F60+G60+M60+J60+L60+K60+N60+R60+Q60+O60+S60+P60 -> 0 | U60: =T60*D60 -> 0 | V60: =IF(T60>0,T60*E60,"-") -> - | W60: 1x(B)120 | X60: 1.239 | Y60: =X60*T60 -> 0 | AA60: E | AB60: MEG | BR60: 1 | CA60: 1 | CG60: 1
B61: Odyssey MEG 6 DT | C61: 027.48.MEG | D61: 1 | E61: 146 | T61: =I61+H61+F61+G61+M61+J61+L61+K61+N61+R61+Q61+O61+S61+P61 -> 0 | U61: =T61*D61 -> 0 | V61: =IF(T61>0,T61*E61,"-") -> - | W61: 1x(B)140 | X61: 1.828 | Y61: =X61*T61 -> 0 | AA61: M | AB61: MEG | BR61: 1 | CC61: 1 | CH61: 1
A62: New! | B62: Odyssey MEG 7 DT | C62: 027.49.MEG | D62: 1 | E62: 114 | T62: =I62+H62+F62+G62+M62+J62+L62+K62+N62+R62+Q62+O62+S62+P62 -> 0 | U62: =T62*D62 -> 0 | V62: =IF(T62>0,T62*E62,"-") -> - | W62: 1x(B)120 | X62: 1.42 | Y62: =X62*T62 -> 0 | AA62: E | AB62: MEG | BR62: 1 | CA62: 1 | CG62: 1
A63: New! | B63: Odyssey MEG 8 DT | C63: 027.50.MEG | D63: 1 | E63: 95 | T63: =I63+H63+F63+G63+M63+J63+L63+K63+N63+R63+Q63+O63+S63+P63 -> 0 | U63: =T63*D63 -> 0 | V63: =IF(T63>0,T63*E63,"-") -> - | W63: 1x(B)120 | X63: 1.07 | Y63: =X63*T63 -> 0 | AA63: E | AB63: MEG | BR63: 1 | CA63: 1 | CG63: 1
B64: Stadium S0 | C64: 026.01.S | D64: 10 | E64: 91 | T64: =I64+H64+F64+G64+M64+J64+L64+K64+N64+R64+Q64+O64+S64+P64 -> 0 | U64: =T64*D64 -> 0 | V64: =IF(T64>0,T64*E64,"-") -> - | W64: screw on | X64: 0.979 | Y64: =X64*T64 -> 0 | AA64: M | AB64: S | BL64: 10 | CD64: 10 | CH64: 6 | CI64: 4
B65: Stadium S1 | C65: 026.02.S | D65: 10 | E65: 91 | T65: =I65+H65+F65+G65+M65+J65+L65+K65+N65+R65+Q65+O65+S65+P65 -> 0 | U65: =T65*D65 -> 0 | V65: =IF(T65>0,T65*E65,"-") -> - | W65: screw on | X65: 0.853 | Y65: =X65*T65 -> 0 | AA65: H | AB65: S | BL65: 10 | CD65: 10 | CI65: 10
B66: Stadium S2 | C66: 026.03.S | D66: 10 | E66: 91 | T66: =I66+H66+F66+G66+M66+J66+L66+K66+N66+R66+Q66+O66+S66+P66 -> 0 | U66: =T66*D66 -> 0 | V66: =IF(T66>0,T66*E66,"-") -> - | W66: 9x(B)40 1x(B)30 | X66: 0.863 | Y66: =X66*T66 -> 0 | AA66: H | AB66: S | BL66: 10 | BT66: 10 | BX66: 10
B67: Stadium M1 | C67: 026.04.M | D67: 10 | E67: 124 | T67: =I67+H67+F67+G67+M67+J67+L67+K67+N67+R67+Q67+O67+S67+P67 -> 0 | U67: =T67*D67 -> 0 | V67: =IF(T67>0,T67*E67,"-") -> - | W67: 10x(B)40 | X67: 1.491 | Y67: =X67*T67 -> 0 | AA67: M | AB67: M | BM67: 10 | CD67: 10 | CG67: 4 | CH67: 6
B68: Stadium M2 | C68: 026.05.M | D68: 5 | E68: 98 | T68: =I68+H68+F68+G68+M68+J68+L68+K68+N68+R68+Q68+O68+S68+P68 -> 0 | U68: =T68*D68 -> 0 | V68: =IF(T68>0,T68*E68,"-") -> - | W68: 4x(B)50 1x(B)60 | X68: 1.242 | Y68: =X68*T68 -> 0 | AA68: E | AB68: M | BM68: 5 | CD68: 5 | CG68: 5
B69: Stadium L1 | C69: 026.06.L | D69: 5 | E69: 103 | T69: =I69+H69+F69+G69+M69+J69+L69+K69+N69+R69+Q69+O69+S69+P69 -> 0 | U69: =T69*D69 -> 0 | V69: =IF(T69>0,T69*E69,"-") -> - | W69: 1x(B)50 4x(B)60 | X69: 1.506 | Y69: =X69*T69 -> 0 | AA69: M | AB69: L | BN69: 5 | CA69: 5 | CH69: 5
B70: Stadium L2 | C70: 026.07.L | D70: 5 | E70: 134 | T70: =I70+H70+F70+G70+M70+J70+L70+K70+N70+R70+Q70+O70+S70+P70 -> 0 | U70: =T70*D70 -> 0 | V70: =IF(T70>0,T70*E70,"-") -> - | W70: 3x(B)60 1x(B)70 1x(B)50 | X70: 1.834 | Y70: =X70*T70 -> 0 | AA70: E | AB70: L | BN70: 5 | CA70: 5 | CG70: 5
B71: Stadium L3 | C71: 026.08.L | D71: 5 | E71: 139 | T71: =I71+H71+F71+G71+M71+J71+L71+K71+N71+R71+Q71+O71+S71+P71 -> 0 | U71: =T71*D71 -> 0 | V71: =IF(T71>0,T71*E71,"-") -> - | W71: 4x(B)60 1x(B)70 | X71: 2.073 | Y71: =X71*T71 -> 0 | AA71: E | AB71: L | BN71: 5 | CA71: 5 | CG71: 5
B72: Stadium L4 | C72: 026.09.L | D72: 10 | E72: 165 | T72: =I72+H72+F72+G72+M72+J72+L72+K72+N72+R72+Q72+O72+S72+P72 -> 0 | U72: =T72*D72 -> 0 | V72: =IF(T72>0,T72*E72,"-") -> - | W72: 10x(B)40 | X72: 2.204 | Y72: =X72*T72 -> 0 | AA72: E | AB72: L | BN72: 10 | CD72: 10 | CG72: 10
A73: New! | B73: Stadium L5 | C73: 026.28.L | D73: 9 | E73: 252 | T73: =I73+H73+F73+G73+M73+J73+L73+K73+N73+R73+Q73+O73+S73+P73 -> 0 | U73: =T73*D73 -> 0 | V73: =IF(T73>0,T73*E73,"-") -> - | W73: 5x(B)50 4x(B)60 | X73: 3.67 | Y73: =X73*T73 -> 0 | AA73: E | AB73: L | BN73: 9 | CA73: 9 | CG73: 7 | CH73: 2
A74: New! | B74: Stadium L6 | C74: 026.29.L | D74: 8 | E74: 240 | T74: =I74+H74+F74+G74+M74+J74+L74+K74+N74+R74+Q74+O74+S74+P74 -> 0 | U74: =T74*D74 -> 0 | V74: =IF(T74>0,T74*E74,"-") -> - | W74: 4x(B)50 4x(B)60 | X74: 3.52 | Y74: =X74*T74 -> 0 | AA74: E | AB74: L | BN74: 8 | CA74: 8 | CG74: 8
B75: Stadium XL1 | C75: 026.10.XL | D75: 5 | E75: 189 | T75: =I75+H75+F75+G75+M75+J75+L75+K75+N75+R75+Q75+O75+S75+P75 -> 0 | U75: =T75*D75 -> 0 | V75: =IF(T75>0,T75*E75,"-") -> - | W75: 3x(B)60 1x(B)50 1x(B)70 | X75: 3.073 | Y75: =X75*T75 -> 0 | AA75: E | AB75: XL | BO75: 5 | CA75: 5 | CG75: 5
B76: Stadium XL2 | C76: 026.11.XL | D76: 5 | E76: 129 | T76: =I76+H76+F76+G76+M76+J76+L76+K76+N76+R76+Q76+O76+S76+P76 -> 0 | U76: =T76*D76 -> 0 | V76: =IF(T76>0,T76*E76,"-") -> - | W76: 5x(B)40 | X76: 1.992 | Y76: =X76*T76 -> 0 | AA76: E | AB76: XL | BO76: 5 | CD76: 5 | CG76: 4 | CH76: 1
B77: Stadium XL3 | C77: 026.12.XL | D77: 5 | E77: 126 | T77: =I77+H77+F77+G77+M77+J77+L77+K77+N77+R77+Q77+O77+S77+P77 -> 0 | U77: =T77*D77 -> 0 | V77: =IF(T77>0,T77*E77,"-") -> - | W77: 4x(B)40 1x(B)50 | X77: 1.713 | Y77: =X77*T77 -> 0 | AA77: M | AB77: XL | BO77: 5 | CD77: 5 | CG77: 1 | CH77: 4
A78: Stadium | B78: Stadium XL4 | C78: 026.13.XL | D78: 5 | E78: 126 | T78: =I78+H78+F78+G78+M78+J78+L78+K78+N78+R78+Q78+O78+S78+P78 -> 0 | U78: =T78*D78 -> 0 | V78: =IF(T78>0,T78*E78,"-") -> - | W78: 4x(B)40 1x(B)50 | X78: 1.711 | Y78: =X78*T78 -> 0 | AA78: M | AB78: XL | BO78: 5 | CD78: 5 | CH78: 3 | CI78: 2
B79: Stadium XXL1 | C79: 026.14.XXL | D79: 3 | E79: 129 | T79: =I79+H79+F79+G79+M79+J79+L79+K79+N79+R79+Q79+O79+S79+P79 -> 0 | U79: =T79*D79 -> 0 | V79: =IF(T79>0,T79*E79,"-") -> - | W79: 1x(B)40 2x(B)50 | X79: 1.312 | Y79: =X79*T79 -> 0 | AA79: M | AB79: XXL | BP79: 3 | CD79: 3 | CH79: 3
B80: Stadium XXL2 | C80: 026.15.XXL | D80: 3 | E80: 132 | T80: =I80+H80+F80+G80+M80+J80+L80+K80+N80+R80+Q80+O80+S80+P80 -> 0 | U80: =T80*D80 -> 0 | V80: =IF(T80>0,T80*E80,"-") -> - | W80: 3x(B)50 | X80: 1.196 | Y80: =X80*T80 -> 0 | AA80: H | AB80: XXL | BP80: 3 | CD80: 3 | CH80: 1 | CI80: 2
B81: Stadium XXL3 | C81: 026.16.XXL | D81: 3 | E81: 150 | T81: =I81+H81+F81+G81+M81+J81+L81+K81+N81+R81+Q81+O81+S81+P81 -> 0 | U81: =T81*D81 -> 0 | V81: =IF(T81>0,T81*E81,"-") -> - | W81: 1x(B)70 2x(B)60 | X81: 1.461 | Y81: =X81*T81 -> 0 | AA81: E | AB81: XXL | BP81: 3 | CA81: 3 | CG81: 2 | CH81: 1
B82: Stadium XXL4 | C82: 026.17.XXL | D82: 3 | E82: 185 | T82: =I82+H82+F82+G82+M82+J82+L82+K82+N82+R82+Q82+O82+S82+P82 -> 0 | U82: =T82*D82 -> 0 | V82: =IF(T82>0,T82*E82,"-") -> - | W82: 2x(B)70 1x(B)80 | X82: 1.94 | Y82: =X82*T82 -> 0 | AA82: E | AB82: XXL | BP82: 3 | CA82: 3 | CG82: 2 | CH82: 1
B83: Stadium XXXL1 | C83: 026.18.XXL | D83: 3 | E83: 200 | T83: =I83+H83+F83+G83+M83+J83+L83+K83+N83+R83+Q83+O83+S83+P83 -> 0 | U83: =T83*D83 -> 0 | V83: =IF(T83>0,T83*E83,"-") -> - | W83: 3x(B)70 | X83: 2.152 | Y83: =X83*T83 -> 0 | AA83: E | AB83: XXL | BP83: 3 | CA83: 3 | CG83: 2 | CH83: 1
B84: Stadium XXXL2 | C84: 026.19.XXL | D84: 2 | E84: 152 | T84: =I84+H84+F84+G84+M84+J84+L84+K84+N84+R84+Q84+O84+S84+P84 -> 0 | U84: =T84*D84 -> 0 | V84: =IF(T84>0,T84*E84,"-") -> - | W84: 2x(B)80 | X84: 1.685 | Y84: =X84*T84 -> 0 | AA84: E | AB84: XXL | BR84: 2 | CA84: 2 | CG84: 2
B85: Stadium MEG 1 | C85: 026.20.MEG | D85: 1 | E85: 85 | T85: =I85+H85+F85+G85+M85+J85+L85+K85+N85+R85+Q85+O85+S85+P85 -> 0 | U85: =T85*D85 -> 0 | V85: =IF(T85>0,T85*E85,"-") -> - | W85: 1x(B)70 | X85: 0.956 | Y85: =X85*T85 -> 0 | AA85: M | AB85: MEG | BR85: 1 | CC85: 1 | CH85: 1
B86: Stadium MEG 2 | C86: 026.21.MEG | D86: 1 | E86: 97 | T86: =I86+H86+F86+G86+M86+J86+L86+K86+N86+R86+Q86+O86+S86+P86 -> 0 | U86: =T86*D86 -> 0 | V86: =IF(T86>0,T86*E86,"-") -> - | W86: 1x(B)80 | X86: 1.116 | Y86: =X86*T86 -> 0 | AA86: M | AB86: MEG | BR86: 1 | CC86: 1 | CH86: 1
B87: Stadium MEG 3 DT | C87: 026.22.MEG | D87: 1 | E87: 100 | T87: =I87+H87+F87+G87+M87+J87+L87+K87+N87+R87+Q87+O87+S87+P87 -> 0 | U87: =T87*D87 -> 0 | V87: =IF(T87>0,T87*E87,"-") -> - | W87: 1x(B)100 | X87: 1.166 | Y87: =X87*T87 -> 0 | AA87: H | AB87: MEG | BR87: 1 | CC87: 1 | CI87: 1
B88: Stadium MEG 4 DT | C88: 026.23.MEG | D88: 1 | E88: 120 | T88: =I88+H88+F88+G88+M88+J88+L88+K88+N88+R88+Q88+O88+S88+P88 -> 0 | U88: =T88*D88 -> 0 | V88: =IF(T88>0,T88*E88,"-") -> - | W88: 1x(B)100 | X88: 1.442 | Y88: =X88*T88 -> 0 | AA88: M | AB88: MEG | BR88: 1 | CC88: 1 | CH88: 1
B89: Stadium MEG 5 DT | C89: 026.24.MEG | D89: 1 | E89: 97 | T89: =I89+H89+F89+G89+M89+J89+L89+K89+N89+R89+Q89+O89+S89+P89 -> 0 | U89: =T89*D89 -> 0 | V89: =IF(T89>0,T89*E89,"-") -> - | W89: 1x(B)120 | X89: 1.076 | Y89: =X89*T89 -> 0 | AA89: H | AB89: MEG | BR89: 1 | CC89: 1 | CI89: 1
B90: Stadium MEG 7 DT | C90: 026.26.MEG | D90: 1 | E90: 146 | T90: =I90+H90+F90+G90+M90+J90+L90+K90+N90+R90+Q90+O90+S90+P90 -> 0 | U90: =T90*D90 -> 0 | V90: =IF(T90>0,T90*E90,"-") -> - | W90: 1x(B)140 | X90: 1.831 | Y90: =X90*T90 -> 0 | AA90: M | AB90: MEG | BR90: 1 | CC90: 1 | CH90: 1
B91: Stadium MEG 8 | C91: 026.27.MEG | D91: 1 | E91: 129 | T91: =I91+H91+F91+G91+M91+J91+L91+K91+N91+R91+Q91+O91+S91+P91 -> 0 | U91: =T91*D91 -> 0 | V91: =IF(T91>0,T91*E91,"-") -> - | W91: 1x(B)140 | X91: 1.793 | Y91: =X91*T91 -> 0 | AA91: M | AB91: MEG | BR91: 1 | CC91: 1 | CH91: 1
B92: Taji Pinch S | C92: 024.01.S | D92: 15 | E92: 97 | T92: =I92+H92+F92+G92+M92+J92+L92+K92+N92+R92+Q92+O92+S92+P92 -> 0 | U92: =T92*D92 -> 0 | V92: =IF(T92>0,T92*E92,"-") -> - | W92: 11x(B)40 4x(B)50 | X92: 0.795 | Y92: =X92*T92 -> 0 | AA92: H | AB92: S | BL92: 15 | BT92: 15 | BX92: 15
B93: Taji Pinch M1 | C93: 024.02.M | D93: 10 | E93: 86 | T93: =I93+H93+F93+G93+M93+J93+L93+K93+N93+R93+Q93+O93+S93+P93 -> 0 | U93: =T93*D93 -> 0 | V93: =IF(T93>0,T93*E93,"-") -> - | X93: 0.98 | Y93: =X93*T93 -> 0 | AA93: H | AB93: M | BM93: 10 | CD93: 10 | CH93: 3 | CI93: 7
B94: Taji Pinch M2 | C94: 024.03.M | D94: 5 | E94: 77 | T94: =I94+H94+F94+G94+M94+J94+L94+K94+N94+R94+Q94+O94+S94+P94 -> 0 | U94: =T94*D94 -> 0 | V94: =IF(T94>0,T94*E94,"-") -> - | W94: 1x(B)70 3x(B)60 1x(B)50 | X94: 1.08 | Y94: =X94*T94 -> 0 | AA94: H | AB94: M | BM94: 5 | CE94: 5 | CH94: 1 | CI94: 4
B95: Taji Pinch L1 | C95: 024.04.L | D95: 4 | E95: 118 | T95: =I95+H95+F95+G95+M95+J95+L95+K95+N95+R95+Q95+O95+S95+P95 -> 0 | U95: =T95*D95 -> 0 | V95: =IF(T95>0,T95*E95,"-") -> - | W95: 1x(B)80 3x(B)70 | X95: 1.93 | Y95: =X95*T95 -> 0 | AA95: M | AB95: L | BN95: 4 | CE95: 4 | CG95: 2 | CH95: 2
B96: Taji Pinch XL1 | C96: 024.05.XL | D96: 3 | E96: 119 | T96: =I96+H96+F96+G96+M96+J96+L96+K96+N96+R96+Q96+O96+S96+P96 -> 0 | U96: =T96*D96 -> 0 | V96: =IF(T96>0,T96*E96,"-") -> - | W96: 2x(B)80 1x(B)90 | X96: 1.23 | Y96: =X96*T96 -> 0 | AA96: H | AB96: XL | BO96: 3 | CE96: 3 | CI96: 3
B97: Taji Pinch XL2 | C97: 024.06.XL | D97: 3 | E97: 131 | T97: =I97+H97+F97+G97+M97+J97+L97+K97+N97+R97+Q97+O97+S97+P97 -> 0 | U97: =T97*D97 -> 0 | V97: =IF(T97>0,T97*E97,"-") -> - | W97: 1x(B)60 1x(B)90 1x(B)100 | X97: 1.43 | Y97: =X97*T97 -> 0 | AA97: M | AB97: XL | BO97: 3 | CE97: 3 | CG97: 1 | CH97: 2
B98: Taji Pinch XXL1 | C98: 024.07.XXL | D98: 2 | E98: 127 | T98: =I98+H98+F98+G98+M98+J98+L98+K98+N98+R98+Q98+O98+S98+P98 -> 0 | U98: =T98*D98 -> 0 | V98: =IF(T98>0,T98*E98,"-") -> - | W98: 1x(B)100 1x(B)120 | X98: 1.59 | Y98: =X98*T98 -> 0 | AA98: M | AB98: XXL | BP98: 2 | CE98: 2 | CH98: 2
B99: Taji Pinch XXL2 | C99: 024.08.XXL | D99: 2 | E99: 131 | T99: =I99+H99+F99+G99+M99+J99+L99+K99+N99+R99+Q99+O99+S99+P99 -> 0 | U99: =T99*D99 -> 0 | V99: =IF(T99>0,T99*E99,"-") -> - | W99: 2x(B)120 | X99: 1.45 | Y99: =X99*T99 -> 0 | AA99: H | AB99: XXL | BP99: 2 | CE99: 2 | CI99: 2
B100: Taji Pinch MEG 1 | C100: 024.09.MEG | D100: 2 | E100: 175 | T100: =I100+H100+F100+G100+M100+J100+L100+K100+N100+R100+Q100+O100+S100+P100 -> 0 | U100: =T100*D100 -> 0 | V100: =IF(T100>0,T100*E100,"-") -> - | W100: 2x(B)120 | X100: 2.18 | Y100: =X100*T100 -> 0 | AA100: M | AB100: MEG | BR100: 2 | CE100: 2 | CG100: 1 | CH100: 1
...

Sheet Macros
B1: #VALUE! | F1: Gym Prices 15.05.2026 - Macros | X1: Difficulty E = Easy M = Moderate H = Hard
A2: brand:Cheeta;start:3;End:169;Range:A;Reference:C;Colors:F->Q;productName:Fiberglass volumes | C2: Production Color Code | F2: 9016 | G2: 1018 | H2: 3020 | I2: 5015 | J2: 9005 | N2: 4008 | O2: 6027 | P2: 6037 | Q2: 7046 | S2: Total Weight | T2: =SUM(V4:V169) -> 0
A3: Range | B3: Set | C3: Subset | D3: Products / set | E3: Price € | F3: White | G3: Yellow | H3: Red | I3: Blue | J3: Black | K3: Fluo Orange | L3: Fluo Green | M3: Fluo Pink | N3: Violet | O3: Mint | P3: Dark Green | Q3: Dark Grey | R3: Nb Sets | S3: Nb Macros | T3: Total € | U3: Weight/set | V3: Total weight | X3: Diff | Y3: Size | BQ3: S | BR3: M | BS3: L | BT3: XL | BU3: XXL | BW3: E | BX3: I | BY3: H
A4: Spoon NEW! | B4: Spoon 1 | C4: VOL.F.241 | D4: 1 | E4: 262 | R4: =SUM(F4:Q4) -> 0 | S4: =R4*D4 -> 0 | T4: =IF(R4>0,R4*E4,"-") -> - | U4: 1.5 | V4: =U4*R4 -> 0 | X4: M | Y4: L | BS4: 1 | BX4: 1
B5: Spoon 2 | C5: VOL.F.242 | D5: 1 | E5: 262 | R5: =SUM(F5:Q5) -> 0 | S5: =R5*D5 -> 0 | T5: =IF(R5>0,R5*E5,"-") -> - | U5: 1.6 | V5: =U5*R5 -> 0 | X5: E | Y5: L | BS5: 1 | BW5: 1
B6: Spoon 3 | C6: VOL.F.243 | D6: 1 | E6: 269 | R6: =SUM(F6:Q6) -> 0 | S6: =R6*D6 -> 0 | T6: =IF(R6>0,R6*E6,"-") -> - | U6: 1.8 | V6: =U6*R6 -> 0 | X6: M | Y6: L | BS6: 1 | BX6: 1
B7: Spoon 4 | C7: VOL.F.244 | D7: 1 | E7: 289 | R7: =SUM(F7:Q7) -> 0 | S7: =R7*D7 -> 0 | T7: =IF(R7>0,R7*E7,"-") -> - | U7: 2 | V7: =U7*R7 -> 0 | X7: E | Y7: L | BS7: 1 | BW7: 1
B8: Spoon 5 | C8: VOL.F.245 | D8: 1 | E8: 289 | R8: =SUM(F8:Q8) -> 0 | S8: =R8*D8 -> 0 | T8: =IF(R8>0,R8*E8,"-") -> - | U8: 2.4 | V8: =U8*R8 -> 0 | X8: H | Y8: L | BS8: 1 | BY8: 1
B9: Spoon 6 | C9: VOL.F.246 | D9: 1 | E9: 289 | R9: =SUM(F9:Q9) -> 0 | S9: =R9*D9 -> 0 | T9: =IF(R9>0,R9*E9,"-") -> - | U9: 2.6 | V9: =U9*R9 -> 0 | X9: H | Y9: L | BS9: 1 | BY9: 1
B10: Spoon 7 | C10: VOL.F.247 | D10: 1 | E10: 299 | R10: =SUM(F10:Q10) -> 0 | S10: =R10*D10 -> 0 | T10: =IF(R10>0,R10*E10,"-") -> - | U10: 2.6 | V10: =U10*R10 -> 0 | X10: M | Y10: L | BS10: 1 | BX10: 1
B11: Spoon 8 | C11: VOL.F.248 | D11: 1 | E11: 299 | R11: =SUM(F11:Q11) -> 0 | S11: =R11*D11 -> 0 | T11: =IF(R11>0,R11*E11,"-") -> - | U11: 2.7 | V11: =U11*R11 -> 0 | X11: E | Y11: XL | BT11: 1 | BW11: 1
B12: Spoon 9 | C12: VOL.F.249 | D12: 1 | E12: 299 | R12: =SUM(F12:Q12) -> 0 | S12: =R12*D12 -> 0 | T12: =IF(R12>0,R12*E12,"-") -> - | U12: 2.8 | V12: =U12*R12 -> 0 | X12: H | Y12: XL | BT12: 1 | BY12: 1
B13: Spoon 10 | C13: VOL.F.250 | D13: 1 | E13: 311 | R13: =SUM(F13:Q13) -> 0 | S13: =R13*D13 -> 0 | T13: =IF(R13>0,R13*E13,"-") -> - | U13: 3.6 | V13: =U13*R13 -> 0 | X13: M | Y13: XL | BT13: 1 | BX13: 1
B14: Slide 1 M | C14: VOL.F.231 | D14: 2 | E14: 343 | R14: =SUM(F14:Q14) -> 0 | S14: =R14*D14 -> 0 | T14: =IF(R14>0,R14*E14,"-") -> - | U14: =1.39+1.27 -> 2.66 | V14: =U14*R14 -> 0 | X14: E | Y14: M | BR14: 2 | BW14: 1 | BX14: 1
A15: Slide | B15: Slide 2 M | C15: VOL.F.232 | D15: 2 | E15: 296 | R15: =SUM(F15:Q15) -> 0 | S15: =R15*D15 -> 0 | T15: =IF(R15>0,R15*E15,"-") -> - | U15: =0.92+0.67 -> 1.59 | V15: =U15*R15 -> 0 | X15: H | Y15: M | BR15: 2 | BY15: 2
B16: Slide 3 ML | C16: VOL.F.233 | D16: 2 | E16: 371 | R16: =SUM(F16:Q16) -> 0 | S16: =R16*D16 -> 0 | T16: =IF(R16>0,R16*E16,"-") -> - | U16: =1.97+0.92 -> 2.89 | V16: =U16*R16 -> 0 | X16: M | Y16: L | BR16: 1 | BS16: 1 | BX16: 1 | BY16: 1
B17: Sky-High 1 SM | C17: VOL.F.201 | D17: 2 | E17: 383 | R17: =SUM(F17:Q17) -> 0 | S17: =R17*D17 -> 0 | T17: =IF(R17>0,R17*E17,"-") -> - | U17: =2.27+1.25 -> 3.52 | V17: =U17*R17 -> 0 | X17: M | Y17: M | BQ17: 1 | BR17: 1 | BW17: 1 | BX17: 1
B18: Sky-High 2 L | C18: VOL.F.202 | D18: 1 | E18: 350 | R18: =SUM(F18:Q18) -> 0 | S18: =R18*D18 -> 0 | T18: =IF(R18>0,R18*E18,"-") -> - | U18: 5.21 | V18: =U18*R18 -> 0 | X18: M | Y18: L | BS18: 1 | BX18: 1
B19: Sky-Hole 1 SM | C19: VOL.F.211 | D19: 2 | E19: 378 | R19: =SUM(F19:Q19) -> 0 | S19: =R19*D19 -> 0 | T19: =IF(R19>0,R19*E19,"-") -> - | U19: =2.26+1.04 -> 3.3 | V19: =U19*R19 -> 0 | X19: H | Y19: M | BQ19: 1 | BR19: 1 | BX19: 1 | BY19: 1
B20: Sky-Hole 2 M | C20: VOL.F.212 | D20: 1 | E20: 251 | R20: =SUM(F20:Q20) -> 0 | S20: =R20*D20 -> 0 | T20: =IF(R20>0,R20*E20,"-") -> - | U20: 2.48 | V20: =U20*R20 -> 0 | X20: M | Y20: M | BR20: 1 | BX20: 1
A21: Sky Serie | B21: Sky-Hole 3 M | C21: VOL.F.213 | D21: 1 | E21: 261 | R21: =SUM(F21:Q21) -> 0 | S21: =R21*D21 -> 0 | T21: =IF(R21>0,R21*E21,"-") -> - | U21: 2.7 | V21: =U21*R21 -> 0 | X21: E | Y21: M | BR21: 1 | BW21: 1
B22: Sky-Hole 4 L | C22: VOL.F.214 | D22: 1 | E22: 315 | R22: =SUM(F22:Q22) -> 0 | S22: =R22*D22 -> 0 | T22: =IF(R22>0,R22*E22,"-") -> - | U22: 4.15 | V22: =U22*R22 -> 0 | X22: E | Y22: L | BS22: 1 | BW22: 1
B23: Sky-Walk 1 M | C23: VOL.F.221 | D23: 1 | E23: 263 | R23: =SUM(F23:Q23) -> 0 | S23: =R23*D23 -> 0 | T23: =IF(R23>0,R23*E23,"-") -> - | U23: 2.58 | V23: =U23*R23 -> 0 | X23: H | Y23: M | BR23: 1 | BY23: 1
B24: Sky-Walk 2 SM | C24: VOL.F.222 | D24: 2 | E24: 395 | R24: =SUM(F24:Q24) -> 0 | S24: =R24*D24 -> 0 | T24: =IF(R24>0,R24*E24,"-") -> - | U24: =2.26+1.28 -> 3.54 | V24: =U24*R24 -> 0 | X24: M | Y24: M | BQ24: 1 | BR24: 1 | BX24: 1 | BY24: 1
B25: Sky-Walk 3 ML | C25: VOL.F.223 | D25: 2 | E25: 506 | R25: =SUM(F25:Q25) -> 0 | S25: =R25*D25 -> 0 | T25: =IF(R25>0,R25*E25,"-") -> - | U25: =4.41+1.92 -> 6.33 | V25: =U25*R25 -> 0 | X25: H | Y25: L | BR25: 1 | BS25: 1 | BY25: 2
A26: Odyssey DT | B26: Odyssey 1 DT | C26: VOL.F.180 | D26: 1 | E26: 198 | R26: =SUM(F26:Q26) -> 0 | S26: =R26*D26 -> 0 | T26: =IF(R26>0,R26*E26,"-") -> - | U26: 1.73 | V26: =U26*R26 -> 0 | X26: M | Y26: L | BS26: 1 | BX26: 1
B27: Odyssey 2 DT | C27: VOL.F.181 | D27: 1 | E27: 197 | R27: =SUM(F27:Q27) -> 0 | S27: =R27*D27 -> 0 | T27: =IF(R27>0,R27*E27,"-") -> - | U27: 1.7 | V27: =U27*R27 -> 0 | X27: M | Y27: L | BS27: 1 | BX27: 1
B28: Odyssey 3 DT¨ | C28: VOL.F.182 | D28: 1 | E28: 194 | R28: =SUM(F28:Q28) -> 0 | S28: =R28*D28 -> 0 | T28: =IF(R28>0,R28*E28,"-") -> - | U28: 1.68 | V28: =U28*R28 -> 0 | X28: M | Y28: L | BS28: 1 | BX28: 1
B29: Odyssey 4 DT | C29: VOL.F.183 | D29: 1 | E29: 182 | R29: =SUM(F29:Q29) -> 0 | S29: =R29*D29 -> 0 | T29: =IF(R29>0,R29*E29,"-") -> - | U29: 1.47 | V29: =U29*R29 -> 0 | X29: H | Y29: L | BS29: 1 | BY29: 1
B30: Odyssey 5 DT | C30: VOL.F.184 | D30: 1 | E30: 154 | R30: =SUM(F30:Q30) -> 0 | S30: =R30*D30 -> 0 | T30: =IF(R30>0,R30*E30,"-") -> - | U30: 0.84 | V30: =U30*R30 -> 0 | X30: M | Y30: S | BQ30: 1 | BX30: 1
B31: Odyssey 6 DT | C31: VOL.F.185 | D31: 1 | E31: 184 | R31: =SUM(F31:Q31) -> 0 | S31: =R31*D31 -> 0 | T31: =IF(R31>0,R31*E31,"-") -> - | U31: 1.32 | V31: =U31*R31 -> 0 | X31: H | Y31: M | BR31: 1 | BY31: 1
B32: Odyssey 7 DT | C32: VOL.F.186 | D32: 1 | E32: 177 | R32: =SUM(F32:Q32) -> 0 | S32: =R32*D32 -> 0 | T32: =IF(R32>0,R32*E32,"-") -> - | U32: 1.22 | V32: =U32*R32 -> 0 | X32: H | Y32: M | BR32: 1 | BY32: 1
B33: Odyssey 8 DT | C33: VOL.F.187 | D33: 1 | E33: 154 | R33: =SUM(F33:Q33) -> 0 | S33: =R33*D33 -> 0 | T33: =IF(R33>0,R33*E33,"-") -> - | U33: 0.83 | V33: =U33*R33 -> 0 | X33: M | Y33: S | BQ33: 1 | BX33: 1
B34: Odyssey 9 DT | C34: VOL.F.188 | D34: 1 | E34: 148 | R34: =SUM(F34:Q34) -> 0 | S34: =R34*D34 -> 0 | T34: =IF(R34>0,R34*E34,"-") -> - | U34: 0.73 | V34: =U34*R34 -> 0 | X34: E | Y34: S | BQ34: 1 | BW34: 1
B35: Odyssey 10 DT | C35: VOL.F.189 | D35: 1 | E35: 171 | R35: =SUM(F35:Q35) -> 0 | S35: =R35*D35 -> 0 | T35: =IF(R35>0,R35*E35,"-") -> - | U35: 1.19 | V35: =U35*R35 -> 0 | X35: H | Y35: M | BR35: 1 | BY35: 1
B36: Odyssey 11 DT | C36: VOL.F.190 | D36: 1 | E36: 178 | R36: =SUM(F36:Q36) -> 0 | S36: =R36*D36 -> 0 | T36: =IF(R36>0,R36*E36,"-") -> - | U36: 1.26 | V36: =U36*R36 -> 0 | X36: H | Y36: L | BS36: 1 | BY36: 1
B37: Odyssey 12 DT | C37: VOL.F.191 | D37: 1 | E37: 144 | R37: =SUM(F37:Q37) -> 0 | S37: =R37*D37 -> 0 | T37: =IF(R37>0,R37*E37,"-") -> - | U37: 0.79 | V37: =U37*R37 -> 0 | X37: H | Y37: S | BQ37: 1 | BY37: 1
B38: Odyssey 13 DT | C38: VOL.F.192 | D38: 1 | E38: 135 | R38: =SUM(F38:Q38) -> 0 | S38: =R38*D38 -> 0 | T38: =IF(R38>0,R38*E38,"-") -> - | U38: 0.62 | V38: =U38*R38 -> 0 | X38: H | Y38: S | BQ38: 1 | BY38: 1
B39: Odyssey 14 DT | C39: VOL.F.193 | D39: 1 | E39: 141 | R39: =SUM(F39:Q39) -> 0 | S39: =R39*D39 -> 0 | T39: =IF(R39>0,R39*E39,"-") -> - | U39: 0.72 | V39: =U39*R39 -> 0 | X39: M | Y39: S | BQ39: 1 | BX39: 1
B40: Odyssey 15 DT | C40: VOL.F.194 | D40: 1 | E40: 140 | R40: =SUM(F40:Q40) -> 0 | S40: =R40*D40 -> 0 | T40: =IF(R40>0,R40*E40,"-") -> - | U40: 0.7 | V40: =U40*R40 -> 0 | X40: H | Y40: S | BQ40: 1 | BY40: 1
B41: Odyssey 16 DT | C41: VOL.F.195 | D41: 1 | E41: 137 | R41: =SUM(F41:Q41) -> 0 | S41: =R41*D41 -> 0 | T41: =IF(R41>0,R41*E41,"-") -> - | U41: 0.65 | V41: =U41*R41 -> 0 | X41: H | Y41: S | BQ41: 1 | BY41: 1
B42: Odyssey 17 DT | C42: VOL.F.196 | D42: 1 | E42: 142 | R42: =SUM(F42:Q42) -> 0 | S42: =R42*D42 -> 0 | T42: =IF(R42>0,R42*E42,"-") -> - | U42: 0.75 | V42: =U42*R42 -> 0 | X42: H | Y42: S | BQ42: 1 | BY42: 1
B43: Odyssey 8-9-12-16 DT | C43: VOL.F.197 | D43: 4 | E43: 534 | R43: =SUM(F43:Q43) -> 0 | S43: =R43*D43 -> 0 | T43: =IF(R43>0,R43*E43,"-") -> - | U43: 3 | V43: =U43*R43 -> 0 | X43: M | Y43: S | BQ43: 4 | BY43: 4
B44: Odyssey 13-14-15-17 DT | C44: VOL.F.198 | D44: 4 | E44: 522 | R44: =SUM(F44:Q44) -> 0 | S44: =R44*D44 -> 0 | T44: =IF(R44>0,R44*E44,"-") -> - | U44: 2.79 | V44: =U44*R44 -> 0 | X44: H | Y44: S | BQ44: 4 | BX44: 4
A45: Odyssey | B45: Odyssey 1 | C45: VOL.F.160 | D45: 1 | E45: 185 | R45: =SUM(F45:Q45) -> 0 | S45: =R45*D45 -> 0 | T45: =IF(R45>0,R45*E45,"-") -> - | U45: 1.73 | V45: =U45*R45 -> 0 | X45: M | Y45: L | BS45: 1 | BX45: 1
B46: Odyssey 2 | C46: VOL.F.161 | D46: 1 | E46: 184 | R46: =SUM(F46:Q46) -> 0 | S46: =R46*D46 -> 0 | T46: =IF(R46>0,R46*E46,"-") -> - | U46: 1.7 | V46: =U46*R46 -> 0 | X46: M | Y46: L | BS46: 1 | BX46: 1
B47: Odyssey 3 | C47: VOL.F.162 | D47: 1 | E47: 182 | R47: =SUM(F47:Q47) -> 0 | S47: =R47*D47 -> 0 | T47: =IF(R47>0,R47*E47,"-") -> - | U47: 1.68 | V47: =U47*R47 -> 0 | X47: M | Y47: L | BS47: 1 | BX47: 1
B48: Odyssey 4 | C48: VOL.F.163 | D48: 1 | E48: 171 | R48: =SUM(F48:Q48) -> 0 | S48: =R48*D48 -> 0 | T48: =IF(R48>0,R48*E48,"-") -> - | U48: 1.47 | V48: =U48*R48 -> 0 | X48: H | Y48: L | BS48: 1 | BY48: 1
B49: Odyssey 5 | C49: VOL.F.164 | D49: 1 | E49: 141 | R49: =SUM(F49:Q49) -> 0 | S49: =R49*D49 -> 0 | T49: =IF(R49>0,R49*E49,"-") -> - | U49: 0.84 | V49: =U49*R49 -> 0 | X49: M | Y49: S | BQ49: 1 | BX49: 1
B50: Odyssey 6 | C50: VOL.F.165 | D50: 1 | E50: 165 | R50: =SUM(F50:Q50) -> 0 | S50: =R50*D50 -> 0 | T50: =IF(R50>0,R50*E50,"-") -> - | U50: 1.32 | V50: =U50*R50 -> 0 | X50: H | Y50: M | BR50: 1 | BY50: 1
B51: Odyssey 7 | C51: VOL.F.166 | D51: 1 | E51: 160 | R51: =SUM(F51:Q51) -> 0 | S51: =R51*D51 -> 0 | T51: =IF(R51>0,R51*E51,"-") -> - | U51: 1.22 | V51: =U51*R51 -> 0 | X51: H | Y51: M | BR51: 1 | BY51: 1
B52: Odyssey 8 | C52: VOL.F.167 | D52: 1 | E52: 140 | R52: =SUM(F52:Q52) -> 0 | S52: =R52*D52 -> 0 | T52: =IF(R52>0,R52*E52,"-") -> - | U52: 0.83 | V52: =U52*R52 -> 0 | X52: M | Y52: S | BQ52: 1 | BX52: 1
B53: Odyssey 9 | C53: VOL.F.168 | D53: 1 | E53: 134 | R53: =SUM(F53:Q53) -> 0 | S53: =R53*D53 -> 0 | T53: =IF(R53>0,R53*E53,"-") -> - | U53: 0.73 | V53: =U53*R53 -> 0 | X53: E | Y53: S | BQ53: 1 | BW53: 1
B54: Odyssey 10 | C54: VOL.F.169 | D54: 1 | E54: 160 | R54: =SUM(F54:Q54) -> 0 | S54: =R54*D54 -> 0 | T54: =IF(R54>0,R54*E54,"-") -> - | U54: 1.19 | V54: =U54*R54 -> 0 | X54: H | Y54: M | BR54: 1 | BY54: 1
B55: Odyssey 11 | C55: VOL.F.170 | D55: 1 | E55: 161 | R55: =SUM(F55:Q55) -> 0 | S55: =R55*D55 -> 0 | T55: =IF(R55>0,R55*E55,"-") -> - | U55: 1.26 | V55: =U55*R55 -> 0 | X55: H | Y55: L | BS55: 1 | BY55: 1
B56: Odyssey 12 | C56: VOL.F.171 | D56: 1 | E56: 131 | R56: =SUM(F56:Q56) -> 0 | S56: =R56*D56 -> 0 | T56: =IF(R56>0,R56*E56,"-") -> - | U56: 0.79 | V56: =U56*R56 -> 0 | X56: H | Y56: S | BQ56: 1 | BY56: 1
B57: Odyssey 13 | C57: VOL.F.172 | D57: 1 | E57: 122 | R57: =SUM(F57:Q57) -> 0 | S57: =R57*D57 -> 0 | T57: =IF(R57>0,R57*E57,"-") -> - | U57: 0.62 | V57: =U57*R57 -> 0 | X57: H | Y57: S | BQ57: 1 | BY57: 1
B58: Odyssey 14 | C58: VOL.F.173 | D58: 1 | E58: 128 | R58: =SUM(F58:Q58) -> 0 | S58: =R58*D58 -> 0 | T58: =IF(R58>0,R58*E58,"-") -> - | U58: 0.72 | V58: =U58*R58 -> 0 | X58: M | Y58: S | BQ58: 1 | BX58: 1
B59: Odyssey 15 | C59: VOL.F.174 | D59: 1 | E59: 127 | R59: =SUM(F59:Q59) -> 0 | S59: =R59*D59 -> 0 | T59: =IF(R59>0,R59*E59,"-") -> - | U59: 0.7 | V59: =U59*R59 -> 0 | X59: H | Y59: S | BQ59: 1 | BY59: 1
B60: Odyssey 16 | C60: VOL.F.175 | D60: 1 | E60: 124 | R60: =SUM(F60:Q60) -> 0 | S60: =R60*D60 -> 0 | T60: =IF(R60>0,R60*E60,"-") -> - | U60: 0.65 | V60: =U60*R60 -> 0 | X60: H | Y60: S | BQ60: 1 | BY60: 1
B61: Odyssey 17 | C61: VOL.F.176 | D61: 1 | E61: 130 | R61: =SUM(F61:Q61) -> 0 | S61: =R61*D61 -> 0 | T61: =IF(R61>0,R61*E61,"-") -> - | U61: 0.75 | V61: =U61*R61 -> 0 | X61: H | Y61: S | BQ61: 1 | BY61: 1
B62: Odyssey 8-9-12-16 | C62: VOL.F.177 | D62: 4 | E62: 475 | R62: =SUM(F62:Q62) -> 0 | S62: =R62*D62 -> 0 | T62: =IF(R62>0,R62*E62,"-") -> - | U62: 3 | V62: =U62*R62 -> 0 | X62: M | Y62: S | BQ62: 4 | BY62: 4
B63: Odyssey 13-14-15-17 | C63: VOL.F.178 | D63: 4 | E63: 465 | R63: =SUM(F63:Q63) -> 0 | S63: =R63*D63 -> 0 | T63: =IF(R63>0,R63*E63,"-") -> - | U63: 2.79 | V63: =U63*R63 -> 0 | X63: H | Y63: S | BQ63: 4 | BX63: 4
A64: Stadium DT | B64: Stadium 1 DT | C64: VOL.F.140 | D64: 1 | E64: 195 | R64: =SUM(F64:Q64) -> 0 | S64: =R64*D64 -> 0 | T64: =IF(R64>0,R64*E64,"-") -> - | U64: 1.58 | V64: =U64*R64 -> 0 | X64: E | Y64: L | BS64: 1 | BW64: 1
B65: Stadium 2 DT | C65: VOL.F.141 | D65: 1 | E65: 182 | R65: =SUM(F65:Q65) -> 0 | S65: =R65*D65 -> 0 | T65: =IF(R65>0,R65*E65,"-") -> - | U65: 1.12 | V65: =U65*R65 -> 0 | X65: E | Y65: L | BS65: 1 | BW65: 1
B66: Stadium 3 DT | C66: VOL.F.142 | D66: 1 | E66: 198 | R66: =SUM(F66:Q66) -> 0 | S66: =R66*D66 -> 0 | T66: =IF(R66>0,R66*E66,"-") -> - | U66: 1.58 | V66: =U66*R66 -> 0 | X66: M | Y66: L | BS66: 1 | BX66: 1
B67: Stadium 4 DT | C67: VOL.F.143 | D67: 1 | E67: 175 | R67: =SUM(F67:Q67) -> 0 | S67: =R67*D67 -> 0 | T67: =IF(R67>0,R67*E67,"-") -> - | U67: 1.06 | V67: =U67*R67 -> 0 | X67: M | Y67: M | BR67: 1 | BX67: 1
B68: Stadium 5 DT | C68: VOL.F.144 | D68: 1 | E68: 200 | R68: =SUM(F68:Q68) -> 0 | S68: =R68*D68 -> 0 | T68: =IF(R68>0,R68*E68,"-") -> - | U68: 1.58 | V68: =U68*R68 -> 0 | X68: H | Y68: L | BS68: 1 | BY68: 1
B69: Stadium 6 DT | C69: VOL.F.145 | D69: 1 | E69: 195 | R69: =SUM(F69:Q69) -> 0 | S69: =R69*D69 -> 0 | T69: =IF(R69>0,R69*E69,"-") -> - | U69: 1.64 | V69: =U69*R69 -> 0 | X69: H | Y69: L | BS69: 1 | BY69: 1
B70: Stadium 7 DT | C70: VOL.F.146 | D70: 1 | E70: 172 | R70: =SUM(F70:Q70) -> 0 | S70: =R70*D70 -> 0 | T70: =IF(R70>0,R70*E70,"-") -> - | U70: 1.06 | V70: =U70*R70 -> 0 | X70: M | Y70: M | BR70: 1 | BX70: 1
B71: Stadium 8 DT | C71: VOL.F.147 | D71: 1 | E71: 202 | R71: =SUM(F71:Q71) -> 0 | S71: =R71*D71 -> 0 | T71: =IF(R71>0,R71*E71,"-") -> - | U71: 1.53 | V71: =U71*R71 -> 0 | X71: H | Y71: L | BS71: 1 | BY71: 1
B72: Stadium 9 DT | C72: VOL.F.148 | D72: 1 | E72: 171 | R72: =SUM(F72:Q72) -> 0 | S72: =R72*D72 -> 0 | T72: =IF(R72>0,R72*E72,"-") -> - | U72: 1 | V72: =U72*R72 -> 0 | X72: M | Y72: M | BR72: 1 | BX72: 1
B73: Stadium 10 DT | C73: VOL.F.149 | D73: 1 | E73: 170 | R73: =SUM(F73:Q73) -> 0 | S73: =R73*D73 -> 0 | T73: =IF(R73>0,R73*E73,"-") -> - | U73: 1.06 | V73: =U73*R73 -> 0 | X73: H | Y73: M | BR73: 1 | BY73: 1
A74: Stadium | B74: Stadium 1 | C74: VOL.F.125 | D74: 1 | E74: 187 | R74: =SUM(F74:Q74) -> 0 | S74: =R74*D74 -> 0 | T74: =IF(R74>0,R74*E74,"-") -> - | U74: 1.58 | V74: =U74*R74 -> 0 | X74: E | Y74: L | BS74: 1 | BW74: 1
B75: Stadium 2 | C75: VOL.F.126 | D75: 1 | E75: 162 | R75: =SUM(F75:Q75) -> 0 | S75: =R75*D75 -> 0 | T75: =IF(R75>0,R75*E75,"-") -> - | U75: 1.12 | V75: =U75*R75 -> 0 | X75: E | Y75: L | BS75: 1 | BW75: 1
B76: Stadium 3 | C76: VOL.F.127 | D76: 1 | E76: 187 | R76: =SUM(F76:Q76) -> 0 | S76: =R76*D76 -> 0 | T76: =IF(R76>0,R76*E76,"-") -> - | U76: 1.58 | V76: =U76*R76 -> 0 | X76: M | Y76: L | BS76: 1 | BX76: 1
B77: Stadium 4 | C77: VOL.F.128 | D77: 1 | E77: 155 | R77: =SUM(F77:Q77) -> 0 | S77: =R77*D77 -> 0 | T77: =IF(R77>0,R77*E77,"-") -> - | U77: 1.06 | V77: =U77*R77 -> 0 | X77: M | Y77: M | BR77: 1 | BX77: 1
B78: Stadium 5 | C78: VOL.F.129 | D78: 1 | E78: 187 | R78: =SUM(F78:Q78) -> 0 | S78: =R78*D78 -> 0 | T78: =IF(R78>0,R78*E78,"-") -> - | U78: 1.58 | V78: =U78*R78 -> 0 | X78: H | Y78: L | BS78: 1 | BY78: 1
B79: Stadium 6 | C79: VOL.F.130 | D79: 1 | E79: 185 | R79: =SUM(F79:Q79) -> 0 | S79: =R79*D79 -> 0 | T79: =IF(R79>0,R79*E79,"-") -> - | U79: 1.64 | V79: =U79*R79 -> 0 | X79: H | Y79: L | BS79: 1 | BY79: 1
B80: Stadium 7 | C80: VOL.F.131 | D80: 1 | E80: 157 | R80: =SUM(F80:Q80) -> 0 | S80: =R80*D80 -> 0 | T80: =IF(R80>0,R80*E80,"-") -> - | U80: 1.06 | V80: =U80*R80 -> 0 | X80: M | Y80: M | BR80: 1 | BX80: 1
B81: Stadium 8 | C81: VOL.F.132 | D81: 1 | E81: 184 | R81: =SUM(F81:Q81) -> 0 | S81: =R81*D81 -> 0 | T81: =IF(R81>0,R81*E81,"-") -> - | U81: 1.53 | V81: =U81*R81 -> 0 | X81: H | Y81: L | BS81: 1 | BY81: 1
B82: Stadium 9 | C82: VOL.F.133 | D82: 1 | E82: 157 | R82: =SUM(F82:Q82) -> 0 | S82: =R82*D82 -> 0 | T82: =IF(R82>0,R82*E82,"-") -> - | U82: 1 | V82: =U82*R82 -> 0 | X82: M | Y82: M | BR82: 1 | BX82: 1
B83: Stadium 10 | C83: VOL.F.134 | D83: 1 | E83: 157 | R83: =SUM(F83:Q83) -> 0 | S83: =R83*D83 -> 0 | T83: =IF(R83>0,R83*E83,"-") -> - | U83: 1.06 | V83: =U83*R83 -> 0 | X83: H | Y83: M | BR83: 1 | BY83: 1
A84: Boomerang | B84: Boomerang 1 DT | C84: VOL.F.110-H | D84: 3 | E84: 368 | R84: =SUM(F84:Q84) -> 0 | S84: =R84*D84 -> 0 | T84: =IF(R84>0,R84*E84,"-") -> - | U84: 2.77 | V84: =U84*R84 -> 0 | X84: H | Y84: L | BQ84: 1 | BR84: 1 | BS84: 1 | BY84: 3
B85: Boomerang 2 DT | C85: VOL.F.111-M | D85: 3 | E85: 520 | R85: =SUM(F85:Q85) -> 0 | S85: =R85*D85 -> 0 | T85: =IF(R85>0,R85*E85,"-") -> - | U85: 4.61 | V85: =U85*R85 -> 0 | X85: M | Y85: L | BR85: 1 | BS85: 2 | BX85: 1 | BY85: 2
B86: Boomerang 3 DT | C86: VOL.F.112-H | D86: 2 | E86: 240 | R86: =SUM(F86:Q86) -> 0 | S86: =R86*D86 -> 0 | T86: =IF(R86>0,R86*E86,"-") -> - | U86: 1.73 | V86: =U86*R86 -> 0 | X86: H | Y86: L | BS86: 2 | BX86: 1 | BY86: 1
A87: BoomRamp | B87: Set BoomRamp 1-2-3 DT | C87: VOL.F.113-E | D87: 3 | E87: 587 | R87: =SUM(F87:Q87) -> 0 | S87: =R87*D87 -> 0 | T87: =IF(R87>0,R87*E87,"-") -> - | U87: 5.89 | V87: =U87*R87 -> 0 | X87: M | Y87: L | BS87: 3 | BW87: 2 | BX87: 1
B88: Set BoomRamp 4-5-6 DT | C88: VOL.F.114-M | D88: 3 | E88: 547 | R88: =SUM(F88:Q88) -> 0 | S88: =R88*D88 -> 0 | T88: =IF(R88>0,R88*E88,"-") -> - | U88: 4.37 | V88: =U88*R88 -> 0 | X88: H | Y88: L | BS88: 3 | BX88: 1 | BY88: 2
B89: Set BoomRamp 1-2-3 | C89: VOL.F.100-E | D89: 3 | E89: 508 | R89: =SUM(F89:Q89) -> 0 | S89: =R89*D89 -> 0 | T89: =IF(R89>0,R89*E89,"-") -> - | U89: 5.89 | V89: =U89*R89 -> 0 | X89: M | Y89: L | BS89: 3 | BW89: 2 | BX89: 1
B90: Set BoomRamp 4-5-6 | C90: VOL.F.101-M | D90: 3 | E90: 474 | R90: =SUM(F90:Q90) -> 0 | S90: =R90*D90 -> 0 | T90: =IF(R90>0,R90*E90,"-") -> - | U90: 4.37 | V90: =U90*R90 -> 0 | X90: H | Y90: L | BS90: 3 | BX90: 1 | BY90: 2
A91: BoomJump | B91: BoomJump 1 SML | C91: VOL.F.102-E | D91: 3 | E91: 382 | R91: =SUM(F91:Q91) -> 0 | S91: =R91*D91 -> 0 | T91: =IF(R91>0,R91*E91,"-") -> - | U91: 4.62 | V91: =U91*R91 -> 0 | X91: E | Y91: SML | BQ91: 1 | BR91: 1 | BS91: 1 | BW91: 3
B92: BoomJump 1 SML DT | C92: VOL.F.103-E | D92: 3 | E92: 408 | R92: =SUM(F92:Q92) -> 0 | S92: =R92*D92 -> 0 | T92: =IF(R92>0,R92*E92,"-") -> - | U92: 4.18 | V92: =U92*R92 -> 0 | X92: E | Y92: SML | BQ92: 1 | BR92: 1 | BS92: 1 | BW92: 3
B93: BoomJump 2 SML | C93: VOL.F.104-E | D93: 3 | E93: 384 | R93: =SUM(F93:Q93) -> 0 | S93: =R93*D93 -> 0 | T93: =IF(R93>0,R93*E93,"-") -> - | U93: 4.17 | V93: =U93*R93 -> 0 | X93: E | Y93: SML | BQ93: 1 | BR93: 1 | BS93: 1 | BW93: 3
B94: BoomJump 2 SML DT | C94: VOL.F.105-E | D94: 3 | E94: 410 | R94: =SUM(F94:Q94) -> 0 | S94: =R94*D94 -> 0 | T94: =IF(R94>0,R94*E94,"-") -> - | U94: 4.2 | V94: =U94*R94 -> 0 | X94: E | Y94: SML | BQ94: 1 | BR94: 1 | BS94: 1 | BW94: 3
B95: BoomJump 3 SML | C95: VOL.F.106-E | D95: 3 | E95: 408 | R95: =SUM(F95:Q95) -> 0 | S95: =R95*D95 -> 0 | T95: =IF(R95>0,R95*E95,"-") -> - | U95: 4.72 | V95: =U95*R95 -> 0 | X95: E | Y95: SML | BQ95: 1 | BR95: 1 | BS95: 1 | BW95: 1 | BX95: 2
B96: BoomJump 3 SML DT | C96: VOL.F.107-E | D96: 3 | E96: 428 | R96: =SUM(F96:Q96) -> 0 | S96: =R96*D96 -> 0 | T96: =IF(R96>0,R96*E96,"-") -> - | U96: 4.16 | V96: =U96*R96 -> 0 | X96: E | Y96: SML | BQ96: 1 | BR96: 1 | BS96: 1 | BW96: 1 | BX96: 2
B97: BoomJump 4 SML | C97: VOL.F.108-M | D97: 3 | E97: 382 | R97: =SUM(F97:Q97) -> 0 | S97: =R97*D97 -> 0 | T97: =IF(R97>0,R97*E97,"-") -> - | U97: 3.89 | V97: =U97*R97 -> 0 | X97: M | Y97: SML | BQ97: 1 | BR97: 1 | BS97: 1 | BX97: 3
B98: BoomJump 4 SML DT | C98: VOL.F.109-M | D98: 3 | E98: 415 | R98: =SUM(F98:Q98) -> 0 | S98: =R98*D98 -> 0 | T98: =IF(R98>0,R98*E98,"-") -> - | U98: 3.75 | V98: =U98*R98 -> 0 | X98: M | Y98: SML | BQ98: 1 | BR98: 1 | BS98: 1 | BX98: 3
A99: Sky-ball | B99: Sky-ball S1 | C99: VOL.F.066-H | D99: 1 | E99: 217 | R99: =SUM(F99:Q99) -> 0 | S99: =R99*D99 -> 0 | T99: =IF(R99>0,R99*E99,"-") -> - | U99: 7 | V99: =U99*R99 -> 0 | X99: H | Y99: S | BQ99: 1 | BY99: 1
B100: Sky-ball S2 | C100: VOL.F.067-H | D100: 1 | E100: 208 | R100: =SUM(F100:Q100) -> 0 | S100: =R100*D100 -> 0 | T100: =IF(R100>0,R100*E100,"-") -> - | U100: 5 | V100: =U100*R100 -> 0 | X100: H | Y100: S | BQ100: 1 | BY100: 1
...

Sheet Hybrids
A1: #VALUE! | F1: Gym Prices 15.05.2026 - Hybrids
A2: brand:Cheeta;start:3;End:49;Range:A;Reference:C;Colors:F->T;productName:Hybrids | C2: Production Color Code | G2: 3020 | H2: 5015 | I2: 9005 | J2: 2005 | M2: 4008 | N2: 6027 | O2: 7001 | S2: 9016 | U2: Total Weight | W2: =SUM(Z4:Z49) -> 0 | BJ2: HYBRID Size / units | BP2: Difficulty / piece
A3: Range | B3: Set | C3: Subset | D3: Nb products / set | E3: Price € | F3: Yellow | G3: Red | H3: Blue | I3: Black | J3: Fluo Orange | K3: Fluo Green | L3: Fluo Pink | M3: Violet | N3: Mint | O3: Grey | P3: US Light Green | Q3: US Orange | R3: US Dark Green | S3: White | T3: US Purple | U3: Nb Sets | V3: Nb Products | W3: Total € | X3: Bolts Sizes | Y3: Weight/set | Z3: Total weight | AB3: Size | BJ3: < 30 | BK3: 30 - 40 | BL3: 40 - 60 | BM3: 60 - 90 | BN3: 90 - 120 | BO3: > 120 | BP3: E | BQ3: I | BR3: H
A4: #VALUE! | B4: Pocket Camembert S1 | C4: HY.29.01.S | D4: 4 | E4: 572 | U4: =SUM(F4:T4) -> 0 | V4: =U4*D4 -> 0 | W4: =IF(U4>0,U4*E4,"-") -> - | X4: / | Y4: 4.25 | Z4: =Y4*U4 -> 0 | AB4: M | BK4: 4 | BP4: 1 | BQ4: 1 | BR4: 2
B5: Pocket Camembert S2 | C5: HY.29.02.S | D5: 4 | E5: 575 | U5: =SUM(F5:T5) -> 0 | V5: =U5*D5 -> 0 | W5: =IF(U5>0,U5*E5,"-") -> - | X5: / | Y5: 4.25 | Z5: =Y5*U5 -> 0 | AB5: M | BK5: 4 | BP5: 2 | BQ5: 2
B6: Slopey Camembert S3 | C6: HY.29.03.S | D6: 4 | E6: 564 | U6: =SUM(F6:T6) -> 0 | V6: =U6*D6 -> 0 | W6: =IF(U6>0,U6*E6,"-") -> - | X6: / | Y6: 4.25 | Z6: =Y6*U6 -> 0 | AB6: M | BK6: 4 | BQ6: 1 | BR6: 3
B7: Pocket Camembert S4 | C7: HY.29.04.S | D7: 4 | E7: 578 | U7: =SUM(F7:T7) -> 0 | V7: =U7*D7 -> 0 | W7: =IF(U7>0,U7*E7,"-") -> - | X7: / | Y7: 4.3 | Z7: =Y7*U7 -> 0 | AB7: M | BK7: 4 | BP7: 3 | BQ7: 1
B8: Juggy Camembert S5 | C8: HY.29.05.S | D8: 4 | E8: 575 | U8: =SUM(F8:T8) -> 0 | V8: =U8*D8 -> 0 | W8: =IF(U8>0,U8*E8,"-") -> - | X8: / | Y8: 4.3 | Z8: =Y8*U8 -> 0 | AB8: M | BK8: 4 | BP8: 3 | BQ8: 1
B9: Juggy Camembert M1 | C9: HY.29.11.M | D9: 2 | E9: 544 | U9: =SUM(F9:T9) -> 0 | V9: =U9*D9 -> 0 | W9: =IF(U9>0,U9*E9,"-") -> - | X9: / | Y9: 5.3 | Z9: =Y9*U9 -> 0 | AB9: L | BL9: 2 | BP9: 1 | BQ9: 1
B10: Juggy Camembert M2 | C10: HY.29.12.M | D10: 2 | E10: 553 | U10: =SUM(F10:T10) -> 0 | V10: =U10*D10 -> 0 | W10: =IF(U10>0,U10*E10,"-") -> - | X10: / | Y10: 5.3 | Z10: =Y10*U10 -> 0 | AB10: L | BL10: 2 | BP10: 2
B11: Slopey Camembert M3 | C11: HY.29.13.M | D11: 2 | E11: 523 | U11: =SUM(F11:T11) -> 0 | V11: =U11*D11 -> 0 | W11: =IF(U11>0,U11*E11,"-") -> - | X11: / | Y11: 5.1 | Z11: =Y11*U11 -> 0 | AB11: L | BL11: 2 | BR11: 2
B12: Slopey Camembert M4 | C12: HY.29.14.M | D12: 2 | E12: 520 | U12: =SUM(F12:T12) -> 0 | V12: =U12*D12 -> 0 | W12: =IF(U12>0,U12*E12,"-") -> - | X12: / | Y12: 5.1 | Z12: =Y12*U12 -> 0 | AB12: L | BL12: 2 | BR12: 2
B13: Pebble Camembert M5 | C13: HY.29.15.M | D13: 2 | E13: 546 | U13: =SUM(F13:T13) -> 0 | V13: =U13*D13 -> 0 | W13: =IF(U13>0,U13*E13,"-") -> - | X13: / | Y13: 5.3 | Z13: =Y13*U13 -> 0 | AB13: L | BL13: 2 | BQ13: 1 | BR13: 1
B14: Pebble Camembert M6 | C14: HY.29.16.M | D14: 2 | E14: 534 | U14: =SUM(F14:T14) -> 0 | V14: =U14*D14 -> 0 | W14: =IF(U14>0,U14*E14,"-") -> - | X14: / | Y14: 5.3 | Z14: =Y14*U14 -> 0 | AB14: L | BL14: 2 | BQ14: 1 | BR14: 1
A15: #VALUE! | B15: Pocket Insert S1 | C15: HY.29.01.S-1 | D15: 4 | E15: 115 | U15: =SUM(F15:T15) -> 0 | V15: =U15*D15 -> 0 | W15: =IF(U15>0,U15*E15,"-") -> - | X15: / | Y15: 1.229 | Z15: =Y15*U15 -> 0 | AB15: M
B16: Pocket Insert S2 | C16: HY.29.02.S-1 | D16: 4 | E16: 117 | U16: =SUM(F16:T16) -> 0 | V16: =U16*D16 -> 0 | W16: =IF(U16>0,U16*E16,"-") -> - | X16: / | Y16: 1.281 | Z16: =Y16*U16 -> 0 | AB16: M
B17: Slopey Insert S3 | C17: HY.29.03.S-1 | D17: 4 | E17: 106 | U17: =SUM(F17:T17) -> 0 | V17: =U17*D17 -> 0 | W17: =IF(U17>0,U17*E17,"-") -> - | X17: / | Y17: 1.078 | Z17: =Y17*U17 -> 0 | AB17: M
B18: Pocket Insert S4 | C18: HY.29.04.S-1 | D18: 4 | E18: 117 | U18: =SUM(F18:T18) -> 0 | V18: =U18*D18 -> 0 | W18: =IF(U18>0,U18*E18,"-") -> - | X18: / | Y18: 1.281 | Z18: =Y18*U18 -> 0 | AB18: M
B19: Juggy Insert S5 | C19: HY.29.05.S-1 | D19: 4 | E19: 115 | U19: =SUM(F19:T19) -> 0 | V19: =U19*D19 -> 0 | W19: =IF(U19>0,U19*E19,"-") -> - | X19: / | Y19: 1.237 | Z19: =Y19*U19 -> 0 | AB19: M
B20: Juggy Insert M1 | C20: HY.29.11.M-1 | D20: 2 | E20: 105 | U20: =SUM(F20:T20) -> 0 | V20: =U20*D20 -> 0 | W20: =IF(U20>0,U20*E20,"-") -> - | X20: / | Y20: 1.468 | Z20: =Y20*U20 -> 0 | AB20: L
B21: Juggy Insert M2 | C21: HY.29.12.M-1 | D21: 2 | E21: 114 | U21: =SUM(F21:T21) -> 0 | V21: =U21*D21 -> 0 | W21: =IF(U21>0,U21*E21,"-") -> - | X21: / | Y21: 1.633 | Z21: =Y21*U21 -> 0 | AB21: L
B22: Slopey Insert M3 | C22: HY.29.13.M-1 | D22: 2 | E22: 84 | U22: =SUM(F22:T22) -> 0 | V22: =U22*D22 -> 0 | W22: =IF(U22>0,U22*E22,"-") -> - | X22: / | Y22: 1.062 | Z22: =Y22*U22 -> 0 | AB22: L
B23: Slopey Insert M4 | C23: HY.29.14.M-1 | D23: 2 | E23: 81 | U23: =SUM(F23:T23) -> 0 | V23: =U23*D23 -> 0 | W23: =IF(U23>0,U23*E23,"-") -> - | X23: / | Y23: 1.008 | Z23: =Y23*U23 -> 0 | AB23: L
B24: Pebble Insert M5 | C24: HY.29.15.M-1 | D24: 2 | E24: 107 | U24: =SUM(F24:T24) -> 0 | V24: =U24*D24 -> 0 | W24: =IF(U24>0,U24*E24,"-") -> - | X24: / | Y24: 1.501 | Z24: =Y24*U24 -> 0 | AB24: L
B25: Pebble Insert M6 | C25: HY.29.16.M-1 | D25: 2 | E25: 94 | U25: =SUM(F25:T25) -> 0 | V25: =U25*D25 -> 0 | W25: =IF(U25>0,U25*E25,"-") -> - | X25: / | Y25: 1.267 | Z25: =Y25*U25 -> 0 | AB25: L
A26: #VALUE! | B26: Base Set 1 SM | C26: HY.25.25.SM | D26: 2 | E26: 545 | U26: =SUM(F26:T26) -> 0 | V26: =U26*D26 -> 0 | W26: =IF(U26>0,U26*E26,"-") -> - | X26: / | Y26: 7.4 | Z26: =Y26*U26 -> 0 | AB26: M | BK26: 1 | BL26: 1
B27: Base Set 2 SM | C27: HY.25.26.SM | D27: 2 | E27: 510 | U27: =SUM(F27:T27) -> 0 | V27: =U27*D27 -> 0 | W27: =IF(U27>0,U27*E27,"-") -> - | X27: / | Y27: 6.25 | Z27: =Y27*U27 -> 0 | AB27: M | BK27: 1 | BL27: 1
B28: Base L1 | C28: HY.25.15.L | D28: 1 | E28: 565 | U28: =SUM(F28:T28) -> 0 | V28: =U28*D28 -> 0 | W28: =IF(U28>0,U28*E28,"-") -> - | X28: / | Y28: 10.7 | Z28: =Y28*U28 -> 0 | AB28: L | BM28: 1
B29: Base L2 | C29: HY.25.16.L | D29: 1 | E29: 552 | U29: =SUM(F29:T29) -> 0 | V29: =U29*D29 -> 0 | W29: =IF(U29>0,U29*E29,"-") -> - | X29: / | Y29: 10 | Z29: =Y29*U29 -> 0 | AB29: L | BM29: 1
B30: Base XL1 | C30: HY.25.21.XL | D30: 1 | E30: 767 | U30: =SUM(F30:T30) -> 0 | V30: =U30*D30 -> 0 | W30: =IF(U30>0,U30*E30,"-") -> - | X30: / | Y30: 18.35 | Z30: =Y30*U30 -> 0 | AB30: XL | BN30: 1
B31: Base XL2 | C31: HY.25.22.XL | D31: 1 | E31: 697 | U31: =SUM(F31:T31) -> 0 | V31: =U31*D31 -> 0 | W31: =IF(U31>0,U31*E31,"-") -> - | X31: / | Y31: 15.25 | Z31: =Y31*U31 -> 0 | AB31: XL | BN31: 1
B32: Base Set 1 SM DT | C32: HY.25.75.SM | D32: 2 | E32: 571 | U32: =SUM(F32:T32) -> 0 | V32: =U32*D32 -> 0 | W32: =IF(U32>0,U32*E32,"-") -> - | X32: / | Y32: 7.4 | Z32: =Y32*U32 -> 0 | AB32: M | BK32: 1 | BL32: 1
B33: Base Set 2 SM DT | C33: HY.25.76.SM | D33: 2 | E33: 534 | U33: =SUM(F33:T33) -> 0 | V33: =U33*D33 -> 0 | W33: =IF(U33>0,U33*E33,"-") -> - | X33: / | Y33: 6.25 | Z33: =Y33*U33 -> 0 | AB33: M | BK33: 1 | BL33: 1
B34: Base L1 DT | C34: HY.25.65.L | D34: 1 | E34: 578 | U34: =SUM(F34:T34) -> 0 | V34: =U34*D34 -> 0 | W34: =IF(U34>0,U34*E34,"-") -> - | X34: / | Y34: 10.7 | Z34: =Y34*U34 -> 0 | AB34: L | BM34: 1
B35: Base L2 DT | C35: HY.25.66.L | D35: 1 | E35: 565 | U35: =SUM(F35:T35) -> 0 | V35: =U35*D35 -> 0 | W35: =IF(U35>0,U35*E35,"-") -> - | X35: / | Y35: 10 | Z35: =Y35*U35 -> 0 | AB35: L | BM35: 1
B36: Base XL1 DT | C36: HY.25.71.XL | D36: 1 | E36: 785 | U36: =SUM(F36:T36) -> 0 | V36: =U36*D36 -> 0 | W36: =IF(U36>0,U36*E36,"-") -> - | X36: / | Y36: 18.35 | Z36: =Y36*U36 -> 0 | AB36: XL | BN36: 1
B37: Base XL2 DT | C37: HY.25.72.XL | D37: 1 | E37: 712 | U37: =SUM(F37:T37) -> 0 | V37: =U37*D37 -> 0 | W37: =IF(U37>0,U37*E37,"-") -> - | X37: / | Y37: 15.25 | Z37: =Y37*U37 -> 0 | AB37: XL | BN37: 1
A38: #VALUE! | B38: Link 21° S ** | C38: HY.28.32.S | D38: 1 | E38: 94 | U38: =SUM(F38:T38) -> 0 | V38: =U38*D38 -> 0 | W38: =IF(U38>0,U38*E38,"-") -> - | X38: 1x(B)70 | Y38: =0.956 -> 0.956 | Z38: =Y38*U38 -> 0 | AB38: S | AC38: ** This product is only available from stock, kindly ask the stock list before placing your order, thank you! | BK38: 1
B39: Link 21° M ** | C39: HY.28.33.M | D39: 1 | E39: 141 | U39: =SUM(F39:T39) -> 0 | V39: =U39*D39 -> 0 | W39: =IF(U39>0,U39*E39,"-") -> - | X39: 1x(B)90 | Y39: =0.949 -> 0.949 | Z39: =Y39*U39 -> 0 | AB39: M | BL39: 1
B40: Link 21° L ** | C40: HY.28.34.L | D40: 1 | E40: 255 | U40: =SUM(F40:T40) -> 0 | V40: =U40*D40 -> 0 | W40: =IF(U40>0,U40*E40,"-") -> - | X40: 1x(B)120 | Y40: =0.495 -> 0.495 | Z40: =Y40*U40 -> 0 | AB40: L | BM40: 1
B41: Link 28° S ** | C41: HY.28.44.S | D41: 1 | E41: 130 | U41: =SUM(F41:T41) -> 0 | V41: =U41*D41 -> 0 | W41: =IF(U41>0,U41*E41,"-") -> - | X41: 1x(B)100 | Y41: =0.557 -> 0.557 | Z41: =Y41*U41 -> 0 | AB41: S | BK41: 1
B42: Link 28° M ** | C42: HY.28.45.M | D42: 1 | E42: 224 | U42: =SUM(F42:T42) -> 0 | V42: =U42*D42 -> 0 | W42: =IF(U42>0,U42*E42,"-") -> - | X42: 1x(B)140 | Y42: =1.996 -> 1.996 | Z42: =Y42*U42 -> 0 | AB42: M | BL42: 1
B43: Link 28° L ** | C43: HY.28.46.L | D43: 1 | E43: 368 | U43: =SUM(F43:T43) -> 0 | V43: =U43*D43 -> 0 | W43: =IF(U43>0,U43*E43,"-") -> - | X43: 1x(B)160 | Y43: =1.58 -> 1.58 | Z43: =Y43*U43 -> 0 | AB43: L | BM43: 1
B44: Link 31° XS ** | C44: HY.28.49.XS | D44: 1 | E44: 91 | U44: =SUM(F44:T44) -> 0 | V44: =U44*D44 -> 0 | W44: =IF(U44>0,U44*E44,"-") -> - | X44: 1x(B)80 | Y44: =0.878 -> 0.878 | Z44: =Y44*U44 -> 0 | AB44: XS | BJ44: 1
B45: Link 31° S ** | C45: HY.28.50.S | D45: 1 | E45: 134 | U45: =SUM(F45:T45) -> 0 | V45: =U45*D45 -> 0 | W45: =IF(U45>0,U45*E45,"-") -> - | X45: 1x(B)100 | Y45: =0.989 -> 0.989 | Z45: =Y45*U45 -> 0 | AB45: S | BK45: 1
B46: Link 31° M ** | C46: HY.28.51.M | D46: 1 | E46: 192 | U46: =SUM(F46:T46) -> 0 | V46: =U46*D46 -> 0 | W46: =IF(U46>0,U46*E46,"-") -> - | X46: 1x(B)120 | Y46: =3.775 -> 3.775 | Z46: =Y46*U46 -> 0 | AB46: M | BL46: 1
B47: Link 39° S ** | C47: HY.28.62.S | D47: 1 | E47: 128 | U47: =SUM(F47:T47) -> 0 | V47: =U47*D47 -> 0 | W47: =IF(U47>0,U47*E47,"-") -> - | X47: 1x(B)120 | Y47: =2.855 -> 2.855 | Z47: =Y47*U47 -> 0 | AB47: S | BK47: 1
B48: Link 39° M ** | C48: HY.28.63.M | D48: 1 | E48: 188 | U48: =SUM(F48:T48) -> 0 | V48: =U48*D48 -> 0 | W48: =IF(U48>0,U48*E48,"-") -> - | X48: 1x(B)140 | Y48: =1.908 -> 1.908 | Z48: =Y48*U48 -> 0 | AB48: M | BL48: 1
B49: Link 39° L ** | C49: HY.28.64.L | D49: 1 | E49: 311 | U49: =SUM(F49:T49) -> 0 | V49: =U49*D49 -> 0 | W49: =IF(U49>0,U49*E49,"-") -> - | X49: 1x(B)180 | Y49: =1.656 -> 1.656 | Z49: =Y49*U49 -> 0 | AB49: L | BM49: 1
D50: Total Products | F50: =SUMPRODUCT($D$4:$D$49,F4:F49) -> 0 | G50: =SUMPRODUCT($D$4:$D$49,G4:G49) -> 0 | H50: =SUMPRODUCT($D$4:$D$49,H4:H49) -> 0 | I50: =SUMPRODUCT($D$4:$D$49,I4:I49) -> 0 | J50: =SUMPRODUCT($D$4:$D$49,J4:J49) -> 0 | K50: =SUMPRODUCT($D$4:$D$49,K4:K49) -> 0 | L50: =SUMPRODUCT($D$4:$D$49,L4:L49) -> 0 | M50: =SUMPRODUCT($D$4:$D$49,M4:M49) -> 0 | ... T50: =SUMPRODUCT($D$4:$D$49,T4:T49) -> 0 | U50: =SUM(U4:U49) -> 0 | V50: =SUM(V4:V49) -> 0
U51: Taxable Amount | W51: =SUM(W4:W49) -> 0

Sheet Volumes
B1: #VALUE! | G1: Gym Prices 15.05.2026 - Volumes
A2: brand:Cheeta;start:3;End:135;Range:B;Reference:C;Colors:G->L;productName:Wooden volumes | E2: Production Color Code | G2: 7001 | H2: 9005 | I2: 7046 | J2: 5015 | K2: 1018 | L2: 3020 | M2: Total Weight | O2: =SUM(Q4:Q135) -> 0 | AM2: WOOD Size (cm) / units
A3: Range | B3: Set | C3: Subset | D3: Products / Set | E3: Sizes (cm) | F3: Price € | G3: Light Grey | H3: Black | I3: Dark Grey | J3: Blue | K3: Yellow | L3: Red | M3: Nb sets | N3: Nb Volumes | O3: Total € | P3: Weight/set | Q3: Total weight | S3: Size | AM3: < 35 | AN3: 35 - 50 | AO3: 50 - 80 | AP3: 80 - 130 | AQ3: 130 - 190 | AR3: > 190
A4: Pentagon | B4: Pentagon M | C4: W.02.01.M | D4: 2 | E4: 55x34x13 & 55x28x13 | F4: 234 | M4: =G4+H4+I4+J4+K4+L4 -> 0 | N4: =M4*D4 -> 0 | O4: =IF(M4>0,M4*F4,"-") -> - | P4: 4.4 | Q4: =P4*M4 -> 0 | S4: M | AL4: 1.48 | AO4: 2
B5: Pentagon L | C5: W.02.02.L | D5: 2 | E5: 80x50x21 & 80x42x21 | F5: 370 | M5: =G5+H5+I5+J5+K5+L5 -> 0 | N5: =M5*D5 -> 0 | O5: =IF(M5>0,M5*F5,"-") -> - | P5: 9.3 | Q5: =P5*M5 -> 0 | S5: L | AL5: 5.17 | AP5: 2
A6: Ramps | B6: Ramps 1 | C6: W.03.01.M | D6: 3 | E6: 59x29x12 & 59x29x12 & 59x29x12 | F6: 366 | M6: =G6+H6+I6+J6+K6+L6 -> 0 | N6: =M6*D6 -> 0 | O6: =IF(M6>0,M6*F6,"-") -> - | P6: 9.4 | Q6: =P6*M6 -> 0 | S6: M | AL6: 9 | AO6: 3
A7: Starwoods | B7: Starwoods 1 | C7: W.04.01.L | D7: 2 | E7: 75x45x7 & 56x38x17 | F7: 300 | M7: =G7+H7+I7+J7+K7+L7 -> 0 | N7: =M7*D7 -> 0 | O7: =IF(M7>0,M7*F7,"-") -> - | P7: 6.1 | Q7: =P7*M7 -> 0 | S7: L | AL7: 4.4 | AO7: 1 | AP7: 1
B8: Starwoods 2 | C8: W.04.02.L | D8: 2 | E8: 104x32x17 & 72x26x17 | F8: 303 | M8: =G8+H8+I8+J8+K8+L8 -> 0 | N8: =M8*D8 -> 0 | O8: =IF(M8>0,M8*F8,"-") -> - | P8: 6.3 | Q8: =P8*M8 -> 0 | S8: L | AL8: 6 | AO8: 1 | AP8: 1
B9: Starwoods 3 | C9: W.04.03.L | D9: 2 | E9: 133x26x17 & 90x22x17 | F9: 331 | M9: =G9+H9+I9+J9+K9+L9 -> 0 | N9: =M9*D9 -> 0 | O9: =IF(M9>0,M9*F9,"-") -> - | P9: 7 | Q9: =P9*M9 -> 0 | S9: L | AL9: 6 | AO9: 1 | AP9: 1
B10: Starwoods 4 | C10: W.04.04.L | D10: 2 | E10: 94x37x17 & 49x37x17 | F10: 303 | M10: =G10+H10+I10+J10+K10+L10 -> 0 | N10: =M10*D10 -> 0 | O10: =IF(M10>0,M10*F10,"-") -> - | P10: 6.2 | Q10: =P10*M10 -> 0 | S10: L | AL10: 6 | AO10: 1 | AP10: 1
B11: Starwoods 5 | C11: W.04.05.L | D11: 6 | E11: 6 x (60x42x17) | F11: 912 | M11: =G11+H11+I11+J11+K11+L11 -> 0 | N11: =M11*D11 -> 0 | O11: =IF(M11>0,M11*F11,"-") -> - | P11: 24.3 | Q11: =P11*M11 -> 0 | S11: L | AL11: 36 | AO11: 6
B12: Starwoods 6 | C12: W.04.06.L | D12: 6 | E12: 6 x (60x42x17) | F12: 954 | M12: =G12+H12+I12+J12+K12+L12 -> 0 | N12: =M12*D12 -> 0 | O12: =IF(M12>0,M12*F12,"-") -> - | P12: 22.3 | Q12: =P12*M12 -> 0 | S12: L | AL12: 36 | AO12: 6
B13: Starwoods 7 | C13: W.04.07.L | D13: 3 | E13: 100x48x17 & 60x48x17 & 30x48x17 | F13: 558 | M13: =G13+H13+I13+J13+K13+L13 -> 0 | N13: =M13*D13 -> 0 | O13: =IF(M13>0,M13*F13,"-") -> - | P13: 19.2 | Q13: =P13*M13 -> 0 | S13: L | AL13: 20 | AN13: 1 | AO13: 1 | AP13: 1
A14: Asymmetric pyramids | B14: Asymmetric pyramids 1 | C14: W.05.01.SML | D14: 3 | E14: 35x30x05 & 48x40x06 & 98x81x12 | F14: 418 | M14: =G14+H14+I14+J14+K14+L14 -> 0 | N14: =M14*D14 -> 0 | O14: =IF(M14>0,M14*F14,"-") -> - | P14: 8.1 | Q14: =P14*M14 -> 0 | S14: SML | AL14: 7 | AN14: 1 | AO14: 1 | AP14: 1
B15: Asymmetric pyramids 2 | C15: W.05.02.SML | D15: 3 | E15: 35x30x07 & 48x40x10 & 98x81x17 | F15: 418 | M15: =G15+H15+I15+J15+K15+L15 -> 0 | N15: =M15*D15 -> 0 | O15: =IF(M15>0,M15*F15,"-") -> - | P15: 8.8 | Q15: =P15*M15 -> 0 | S15: SML | AL15: 7 | AN15: 1 | AO15: 1 | AP15: 1
B16: Asymmetric pyramids 3 | C16: W.05.03.SML | D16: 3 | E16: 35x30x10 & 48x40x14 & 98x81x27 | F16: 418 | M16: =G16+H16+I16+J16+K16+L16 -> 0 | N16: =M16*D16 -> 0 | O16: =IF(M16>0,M16*F16,"-") -> - | P16: 9 | Q16: =P16*M16 -> 0 | S16: SML | AL16: 7 | AN16: 1 | AO16: 1 | AP16: 1
B17: Asymmetric pyramids 4 | C17: W.05.04.SML | D17: 3 | E17: 35x30x14 & 48x40x19 & 98x81x34 | F17: 418 | M17: =G17+H17+I17+J17+K17+L17 -> 0 | N17: =M17*D17 -> 0 | O17: =IF(M17>0,M17*F17,"-") -> - | P17: 9.5 | Q17: =P17*M17 -> 0 | S17: SML | AL17: 7 | AN17: 1 | AO17: 1 | AP17: 1
B18: Asymmetric pyramids 5 | C18: W.05.05.L | D18: 1 | E18: 120x84x10 | F18: 246 | M18: =G18+H18+I18+J18+K18+L18 -> 0 | N18: =M18*D18 -> 0 | O18: =IF(M18>0,M18*F18,"-") -> - | P18: 7.7 | Q18: =P18*M18 -> 0 | S18: L | AL18: 5 | AP18: 1
B19: Asymmetric pyramids 6 | C19: W.05.06.L | D19: 1 | E19: 109x77x12 | F19: 231 | M19: =G19+H19+I19+J19+K19+L19 -> 0 | N19: =M19*D19 -> 0 | O19: =IF(M19>0,M19*F19,"-") -> - | P19: 6.5 | Q19: =P19*M19 -> 0 | S19: L | AL19: 5 | AP19: 1
B20: Asymmetric pyramids 7 | C20: W.05.07.L | D20: 1 | E20: 113x74x17 | F20: 231 | M20: =G20+H20+I20+J20+K20+L20 -> 0 | N20: =M20*D20 -> 0 | O20: =IF(M20>0,M20*F20,"-") -> - | P20: 6.9 | Q20: =P20*M20 -> 0 | S20: L | AL20: 5 | AP20: 1
B21: Asymmetric pyramids 8 | C21: W.05.08.L | D21: 2 | E21: 200x170x50 | F21: 698 | M21: =G21+H21+I21+J21+K21+L21 -> 0 | N21: =M21*D21 -> 0 | O21: =IF(M21>0,M21*F21,"-") -> - | P21: 32.5 | Q21: =P21*M21 -> 0 | S21: L | AP21: 2
B22: Pyramid Set S1 | C22: W.05.11.S | D22: 4 | E22: 41x36x17 & 33x28x10 & 32x28x6 & 32x28x4 | F22: 236 | M22: =G22+H22+I22+J22+K22+L22 -> 0 | N22: =M22*D22 -> 0 | O22: =IF(M22>0,M22*F22,"-") -> - | P22: 2.9 | Q22: =P22*M22 -> 0 | S22: S | AN22: 4
B23: Pyramid Set M1 | C23: W.05.16.M | D23: 2 | E23: 68x58x28 & 58x50x17 | F23: 244 | M23: =G23+H23+I23+J23+K23+L23 -> 0 | N23: =M23*D23 -> 0 | O23: =IF(M23>0,M23*F23,"-") -> - | P23: 3.1 | Q23: =P23*M23 -> 0 | S23: M | AO23: 2
B24: Pyramid Set M2 | C24: W.05.17.M | D24: 2 | E24: 65x56x13 & 59x51x7 | F24: 218 | M24: =G24+H24+I24+J24+K24+L24 -> 0 | N24: =M24*D24 -> 0 | O24: =IF(M24>0,M24*F24,"-") -> - | P24: 4.9 | Q24: =P24*M24 -> 0 | S24: M | AO24: 2
B25: Pyramid L1 | C25: W.05.21.L | D25: 1 | E25: 113x98x48 | F25: 326 | M25: =G25+H25+I25+J25+K25+L25 -> 0 | N25: =M25*D25 -> 0 | O25: =IF(M25>0,M25*F25,"-") -> - | P25: 11.7 | Q25: =P25*M25 -> 0 | S25: L | AP25: 1
B26: Pyramid L2 | C26: W.05.22.L | D26: 1 | E26: 113x98x34 | F26: 299 | M26: =G26+H26+I26+J26+K26+L26 -> 0 | N26: =M26*D26 -> 0 | O26: =IF(M26>0,M26*F26,"-") -> - | P26: 9.7 | Q26: =P26*M26 -> 0 | S26: L | AP26: 1
B27: Pyramid L3 | C27: W.05.23.L | D27: 1 | E27: 113x98x22 | F27: 271 | M27: =G27+H27+I27+J27+K27+L27 -> 0 | N27: =M27*D27 -> 0 | O27: =IF(M27>0,M27*F27,"-") -> - | P27: 8 | Q27: =P27*M27 -> 0 | S27: L | AP27: 1
B28: Pyramid L4 | C28: W.05.24.L | D28: 1 | E28: 113x98x13 | F28: 258 | M28: =G28+H28+I28+J28+K28+L28 -> 0 | N28: =M28*D28 -> 0 | O28: =IF(M28>0,M28*F28,"-") -> - | P28: 6.7 | Q28: =P28*M28 -> 0 | S28: L | AP28: 1
A29: Asymmetric pyramids DT | B29: Pyramid Set S1 DT | C29: W.05.61.S-DT | D29: 4 | E29: 41x36x17 & 33x28x10 & 32x28x6 & 32x28x4 | F29: 279 | M29: =G29+H29+I29+J29+K29+L29 -> 0 | N29: =M29*D29 -> 0 | O29: =IF(M29>0,M29*F29,"-") -> - | P29: 2.9 | Q29: =P29*M29 -> 0 | S29: S | AN29: 4
B30: Pyramid Set M1 DT | C30: W.05.66.M-DT | D30: 2 | E30: 68x58x28 & 58x50x17 | F30: 299 | M30: =G30+H30+I30+J30+K30+L30 -> 0 | N30: =M30*D30 -> 0 | O30: =IF(M30>0,M30*F30,"-") -> - | P30: 3.1 | Q30: =P30*M30 -> 0 | S30: M | AO30: 2
B31: Pyramid Set M2 DT | C31: W.05.67.M-DT | D31: 2 | E31: 65x56x13 & 59x51x7 | F31: 279 | M31: =G31+H31+I31+J31+K31+L31 -> 0 | N31: =M31*D31 -> 0 | O31: =IF(M31>0,M31*F31,"-") -> - | P31: 4.9 | Q31: =P31*M31 -> 0 | S31: M | AO31: 2
B32: Pyramid L1 DT | C32: W.05.71.L-DT | D32: 1 | E32: 113x98x48 | F32: 370 | M32: =G32+H32+I32+J32+K32+L32 -> 0 | N32: =M32*D32 -> 0 | O32: =IF(M32>0,M32*F32,"-") -> - | P32: 11.7 | Q32: =P32*M32 -> 0 | S32: L | AP32: 1
B33: Pyramid L2 DT | C33: W.05.72.L-DT | D33: 1 | E33: 113x98x34 | F33: 344 | M33: =G33+H33+I33+J33+K33+L33 -> 0 | N33: =M33*D33 -> 0 | O33: =IF(M33>0,M33*F33,"-") -> - | P33: 9.7 | Q33: =P33*M33 -> 0 | S33: L | AP33: 1
B34: Pyramid L3 DT | C34: W.05.73.L-DT | D34: 1 | E34: 113x98x22 | F34: 327 | M34: =G34+H34+I34+J34+K34+L34 -> 0 | N34: =M34*D34 -> 0 | O34: =IF(M34>0,M34*F34,"-") -> - | P34: 8 | Q34: =P34*M34 -> 0 | S34: L | AP34: 1
B35: Pyramid L4 DT | C35: W.05.74.L-DT | D35: 1 | E35: 113x98x13 | F35: 313 | M35: =G35+H35+I35+J35+K35+L35 -> 0 | N35: =M35*D35 -> 0 | O35: =IF(M35>0,M35*F35,"-") -> - | P35: 6.7 | Q35: =P35*M35 -> 0 | S35: L | AP35: 1
A36: Balls | B36: Ball S1 | C36: W.06.01.S | D36: 1 | E36: 100x50x12 | F36: 229 | M36: =G36+H36+I36+J36+K36+L36 -> 0 | N36: =M36*D36 -> 0 | O36: =IF(M36>0,M36*F36,"-") -> - | P36: 4.8 | Q36: =P36*M36 -> 0 | S36: S | AL36: 2 | AP36: 1
B37: Ball S2 | C37: W.06.02.S | D37: 1 | E37: 100x42x17 | F37: 223 | M37: =G37+H37+I37+J37+K37+L37 -> 0 | N37: =M37*D37 -> 0 | O37: =IF(M37>0,M37*F37,"-") -> - | P37: 4.8 | Q37: =P37*M37 -> 0 | S37: S | AL37: 2 | AP37: 1
B38: Ball S3 | C38: W.06.03.S | D38: 1 | E38: 100x33x10 | F38: 191 | M38: =G38+H38+I38+J38+K38+L38 -> 0 | N38: =M38*D38 -> 0 | O38: =IF(M38>0,M38*F38,"-") -> - | P38: 3.1 | Q38: =P38*M38 -> 0 | S38: S | AL38: 3 | AP38: 1
B39: Ball S4 | C39: W.06.04.S | D39: 1 | E39: 100x29x11 | F39: 183 | M39: =G39+H39+I39+J39+K39+L39 -> 0 | N39: =M39*D39 -> 0 | O39: =IF(M39>0,M39*F39,"-") -> - | P39: 2.6 | Q39: =P39*M39 -> 0 | S39: S | AL39: 3 | AP39: 1
B40: Ball S5 | C40: W.06.05.S | D40: 1 | E40: 100x103x29 | F40: 333 | M40: =G40+H40+I40+J40+K40+L40 -> 0 | N40: =M40*D40 -> 0 | O40: =IF(M40>0,M40*F40,"-") -> - | P40: 14 | Q40: =P40*M40 -> 0 | S40: S | AP40: 1
B41: Ball S6 | C41: W.06.06.S | D41: 1 | E41: 100x100x18 | F41: 282 | M41: =G41+H41+I41+J41+K41+L41 -> 0 | N41: =M41*D41 -> 0 | O41: =IF(M41>0,M41*F41,"-") -> - | P41: 10.5 | Q41: =P41*M41 -> 0 | S41: S | AP41: 1
B42: Ball M1 | C42: W.06.07.M | D42: 1 | E42: 130x65x15 | F42: 279 | M42: =G42+H42+I42+J42+K42+L42 -> 0 | N42: =M42*D42 -> 0 | O42: =IF(M42>0,M42*F42,"-") -> - | P42: 8.9 | Q42: =P42*M42 -> 0 | S42: M | AL42: 2 | AQ42: 1
B43: Ball M2 | C43: W.06.08.M | D43: 1 | E43: 130x55x22 | F43: 271 | M43: =G43+H43+I43+J43+K43+L43 -> 0 | N43: =M43*D43 -> 0 | O43: =IF(M43>0,M43*F43,"-") -> - | P43: 8.2 | Q43: =P43*M43 -> 0 | S43: M | AL43: 3 | AQ43: 1
B44: Ball M3 | C44: W.06.09.M | D44: 1 | E44: 130x43x13 | F44: 236 | M44: =G44+H44+I44+J44+K44+L44 -> 0 | N44: =M44*D44 -> 0 | O44: =IF(M44>0,M44*F44,"-") -> - | P44: 5.3 | Q44: =P44*M44 -> 0 | S44: M | AL44: 3.5 | AQ44: 1
B45: Ball M4 | C45: W.06.10.M | D45: 1 | E45: 130x38x14 | F45: 223 | M45: =G45+H45+I45+J45+K45+L45 -> 0 | N45: =M45*D45 -> 0 | O45: =IF(M45>0,M45*F45,"-") -> - | P45: 4.7 | Q45: =P45*M45 -> 0 | S45: M | AL45: 2 | AQ45: 1
B46: Ball M5 | C46: W.06.11.M | D46: 1 | E46: 130x130x48 | F46: 452 | M46: =G46+H46+I46+J46+K46+L46 -> 0 | N46: =M46*D46 -> 0 | O46: =IF(M46>0,M46*F46,"-") -> - | P46: 27 | Q46: =P46*M46 -> 0 | S46: M | AQ46: 1
B47: Ball M6 | C47: W.06.12.M | D47: 1 | E47: 130x125x23 | F47: 393 | M47: =G47+H47+I47+J47+K47+L47 -> 0 | N47: =M47*D47 -> 0 | O47: =IF(M47>0,M47*F47,"-") -> - | P47: 18 | Q47: =P47*M47 -> 0 | S47: M | AQ47: 1
B48: Ball L1 | C48: W.06.13.L | D48: 1 | E48: 160x80x17 | F48: 394 | M48: =G48+H48+I48+J48+K48+L48 -> 0 | N48: =M48*D48 -> 0 | O48: =IF(M48>0,M48*F48,"-") -> - | P48: 13.7 | Q48: =P48*M48 -> 0 | S48: L | AL48: 3 | AQ48: 1
B49: Ball L2 | C49: W.06.14.L | D49: 1 | E49: 160x67x27 | F49: 381 | M49: =G49+H49+I49+J49+K49+L49 -> 0 | N49: =M49*D49 -> 0 | O49: =IF(M49>0,M49*F49,"-") -> - | P49: 11.8 | Q49: =P49*M49 -> 0 | S49: L | AL49: 3 | AQ49: 1
B50: Ball L3 | C50: W.06.15.L | D50: 1 | E50: 160x54x17 | F50: 306 | M50: =G50+H50+I50+J50+K50+L50 -> 0 | N50: =M50*D50 -> 0 | O50: =IF(M50>0,M50*F50,"-") -> - | P50: 8.7 | Q50: =P50*M50 -> 0 | S50: L | AL50: 4 | AQ50: 1
B51: Ball L4 | C51: W.06.16.L | D51: 1 | E51: 160x48x18 | F51: 284 | M51: =G51+H51+I51+J51+K51+L51 -> 0 | N51: =M51*D51 -> 0 | O51: =IF(M51>0,M51*F51,"-") -> - | P51: 7.9 | Q51: =P51*M51 -> 0 | S51: L | AL51: 4 | AQ51: 1
B52: Ball XL1 | C52: W.06.17.XL | D52: 1 | E52: 190x95x21 | F52: 501 | M52: =G52+H52+I52+J52+K52+L52 -> 0 | N52: =M52*D52 -> 0 | O52: =IF(M52>0,M52*F52,"-") -> - | P52: 19.8 | Q52: =P52*M52 -> 0 | S52: XL | AL52: 5 | AR52: 1
B53: Ball XL2 | C53: W.06.18.XL | D53: 1 | E53: 190x81x33 | F53: 489 | M53: =G53+H53+I53+J53+K53+L53 -> 0 | N53: =M53*D53 -> 0 | O53: =IF(M53>0,M53*F53,"-") -> - | P53: 19 | Q53: =P53*M53 -> 0 | S53: XL | AL53: 5 | AR53: 1
B54: Ball XL3 | C54: W.06.19.XL | D54: 1 | E54: 190x65x20 | F54: 366 | M54: =G54+H54+I54+J54+K54+L54 -> 0 | N54: =M54*D54 -> 0 | O54: =IF(M54>0,M54*F54,"-") -> - | P54: 13 | Q54: =P54*M54 -> 0 | S54: XL | AL54: 5 | AR54: 1
B55: Ball XL4 | C55: W.06.20.XL | D55: 1 | E55: 190x57x21 | F55: 366 | M55: =G55+H55+I55+J55+K55+L55 -> 0 | N55: =M55*D55 -> 0 | O55: =IF(M55>0,M55*F55,"-") -> - | P55: 11.4 | Q55: =P55*M55 -> 0 | S55: XL | AL55: 5 | AR55: 1
A56: Pack Balls | B56: Pack Ball XXS1 | C56: W.06.23.XXS | D56: 2 | E56: 50x25x7 & 51x35x15 | F56: 394 | M56: =G56+H56+I56+J56+K56+L56 -> 0 | N56: =M56*D56 -> 0 | O56: =IF(M56>0,M56*F56,"-") -> - | P56: 2.7 | Q56: =P56*M56 -> 0 | S56: XXS | AN56: 2
B57: Pack Ball XXS2 | C57: W.06.24.XXS | D57: 2 | E57: 49x20x7 & 50x38x8 | F57: 381 | M57: =G57+H57+I57+J57+K57+L57 -> 0 | N57: =M57*D57 -> 0 | O57: =IF(M57>0,M57*F57,"-") -> - | P57: 4.7 | Q57: =P57*M57 -> 0 | S57: XXS | AN57: 2
B58: Pack Ball XS1 | C58: W.06.21.XS | D58: 2 | E58: 70x35x78 & 71x45x18 | F58: 336 | M58: =G58+H58+I58+J58+K58+L58 -> 0 | N58: =M58*D58 -> 0 | O58: =IF(M58>0,M58*F58,"-") -> - | P58: 4.5 | Q58: =P58*M58 -> 0 | S58: XS | AO58: 2
B59: Pack Ball XS2 | C59: W.06.22.XS | D59: 2 | E59: 69x30x12 & 71x53x10 | F59: 323 | M59: =G59+H59+I59+J59+K59+L59 -> 0 | N59: =M59*D59 -> 0 | O59: =IF(M59>0,M59*F59,"-") -> - | P59: 7 | Q59: =P59*M59 -> 0 | S59: XS | AO59: 2
A60: Halfball | B60: Halfball M1 | C60: W.06.33.L | D60: 2 | E60: 65x65x15 & 65x65x15 | F60: 372 | M60: =G60+H60+I60+J60+K60+L60 -> 0 | N60: =M60*D60 -> 0 | O60: =IF(M60>0,M60*F60,"-") -> - | P60: 9.8 | Q60: =P60*M60 -> 0 | S60: M | AO60: 2
B61: Halfball M2 | C61: W.06.34.M | D61: 2 | E61: 65x55x22 & 65x55x22 | F61: 349 | M61: =G61+H61+I61+J61+K61+L61 -> 0 | N61: =M61*D61 -> 0 | O61: =IF(M61>0,M61*F61,"-") -> - | P61: 9.8 | Q61: =P61*M61 -> 0 | S61: M | AO61: 2
B62: Halfball M3 | C62: W.06.35.M | D62: 2 | E62: 65x44x13 & 65x44x13 | F62: 303 | M62: =G62+H62+I62+J62+K62+L62 -> 0 | N62: =M62*D62 -> 0 | O62: =IF(M62>0,M62*F62,"-") -> - | P62: 6.2 | Q62: =P62*M62 -> 0 | S62: M | AO62: 2
B63: Halfball M4 | C63: W.06.36.M | D63: 2 | E63: 65x39x14 & 65x39x14 | F63: 303 | M63: =G63+H63+I63+J63+K63+L63 -> 0 | N63: =M63*D63 -> 0 | O63: =IF(M63>0,M63*F63,"-") -> - | P63: 5.4 | Q63: =P63*M63 -> 0 | S63: M | AO63: 2
B64: Halfball M5 | C64: W.06.37.M | D64: 2 | E64: 65x125x23 & 65x125x23 | F64: 633 | M64: =G64+H64+I64+J64+K64+L64 -> 0 | N64: =M64*D64 -> 0 | O64: =IF(M64>0,M64*F64,"-") -> - | P64: 33 | Q64: =P64*M64 -> 0 | S64: M | AP64: 2
B65: Halfball M6 | C65: W.06.38.M | D65: 2 | E65: 65x130x47 & 65x130x47 | F65: 522 | M65: =G65+H65+I65+J65+K65+L65 -> 0 | N65: =M65*D65 -> 0 | O65: =IF(M65>0,M65*F65,"-") -> - | P65: 22 | Q65: =P65*M65 -> 0 | S65: M | AP65: 2
B66: Halfball L1 | C66: W.06.25.L | D66: 2 | E66: 80x80x17 & 80x80x17 | F66: 462 | M66: =G66+H66+I66+J66+K66+L66 -> 0 | N66: =M66*D66 -> 0 | O66: =IF(M66>0,M66*F66,"-") -> - | P66: 14.8 | Q66: =P66*M66 -> 0 | S66: L | AP66: 2
B67: Halfball L2 | C67: W.06.26.L | D67: 2 | E67: 80x67x27 & 80x67x27 | F67: 456 | M67: =G67+H67+I67+J67+K67+L67 -> 0 | N67: =M67*D67 -> 0 | O67: =IF(M67>0,M67*F67,"-") -> - | P67: 15.2 | Q67: =P67*M67 -> 0 | S67: L | AP67: 2
B68: Halfball L3 | C68: W.06.27.L | D68: 2 | E68: 80x54x17 & 80x54x17 | F68: 390 | M68: =G68+H68+I68+J68+K68+L68 -> 0 | N68: =M68*D68 -> 0 | O68: =IF(M68>0,M68*F68,"-") -> - | P68: 9.8 | Q68: =P68*M68 -> 0 | S68: L | AP68: 2
B69: Halfball L4 | C69: W.06.28.L | D69: 2 | E69: 80x48x17 & 80x48x18 | F69: 368 | M69: =G69+H69+I69+J69+K69+L69 -> 0 | N69: =M69*D69 -> 0 | O69: =IF(M69>0,M69*F69,"-") -> - | P69: 8.6 | Q69: =P69*M69 -> 0 | S69: L | AP69: 2
B70: Halfball XL1 | C70: W.06.29.XL | D70: 2 | E70: 95x95x21 & 95x95x21 | F70: 600 | M70: =G70+H70+I70+J70+K70+L70 -> 0 | N70: =M70*D70 -> 0 | O70: =IF(M70>0,M70*F70,"-") -> - | P70: 22 | Q70: =P70*M70 -> 0 | S70: XL | AP70: 2
B71: Halfball XL2 | C71: W.06.30.XL | D71: 2 | E71: 95x81x33 & 95x81x33 | F71: 578 | M71: =G71+H71+I71+J71+K71+L71 -> 0 | N71: =M71*D71 -> 0 | O71: =IF(M71>0,M71*F71,"-") -> - | P71: 21.6 | Q71: =P71*M71 -> 0 | S71: XL | AP71: 2
B72: Halfball XL3 | C72: W.06.31.XL | D72: 2 | E72: 95x65x20 & 95x65x20 | F72: 462 | M72: =G72+H72+I72+J72+K72+L72 -> 0 | N72: =M72*D72 -> 0 | O72: =IF(M72>0,M72*F72,"-") -> - | P72: 14.1 | Q72: =P72*M72 -> 0 | S72: XL | AP72: 2
B73: Halfball XL4 | C73: W.06.32.XL | D73: 2 | E73: 95 x 58 x 20 & 95 x 58 x 21 | F73: 446 | M73: =G73+H73+I73+J73+K73+L73 -> 0 | N73: =M73*D73 -> 0 | O73: =IF(M73>0,M73*F73,"-") -> - | P73: 13.2 | Q73: =P73*M73 -> 0 | S73: XL | AP73: 2
A74: Balls DT | B74: Ball S1 DT | C74: W.06.51.S-DT | D74: 1 | E74: 100x50x11 | F74: 285 | M74: =G74+H74+I74+J74+K74+L74 -> 0 | N74: =M74*D74 -> 0 | O74: =IF(M74>0,M74*F74,"-") -> - | P74: 4.8 | Q74: =P74*M74 -> 0 | S74: S | AP74: 1
B75: Ball S2 DT | C75: W.06.52.S-DT | D75: 1 | E75: 100x42x17 | F75: 275 | M75: =G75+H75+I75+J75+K75+L75 -> 0 | N75: =M75*D75 -> 0 | O75: =IF(M75>0,M75*F75,"-") -> - | P75: 4.8 | Q75: =P75*M75 -> 0 | S75: S | AP75: 1
B76: Ball S3 DT | C76: W.06.53.S-DT | D76: 1 | E76: 100x33x10 | F76: 257 | M76: =G76+H76+I76+J76+K76+L76 -> 0 | N76: =M76*D76 -> 0 | O76: =IF(M76>0,M76*F76,"-") -> - | P76: 3.1 | Q76: =P76*M76 -> 0 | S76: S | AP76: 1
B77: Ball S4 DT | C77: W.06.54.S-DT | D77: 1 | E77: 100x29x10 | F77: 249 | M77: =G77+H77+I77+J77+K77+L77 -> 0 | N77: =M77*D77 -> 0 | O77: =IF(M77>0,M77*F77,"-") -> - | P77: 2.6 | Q77: =P77*M77 -> 0 | S77: S | AP77: 1
A78: Finger crack | B78: Finger crack 15° | C78: W.10.01.M | D78: 8 | E78: 180x40x10 & 200x40x10 | F78: 1052 | M78: =G78+H78+I78+J78+K78+L78 -> 0 | N78: =M78*D78 -> 0 | O78: =IF(M78>0,M78*F78,"-") -> - | P78: 28.3 | Q78: =P78*M78 -> 0 | S78: M | AL78: 40 | AO78: 8
B79: Finger crack 30° | C79: W.10.02.M | D79: 6 | E79: 150x40x10 & 150x40x10 | F79: 789 | M79: =G79+H79+I79+J79+K79+L79 -> 0 | N79: =M79*D79 -> 0 | O79: =IF(M79>0,M79*F79,"-") -> - | P79: 19.8 | Q79: =P79*M79 -> 0 | S79: M | AL79: 40 | AO79: 6
B80: Finger crack 90° | C80: W.10.03.M | D80: 6 | E80: 130x40x10 & 130x40x10 | F80: 856 | M80: =G80+H80+I80+J80+K80+L80 -> 0 | N80: =M80*D80 -> 0 | O80: =IF(M80>0,M80*F80,"-") -> - | P80: 21.6 | Q80: =P80*M80 -> 0 | S80: M | AL80: 40 | AO80: 6
A81: Open crack | B81: Open crack 15° | C81: W.07.01.L | D81: 8 | E81: 190x75x20 & 190x75x20 | F81: 1441 | M81: =G81+H81+I81+J81+K81+L81 -> 0 | N81: =M81*D81 -> 0 | O81: =IF(M81>0,M81*F81,"-") -> - | P81: 59.8 | Q81: =P81*M81 -> 0 | S81: L | AP81: 8
A82: Big Friend | B82: Big Fine F* | C82: W.08.01.L | D82: 2 | E82: 130x20x20 & 180x30x30 | F82: 474 | M82: =G82+H82+I82+J82+K82+L82 -> 0 | N82: =M82*D82 -> 0 | O82: =IF(M82>0,M82*F82,"-") -> - | P82: 11.2 | Q82: =P82*M82 -> 0 | S82: L | AL82: 40 | AP82: 1 | AQ82: 1
B83: Big Fat F* | C83: W.08.02.L | D83: 2 | E83: 115x30x20 & 145x45x25 | F83: 467 | M83: =G83+H83+I83+J83+K83+L83 -> 0 | N83: =M83*D83 -> 0 | O83: =IF(M83>0,M83*F83,"-") -> - | P83: 11.2 | Q83: =P83*M83 -> 0 | S83: L | AL83: 40 | AP83: 1 | AQ83: 1
B84: Big Flat F* | C84: W.08.03.L | D84: 2 | E84: 100x30x15 & 130x50x20 | F84: 417 | M84: =G84+H84+I84+J84+K84+L84 -> 0 | N84: =M84*D84 -> 0 | O84: =IF(M84>0,M84*F84,"-") -> - | P84: 8.8 | Q84: =P84*M84 -> 0 | S84: L | AL84: 5 | AP84: 2
A85: Big Friend DT | B85: Big Fine F* DT | C85: W.08.51.L-DT | D85: 2 | E85: 130x20x20 & 180x30x30 | F85: 517 | M85: =G85+H85+I85+J85+K85+L85 -> 0 | N85: =M85*D85 -> 0 | O85: =IF(M85>0,M85*F85,"-") -> - | P85: 10.7 | Q85: =P85*M85 -> 0 | S85: L | AP85: 1 | AQ85: 1
B86: Big Fat F* DT | C86: W.08.52.L-DT | D86: 2 | E86: 115x30x20 & 145x45x25 | F86: 510 | M86: =G86+H86+I86+J86+K86+L86 -> 0 | N86: =M86*D86 -> 0 | O86: =IF(M86>0,M86*F86,"-") -> - | P86: 10.6 | Q86: =P86*M86 -> 0 | S86: L | AP86: 1 | AQ86: 1
B87: Big Flat F* DT | C87: W.08.53.L-DT | D87: 2 | E87: 100x30x15 & 130x50x20 | F87: 480 | M87: =G87+H87+I87+J87+K87+L87 -> 0 | N87: =M87*D87 -> 0 | O87: =IF(M87>0,M87*F87,"-") -> - | P87: 8.3 | Q87: =P87*M87 -> 0 | S87: L | AP87: 2
A88: Silex | B88: Sharp Silex L1 | C88: W.11.01.L | D88: 1 | E88: 160x64x28 | F88: 279 | M88: =G88+H88+I88+J88+K88+L88 -> 0 | N88: =M88*D88 -> 0 | O88: =IF(M88>0,M88*F88,"-") -> - | P88: 10.8 | Q88: =P88*M88 -> 0 | S88: L | AQ88: 1
B89: Sharp Silex L2 | C89: W.11.02.L | D89: 1 | E89: 116x40x14 | F89: 195 | M89: =G89+H89+I89+J89+K89+L89 -> 0 | N89: =M89*D89 -> 0 | O89: =IF(M89>0,M89*F89,"-") -> - | P89: 4.3 | Q89: =P89*M89 -> 0 | S89: L | AP89: 1
B90: Sharp Silex L3 | C90: W.11.03.L | D90: 1 | E90: 116x40x11 | F90: 195 | M90: =G90+H90+I90+J90+K90+L90 -> 0 | N90: =M90*D90 -> 0 | O90: =IF(M90>0,M90*F90,"-") -> - | P90: 3.9 | Q90: =P90*M90 -> 0 | S90: L | AP90: 1
B91: Sharp Silex XL1 | C91: W.11.06.XL | D91: 2 | E91: 114x81x33 & 114x81x35 | F91: 417 | M91: =G91+H91+I91+J91+K91+L91 -> 0 | N91: =M91*D91 -> 0 | O91: =IF(M91>0,M91*F91,"-") -> - | P91: 23.5 | Q91: =P91*M91 -> 0 | S91: XL | AP91: 2
B92: Sharp Silex XL2 | C92: W.11.07.XL | D92: 1 | E92: 148x51x17 | F92: 250 | M92: =G92+H92+I92+J92+K92+L92 -> 0 | N92: =M92*D92 -> 0 | O92: =IF(M92>0,M92*F92,"-") -> - | P92: 7.9 | Q92: =P92*M92 -> 0 | S92: XL | AQ92: 1
B93: Sharp Silex XL3 | C93: W.11.08.XL | D93: 1 | E93: 148x51x14 | F93: 237 | M93: =G93+H93+I93+J93+K93+L93 -> 0 | N93: =M93*D93 -> 0 | O93: =IF(M93>0,M93*F93,"-") -> - | P93: 7 | Q93: =P93*M93 -> 0 | S93: XL | AQ93: 1
B94: Sharp Silex XXL1 | C94: W.11.11.XXL | D94: 2 | E94: 157x111x46 & 157x111x48 | F94: 654 | M94: =G94+H94+I94+J94+K94+L94 -> 0 | N94: =M94*D94 -> 0 | O94: =IF(M94>0,M94*F94,"-") -> - | P94: 46.6 | Q94: =P94*M94 -> 0 | S94: XXL | AQ94: 2
B95: Sharp Silex XXL2 | C95: W.11.12.XXL | D95: 1 | E95: 202x70x24 | F95: 306 | M95: =G95+H95+I95+J95+K95+L95 -> 0 | N95: =M95*D95 -> 0 | O95: =IF(M95>0,M95*F95,"-") -> - | P95: 14.4 | Q95: =P95*M95 -> 0 | S95: XXL | AR95: 1
B96: Sharp Silex XXL3 | C96: W.11.13.XXL | D96: 1 | E96: 202x70x20 | F96: 292 | M96: =G96+H96+I96+J96+K96+L96 -> 0 | N96: =M96*D96 -> 0 | O96: =IF(M96>0,M96*F96,"-") -> - | P96: 13.8 | Q96: =P96*M96 -> 0 | S96: XXL | AR96: 1
B97: Flat Silex L1 | C97: W.11.16.L | D97: 1 | E97: 141x78x12 | F97: 279 | M97: =G97+H97+I97+J97+K97+L97 -> 0 | N97: =M97*D97 -> 0 | O97: =IF(M97>0,M97*F97,"-") -> - | P97: 8.9 | Q97: =P97*M97 -> 0 | S97: L | AQ97: 1
B98: Flat Silex L2 | C98: W.11.17.L | D98: 1 | E98: 90x60x11 | F98: 223 | M98: =G98+H98+I98+J98+K98+L98 -> 0 | N98: =M98*D98 -> 0 | O98: =IF(M98>0,M98*F98,"-") -> - | P98: 4.8 | Q98: =P98*M98 -> 0 | S98: L | AP98: 1
B99: Flat Silex L3 | C99: W.11.18.L | D99: 1 | E99: 90x60x11 | F99: 223 | M99: =G99+H99+I99+J99+K99+L99 -> 0 | N99: =M99*D99 -> 0 | O99: =IF(M99>0,M99*F99,"-") -> - | P99: 4.8 | Q99: =P99*M99 -> 0 | S99: L | AP99: 1
B100: Flat Silex XL1 | C100: W.11.21.XL | D100: 2 | E100: 108x106x16 & 120x106x16 | F100: 362 | M100: =G100+H100+I100+J100+K100+L100 -> 0 | N100: =M100*D100 -> 0 | O100: =IF(M100>0,M100*F100,"-") -> - | P100: 18.6 | Q100: =P100*M100 -> 0 | S100: XL | AP100: 2
...

Sheet Overview
A1: ignore:true;
C3: HOLDS | H3: FOOTHOLDS
C5: Difficulty | H5: Difficulty | L5: Size | V5: Style
C6: Easy | D6: Moderate | E6: Hard | H6: Easy | I6: Moderate | J6: Hard | L6: XXS | M6: XS | N6: S | O6: M | P6: L | Q6: XL | R6: XXL | S6: XXXL | T6: MEG | V6: Screw on | W6: Jug | X6: Pocket | Y6: Sloper | Z6: Edge | AA6: Pinch
B7: Yellow | C7: =IF(SUMPRODUCT('Holds '!$F$4:$F$406,'Holds '!CG$4:CG$406)=0,"",SUMPRODUCT('Holds '!$F$4:$F$406,'Holds '!CG$4:CG$406)) | D7: =IF(SUMPRODUCT('Holds '!$F$4:$F$406,'Holds '!CH$4:CH$406)=0,"",SUMPRODUCT('Holds '!$F$4:$F$406,'Holds '!CH$4:CH$406)) | E7: =IF(SUMPRODUCT('Holds '!$F$4:$F$406,'Holds '!CI$4:CI$406)=0,"",SUMPRODUCT('Holds '!$F$4:$F$406,'Holds '!CI$4:CI$406)) | G7: Yellow | H7: =IF(SUMPRODUCT('Holds '!$F$4:$F$406,'Holds '!BV$4:BV$406)=0,"",SUMPRODUCT('Holds '!$F$4:$F$406,'Holds '!BV$4:BV$406)) | I7: =IF(SUMPRODUCT('Holds '!$F$4:$F$406,'Holds '!BW$4:BW$406)=0,"",SUMPRODUCT('Holds '!$F$4:$F$406,'Holds '!BW$4:BW$406)) | J7: =IF(SUMPRODUCT('Holds '!$F$4:$F$406,'Holds '!BX$4:BX$406)=0,"",SUMPRODUCT('Holds '!$F$4:$F$406,'Holds '!BX$4:BX$406)) | L7: =IF(SUMPRODUCT('Holds '!$F$4:$F$406,'Holds '!BJ$4:BJ$406)=0,"",SUMPRODUCT('Holds '!$F$4:$F$406,'Holds '!BJ$4:BJ$406)) | M7: =IF(SUMPRODUCT('Holds '!$F$4:$F$406,'Holds '!BK$4:BK$406)=0,"",SUMPRODUCT('Holds '!$F$4:$F$406,'Holds '!BK$4:BK$406)) | N7: =IF(SUMPRODUCT('Holds '!$F$4:$F$406,'Holds '!BL$4:BL$406)=0,"",SUMPRODUCT('Holds '!$F$4:$F$406,'Holds '!BL$4:BL$406)) | O7: =IF(SUMPRODUCT('Holds '!$F$4:$F$406,'Holds '!BM$4:BM$406)=0,"",SUMPRODUCT('Holds '!$F$4:$F$406,'Holds '!BM$4:BM$406)) | P7: =IF(SUMPRODUCT('Holds '!$F$4:$F$406,'Holds '!BN$4:BN$406)=0,"",SUMPRODUCT('Holds '!$F$4:$F$406,'Holds '!BN$4:BN$406)) | Q7: =IF(SUMPRODUCT('Holds '!$F$4:$F$406,'Holds '!BO$4:BO$406)=0,"",SUMPRODUCT('Holds '!$F$4:$F$406,'Holds '!BO$4:BO$406)) | R7: =IF(SUMPRODUCT('Holds '!$F$4:$F$406,'Holds '!BP$4:BP$406)=0,"",SUMPRODUCT('Holds '!$F$4:$F$406,'Holds '!BP$4:BP$406)) | S7: =IF(SUMPRODUCT('Holds '!$F$4:$F$406,'Holds '!BQ$4:BQ$406)=0,"",SUMPRODUCT('Holds '!$F$4:$F$406,'Holds '!BQ$4:BQ$406)) | T7: =IF(SUMPRODUCT('Holds '!$F$4:$F$406,'Holds '!BR$4:BR$406)=0,"",SUMPRODUCT('Holds '!$F$4:$F$406,'Holds '!BR$4:BR$406)) | V7: =IF(SUMPRODUCT('Holds '!$F$4:$F$406,'Holds '!BZ$4:BZ$406)=0,"",SUMPRODUCT('Holds '!$F$4:$F$406,'Holds '!BZ$4:BZ$406)) | W7: =IF(SUMPRODUCT('Holds '!$F$4:$F$406,'Holds '!CA$4:CA$406)=0,"",SUMPRODUCT('Holds '!$F$4:$F$406,'Holds '!CA$4:CA$406)) | X7: =IF(SUMPRODUCT('Holds '!$F$4:$F$406,'Holds '!CB$4:CB$406)=0,"",SUMPRODUCT('Holds '!$F$4:$F$406,'Holds '!CB$4:CB$406)) | Y7: =IF(SUMPRODUCT('Holds '!$F$4:$F$406,'Holds '!CC$4:CC$406)=0,"",SUMPRODUCT('Holds '!$F$4:$F$406,'Holds '!CC$4:CC$406)) | Z7: =IF(SUMPRODUCT('Holds '!$F$4:$F$406,'Holds '!CD$4:CD$406)=0,"",SUMPRODUCT('Holds '!$F$4:$F$406,'Holds '!CD$4:CD$406)) | AA7: =IF(SUMPRODUCT('Holds '!$F$4:$F$406,'Holds '!CE$4:CE$406)=0,"",SUMPRODUCT('Holds '!$F$4:$F$406,'Holds '!CE$4:CE$406))
B8: Red | C8: =IF(SUMPRODUCT('Holds '!$G$4:$G$406,'Holds '!CG$4:CG$406)=0,"",SUMPRODUCT('Holds '!$G$4:$G$406,'Holds '!CG$4:CG$406)) | D8: =IF(SUMPRODUCT('Holds '!$G$4:$G$406,'Holds '!CH$4:CH$406)=0,"",SUMPRODUCT('Holds '!$G$4:$G$406,'Holds '!CH$4:CH$406)) | E8: =IF(SUMPRODUCT('Holds '!$G$4:$G$406,'Holds '!CI$4:CI$406)=0,"",SUMPRODUCT('Holds '!$G$4:$G$406,'Holds '!CI$4:CI$406)) | G8: Red | H8: =IF(SUMPRODUCT('Holds '!$G$4:$G$406,'Holds '!BV$4:BV$406)=0,"",SUMPRODUCT('Holds '!$G$4:$G$406,'Holds '!BV$4:BV$406)) | I8: =IF(SUMPRODUCT('Holds '!$G$4:$G$406,'Holds '!BW$4:BW$406)=0,"",SUMPRODUCT('Holds '!$G$4:$G$406,'Holds '!BW$4:BW$406)) | J8: =IF(SUMPRODUCT('Holds '!$G$4:$G$406,'Holds '!BX$4:BX$406)=0,"",SUMPRODUCT('Holds '!$G$4:$G$406,'Holds '!BX$4:BX$406)) | L8: =IF(SUMPRODUCT('Holds '!$G$4:$G$406,'Holds '!BJ$4:BJ$406)=0,"",SUMPRODUCT('Holds '!$G$4:$G$406,'Holds '!BJ$4:BJ$406)) | M8: =IF(SUMPRODUCT('Holds '!$G$4:$G$406,'Holds '!BK$4:BK$406)=0,"",SUMPRODUCT('Holds '!$G$4:$G$406,'Holds '!BK$4:BK$406)) | N8: =IF(SUMPRODUCT('Holds '!$G$4:$G$406,'Holds '!BL$4:BL$406)=0,"",SUMPRODUCT('Holds '!$G$4:$G$406,'Holds '!BL$4:BL$406)) | O8: =IF(SUMPRODUCT('Holds '!$G$4:$G$406,'Holds '!BM$4:BM$406)=0,"",SUMPRODUCT('Holds '!$G$4:$G$406,'Holds '!BM$4:BM$406)) | P8: =IF(SUMPRODUCT('Holds '!$G$4:$G$406,'Holds '!BN$4:BN$406)=0,"",SUMPRODUCT('Holds '!$G$4:$G$406,'Holds '!BN$4:BN$406)) | Q8: =IF(SUMPRODUCT('Holds '!$G$4:$G$406,'Holds '!BO$4:BO$406)=0,"",SUMPRODUCT('Holds '!$G$4:$G$406,'Holds '!BO$4:BO$406)) | R8: =IF(SUMPRODUCT('Holds '!$G$4:$G$406,'Holds '!BP$4:BP$406)=0,"",SUMPRODUCT('Holds '!$G$4:$G$406,'Holds '!BP$4:BP$406)) | S8: =IF(SUMPRODUCT('Holds '!$G$4:$G$406,'Holds '!BQ$4:BQ$406)=0,"",SUMPRODUCT('Holds '!$G$4:$G$406,'Holds '!BQ$4:BQ$406)) | T8: =IF(SUMPRODUCT('Holds '!$G$4:$G$406,'Holds '!BR$4:BR$406)=0,"",SUMPRODUCT('Holds '!$G$4:$G$406,'Holds '!BR$4:BR$406)) | V8: =IF(SUMPRODUCT('Holds '!$G$4:$G$406,'Holds '!BZ$4:BZ$406)=0,"",SUMPRODUCT('Holds '!$G$4:$G$406,'Holds '!BZ$4:BZ$406)) | W8: =IF(SUMPRODUCT('Holds '!$G$4:$G$406,'Holds '!CA$4:CA$406)=0,"",SUMPRODUCT('Holds '!$G$4:$G$406,'Holds '!CA$4:CA$406)) | X8: =IF(SUMPRODUCT('Holds '!$G$4:$G$406,'Holds '!CB$4:CB$406)=0,"",SUMPRODUCT('Holds '!$G$4:$G$406,'Holds '!CB$4:CB$406)) | Y8: =IF(SUMPRODUCT('Holds '!$G$4:$G$406,'Holds '!CC$4:CC$406)=0,"",SUMPRODUCT('Holds '!$G$4:$G$406,'Holds '!CC$4:CC$406)) | Z8: =IF(SUMPRODUCT('Holds '!$G$4:$G$406,'Holds '!CD$4:CD$406)=0,"",SUMPRODUCT('Holds '!$G$4:$G$406,'Holds '!CD$4:CD$406)) | AA8: =IF(SUMPRODUCT('Holds '!$G$4:$G$406,'Holds '!CE$4:CE$406)=0,"",SUMPRODUCT('Holds '!$G$4:$G$406,'Holds '!CE$4:CE$406))
B9: Blue | C9: =IF(SUMPRODUCT('Holds '!$H$4:$H$406,'Holds '!CG$4:CG$406)=0,"",SUMPRODUCT('Holds '!$H$4:$H$406,'Holds '!CG$4:CG$406)) | D9: =IF(SUMPRODUCT('Holds '!$H$4:$H$406,'Holds '!CH$4:CH$406)=0,"",SUMPRODUCT('Holds '!$H$4:$H$406,'Holds '!CH$4:CH$406)) | E9: =IF(SUMPRODUCT('Holds '!$H$4:$H$406,'Holds '!CI$4:CI$406)=0,"",SUMPRODUCT('Holds '!$H$4:$H$406,'Holds '!CI$4:CI$406)) | G9: Blue | H9: =IF(SUMPRODUCT('Holds '!$H$4:$H$406,'Holds '!BV$4:BV$406)=0,"",SUMPRODUCT('Holds '!$H$4:$H$406,'Holds '!BV$4:BV$406)) | I9: =IF(SUMPRODUCT('Holds '!$H$4:$H$406,'Holds '!BW$4:BW$406)=0,"",SUMPRODUCT('Holds '!$H$4:$H$406,'Holds '!BW$4:BW$406)) | J9: =IF(SUMPRODUCT('Holds '!$H$4:$H$406,'Holds '!BX$4:BX$406)=0,"",SUMPRODUCT('Holds '!$H$4:$H$406,'Holds '!BX$4:BX$406)) | L9: =IF(SUMPRODUCT('Holds '!$H$4:$H$406,'Holds '!BJ$4:BJ$406)=0,"",SUMPRODUCT('Holds '!$H$4:$H$406,'Holds '!BJ$4:BJ$406)) | M9: =IF(SUMPRODUCT('Holds '!$H$4:$H$406,'Holds '!BK$4:BK$406)=0,"",SUMPRODUCT('Holds '!$H$4:$H$406,'Holds '!BK$4:BK$406)) | N9: =IF(SUMPRODUCT('Holds '!$H$4:$H$406,'Holds '!BL$4:BL$406)=0,"",SUMPRODUCT('Holds '!$H$4:$H$406,'Holds '!BL$4:BL$406)) | O9: =IF(SUMPRODUCT('Holds '!$H$4:$H$406,'Holds '!BM$4:BM$406)=0,"",SUMPRODUCT('Holds '!$H$4:$H$406,'Holds '!BM$4:BM$406)) | P9: =IF(SUMPRODUCT('Holds '!$H$4:$H$406,'Holds '!BN$4:BN$406)=0,"",SUMPRODUCT('Holds '!$H$4:$H$406,'Holds '!BN$4:BN$406)) | Q9: =IF(SUMPRODUCT('Holds '!$H$4:$H$406,'Holds '!BO$4:BO$406)=0,"",SUMPRODUCT('Holds '!$H$4:$H$406,'Holds '!BO$4:BO$406)) | R9: =IF(SUMPRODUCT('Holds '!$H$4:$H$406,'Holds '!BP$4:BP$406)=0,"",SUMPRODUCT('Holds '!$H$4:$H$406,'Holds '!BP$4:BP$406)) | S9: =IF(SUMPRODUCT('Holds '!$H$4:$H$406,'Holds '!BQ$4:BQ$406)=0,"",SUMPRODUCT('Holds '!$H$4:$H$406,'Holds '!BQ$4:BQ$406)) | T9: =IF(SUMPRODUCT('Holds '!$H$4:$H$406,'Holds '!BR$4:BR$406)=0,"",SUMPRODUCT('Holds '!$H$4:$H$406,'Holds '!BR$4:BR$406)) | V9: =IF(SUMPRODUCT('Holds '!$H$4:$H$406,'Holds '!BZ$4:BZ$406)=0,"",SUMPRODUCT('Holds '!$H$4:$H$406,'Holds '!BZ$4:BZ$406)) | W9: =IF(SUMPRODUCT('Holds '!$H$4:$H$406,'Holds '!CA$4:CA$406)=0,"",SUMPRODUCT('Holds '!$H$4:$H$406,'Holds '!CA$4:CA$406)) | X9: =IF(SUMPRODUCT('Holds '!$H$4:$H$406,'Holds '!CB$4:CB$406)=0,"",SUMPRODUCT('Holds '!$H$4:$H$406,'Holds '!CB$4:CB$406)) | Y9: =IF(SUMPRODUCT('Holds '!$H$4:$H$406,'Holds '!CC$4:CC$406)=0,"",SUMPRODUCT('Holds '!$H$4:$H$406,'Holds '!CC$4:CC$406)) | Z9: =IF(SUMPRODUCT('Holds '!$H$4:$H$406,'Holds '!CD$4:CD$406)=0,"",SUMPRODUCT('Holds '!$H$4:$H$406,'Holds '!CD$4:CD$406)) | AA9: =IF(SUMPRODUCT('Holds '!$H$4:$H$406,'Holds '!CE$4:CE$406)=0,"",SUMPRODUCT('Holds '!$H$4:$H$406,'Holds '!CE$4:CE$406))
B10: Black | C10: =IF(SUMPRODUCT('Holds '!$I$4:$I$406,'Holds '!CG$4:CG$406)=0,"",SUMPRODUCT('Holds '!$I$4:$I$406,'Holds '!CG$4:CG$406)) | D10: =IF(SUMPRODUCT('Holds '!$I$4:$I$406,'Holds '!CH$4:CH$406)=0,"",SUMPRODUCT('Holds '!$I$4:$I$406,'Holds '!CH$4:CH$406)) | E10: =IF(SUMPRODUCT('Holds '!$I$4:$I$406,'Holds '!CI$4:CI$406)=0,"",SUMPRODUCT('Holds '!$I$4:$I$406,'Holds '!CI$4:CI$406)) | G10: Black | H10: =IF(SUMPRODUCT('Holds '!$I$4:$I$406,'Holds '!BV$4:BV$406)=0,"",SUMPRODUCT('Holds '!$I$4:$I$406,'Holds '!BV$4:BV$406)) | I10: =IF(SUMPRODUCT('Holds '!$I$4:$I$406,'Holds '!BW$4:BW$406)=0,"",SUMPRODUCT('Holds '!$I$4:$I$406,'Holds '!BW$4:BW$406)) | J10: =IF(SUMPRODUCT('Holds '!$I$4:$I$406,'Holds '!BX$4:BX$406)=0,"",SUMPRODUCT('Holds '!$I$4:$I$406,'Holds '!BX$4:BX$406)) | L10: =IF(SUMPRODUCT('Holds '!$I$4:$I$406,'Holds '!BJ$4:BJ$406)=0,"",SUMPRODUCT('Holds '!$I$4:$I$406,'Holds '!BJ$4:BJ$406)) | M10: =IF(SUMPRODUCT('Holds '!$I$4:$I$406,'Holds '!BK$4:BK$406)=0,"",SUMPRODUCT('Holds '!$I$4:$I$406,'Holds '!BK$4:BK$406)) | N10: =IF(SUMPRODUCT('Holds '!$I$4:$I$406,'Holds '!BL$4:BL$406)=0,"",SUMPRODUCT('Holds '!$I$4:$I$406,'Holds '!BL$4:BL$406)) | O10: =IF(SUMPRODUCT('Holds '!$I$4:$I$406,'Holds '!BM$4:BM$406)=0,"",SUMPRODUCT('Holds '!$I$4:$I$406,'Holds '!BM$4:BM$406)) | P10: =IF(SUMPRODUCT('Holds '!$I$4:$I$406,'Holds '!BN$4:BN$406)=0,"",SUMPRODUCT('Holds '!$I$4:$I$406,'Holds '!BN$4:BN$406)) | Q10: =IF(SUMPRODUCT('Holds '!$I$4:$I$406,'Holds '!BO$4:BO$406)=0,"",SUMPRODUCT('Holds '!$I$4:$I$406,'Holds '!BO$4:BO$406)) | R10: =IF(SUMPRODUCT('Holds '!$I$4:$I$406,'Holds '!BP$4:BP$406)=0,"",SUMPRODUCT('Holds '!$I$4:$I$406,'Holds '!BP$4:BP$406)) | S10: =IF(SUMPRODUCT('Holds '!$I$4:$I$406,'Holds '!BQ$4:BQ$406)=0,"",SUMPRODUCT('Holds '!$I$4:$I$406,'Holds '!BQ$4:BQ$406)) | T10: =IF(SUMPRODUCT('Holds '!$I$4:$I$406,'Holds '!BR$4:BR$406)=0,"",SUMPRODUCT('Holds '!$I$4:$I$406,'Holds '!BR$4:BR$406)) | V10: =IF(SUMPRODUCT('Holds '!$I$4:$I$406,'Holds '!BZ$4:BZ$406)=0,"",SUMPRODUCT('Holds '!$I$4:$I$406,'Holds '!BZ$4:BZ$406)) | W10: =IF(SUMPRODUCT('Holds '!$I$4:$I$406,'Holds '!CA$4:CA$406)=0,"",SUMPRODUCT('Holds '!$I$4:$I$406,'Holds '!CA$4:CA$406)) | X10: =IF(SUMPRODUCT('Holds '!$I$4:$I$406,'Holds '!CB$4:CB$406)=0,"",SUMPRODUCT('Holds '!$I$4:$I$406,'Holds '!CB$4:CB$406)) | Y10: =IF(SUMPRODUCT('Holds '!$I$4:$I$406,'Holds '!CC$4:CC$406)=0,"",SUMPRODUCT('Holds '!$I$4:$I$406,'Holds '!CC$4:CC$406)) | Z10: =IF(SUMPRODUCT('Holds '!$I$4:$I$406,'Holds '!CD$4:CD$406)=0,"",SUMPRODUCT('Holds '!$I$4:$I$406,'Holds '!CD$4:CD$406)) | AA10: =IF(SUMPRODUCT('Holds '!$I$4:$I$406,'Holds '!CE$4:CE$406)=0,"",SUMPRODUCT('Holds '!$I$4:$I$406,'Holds '!CE$4:CE$406))
B11: Fluo Orange | C11: =IF(SUMPRODUCT('Holds '!$J$4:$J$406,'Holds '!CG$4:CG$406)=0,"",SUMPRODUCT('Holds '!$J$4:$J$406,'Holds '!CG$4:CG$406)) | D11: =IF(SUMPRODUCT('Holds '!$J$4:$J$406,'Holds '!CH$4:CH$406)=0,"",SUMPRODUCT('Holds '!$J$4:$J$406,'Holds '!CH$4:CH$406)) | E11: =IF(SUMPRODUCT('Holds '!$J$4:$J$406,'Holds '!CI$4:CI$406)=0,"",SUMPRODUCT('Holds '!$J$4:$J$406,'Holds '!CI$4:CI$406)) | G11: Fluo Orange | H11: =IF(SUMPRODUCT('Holds '!$J$4:$J$406,'Holds '!BV$4:BV$406)=0,"",SUMPRODUCT('Holds '!$J$4:$J$406,'Holds '!BV$4:BV$406)) | I11: =IF(SUMPRODUCT('Holds '!$J$4:$J$406,'Holds '!BW$4:BW$406)=0,"",SUMPRODUCT('Holds '!$J$4:$J$406,'Holds '!BW$4:BW$406)) | J11: =IF(SUMPRODUCT('Holds '!$J$4:$J$406,'Holds '!BX$4:BX$406)=0,"",SUMPRODUCT('Holds '!$J$4:$J$406,'Holds '!BX$4:BX$406)) | L11: =IF(SUMPRODUCT('Holds '!$J$4:$J$406,'Holds '!BJ$4:BJ$406)=0,"",SUMPRODUCT('Holds '!$J$4:$J$406,'Holds '!BJ$4:BJ$406)) | M11: =IF(SUMPRODUCT('Holds '!$J$4:$J$406,'Holds '!BK$4:BK$406)=0,"",SUMPRODUCT('Holds '!$J$4:$J$406,'Holds '!BK$4:BK$406)) | N11: =IF(SUMPRODUCT('Holds '!$J$4:$J$406,'Holds '!BL$4:BL$406)=0,"",SUMPRODUCT('Holds '!$J$4:$J$406,'Holds '!BL$4:BL$406)) | O11: =IF(SUMPRODUCT('Holds '!$J$4:$J$406,'Holds '!BM$4:BM$406)=0,"",SUMPRODUCT('Holds '!$J$4:$J$406,'Holds '!BM$4:BM$406)) | P11: =IF(SUMPRODUCT('Holds '!$J$4:$J$406,'Holds '!BN$4:BN$406)=0,"",SUMPRODUCT('Holds '!$J$4:$J$406,'Holds '!BN$4:BN$406)) | Q11: =IF(SUMPRODUCT('Holds '!$J$4:$J$406,'Holds '!BO$4:BO$406)=0,"",SUMPRODUCT('Holds '!$J$4:$J$406,'Holds '!BO$4:BO$406)) | R11: =IF(SUMPRODUCT('Holds '!$J$4:$J$406,'Holds '!BP$4:BP$406)=0,"",SUMPRODUCT('Holds '!$J$4:$J$406,'Holds '!BP$4:BP$406)) | S11: =IF(SUMPRODUCT('Holds '!$J$4:$J$406,'Holds '!BQ$4:BQ$406)=0,"",SUMPRODUCT('Holds '!$J$4:$J$406,'Holds '!BQ$4:BQ$406)) | T11: =IF(SUMPRODUCT('Holds '!$J$4:$J$406,'Holds '!BR$4:BR$406)=0,"",SUMPRODUCT('Holds '!$J$4:$J$406,'Holds '!BR$4:BR$406)) | V11: =IF(SUMPRODUCT('Holds '!$J$4:$J$406,'Holds '!BZ$4:BZ$406)=0,"",SUMPRODUCT('Holds '!$J$4:$J$406,'Holds '!BZ$4:BZ$406)) | W11: =IF(SUMPRODUCT('Holds '!$J$4:$J$406,'Holds '!CA$4:CA$406)=0,"",SUMPRODUCT('Holds '!$J$4:$J$406,'Holds '!CA$4:CA$406)) | X11: =IF(SUMPRODUCT('Holds '!$J$4:$J$406,'Holds '!CB$4:CB$406)=0,"",SUMPRODUCT('Holds '!$J$4:$J$406,'Holds '!CB$4:CB$406)) | Y11: =IF(SUMPRODUCT('Holds '!$J$4:$J$406,'Holds '!CC$4:CC$406)=0,"",SUMPRODUCT('Holds '!$J$4:$J$406,'Holds '!CC$4:CC$406)) | Z11: =IF(SUMPRODUCT('Holds '!$J$4:$J$406,'Holds '!CD$4:CD$406)=0,"",SUMPRODUCT('Holds '!$J$4:$J$406,'Holds '!CD$4:CD$406)) | AA11: =IF(SUMPRODUCT('Holds '!$J$4:$J$406,'Holds '!CE$4:CE$406)=0,"",SUMPRODUCT('Holds '!$J$4:$J$406,'Holds '!CE$4:CE$406))
B12: Fluo Green | C12: =IF(SUMPRODUCT('Holds '!$K$4:$K$406,'Holds '!CG$4:CG$406)=0,"",SUMPRODUCT('Holds '!$K$4:$K$406,'Holds '!CG$4:CG$406)) | D12: =IF(SUMPRODUCT('Holds '!$K$4:$K$406,'Holds '!CH$4:CH$406)=0,"",SUMPRODUCT('Holds '!$K$4:$K$406,'Holds '!CH$4:CH$406)) | E12: =IF(SUMPRODUCT('Holds '!$K$4:$K$406,'Holds '!CI$4:CI$406)=0,"",SUMPRODUCT('Holds '!$K$4:$K$406,'Holds '!CI$4:CI$406)) | G12: Fluo Green | H12: =IF(SUMPRODUCT('Holds '!$K$4:$K$406,'Holds '!BV$4:BV$406)=0,"",SUMPRODUCT('Holds '!$K$4:$K$406,'Holds '!BV$4:BV$406)) | I12: =IF(SUMPRODUCT('Holds '!$K$4:$K$406,'Holds '!BW$4:BW$406)=0,"",SUMPRODUCT('Holds '!$K$4:$K$406,'Holds '!BW$4:BW$406)) | J12: =IF(SUMPRODUCT('Holds '!$K$4:$K$406,'Holds '!BX$4:BX$406)=0,"",SUMPRODUCT('Holds '!$K$4:$K$406,'Holds '!BX$4:BX$406)) | L12: =IF(SUMPRODUCT('Holds '!$K$4:$K$406,'Holds '!BJ$4:BJ$406)=0,"",SUMPRODUCT('Holds '!$K$4:$K$406,'Holds '!BJ$4:BJ$406)) | M12: =IF(SUMPRODUCT('Holds '!$K$4:$K$406,'Holds '!BK$4:BK$406)=0,"",SUMPRODUCT('Holds '!$K$4:$K$406,'Holds '!BK$4:BK$406)) | N12: =IF(SUMPRODUCT('Holds '!$K$4:$K$406,'Holds '!BL$4:BL$406)=0,"",SUMPRODUCT('Holds '!$K$4:$K$406,'Holds '!BL$4:BL$406)) | O12: =IF(SUMPRODUCT('Holds '!$K$4:$K$406,'Holds '!BM$4:BM$406)=0,"",SUMPRODUCT('Holds '!$K$4:$K$406,'Holds '!BM$4:BM$406)) | P12: =IF(SUMPRODUCT('Holds '!$K$4:$K$406,'Holds '!BN$4:BN$406)=0,"",SUMPRODUCT('Holds '!$K$4:$K$406,'Holds '!BN$4:BN$406)) | Q12: =IF(SUMPRODUCT('Holds '!$K$4:$K$406,'Holds '!BO$4:BO$406)=0,"",SUMPRODUCT('Holds '!$K$4:$K$406,'Holds '!BO$4:BO$406)) | R12: =IF(SUMPRODUCT('Holds '!$K$4:$K$406,'Holds '!BP$4:BP$406)=0,"",SUMPRODUCT('Holds '!$K$4:$K$406,'Holds '!BP$4:BP$406)) | S12: =IF(SUMPRODUCT('Holds '!$K$4:$K$406,'Holds '!BQ$4:BQ$406)=0,"",SUMPRODUCT('Holds '!$K$4:$K$406,'Holds '!BQ$4:BQ$406)) | T12: =IF(SUMPRODUCT('Holds '!$K$4:$K$406,'Holds '!BR$4:BR$406)=0,"",SUMPRODUCT('Holds '!$K$4:$K$406,'Holds '!BR$4:BR$406)) | V12: =IF(SUMPRODUCT('Holds '!$K$4:$K$406,'Holds '!BZ$4:BZ$406)=0,"",SUMPRODUCT('Holds '!$K$4:$K$406,'Holds '!BZ$4:BZ$406)) | W12: =IF(SUMPRODUCT('Holds '!$K$4:$K$406,'Holds '!CA$4:CA$406)=0,"",SUMPRODUCT('Holds '!$K$4:$K$406,'Holds '!CA$4:CA$406)) | X12: =IF(SUMPRODUCT('Holds '!$K$4:$K$406,'Holds '!CB$4:CB$406)=0,"",SUMPRODUCT('Holds '!$K$4:$K$406,'Holds '!CB$4:CB$406)) | Y12: =IF(SUMPRODUCT('Holds '!$K$4:$K$406,'Holds '!CC$4:CC$406)=0,"",SUMPRODUCT('Holds '!$K$4:$K$406,'Holds '!CC$4:CC$406)) | Z12: =IF(SUMPRODUCT('Holds '!$K$4:$K$406,'Holds '!CD$4:CD$406)=0,"",SUMPRODUCT('Holds '!$K$4:$K$406,'Holds '!CD$4:CD$406)) | AA12: =IF(SUMPRODUCT('Holds '!$K$4:$K$406,'Holds '!CE$4:CE$406)=0,"",SUMPRODUCT('Holds '!$K$4:$K$406,'Holds '!CE$4:CE$406))
A13: HOLDS | B13: Fluo Pink | C13: =IF(SUMPRODUCT('Holds '!$L$4:$L$406,'Holds '!CG$4:CG$406)=0,"",SUMPRODUCT('Holds '!$L$4:$L$406,'Holds '!CG$4:CG$406)) | D13: =IF(SUMPRODUCT('Holds '!$L$4:$L$406,'Holds '!CH$4:CH$406)=0,"",SUMPRODUCT('Holds '!$L$4:$L$406,'Holds '!CH$4:CH$406)) | E13: =IF(SUMPRODUCT('Holds '!$L$4:$L$406,'Holds '!CI$4:CI$406)=0,"",SUMPRODUCT('Holds '!$L$4:$L$406,'Holds '!CI$4:CI$406)) | G13: Fluo Pink | H13: =IF(SUMPRODUCT('Holds '!$L$4:$L$406,'Holds '!BV$4:BV$406)=0,"",SUMPRODUCT('Holds '!$L$4:$L$406,'Holds '!BV$4:BV$406)) | I13: =IF(SUMPRODUCT('Holds '!$L$4:$L$406,'Holds '!BW$4:BW$406)=0,"",SUMPRODUCT('Holds '!$L$4:$L$406,'Holds '!BW$4:BW$406)) | J13: =IF(SUMPRODUCT('Holds '!$L$4:$L$406,'Holds '!BX$4:BX$406)=0,"",SUMPRODUCT('Holds '!$L$4:$L$406,'Holds '!BX$4:BX$406)) | L13: =IF(SUMPRODUCT('Holds '!$L$4:$L$406,'Holds '!BJ$4:BJ$406)=0,"",SUMPRODUCT('Holds '!$L$4:$L$406,'Holds '!BJ$4:BJ$406)) | M13: =IF(SUMPRODUCT('Holds '!$L$4:$L$406,'Holds '!BK$4:BK$406)=0,"",SUMPRODUCT('Holds '!$L$4:$L$406,'Holds '!BK$4:BK$406)) | N13: =IF(SUMPRODUCT('Holds '!$L$4:$L$406,'Holds '!BL$4:BL$406)=0,"",SUMPRODUCT('Holds '!$L$4:$L$406,'Holds '!BL$4:BL$406)) | O13: =IF(SUMPRODUCT('Holds '!$L$4:$L$406,'Holds '!BM$4:BM$406)=0,"",SUMPRODUCT('Holds '!$L$4:$L$406,'Holds '!BM$4:BM$406)) | P13: =IF(SUMPRODUCT('Holds '!$L$4:$L$406,'Holds '!BN$4:BN$406)=0,"",SUMPRODUCT('Holds '!$L$4:$L$406,'Holds '!BN$4:BN$406)) | Q13: =IF(SUMPRODUCT('Holds '!$L$4:$L$406,'Holds '!BO$4:BO$406)=0,"",SUMPRODUCT('Holds '!$L$4:$L$406,'Holds '!BO$4:BO$406)) | R13: =IF(SUMPRODUCT('Holds '!$L$4:$L$406,'Holds '!BP$4:BP$406)=0,"",SUMPRODUCT('Holds '!$L$4:$L$406,'Holds '!BP$4:BP$406)) | S13: =IF(SUMPRODUCT('Holds '!$L$4:$L$406,'Holds '!BQ$4:BQ$406)=0,"",SUMPRODUCT('Holds '!$L$4:$L$406,'Holds '!BQ$4:BQ$406)) | T13: =IF(SUMPRODUCT('Holds '!$L$4:$L$406,'Holds '!BR$4:BR$406)=0,"",SUMPRODUCT('Holds '!$L$4:$L$406,'Holds '!BR$4:BR$406)) | V13: =IF(SUMPRODUCT('Holds '!$L$4:$L$406,'Holds '!BZ$4:BZ$406)=0,"",SUMPRODUCT('Holds '!$L$4:$L$406,'Holds '!BZ$4:BZ$406)) | W13: =IF(SUMPRODUCT('Holds '!$L$4:$L$406,'Holds '!CA$4:CA$406)=0,"",SUMPRODUCT('Holds '!$L$4:$L$406,'Holds '!CA$4:CA$406)) | X13: =IF(SUMPRODUCT('Holds '!$L$4:$L$406,'Holds '!CB$4:CB$406)=0,"",SUMPRODUCT('Holds '!$L$4:$L$406,'Holds '!CB$4:CB$406)) | Y13: =IF(SUMPRODUCT('Holds '!$L$4:$L$406,'Holds '!CC$4:CC$406)=0,"",SUMPRODUCT('Holds '!$L$4:$L$406,'Holds '!CC$4:CC$406)) | Z13: =IF(SUMPRODUCT('Holds '!$L$4:$L$406,'Holds '!CD$4:CD$406)=0,"",SUMPRODUCT('Holds '!$L$4:$L$406,'Holds '!CD$4:CD$406)) | AA13: =IF(SUMPRODUCT('Holds '!$L$4:$L$406,'Holds '!CE$4:CE$406)=0,"",SUMPRODUCT('Holds '!$L$4:$L$406,'Holds '!CE$4:CE$406))
B14: Violet | C14: =IF(SUMPRODUCT('Holds '!$M$4:$M$406,'Holds '!CG$4:CG$406)=0,"",SUMPRODUCT('Holds '!$M$4:$M$406,'Holds '!CG$4:CG$406)) | D14: =IF(SUMPRODUCT('Holds '!$M$4:$M$406,'Holds '!CH$4:CH$406)=0,"",SUMPRODUCT('Holds '!$M$4:$M$406,'Holds '!CH$4:CH$406)) | E14: =IF(SUMPRODUCT('Holds '!$M$4:$M$406,'Holds '!CI$4:CI$406)=0,"",SUMPRODUCT('Holds '!$M$4:$M$406,'Holds '!CI$4:CI$406)) | G14: Violet | H14: =IF(SUMPRODUCT('Holds '!$M$4:$M$406,'Holds '!BV$4:BV$406)=0,"",SUMPRODUCT('Holds '!$M$4:$M$406,'Holds '!BV$4:BV$406)) | I14: =IF(SUMPRODUCT('Holds '!$M$4:$M$406,'Holds '!BW$4:BW$406)=0,"",SUMPRODUCT('Holds '!$M$4:$M$406,'Holds '!BW$4:BW$406)) | J14: =IF(SUMPRODUCT('Holds '!$M$4:$M$406,'Holds '!BX$4:BX$406)=0,"",SUMPRODUCT('Holds '!$M$4:$M$406,'Holds '!BX$4:BX$406)) | L14: =IF(SUMPRODUCT('Holds '!$M$4:$M$406,'Holds '!BJ$4:BJ$406)=0,"",SUMPRODUCT('Holds '!$M$4:$M$406,'Holds '!BJ$4:BJ$406)) | M14: =IF(SUMPRODUCT('Holds '!$M$4:$M$406,'Holds '!BK$4:BK$406)=0,"",SUMPRODUCT('Holds '!$M$4:$M$406,'Holds '!BK$4:BK$406)) | N14: =IF(SUMPRODUCT('Holds '!$M$4:$M$406,'Holds '!BL$4:BL$406)=0,"",SUMPRODUCT('Holds '!$M$4:$M$406,'Holds '!BL$4:BL$406)) | O14: =IF(SUMPRODUCT('Holds '!$M$4:$M$406,'Holds '!BM$4:BM$406)=0,"",SUMPRODUCT('Holds '!$M$4:$M$406,'Holds '!BM$4:BM$406)) | P14: =IF(SUMPRODUCT('Holds '!$M$4:$M$406,'Holds '!BN$4:BN$406)=0,"",SUMPRODUCT('Holds '!$M$4:$M$406,'Holds '!BN$4:BN$406)) | Q14: =IF(SUMPRODUCT('Holds '!$M$4:$M$406,'Holds '!BO$4:BO$406)=0,"",SUMPRODUCT('Holds '!$M$4:$M$406,'Holds '!BO$4:BO$406)) | R14: =IF(SUMPRODUCT('Holds '!$M$4:$M$406,'Holds '!BP$4:BP$406)=0,"",SUMPRODUCT('Holds '!$M$4:$M$406,'Holds '!BP$4:BP$406)) | S14: =IF(SUMPRODUCT('Holds '!$M$4:$M$406,'Holds '!BQ$4:BQ$406)=0,"",SUMPRODUCT('Holds '!$M$4:$M$406,'Holds '!BQ$4:BQ$406)) | T14: =IF(SUMPRODUCT('Holds '!$M$4:$M$406,'Holds '!BR$4:BR$406)=0,"",SUMPRODUCT('Holds '!$M$4:$M$406,'Holds '!BR$4:BR$406)) | V14: =IF(SUMPRODUCT('Holds '!$M$4:$M$406,'Holds '!BZ$4:BZ$406)=0,"",SUMPRODUCT('Holds '!$M$4:$M$406,'Holds '!BZ$4:BZ$406)) | W14: =IF(SUMPRODUCT('Holds '!$M$4:$M$406,'Holds '!CA$4:CA$406)=0,"",SUMPRODUCT('Holds '!$M$4:$M$406,'Holds '!CA$4:CA$406)) | X14: =IF(SUMPRODUCT('Holds '!$M$4:$M$406,'Holds '!CB$4:CB$406)=0,"",SUMPRODUCT('Holds '!$M$4:$M$406,'Holds '!CB$4:CB$406)) | Y14: =IF(SUMPRODUCT('Holds '!$M$4:$M$406,'Holds '!CC$4:CC$406)=0,"",SUMPRODUCT('Holds '!$M$4:$M$406,'Holds '!CC$4:CC$406)) | Z14: =IF(SUMPRODUCT('Holds '!$M$4:$M$406,'Holds '!CD$4:CD$406)=0,"",SUMPRODUCT('Holds '!$M$4:$M$406,'Holds '!CD$4:CD$406)) | AA14: =IF(SUMPRODUCT('Holds '!$M$4:$M$406,'Holds '!CE$4:CE$406)=0,"",SUMPRODUCT('Holds '!$M$4:$M$406,'Holds '!CE$4:CE$406))
B15: Mint | C15: =IF(SUMPRODUCT('Holds '!$N$4:$N$406,'Holds '!CG$4:CG$406)=0,"",SUMPRODUCT('Holds '!$N$4:$N$406,'Holds '!CG$4:CG$406)) | D15: =IF(SUMPRODUCT('Holds '!$N$4:$N$406,'Holds '!CH$4:CH$406)=0,"",SUMPRODUCT('Holds '!$N$4:$N$406,'Holds '!CH$4:CH$406)) | E15: =IF(SUMPRODUCT('Holds '!$N$4:$N$406,'Holds '!CI$4:CI$406)=0,"",SUMPRODUCT('Holds '!$N$4:$N$406,'Holds '!CI$4:CI$406)) | G15: Mint | H15: =IF(SUMPRODUCT('Holds '!$N$4:$N$406,'Holds '!BV$4:BV$406)=0,"",SUMPRODUCT('Holds '!$N$4:$N$406,'Holds '!BV$4:BV$406)) | I15: =IF(SUMPRODUCT('Holds '!$N$4:$N$406,'Holds '!BW$4:BW$406)=0,"",SUMPRODUCT('Holds '!$N$4:$N$406,'Holds '!BW$4:BW$406)) | J15: =IF(SUMPRODUCT('Holds '!$N$4:$N$406,'Holds '!BX$4:BX$406)=0,"",SUMPRODUCT('Holds '!$N$4:$N$406,'Holds '!BX$4:BX$406)) | L15: =IF(SUMPRODUCT('Holds '!$N$4:$N$406,'Holds '!BJ$4:BJ$406)=0,"",SUMPRODUCT('Holds '!$N$4:$N$406,'Holds '!BJ$4:BJ$406)) | M15: =IF(SUMPRODUCT('Holds '!$N$4:$N$406,'Holds '!BK$4:BK$406)=0,"",SUMPRODUCT('Holds '!$N$4:$N$406,'Holds '!BK$4:BK$406)) | N15: =IF(SUMPRODUCT('Holds '!$N$4:$N$406,'Holds '!BL$4:BL$406)=0,"",SUMPRODUCT('Holds '!$N$4:$N$406,'Holds '!BL$4:BL$406)) | O15: =IF(SUMPRODUCT('Holds '!$N$4:$N$406,'Holds '!BM$4:BM$406)=0,"",SUMPRODUCT('Holds '!$N$4:$N$406,'Holds '!BM$4:BM$406)) | P15: =IF(SUMPRODUCT('Holds '!$N$4:$N$406,'Holds '!BN$4:BN$406)=0,"",SUMPRODUCT('Holds '!$N$4:$N$406,'Holds '!BN$4:BN$406)) | Q15: =IF(SUMPRODUCT('Holds '!$N$4:$N$406,'Holds '!BO$4:BO$406)=0,"",SUMPRODUCT('Holds '!$N$4:$N$406,'Holds '!BO$4:BO$406)) | R15: =IF(SUMPRODUCT('Holds '!$N$4:$N$406,'Holds '!BP$4:BP$406)=0,"",SUMPRODUCT('Holds '!$N$4:$N$406,'Holds '!BP$4:BP$406)) | S15: =IF(SUMPRODUCT('Holds '!$N$4:$N$406,'Holds '!BQ$4:BQ$406)=0,"",SUMPRODUCT('Holds '!$N$4:$N$406,'Holds '!BQ$4:BQ$406)) | T15: =IF(SUMPRODUCT('Holds '!$N$4:$N$406,'Holds '!BR$4:BR$406)=0,"",SUMPRODUCT('Holds '!$N$4:$N$406,'Holds '!BR$4:BR$406)) | V15: =IF(SUMPRODUCT('Holds '!$N$4:$N$406,'Holds '!BZ$4:BZ$406)=0,"",SUMPRODUCT('Holds '!$N$4:$N$406,'Holds '!BZ$4:BZ$406)) | W15: =IF(SUMPRODUCT('Holds '!$N$4:$N$406,'Holds '!CA$4:CA$406)=0,"",SUMPRODUCT('Holds '!$N$4:$N$406,'Holds '!CA$4:CA$406)) | X15: =IF(SUMPRODUCT('Holds '!$N$4:$N$406,'Holds '!CB$4:CB$406)=0,"",SUMPRODUCT('Holds '!$N$4:$N$406,'Holds '!CB$4:CB$406)) | Y15: =IF(SUMPRODUCT('Holds '!$N$4:$N$406,'Holds '!CC$4:CC$406)=0,"",SUMPRODUCT('Holds '!$N$4:$N$406,'Holds '!CC$4:CC$406)) | Z15: =IF(SUMPRODUCT('Holds '!$N$4:$N$406,'Holds '!CD$4:CD$406)=0,"",SUMPRODUCT('Holds '!$N$4:$N$406,'Holds '!CD$4:CD$406)) | AA15: =IF(SUMPRODUCT('Holds '!$N$4:$N$406,'Holds '!CE$4:CE$406)=0,"",SUMPRODUCT('Holds '!$N$4:$N$406,'Holds '!CE$4:CE$406))
B16: US Light Green | C16: =IF(SUMPRODUCT('Holds '!$O$4:$O$406,'Holds '!CG$4:CG$406)=0,"",SUMPRODUCT('Holds '!$O$4:$O$406,'Holds '!CG$4:CG$406)) | D16: =IF(SUMPRODUCT('Holds '!$O$4:$O$406,'Holds '!CH$4:CH$406)=0,"",SUMPRODUCT('Holds '!$O$4:$O$406,'Holds '!CH$4:CH$406)) | E16: =IF(SUMPRODUCT('Holds '!$O$4:$O$406,'Holds '!CI$4:CI$406)=0,"",SUMPRODUCT('Holds '!$O$4:$O$406,'Holds '!CI$4:CI$406)) | G16: US Light Green | H16: =IF(SUMPRODUCT('Holds '!$O$4:$O$406,'Holds '!BV$4:BV$406)=0,"",SUMPRODUCT('Holds '!$O$4:$O$406,'Holds '!BV$4:BV$406)) | I16: =IF(SUMPRODUCT('Holds '!$O$4:$O$406,'Holds '!BW$4:BW$406)=0,"",SUMPRODUCT('Holds '!$O$4:$O$406,'Holds '!BW$4:BW$406)) | J16: =IF(SUMPRODUCT('Holds '!$O$4:$O$406,'Holds '!BX$4:BX$406)=0,"",SUMPRODUCT('Holds '!$O$4:$O$406,'Holds '!BX$4:BX$406)) | L16: =IF(SUMPRODUCT('Holds '!$O$4:$O$406,'Holds '!BJ$4:BJ$406)=0,"",SUMPRODUCT('Holds '!$O$4:$O$406,'Holds '!BJ$4:BJ$406)) | M16: =IF(SUMPRODUCT('Holds '!$O$4:$O$406,'Holds '!BK$4:BK$406)=0,"",SUMPRODUCT('Holds '!$O$4:$O$406,'Holds '!BK$4:BK$406)) | N16: =IF(SUMPRODUCT('Holds '!$O$4:$O$406,'Holds '!BL$4:BL$406)=0,"",SUMPRODUCT('Holds '!$O$4:$O$406,'Holds '!BL$4:BL$406)) | O16: =IF(SUMPRODUCT('Holds '!$O$4:$O$406,'Holds '!BM$4:BM$406)=0,"",SUMPRODUCT('Holds '!$O$4:$O$406,'Holds '!BM$4:BM$406)) | P16: =IF(SUMPRODUCT('Holds '!$O$4:$O$406,'Holds '!BN$4:BN$406)=0,"",SUMPRODUCT('Holds '!$O$4:$O$406,'Holds '!BN$4:BN$406)) | Q16: =IF(SUMPRODUCT('Holds '!$O$4:$O$406,'Holds '!BO$4:BO$406)=0,"",SUMPRODUCT('Holds '!$O$4:$O$406,'Holds '!BO$4:BO$406)) | R16: =IF(SUMPRODUCT('Holds '!$O$4:$O$406,'Holds '!BP$4:BP$406)=0,"",SUMPRODUCT('Holds '!$O$4:$O$406,'Holds '!BP$4:BP$406)) | S16: =IF(SUMPRODUCT('Holds '!$O$4:$O$406,'Holds '!BQ$4:BQ$406)=0,"",SUMPRODUCT('Holds '!$O$4:$O$406,'Holds '!BQ$4:BQ$406)) | T16: =IF(SUMPRODUCT('Holds '!$O$4:$O$406,'Holds '!BR$4:BR$406)=0,"",SUMPRODUCT('Holds '!$O$4:$O$406,'Holds '!BR$4:BR$406)) | V16: =IF(SUMPRODUCT('Holds '!$O$4:$O$406,'Holds '!BZ$4:BZ$406)=0,"",SUMPRODUCT('Holds '!$O$4:$O$406,'Holds '!BZ$4:BZ$406)) | W16: =IF(SUMPRODUCT('Holds '!$O$4:$O$406,'Holds '!CA$4:CA$406)=0,"",SUMPRODUCT('Holds '!$O$4:$O$406,'Holds '!CA$4:CA$406)) | X16: =IF(SUMPRODUCT('Holds '!$O$4:$O$406,'Holds '!CB$4:CB$406)=0,"",SUMPRODUCT('Holds '!$O$4:$O$406,'Holds '!CB$4:CB$406)) | Y16: =IF(SUMPRODUCT('Holds '!$O$4:$O$406,'Holds '!CC$4:CC$406)=0,"",SUMPRODUCT('Holds '!$O$4:$O$406,'Holds '!CC$4:CC$406)) | Z16: =IF(SUMPRODUCT('Holds '!$O$4:$O$406,'Holds '!CD$4:CD$406)=0,"",SUMPRODUCT('Holds '!$O$4:$O$406,'Holds '!CD$4:CD$406)) | AA16: =IF(SUMPRODUCT('Holds '!$O$4:$O$406,'Holds '!CE$4:CE$406)=0,"",SUMPRODUCT('Holds '!$O$4:$O$406,'Holds '!CE$4:CE$406))
B17: US Orange | C17: =IF(SUMPRODUCT('Holds '!$P$4:$P$406,'Holds '!CG$4:CG$406)=0,"",SUMPRODUCT('Holds '!$P$4:$P$406,'Holds '!CG$4:CG$406)) | D17: =IF(SUMPRODUCT('Holds '!$P$4:$P$406,'Holds '!CH$4:CH$406)=0,"",SUMPRODUCT('Holds '!$P$4:$P$406,'Holds '!CH$4:CH$406)) | E17: =IF(SUMPRODUCT('Holds '!$P$4:$P$406,'Holds '!CI$4:CI$406)=0,"",SUMPRODUCT('Holds '!$P$4:$P$406,'Holds '!CI$4:CI$406)) | G17: US Orange | H17: =IF(SUMPRODUCT('Holds '!$P$4:$P$406,'Holds '!BV$4:BV$406)=0,"",SUMPRODUCT('Holds '!$P$4:$P$406,'Holds '!BV$4:BV$406)) | I17: =IF(SUMPRODUCT('Holds '!$P$4:$P$406,'Holds '!BW$4:BW$406)=0,"",SUMPRODUCT('Holds '!$P$4:$P$406,'Holds '!BW$4:BW$406)) | J17: =IF(SUMPRODUCT('Holds '!$P$4:$P$406,'Holds '!BX$4:BX$406)=0,"",SUMPRODUCT('Holds '!$P$4:$P$406,'Holds '!BX$4:BX$406)) | L17: =IF(SUMPRODUCT('Holds '!$P$4:$P$406,'Holds '!BJ$4:BJ$406)=0,"",SUMPRODUCT('Holds '!$P$4:$P$406,'Holds '!BJ$4:BJ$406)) | M17: =IF(SUMPRODUCT('Holds '!$P$4:$P$406,'Holds '!BK$4:BK$406)=0,"",SUMPRODUCT('Holds '!$P$4:$P$406,'Holds '!BK$4:BK$406)) | N17: =IF(SUMPRODUCT('Holds '!$P$4:$P$406,'Holds '!BL$4:BL$406)=0,"",SUMPRODUCT('Holds '!$P$4:$P$406,'Holds '!BL$4:BL$406)) | O17: =IF(SUMPRODUCT('Holds '!$P$4:$P$406,'Holds '!BM$4:BM$406)=0,"",SUMPRODUCT('Holds '!$P$4:$P$406,'Holds '!BM$4:BM$406)) | P17: =IF(SUMPRODUCT('Holds '!$P$4:$P$406,'Holds '!BN$4:BN$406)=0,"",SUMPRODUCT('Holds '!$P$4:$P$406,'Holds '!BN$4:BN$406)) | Q17: =IF(SUMPRODUCT('Holds '!$P$4:$P$406,'Holds '!BO$4:BO$406)=0,"",SUMPRODUCT('Holds '!$P$4:$P$406,'Holds '!BO$4:BO$406)) | R17: =IF(SUMPRODUCT('Holds '!$P$4:$P$406,'Holds '!BP$4:BP$406)=0,"",SUMPRODUCT('Holds '!$P$4:$P$406,'Holds '!BP$4:BP$406)) | S17: =IF(SUMPRODUCT('Holds '!$P$4:$P$406,'Holds '!BQ$4:BQ$406)=0,"",SUMPRODUCT('Holds '!$P$4:$P$406,'Holds '!BQ$4:BQ$406)) | T17: =IF(SUMPRODUCT('Holds '!$P$4:$P$406,'Holds '!BR$4:BR$406)=0,"",SUMPRODUCT('Holds '!$P$4:$P$406,'Holds '!BR$4:BR$406)) | V17: =IF(SUMPRODUCT('Holds '!$P$4:$P$406,'Holds '!BZ$4:BZ$406)=0,"",SUMPRODUCT('Holds '!$P$4:$P$406,'Holds '!BZ$4:BZ$406)) | W17: =IF(SUMPRODUCT('Holds '!$P$4:$P$406,'Holds '!CA$4:CA$406)=0,"",SUMPRODUCT('Holds '!$P$4:$P$406,'Holds '!CA$4:CA$406)) | X17: =IF(SUMPRODUCT('Holds '!$P$4:$P$406,'Holds '!CB$4:CB$406)=0,"",SUMPRODUCT('Holds '!$P$4:$P$406,'Holds '!CB$4:CB$406)) | Y17: =IF(SUMPRODUCT('Holds '!$P$4:$P$406,'Holds '!CC$4:CC$406)=0,"",SUMPRODUCT('Holds '!$P$4:$P$406,'Holds '!CC$4:CC$406)) | Z17: =IF(SUMPRODUCT('Holds '!$P$4:$P$406,'Holds '!CD$4:CD$406)=0,"",SUMPRODUCT('Holds '!$P$4:$P$406,'Holds '!CD$4:CD$406)) | AA17: =IF(SUMPRODUCT('Holds '!$P$4:$P$406,'Holds '!CE$4:CE$406)=0,"",SUMPRODUCT('Holds '!$P$4:$P$406,'Holds '!CE$4:CE$406))
B18: US Dark Green | C18: =IF(SUMPRODUCT('Holds '!$Q$4:$Q$406,'Holds '!CG$4:CG$406)=0,"",SUMPRODUCT('Holds '!$Q$4:$Q$406,'Holds '!CG$4:CG$406)) | D18: =IF(SUMPRODUCT('Holds '!$Q$4:$Q$406,'Holds '!CH$4:CH$406)=0,"",SUMPRODUCT('Holds '!$Q$4:$Q$406,'Holds '!CH$4:CH$406)) | E18: =IF(SUMPRODUCT('Holds '!$Q$4:$Q$406,'Holds '!CI$4:CI$406)=0,"",SUMPRODUCT('Holds '!$Q$4:$Q$406,'Holds '!CI$4:CI$406)) | G18: US Dark Green | H18: =IF(SUMPRODUCT('Holds '!$Q$4:$Q$406,'Holds '!BV$4:BV$406)=0,"",SUMPRODUCT('Holds '!$Q$4:$Q$406,'Holds '!BV$4:BV$406)) | I18: =IF(SUMPRODUCT('Holds '!$Q$4:$Q$406,'Holds '!BW$4:BW$406)=0,"",SUMPRODUCT('Holds '!$Q$4:$Q$406,'Holds '!BW$4:BW$406)) | J18: =IF(SUMPRODUCT('Holds '!$Q$4:$Q$406,'Holds '!BX$4:BX$406)=0,"",SUMPRODUCT('Holds '!$Q$4:$Q$406,'Holds '!BX$4:BX$406)) | L18: =IF(SUMPRODUCT('Holds '!$Q$4:$Q$406,'Holds '!BJ$4:BJ$406)=0,"",SUMPRODUCT('Holds '!$Q$4:$Q$406,'Holds '!BJ$4:BJ$406)) | M18: =IF(SUMPRODUCT('Holds '!$Q$4:$Q$406,'Holds '!BK$4:BK$406)=0,"",SUMPRODUCT('Holds '!$Q$4:$Q$406,'Holds '!BK$4:BK$406)) | N18: =IF(SUMPRODUCT('Holds '!$Q$4:$Q$406,'Holds '!BL$4:BL$406)=0,"",SUMPRODUCT('Holds '!$Q$4:$Q$406,'Holds '!BL$4:BL$406)) | O18: =IF(SUMPRODUCT('Holds '!$Q$4:$Q$406,'Holds '!BM$4:BM$406)=0,"",SUMPRODUCT('Holds '!$Q$4:$Q$406,'Holds '!BM$4:BM$406)) | P18: =IF(SUMPRODUCT('Holds '!$Q$4:$Q$406,'Holds '!BN$4:BN$406)=0,"",SUMPRODUCT('Holds '!$Q$4:$Q$406,'Holds '!BN$4:BN$406)) | Q18: =IF(SUMPRODUCT('Holds '!$Q$4:$Q$406,'Holds '!BO$4:BO$406)=0,"",SUMPRODUCT('Holds '!$Q$4:$Q$406,'Holds '!BO$4:BO$406)) | R18: =IF(SUMPRODUCT('Holds '!$Q$4:$Q$406,'Holds '!BP$4:BP$406)=0,"",SUMPRODUCT('Holds '!$Q$4:$Q$406,'Holds '!BP$4:BP$406)) | S18: =IF(SUMPRODUCT('Holds '!$Q$4:$Q$406,'Holds '!BQ$4:BQ$406)=0,"",SUMPRODUCT('Holds '!$Q$4:$Q$406,'Holds '!BQ$4:BQ$406)) | T18: =IF(SUMPRODUCT('Holds '!$Q$4:$Q$406,'Holds '!BR$4:BR$406)=0,"",SUMPRODUCT('Holds '!$Q$4:$Q$406,'Holds '!BR$4:BR$406)) | V18: =IF(SUMPRODUCT('Holds '!$Q$4:$Q$406,'Holds '!BZ$4:BZ$406)=0,"",SUMPRODUCT('Holds '!$Q$4:$Q$406,'Holds '!BZ$4:BZ$406)) | W18: =IF(SUMPRODUCT('Holds '!$Q$4:$Q$406,'Holds '!CA$4:CA$406)=0,"",SUMPRODUCT('Holds '!$Q$4:$Q$406,'Holds '!CA$4:CA$406)) | X18: =IF(SUMPRODUCT('Holds '!$Q$4:$Q$406,'Holds '!CB$4:CB$406)=0,"",SUMPRODUCT('Holds '!$Q$4:$Q$406,'Holds '!CB$4:CB$406)) | Y18: =IF(SUMPRODUCT('Holds '!$Q$4:$Q$406,'Holds '!CC$4:CC$406)=0,"",SUMPRODUCT('Holds '!$Q$4:$Q$406,'Holds '!CC$4:CC$406)) | Z18: =IF(SUMPRODUCT('Holds '!$Q$4:$Q$406,'Holds '!CD$4:CD$406)=0,"",SUMPRODUCT('Holds '!$Q$4:$Q$406,'Holds '!CD$4:CD$406)) | AA18: =IF(SUMPRODUCT('Holds '!$Q$4:$Q$406,'Holds '!CE$4:CE$406)=0,"",SUMPRODUCT('Holds '!$Q$4:$Q$406,'Holds '!CE$4:CE$406))
B19: White | C19: =IF(SUMPRODUCT('Holds '!$R$4:$R$406,'Holds '!CG$4:CG$406)=0,"",SUMPRODUCT('Holds '!$R$4:$R$406,'Holds '!CG$4:CG$406)) | D19: =IF(SUMPRODUCT('Holds '!$R$4:$R$406,'Holds '!CH$4:CH$406)=0,"",SUMPRODUCT('Holds '!$R$4:$R$406,'Holds '!CH$4:CH$406)) | E19: =IF(SUMPRODUCT('Holds '!$R$4:$R$406,'Holds '!CI$4:CI$406)=0,"",SUMPRODUCT('Holds '!$R$4:$R$406,'Holds '!CI$4:CI$406)) | G19: White | H19: =IF(SUMPRODUCT('Holds '!$R$4:$R$406,'Holds '!BV$4:BV$406)=0,"",SUMPRODUCT('Holds '!$R$4:$R$406,'Holds '!BV$4:BV$406)) | I19: =IF(SUMPRODUCT('Holds '!$R$4:$R$406,'Holds '!BW$4:BW$406)=0,"",SUMPRODUCT('Holds '!$R$4:$R$406,'Holds '!BW$4:BW$406)) | J19: =IF(SUMPRODUCT('Holds '!$R$4:$R$406,'Holds '!BX$4:BX$406)=0,"",SUMPRODUCT('Holds '!$R$4:$R$406,'Holds '!BX$4:BX$406)) | L19: =IF(SUMPRODUCT('Holds '!$R$4:$R$406,'Holds '!BJ$4:BJ$406)=0,"",SUMPRODUCT('Holds '!$R$4:$R$406,'Holds '!BJ$4:BJ$406)) | M19: =IF(SUMPRODUCT('Holds '!$R$4:$R$406,'Holds '!BK$4:BK$406)=0,"",SUMPRODUCT('Holds '!$R$4:$R$406,'Holds '!BK$4:BK$406)) | N19: =IF(SUMPRODUCT('Holds '!$R$4:$R$406,'Holds '!BL$4:BL$406)=0,"",SUMPRODUCT('Holds '!$R$4:$R$406,'Holds '!BL$4:BL$406)) | O19: =IF(SUMPRODUCT('Holds '!$R$4:$R$406,'Holds '!BM$4:BM$406)=0,"",SUMPRODUCT('Holds '!$R$4:$R$406,'Holds '!BM$4:BM$406)) | P19: =IF(SUMPRODUCT('Holds '!$R$4:$R$406,'Holds '!BN$4:BN$406)=0,"",SUMPRODUCT('Holds '!$R$4:$R$406,'Holds '!BN$4:BN$406)) | Q19: =IF(SUMPRODUCT('Holds '!$R$4:$R$406,'Holds '!BO$4:BO$406)=0,"",SUMPRODUCT('Holds '!$R$4:$R$406,'Holds '!BO$4:BO$406)) | R19: =IF(SUMPRODUCT('Holds '!$R$4:$R$406,'Holds '!BP$4:BP$406)=0,"",SUMPRODUCT('Holds '!$R$4:$R$406,'Holds '!BP$4:BP$406)) | S19: =IF(SUMPRODUCT('Holds '!$R$4:$R$406,'Holds '!BQ$4:BQ$406)=0,"",SUMPRODUCT('Holds '!$R$4:$R$406,'Holds '!BQ$4:BQ$406)) | T19: =IF(SUMPRODUCT('Holds '!$R$4:$R$406,'Holds '!BR$4:BR$406)=0,"",SUMPRODUCT('Holds '!$R$4:$R$406,'Holds '!BR$4:BR$406)) | V19: =IF(SUMPRODUCT('Holds '!$R$4:$R$406,'Holds '!BZ$4:BZ$406)=0,"",SUMPRODUCT('Holds '!$R$4:$R$406,'Holds '!BZ$4:BZ$406)) | W19: =IF(SUMPRODUCT('Holds '!$R$4:$R$406,'Holds '!CA$4:CA$406)=0,"",SUMPRODUCT('Holds '!$R$4:$R$406,'Holds '!CA$4:CA$406)) | X19: =IF(SUMPRODUCT('Holds '!$R$4:$R$406,'Holds '!CB$4:CB$406)=0,"",SUMPRODUCT('Holds '!$R$4:$R$406,'Holds '!CB$4:CB$406)) | Y19: =IF(SUMPRODUCT('Holds '!$R$4:$R$406,'Holds '!CC$4:CC$406)=0,"",SUMPRODUCT('Holds '!$R$4:$R$406,'Holds '!CC$4:CC$406)) | Z19: =IF(SUMPRODUCT('Holds '!$R$4:$R$406,'Holds '!CD$4:CD$406)=0,"",SUMPRODUCT('Holds '!$R$4:$R$406,'Holds '!CD$4:CD$406)) | AA19: =IF(SUMPRODUCT('Holds '!$R$4:$R$406,'Holds '!CE$4:CE$406)=0,"",SUMPRODUCT('Holds '!$R$4:$R$406,'Holds '!CE$4:CE$406))
B20: US Purple | C20: =IF(SUMPRODUCT('Holds '!$S$4:$S$406,'Holds '!CG$4:CG$406)=0,"",SUMPRODUCT('Holds '!$S$4:$S$406,'Holds '!CG$4:CG$406)) | D20: =IF(SUMPRODUCT('Holds '!$S$4:$S$406,'Holds '!CH$4:CH$406)=0,"",SUMPRODUCT('Holds '!$S$4:$S$406,'Holds '!CH$4:CH$406)) | E20: =IF(SUMPRODUCT('Holds '!$S$4:$S$406,'Holds '!CI$4:CI$406)=0,"",SUMPRODUCT('Holds '!$S$4:$S$406,'Holds '!CI$4:CI$406)) | G20: US Purple | H20: =IF(SUMPRODUCT('Holds '!$S$4:$S$406,'Holds '!BV$4:BV$406)=0,"",SUMPRODUCT('Holds '!$S$4:$S$406,'Holds '!BV$4:BV$406)) | I20: =IF(SUMPRODUCT('Holds '!$S$4:$S$406,'Holds '!BW$4:BW$406)=0,"",SUMPRODUCT('Holds '!$S$4:$S$406,'Holds '!BW$4:BW$406)) | J20: =IF(SUMPRODUCT('Holds '!$S$4:$S$406,'Holds '!BX$4:BX$406)=0,"",SUMPRODUCT('Holds '!$S$4:$S$406,'Holds '!BX$4:BX$406)) | L20: =IF(SUMPRODUCT('Holds '!$S$4:$S$406,'Holds '!BJ$4:BJ$406)=0,"",SUMPRODUCT('Holds '!$S$4:$S$406,'Holds '!BJ$4:BJ$406)) | M20: =IF(SUMPRODUCT('Holds '!$S$4:$S$406,'Holds '!BK$4:BK$406)=0,"",SUMPRODUCT('Holds '!$S$4:$S$406,'Holds '!BK$4:BK$406)) | N20: =IF(SUMPRODUCT('Holds '!$S$4:$S$406,'Holds '!BL$4:BL$406)=0,"",SUMPRODUCT('Holds '!$S$4:$S$406,'Holds '!BL$4:BL$406)) | O20: =IF(SUMPRODUCT('Holds '!$S$4:$S$406,'Holds '!BM$4:BM$406)=0,"",SUMPRODUCT('Holds '!$S$4:$S$406,'Holds '!BM$4:BM$406)) | P20: =IF(SUMPRODUCT('Holds '!$S$4:$S$406,'Holds '!BN$4:BN$406)=0,"",SUMPRODUCT('Holds '!$S$4:$S$406,'Holds '!BN$4:BN$406)) | Q20: =IF(SUMPRODUCT('Holds '!$S$4:$S$406,'Holds '!BO$4:BO$406)=0,"",SUMPRODUCT('Holds '!$S$4:$S$406,'Holds '!BO$4:BO$406)) | R20: =IF(SUMPRODUCT('Holds '!$S$4:$S$406,'Holds '!BP$4:BP$406)=0,"",SUMPRODUCT('Holds '!$S$4:$S$406,'Holds '!BP$4:BP$406)) | S20: =IF(SUMPRODUCT('Holds '!$S$4:$S$406,'Holds '!BQ$4:BQ$406)=0,"",SUMPRODUCT('Holds '!$S$4:$S$406,'Holds '!BQ$4:BQ$406)) | T20: =IF(SUMPRODUCT('Holds '!$S$4:$S$406,'Holds '!BR$4:BR$406)=0,"",SUMPRODUCT('Holds '!$S$4:$S$406,'Holds '!BR$4:BR$406)) | V20: =IF(SUMPRODUCT('Holds '!$S$4:$S$406,'Holds '!BZ$4:BZ$406)=0,"",SUMPRODUCT('Holds '!$S$4:$S$406,'Holds '!BZ$4:BZ$406)) | W20: =IF(SUMPRODUCT('Holds '!$S$4:$S$406,'Holds '!CA$4:CA$406)=0,"",SUMPRODUCT('Holds '!$S$4:$S$406,'Holds '!CA$4:CA$406)) | X20: =IF(SUMPRODUCT('Holds '!$S$4:$S$406,'Holds '!CB$4:CB$406)=0,"",SUMPRODUCT('Holds '!$S$4:$S$406,'Holds '!CB$4:CB$406)) | Y20: =IF(SUMPRODUCT('Holds '!$S$4:$S$406,'Holds '!CC$4:CC$406)=0,"",SUMPRODUCT('Holds '!$S$4:$S$406,'Holds '!CC$4:CC$406)) | Z20: =IF(SUMPRODUCT('Holds '!$S$4:$S$406,'Holds '!CD$4:CD$406)=0,"",SUMPRODUCT('Holds '!$S$4:$S$406,'Holds '!CD$4:CD$406)) | AA20: =IF(SUMPRODUCT('Holds '!$S$4:$S$406,'Holds '!CE$4:CE$406)=0,"",SUMPRODUCT('Holds '!$S$4:$S$406,'Holds '!CE$4:CE$406))
B22: Total | C22: =SUM(C10:C20) -> 0 | D22: =SUM(D10:D20) -> 0 | E22: =SUM(E10:E20) -> 0 | G22: Total | H22: =SUM(H10:H20) -> 0 | I22: =SUM(I10:I20) -> 0 | J22: =SUM(J10:J20) -> 0 | L22: =SUM(L10:L20) -> 0 | M22: =SUM(M10:M20) -> 0 | N22: =SUM(N10:N20) -> 0 | O22: =SUM(O10:O20) -> 0 | P22: =SUM(P10:P20) -> 0 | Q22: =SUM(Q10:Q20) -> 0 | R22: =SUM(R10:R20) -> 0 | S22: =SUM(S10:S20) -> 0 | T22: =SUM(T10:T20) -> 0 | V22: =SUM(V10:V20) -> 0 | W22: =SUM(W10:W20) -> 0 | X22: =SUM(X10:X20) -> 0 | Y22: =SUM(Y10:Y20) -> 0 | Z22: =SUM(Z10:Z20) -> 0 | AA22: =SUM(AA10:AA20) -> 0
C27: Difficulty | G27: Size
G28: S | H28: M | I28: L | J28: XL
C29: Easy | D29: Moderate | E29: Hard | G29: 30 - 40 cm | H29: 40 - 60 cm | I29: 60 - 90 cm | J29: 90 - 120 cm
B30: White | C30: =IF(SUMPRODUCT(Macros!$F$4:$F$169,Macros!BW$4:BW$169)=0,"",SUMPRODUCT(Macros!$F$4:$F$169,Macros!BW$4:BW$169)) | D30: =IF(SUMPRODUCT(Macros!$F$4:$F$169,Macros!BX$4:BX$169)=0,"",SUMPRODUCT(Macros!$F$4:$F$169,Macros!BX$4:BX$169)) | E30: =IF(SUMPRODUCT(Macros!$F$4:$F$169,Macros!BY$4:BY$169)=0,"",SUMPRODUCT(Macros!$F$4:$F$169,Macros!BY$4:BY$169)) | G30: =IF(SUMPRODUCT(Macros!$F$4:$F$169,Macros!BQ$4:BQ$169)=0,"",SUMPRODUCT(Macros!$F$4:$F$169,Macros!BQ$4:BQ$169)) | H30: =IF(SUMPRODUCT(Macros!$F$4:$F$169,Macros!BR$4:BR$169)=0,"",SUMPRODUCT(Macros!$F$4:$F$169,Macros!BR$4:BR$169)) | I30: =IF(SUMPRODUCT(Macros!$F$4:$F$169,Macros!BS$4:BS$169)=0,"",SUMPRODUCT(Macros!$F$4:$F$169,Macros!BS$4:BS$169)) | J30: =IF(SUMPRODUCT(Macros!$F$4:$F$169,Macros!BT$4:BT$169)=0,"",SUMPRODUCT(Macros!$F$4:$F$169,Macros!BT$4:BT$169))
B31: Yellow | C31: =IF(SUMPRODUCT(Macros!$G$4:$G$169,Macros!BW$4:BW$169)=0,"",SUMPRODUCT(Macros!$G$4:$G$169,Macros!BW$4:BW$169)) | D31: =IF(SUMPRODUCT(Macros!$G$4:$G$169,Macros!BX$4:BX$169)=0,"",SUMPRODUCT(Macros!$G$4:$G$169,Macros!BX$4:BX$169)) | E31: =IF(SUMPRODUCT(Macros!$G$4:$G$169,Macros!BY$4:BY$169)=0,"",SUMPRODUCT(Macros!$G$4:$G$169,Macros!BY$4:BY$169)) | G31: =IF(SUMPRODUCT(Macros!$G$4:$G$169,Macros!BQ$4:BQ$169)=0,"",SUMPRODUCT(Macros!$G$4:$G$169,Macros!BQ$4:BQ$169)) | H31: =IF(SUMPRODUCT(Macros!$G$4:$G$169,Macros!BR$4:BR$169)=0,"",SUMPRODUCT(Macros!$G$4:$G$169,Macros!BR$4:BR$169)) | I31: =IF(SUMPRODUCT(Macros!$G$4:$G$169,Macros!BS$4:BS$169)=0,"",SUMPRODUCT(Macros!$G$4:$G$169,Macros!BS$4:BS$169)) | J31: =IF(SUMPRODUCT(Macros!$G$4:$G$169,Macros!BT$4:BT$169)=0,"",SUMPRODUCT(Macros!$G$4:$G$169,Macros!BT$4:BT$169))
B32: Red | C32: =IF(SUMPRODUCT(Macros!$H$4:$H$169,Macros!BW$4:BW$169)=0,"",SUMPRODUCT(Macros!$H$4:$H$169,Macros!BW$4:BW$169)) | D32: =IF(SUMPRODUCT(Macros!$H$4:$H$169,Macros!BX$4:BX$169)=0,"",SUMPRODUCT(Macros!$H$4:$H$169,Macros!BX$4:BX$169)) | E32: =IF(SUMPRODUCT(Macros!$H$4:$H$169,Macros!BY$4:BY$169)=0,"",SUMPRODUCT(Macros!$H$4:$H$169,Macros!BY$4:BY$169)) | G32: =IF(SUMPRODUCT(Macros!$H$4:$H$169,Macros!BQ$4:BQ$169)=0,"",SUMPRODUCT(Macros!$H$4:$H$169,Macros!BQ$4:BQ$169)) | H32: =IF(SUMPRODUCT(Macros!$H$4:$H$169,Macros!BR$4:BR$169)=0,"",SUMPRODUCT(Macros!$H$4:$H$169,Macros!BR$4:BR$169)) | I32: =IF(SUMPRODUCT(Macros!$H$4:$H$169,Macros!BS$4:BS$169)=0,"",SUMPRODUCT(Macros!$H$4:$H$169,Macros!BS$4:BS$169)) | J32: =IF(SUMPRODUCT(Macros!$H$4:$H$169,Macros!BT$4:BT$169)=0,"",SUMPRODUCT(Macros!$H$4:$H$169,Macros!BT$4:BT$169))
B33: Blue | C33: =IF(SUMPRODUCT(Macros!$I$4:$I$169,Macros!BW$4:BW$169)=0,"",SUMPRODUCT(Macros!$I$4:$I$169,Macros!BW$4:BW$169)) | D33: =IF(SUMPRODUCT(Macros!$I$4:$I$169,Macros!BX$4:BX$169)=0,"",SUMPRODUCT(Macros!$I$4:$I$169,Macros!BX$4:BX$169)) | E33: =IF(SUMPRODUCT(Macros!$I$4:$I$169,Macros!BY$4:BY$169)=0,"",SUMPRODUCT(Macros!$I$4:$I$169,Macros!BY$4:BY$169)) | G33: =IF(SUMPRODUCT(Macros!$I$4:$I$169,Macros!BQ$4:BQ$169)=0,"",SUMPRODUCT(Macros!$I$4:$I$169,Macros!BQ$4:BQ$169)) | H33: =IF(SUMPRODUCT(Macros!$I$4:$I$169,Macros!BR$4:BR$169)=0,"",SUMPRODUCT(Macros!$I$4:$I$169,Macros!BR$4:BR$169)) | I33: =IF(SUMPRODUCT(Macros!$I$4:$I$169,Macros!BS$4:BS$169)=0,"",SUMPRODUCT(Macros!$I$4:$I$169,Macros!BS$4:BS$169)) | J33: =IF(SUMPRODUCT(Macros!$I$4:$I$169,Macros!BT$4:BT$169)=0,"",SUMPRODUCT(Macros!$I$4:$I$169,Macros!BT$4:BT$169))
B34: Black | C34: =IF(SUMPRODUCT(Macros!$J$4:$J$169,Macros!BW$4:BW$169)=0,"",SUMPRODUCT(Macros!$J$4:$J$169,Macros!BW$4:BW$169)) | D34: =IF(SUMPRODUCT(Macros!$J$4:$J$169,Macros!BX$4:BX$169)=0,"",SUMPRODUCT(Macros!$J$4:$J$169,Macros!BX$4:BX$169)) | E34: =IF(SUMPRODUCT(Macros!$J$4:$J$169,Macros!BY$4:BY$169)=0,"",SUMPRODUCT(Macros!$J$4:$J$169,Macros!BY$4:BY$169)) | G34: =IF(SUMPRODUCT(Macros!$J$4:$J$169,Macros!BQ$4:BQ$169)=0,"",SUMPRODUCT(Macros!$J$4:$J$169,Macros!BQ$4:BQ$169)) | H34: =IF(SUMPRODUCT(Macros!$J$4:$J$169,Macros!BR$4:BR$169)=0,"",SUMPRODUCT(Macros!$J$4:$J$169,Macros!BR$4:BR$169)) | I34: =IF(SUMPRODUCT(Macros!$J$4:$J$169,Macros!BS$4:BS$169)=0,"",SUMPRODUCT(Macros!$J$4:$J$169,Macros!BS$4:BS$169)) | J34: =IF(SUMPRODUCT(Macros!$J$4:$J$169,Macros!BT$4:BT$169)=0,"",SUMPRODUCT(Macros!$J$4:$J$169,Macros!BT$4:BT$169))
A35: MACROS | B35: Fluo Orange | C35: =IF(SUMPRODUCT(Macros!$K$4:$K$169,Macros!BW$4:BW$169)=0,"",SUMPRODUCT(Macros!$K$4:$K$169,Macros!BW$4:BW$169)) | D35: =IF(SUMPRODUCT(Macros!$K$4:$K$169,Macros!BX$4:BX$169)=0,"",SUMPRODUCT(Macros!$K$4:$K$169,Macros!BX$4:BX$169)) | E35: =IF(SUMPRODUCT(Macros!$K$4:$K$169,Macros!BY$4:BY$169)=0,"",SUMPRODUCT(Macros!$K$4:$K$169,Macros!BY$4:BY$169)) | G35: =IF(SUMPRODUCT(Macros!$K$4:$K$169,Macros!BQ$4:BQ$169)=0,"",SUMPRODUCT(Macros!$K$4:$K$169,Macros!BQ$4:BQ$169)) | H35: =IF(SUMPRODUCT(Macros!$K$4:$K$169,Macros!BR$4:BR$169)=0,"",SUMPRODUCT(Macros!$K$4:$K$169,Macros!BR$4:BR$169)) | I35: =IF(SUMPRODUCT(Macros!$K$4:$K$169,Macros!BS$4:BS$169)=0,"",SUMPRODUCT(Macros!$K$4:$K$169,Macros!BS$4:BS$169)) | J35: =IF(SUMPRODUCT(Macros!$K$4:$K$169,Macros!BT$4:BT$169)=0,"",SUMPRODUCT(Macros!$K$4:$K$169,Macros!BT$4:BT$169))
B36: Fluo Green | C36: =IF(SUMPRODUCT(Macros!$L$4:$L$169,Macros!BW$4:BW$169)=0,"",SUMPRODUCT(Macros!$L$4:$L$169,Macros!BW$4:BW$169)) | D36: =IF(SUMPRODUCT(Macros!$L$4:$L$169,Macros!BX$4:BX$169)=0,"",SUMPRODUCT(Macros!$L$4:$L$169,Macros!BX$4:BX$169)) | E36: =IF(SUMPRODUCT(Macros!$L$4:$L$169,Macros!BY$4:BY$169)=0,"",SUMPRODUCT(Macros!$L$4:$L$169,Macros!BY$4:BY$169)) | G36: =IF(SUMPRODUCT(Macros!$L$4:$L$169,Macros!BQ$4:BQ$169)=0,"",SUMPRODUCT(Macros!$L$4:$L$169,Macros!BQ$4:BQ$169)) | H36: =IF(SUMPRODUCT(Macros!$L$4:$L$169,Macros!BR$4:BR$169)=0,"",SUMPRODUCT(Macros!$L$4:$L$169,Macros!BR$4:BR$169)) | I36: =IF(SUMPRODUCT(Macros!$L$4:$L$169,Macros!BS$4:BS$169)=0,"",SUMPRODUCT(Macros!$L$4:$L$169,Macros!BS$4:BS$169)) | J36: =IF(SUMPRODUCT(Macros!$L$4:$L$169,Macros!BT$4:BT$169)=0,"",SUMPRODUCT(Macros!$L$4:$L$169,Macros!BT$4:BT$169))
B37: Fluo Pink | C37: =IF(SUMPRODUCT(Macros!$M$4:$M$169,Macros!BW$4:BW$169)=0,"",SUMPRODUCT(Macros!$M$4:$M$169,Macros!BW$4:BW$169)) | D37: =IF(SUMPRODUCT(Macros!$M$4:$M$169,Macros!BX$4:BX$169)=0,"",SUMPRODUCT(Macros!$M$4:$M$169,Macros!BX$4:BX$169)) | E37: =IF(SUMPRODUCT(Macros!$M$4:$M$169,Macros!BY$4:BY$169)=0,"",SUMPRODUCT(Macros!$M$4:$M$169,Macros!BY$4:BY$169)) | G37: =IF(SUMPRODUCT(Macros!$M$4:$M$169,Macros!BQ$4:BQ$169)=0,"",SUMPRODUCT(Macros!$M$4:$M$169,Macros!BQ$4:BQ$169)) | H37: =IF(SUMPRODUCT(Macros!$M$4:$M$169,Macros!BR$4:BR$169)=0,"",SUMPRODUCT(Macros!$M$4:$M$169,Macros!BR$4:BR$169)) | I37: =IF(SUMPRODUCT(Macros!$M$4:$M$169,Macros!BS$4:BS$169)=0,"",SUMPRODUCT(Macros!$M$4:$M$169,Macros!BS$4:BS$169)) | J37: =IF(SUMPRODUCT(Macros!$M$4:$M$169,Macros!BT$4:BT$169)=0,"",SUMPRODUCT(Macros!$M$4:$M$169,Macros!BT$4:BT$169))
B38: Violet | C38: =IF(SUMPRODUCT(Macros!$N$4:$N$169,Macros!BW$4:BW$169)=0,"",SUMPRODUCT(Macros!$N$4:$N$169,Macros!BW$4:BW$169)) | D38: =IF(SUMPRODUCT(Macros!$N$4:$N$169,Macros!BX$4:BX$169)=0,"",SUMPRODUCT(Macros!$N$4:$N$169,Macros!BX$4:BX$169)) | E38: =IF(SUMPRODUCT(Macros!$N$4:$N$169,Macros!BY$4:BY$169)=0,"",SUMPRODUCT(Macros!$N$4:$N$169,Macros!BY$4:BY$169)) | G38: =IF(SUMPRODUCT(Macros!$N$4:$N$169,Macros!BQ$4:BQ$169)=0,"",SUMPRODUCT(Macros!$N$4:$N$169,Macros!BQ$4:BQ$169)) | H38: =IF(SUMPRODUCT(Macros!$N$4:$N$169,Macros!BR$4:BR$169)=0,"",SUMPRODUCT(Macros!$N$4:$N$169,Macros!BR$4:BR$169)) | I38: =IF(SUMPRODUCT(Macros!$N$4:$N$169,Macros!BS$4:BS$169)=0,"",SUMPRODUCT(Macros!$N$4:$N$169,Macros!BS$4:BS$169)) | J38: =IF(SUMPRODUCT(Macros!$N$4:$N$169,Macros!BT$4:BT$169)=0,"",SUMPRODUCT(Macros!$N$4:$N$169,Macros!BT$4:BT$169))
B39: Mint | C39: =IF(SUMPRODUCT(Macros!$O$4:$O$169,Macros!BW$4:BW$169)=0,"",SUMPRODUCT(Macros!$O$4:$O$169,Macros!BW$4:BW$169)) | D39: =IF(SUMPRODUCT(Macros!$O$4:$O$169,Macros!BX$4:BX$169)=0,"",SUMPRODUCT(Macros!$O$4:$O$169,Macros!BX$4:BX$169)) | E39: =IF(SUMPRODUCT(Macros!$O$4:$O$169,Macros!BY$4:BY$169)=0,"",SUMPRODUCT(Macros!$O$4:$O$169,Macros!BY$4:BY$169)) | G39: =IF(SUMPRODUCT(Macros!$O$4:$O$169,Macros!BQ$4:BQ$169)=0,"",SUMPRODUCT(Macros!$O$4:$O$169,Macros!BQ$4:BQ$169)) | H39: =IF(SUMPRODUCT(Macros!$O$4:$O$169,Macros!BR$4:BR$169)=0,"",SUMPRODUCT(Macros!$O$4:$O$169,Macros!BR$4:BR$169)) | I39: =IF(SUMPRODUCT(Macros!$O$4:$O$169,Macros!BS$4:BS$169)=0,"",SUMPRODUCT(Macros!$O$4:$O$169,Macros!BS$4:BS$169)) | J39: =IF(SUMPRODUCT(Macros!$O$4:$O$169,Macros!BT$4:BT$169)=0,"",SUMPRODUCT(Macros!$O$4:$O$169,Macros!BT$4:BT$169))
B40: Dark Green | C40: =IF(SUMPRODUCT(Macros!$P$4:$P$169,Macros!BW$4:BW$169)=0,"",SUMPRODUCT(Macros!$P$4:$P$169,Macros!BW$4:BW$169)) | D40: =IF(SUMPRODUCT(Macros!$P$4:$P$169,Macros!BX$4:BX$169)=0,"",SUMPRODUCT(Macros!$P$4:$P$169,Macros!BX$4:BX$169)) | E40: =IF(SUMPRODUCT(Macros!$P$4:$P$169,Macros!BY$4:BY$169)=0,"",SUMPRODUCT(Macros!$P$4:$P$169,Macros!BY$4:BY$169)) | G40: =IF(SUMPRODUCT(Macros!$P$4:$P$169,Macros!BQ$4:BQ$169)=0,"",SUMPRODUCT(Macros!$P$4:$P$169,Macros!BQ$4:BQ$169)) | H40: =IF(SUMPRODUCT(Macros!$P$4:$P$169,Macros!BR$4:BR$169)=0,"",SUMPRODUCT(Macros!$P$4:$P$169,Macros!BR$4:BR$169)) | I40: =IF(SUMPRODUCT(Macros!$P$4:$P$169,Macros!BS$4:BS$169)=0,"",SUMPRODUCT(Macros!$P$4:$P$169,Macros!BS$4:BS$169)) | J40: =IF(SUMPRODUCT(Macros!$P$4:$P$169,Macros!BT$4:BT$169)=0,"",SUMPRODUCT(Macros!$P$4:$P$169,Macros!BT$4:BT$169))
B41: Dark Grey | C41: =IF(SUMPRODUCT(Macros!$Q$4:$Q$169,Macros!BW$4:BW$169)=0,"",SUMPRODUCT(Macros!$Q$4:$Q$169,Macros!BW$4:BW$169)) | D41: =IF(SUMPRODUCT(Macros!$Q$4:$Q$169,Macros!BX$4:BX$169)=0,"",SUMPRODUCT(Macros!$Q$4:$Q$169,Macros!BX$4:BX$169)) | E41: =IF(SUMPRODUCT(Macros!$Q$4:$Q$169,Macros!BY$4:BY$169)=0,"",SUMPRODUCT(Macros!$Q$4:$Q$169,Macros!BY$4:BY$169)) | G41: =IF(SUMPRODUCT(Macros!$Q$4:$Q$169,Macros!BQ$4:BQ$169)=0,"",SUMPRODUCT(Macros!$Q$4:$Q$169,Macros!BQ$4:BQ$169)) | H41: =IF(SUMPRODUCT(Macros!$Q$4:$Q$169,Macros!BR$4:BR$169)=0,"",SUMPRODUCT(Macros!$Q$4:$Q$169,Macros!BR$4:BR$169)) | I41: =IF(SUMPRODUCT(Macros!$Q$4:$Q$169,Macros!BS$4:BS$169)=0,"",SUMPRODUCT(Macros!$Q$4:$Q$169,Macros!BS$4:BS$169)) | J41: =IF(SUMPRODUCT(Macros!$Q$4:$Q$169,Macros!BT$4:BT$169)=0,"",SUMPRODUCT(Macros!$Q$4:$Q$169,Macros!BT$4:BT$169))
B43: Total | C43: =SUM(C33:C41) -> 0 | D43: =SUM(D33:D41) -> 0 | E43: =SUM(E33:E41) -> 0 | G43: =SUM(G33:G41) -> 0 | H43: =SUM(H33:H41) -> 0 | I43: =SUM(I33:I41) -> 0 | J43: =SUM(J33:J41) -> 0
C48: SKY-BASE | J48: LINK HYBRID | Q48: CAMEMBERT
C50: Size | J50: Size
C51: XS | D51: S | E51: M | F51: L | G51: XL | H51: XXL | J51: XS | K51: S | L51: M | M51: L | N51: XL | O51: XXL | Q51: Difficulty
C52: < 30 cm | D52: 30 - 40 cm | E52: 40 - 60 cm | F52: 60 - 90 cm | G52: 90 - 120 cm | H52: > 120 cm | J52: < 30 cm | K52: 30 - 40 cm | L52: 40 - 60 cm | M52: 60 - 90 cm | N52: 90 - 120 cm | O52: > 120 cm | Q52: Easy | R52: Moderate | S52: Hard
B53: Yellow | C53: =IF(SUMPRODUCT(Hybrids!$F$26:$F$37,Hybrids!BJ$26:BJ$37)=0,"",SUMPRODUCT(Hybrids!$F$26:$F$37,Hybrids!BJ$26:BJ$37)) | D53: =IF(SUMPRODUCT(Hybrids!$F$26:$F$37,Hybrids!BK$26:BK$37)=0,"",SUMPRODUCT(Hybrids!$F$26:$F$37,Hybrids!BK$26:BK$37)) | E53: =IF(SUMPRODUCT(Hybrids!$F$26:$F$37,Hybrids!BL$26:BL$37)=0,"",SUMPRODUCT(Hybrids!$F$26:$F$37,Hybrids!BL$26:BL$37)) | F53: =IF(SUMPRODUCT(Hybrids!$F$26:$F$37,Hybrids!BM$26:BM$37)=0,"",SUMPRODUCT(Hybrids!$F$26:$F$37,Hybrids!BM$26:BM$37)) | G53: =IF(SUMPRODUCT(Hybrids!$F$26:$F$37,Hybrids!BN$26:BN$37)=0,"",SUMPRODUCT(Hybrids!$F$26:$F$37,Hybrids!BN$26:BN$37)) | H53: =IF(SUMPRODUCT(Hybrids!$F$26:$F$37,Hybrids!BO$26:BO$37)=0,"",SUMPRODUCT(Hybrids!$F$26:$F$37,Hybrids!BO$26:BO$37)) | J53: =IF(SUMPRODUCT(Hybrids!$F$38:$F$49,Hybrids!BJ$38:BJ$49)=0,"",SUMPRODUCT(Hybrids!$F$38:$F$49,Hybrids!BJ$38:BJ$49)) | K53: =IF(SUMPRODUCT(Hybrids!$F$38:$F$49,Hybrids!BK$38:BK$49)=0,"",SUMPRODUCT(Hybrids!$F$38:$F$49,Hybrids!BK$38:BK$49)) | L53: =IF(SUMPRODUCT(Hybrids!$F$38:$F$49,Hybrids!BL$38:BL$49)=0,"",SUMPRODUCT(Hybrids!$F$38:$F$49,Hybrids!BL$38:BL$49)) | M53: =IF(SUMPRODUCT(Hybrids!$F$38:$F$49,Hybrids!BM$38:BM$49)=0,"",SUMPRODUCT(Hybrids!$F$38:$F$49,Hybrids!BM$38:BM$49)) | N53: =IF(SUMPRODUCT(Hybrids!$F$38:$F$49,Hybrids!BN$38:BN$49)=0,"",SUMPRODUCT(Hybrids!$F$38:$F$49,Hybrids!BN$38:BN$49)) | O53: =IF(SUMPRODUCT(Hybrids!$F$38:$F$49,Hybrids!BO$38:BO$49)=0,"",SUMPRODUCT(Hybrids!$F$38:$F$49,Hybrids!BO$38:BO$49)) | Q53: =IF(SUMPRODUCT(Hybrids!$F$4:$F$14,Hybrids!BP$4:BP14)=0,"",SUMPRODUCT(Hybrids!$F$4:$F$14,Hybrids!BP$4:BP14)) | R53: =IF(SUMPRODUCT(Hybrids!$F$4:$F$14,Hybrids!BQ$4:BQ14)=0,"",SUMPRODUCT(Hybrids!$F$4:$F$14,Hybrids!BQ$4:BQ14)) | S53: =IF(SUMPRODUCT(Hybrids!$F$4:$F$14,Hybrids!BR$4:BR14)=0,"",SUMPRODUCT(Hybrids!$F$4:$F$14,Hybrids!BR$4:BR14))
B54: Red | C54: =IF(SUMPRODUCT(Hybrids!$G$26:$G$37,Hybrids!BJ$26:BJ$37)=0,"",SUMPRODUCT(Hybrids!$G$26:$G$37,Hybrids!BJ$26:BJ$37)) | D54: =IF(SUMPRODUCT(Hybrids!$G$26:$G$37,Hybrids!BK$26:BK$37)=0,"",SUMPRODUCT(Hybrids!$G$26:$G$37,Hybrids!BK$26:BK$37)) | E54: =IF(SUMPRODUCT(Hybrids!$G$26:$G$37,Hybrids!BL$26:BL$37)=0,"",SUMPRODUCT(Hybrids!$G$26:$G$37,Hybrids!BL$26:BL$37)) | F54: =IF(SUMPRODUCT(Hybrids!$G$26:$G$37,Hybrids!BM$26:BM$37)=0,"",SUMPRODUCT(Hybrids!$G$26:$G$37,Hybrids!BM$26:BM$37)) | G54: =IF(SUMPRODUCT(Hybrids!$G$26:$G$37,Hybrids!BN$26:BN$37)=0,"",SUMPRODUCT(Hybrids!$G$26:$G$37,Hybrids!BN$26:BN$37)) | H54: =IF(SUMPRODUCT(Hybrids!$G$26:$G$37,Hybrids!BO$26:BO$37)=0,"",SUMPRODUCT(Hybrids!$G$26:$G$37,Hybrids!BO$26:BO$37)) | J54: =IF(SUMPRODUCT(Hybrids!$G$38:$G$49,Hybrids!BJ$38:BJ$49)=0,"",SUMPRODUCT(Hybrids!$G$38:$G$49,Hybrids!BJ$38:BJ$49)) | K54: =IF(SUMPRODUCT(Hybrids!$G$38:$G$49,Hybrids!BK$38:BK$49)=0,"",SUMPRODUCT(Hybrids!$G$38:$G$49,Hybrids!BK$38:BK$49)) | L54: =IF(SUMPRODUCT(Hybrids!$G$38:$G$49,Hybrids!BL$38:BL$49)=0,"",SUMPRODUCT(Hybrids!$G$38:$G$49,Hybrids!BL$38:BL$49)) | M54: =IF(SUMPRODUCT(Hybrids!$G$38:$G$49,Hybrids!BM$38:BM$49)=0,"",SUMPRODUCT(Hybrids!$G$38:$G$49,Hybrids!BM$38:BM$49)) | N54: =IF(SUMPRODUCT(Hybrids!$G$38:$G$49,Hybrids!BN$38:BN$49)=0,"",SUMPRODUCT(Hybrids!$G$38:$G$49,Hybrids!BN$38:BN$49)) | O54: =IF(SUMPRODUCT(Hybrids!$G$38:$G$49,Hybrids!BO$38:BO$49)=0,"",SUMPRODUCT(Hybrids!$G$38:$G$49,Hybrids!BO$38:BO$49)) | Q54: =IF(SUMPRODUCT(Hybrids!$G$4:$G$14,Hybrids!BP$4:BP14)=0,"",SUMPRODUCT(Hybrids!$G$4:$G$14,Hybrids!BP$4:BP14)) | R54: =IF(SUMPRODUCT(Hybrids!$G$4:$G$14,Hybrids!BQ$4:BQ14)=0,"",SUMPRODUCT(Hybrids!$G$4:$G$14,Hybrids!BQ$4:BQ14)) | S54: =IF(SUMPRODUCT(Hybrids!$G$4:$G$14,Hybrids!BR$4:BR14)=0,"",SUMPRODUCT(Hybrids!$G$4:$G$14,Hybrids!BR$4:BR14))
B55: Blue | C55: =IF(SUMPRODUCT(Hybrids!$H$26:$H$37,Hybrids!BJ$26:BJ$37)=0,"",SUMPRODUCT(Hybrids!$H$26:$H$37,Hybrids!BJ$26:BJ$37)) | D55: =IF(SUMPRODUCT(Hybrids!$H$26:$H$37,Hybrids!BK$26:BK$37)=0,"",SUMPRODUCT(Hybrids!$H$26:$H$37,Hybrids!BK$26:BK$37)) | E55: =IF(SUMPRODUCT(Hybrids!$H$26:$H$37,Hybrids!BL$26:BL$37)=0,"",SUMPRODUCT(Hybrids!$H$26:$H$37,Hybrids!BL$26:BL$37)) | F55: =IF(SUMPRODUCT(Hybrids!$H$26:$H$37,Hybrids!BM$26:BM$37)=0,"",SUMPRODUCT(Hybrids!$H$26:$H$37,Hybrids!BM$26:BM$37)) | G55: =IF(SUMPRODUCT(Hybrids!$H$26:$H$37,Hybrids!BN$26:BN$37)=0,"",SUMPRODUCT(Hybrids!$H$26:$H$37,Hybrids!BN$26:BN$37)) | H55: =IF(SUMPRODUCT(Hybrids!$H$26:$H$37,Hybrids!BO$26:BO$37)=0,"",SUMPRODUCT(Hybrids!$H$26:$H$37,Hybrids!BO$26:BO$37)) | J55: =IF(SUMPRODUCT(Hybrids!$H$38:$H$49,Hybrids!BJ$38:BJ$49)=0,"",SUMPRODUCT(Hybrids!$H$38:$H$49,Hybrids!BJ$38:BJ$49)) | K55: =IF(SUMPRODUCT(Hybrids!$H$38:$H$49,Hybrids!BK$38:BK$49)=0,"",SUMPRODUCT(Hybrids!$H$38:$H$49,Hybrids!BK$38:BK$49)) | L55: =IF(SUMPRODUCT(Hybrids!$H$38:$H$49,Hybrids!BL$38:BL$49)=0,"",SUMPRODUCT(Hybrids!$H$38:$H$49,Hybrids!BL$38:BL$49)) | M55: =IF(SUMPRODUCT(Hybrids!$H$38:$H$49,Hybrids!BM$38:BM$49)=0,"",SUMPRODUCT(Hybrids!$H$38:$H$49,Hybrids!BM$38:BM$49)) | N55: =IF(SUMPRODUCT(Hybrids!$H$38:$H$49,Hybrids!BN$38:BN$49)=0,"",SUMPRODUCT(Hybrids!$H$38:$H$49,Hybrids!BN$38:BN$49)) | O55: =IF(SUMPRODUCT(Hybrids!$H$38:$H$49,Hybrids!BO$38:BO$49)=0,"",SUMPRODUCT(Hybrids!$H$38:$H$49,Hybrids!BO$38:BO$49)) | Q55: =IF(SUMPRODUCT(Hybrids!$H$4:$H$14,Hybrids!BP$4:BP14)=0,"",SUMPRODUCT(Hybrids!$H$4:$H$14,Hybrids!BP$4:BP14)) | R55: =IF(SUMPRODUCT(Hybrids!$H$4:$H$14,Hybrids!BQ$4:BQ14)=0,"",SUMPRODUCT(Hybrids!$H$4:$H$14,Hybrids!BQ$4:BQ14)) | S55: =IF(SUMPRODUCT(Hybrids!$H$4:$H$14,Hybrids!BR$4:BR14)=0,"",SUMPRODUCT(Hybrids!$H$4:$H$14,Hybrids!BR$4:BR14))
B56: Black | C56: =IF(SUMPRODUCT(Hybrids!$I$26:$I$37,Hybrids!BJ$26:BJ$37)=0,"",SUMPRODUCT(Hybrids!$I$26:$I$37,Hybrids!BJ$26:BJ$37)) | D56: =IF(SUMPRODUCT(Hybrids!$I$26:$I$37,Hybrids!BK$26:BK$37)=0,"",SUMPRODUCT(Hybrids!$I$26:$I$37,Hybrids!BK$26:BK$37)) | E56: =IF(SUMPRODUCT(Hybrids!$I$26:$I$37,Hybrids!BL$26:BL$37)=0,"",SUMPRODUCT(Hybrids!$I$26:$I$37,Hybrids!BL$26:BL$37)) | F56: =IF(SUMPRODUCT(Hybrids!$I$26:$I$37,Hybrids!BM$26:BM$37)=0,"",SUMPRODUCT(Hybrids!$I$26:$I$37,Hybrids!BM$26:BM$37)) | G56: =IF(SUMPRODUCT(Hybrids!$I$26:$I$37,Hybrids!BN$26:BN$37)=0,"",SUMPRODUCT(Hybrids!$I$26:$I$37,Hybrids!BN$26:BN$37)) | H56: =IF(SUMPRODUCT(Hybrids!$I$26:$I$37,Hybrids!BO$26:BO$37)=0,"",SUMPRODUCT(Hybrids!$I$26:$I$37,Hybrids!BO$26:BO$37)) | J56: =IF(SUMPRODUCT(Hybrids!$I$38:$I$49,Hybrids!BJ$38:BJ$49)=0,"",SUMPRODUCT(Hybrids!$I$38:$I$49,Hybrids!BJ$38:BJ$49)) | K56: =IF(SUMPRODUCT(Hybrids!$I$38:$I$49,Hybrids!BK$38:BK$49)=0,"",SUMPRODUCT(Hybrids!$I$38:$I$49,Hybrids!BK$38:BK$49)) | L56: =IF(SUMPRODUCT(Hybrids!$I$38:$I$49,Hybrids!BL$38:BL$49)=0,"",SUMPRODUCT(Hybrids!$I$38:$I$49,Hybrids!BL$38:BL$49)) | M56: =IF(SUMPRODUCT(Hybrids!$I$38:$I$49,Hybrids!BM$38:BM$49)=0,"",SUMPRODUCT(Hybrids!$I$38:$I$49,Hybrids!BM$38:BM$49)) | N56: =IF(SUMPRODUCT(Hybrids!$I$38:$I$49,Hybrids!BN$38:BN$49)=0,"",SUMPRODUCT(Hybrids!$I$38:$I$49,Hybrids!BN$38:BN$49)) | O56: =IF(SUMPRODUCT(Hybrids!$I$38:$I$49,Hybrids!BO$38:BO$49)=0,"",SUMPRODUCT(Hybrids!$I$38:$I$49,Hybrids!BO$38:BO$49)) | Q56: =IF(SUMPRODUCT(Hybrids!$I$4:$I$14,Hybrids!BP$4:BP14)=0,"",SUMPRODUCT(Hybrids!$I$4:$I$14,Hybrids!BP$4:BP14)) | R56: =IF(SUMPRODUCT(Hybrids!$I$4:$I$14,Hybrids!BQ$4:BQ14)=0,"",SUMPRODUCT(Hybrids!$I$4:$I$14,Hybrids!BQ$4:BQ14)) | S56: =IF(SUMPRODUCT(Hybrids!$I$4:$I$14,Hybrids!BR$4:BR14)=0,"",SUMPRODUCT(Hybrids!$I$4:$I$14,Hybrids!BR$4:BR14))
B57: Fluo Orange | C57: =IF(SUMPRODUCT(Hybrids!$J$26:$J$37,Hybrids!BJ$26:BJ$37)=0,"",SUMPRODUCT(Hybrids!$J$26:$J$37,Hybrids!BJ$26:BJ$37)) | D57: =IF(SUMPRODUCT(Hybrids!$J$26:$J$37,Hybrids!BK$26:BK$37)=0,"",SUMPRODUCT(Hybrids!$J$26:$J$37,Hybrids!BK$26:BK$37)) | E57: =IF(SUMPRODUCT(Hybrids!$J$26:$J$37,Hybrids!BL$26:BL$37)=0,"",SUMPRODUCT(Hybrids!$J$26:$J$37,Hybrids!BL$26:BL$37)) | F57: =IF(SUMPRODUCT(Hybrids!$J$26:$J$37,Hybrids!BM$26:BM$37)=0,"",SUMPRODUCT(Hybrids!$J$26:$J$37,Hybrids!BM$26:BM$37)) | G57: =IF(SUMPRODUCT(Hybrids!$J$26:$J$37,Hybrids!BN$26:BN$37)=0,"",SUMPRODUCT(Hybrids!$J$26:$J$37,Hybrids!BN$26:BN$37)) | H57: =IF(SUMPRODUCT(Hybrids!$J$26:$J$37,Hybrids!BO$26:BO$37)=0,"",SUMPRODUCT(Hybrids!$J$26:$J$37,Hybrids!BO$26:BO$37)) | J57: =IF(SUMPRODUCT(Hybrids!$J$38:$J$49,Hybrids!BJ$38:BJ$49)=0,"",SUMPRODUCT(Hybrids!$J$38:$J$49,Hybrids!BJ$38:BJ$49)) | K57: =IF(SUMPRODUCT(Hybrids!$J$38:$J$49,Hybrids!BK$38:BK$49)=0,"",SUMPRODUCT(Hybrids!$J$38:$J$49,Hybrids!BK$38:BK$49)) | L57: =IF(SUMPRODUCT(Hybrids!$J$38:$J$49,Hybrids!BL$38:BL$49)=0,"",SUMPRODUCT(Hybrids!$J$38:$J$49,Hybrids!BL$38:BL$49)) | M57: =IF(SUMPRODUCT(Hybrids!$J$38:$J$49,Hybrids!BM$38:BM$49)=0,"",SUMPRODUCT(Hybrids!$J$38:$J$49,Hybrids!BM$38:BM$49)) | N57: =IF(SUMPRODUCT(Hybrids!$J$38:$J$49,Hybrids!BN$38:BN$49)=0,"",SUMPRODUCT(Hybrids!$J$38:$J$49,Hybrids!BN$38:BN$49)) | O57: =IF(SUMPRODUCT(Hybrids!$J$38:$J$49,Hybrids!BO$38:BO$49)=0,"",SUMPRODUCT(Hybrids!$J$38:$J$49,Hybrids!BO$38:BO$49)) | Q57: =IF(SUMPRODUCT(Hybrids!$J$4:$J$14,Hybrids!BP$4:BP14)=0,"",SUMPRODUCT(Hybrids!$J$4:$J$14,Hybrids!BP$4:BP14)) | R57: =IF(SUMPRODUCT(Hybrids!$J$4:$J$14,Hybrids!BQ$4:BQ14)=0,"",SUMPRODUCT(Hybrids!$J$4:$J$14,Hybrids!BQ$4:BQ14)) | S57: =IF(SUMPRODUCT(Hybrids!$J$4:$J$14,Hybrids!BR$4:BR14)=0,"",SUMPRODUCT(Hybrids!$J$4:$J$14,Hybrids!BR$4:BR14))
B58: Fluo Gren | C58: =IF(SUMPRODUCT(Hybrids!$K$26:$K$37,Hybrids!BJ$26:BJ$37)=0,"",SUMPRODUCT(Hybrids!$K$26:$K$37,Hybrids!BJ$26:BJ$37)) | D58: =IF(SUMPRODUCT(Hybrids!$K$26:$K$37,Hybrids!BK$26:BK$37)=0,"",SUMPRODUCT(Hybrids!$K$26:$K$37,Hybrids!BK$26:BK$37)) | E58: =IF(SUMPRODUCT(Hybrids!$K$26:$K$37,Hybrids!BL$26:BL$37)=0,"",SUMPRODUCT(Hybrids!$K$26:$K$37,Hybrids!BL$26:BL$37)) | F58: =IF(SUMPRODUCT(Hybrids!$K$26:$K$37,Hybrids!BM$26:BM$37)=0,"",SUMPRODUCT(Hybrids!$K$26:$K$37,Hybrids!BM$26:BM$37)) | G58: =IF(SUMPRODUCT(Hybrids!$K$26:$K$37,Hybrids!BN$26:BN$37)=0,"",SUMPRODUCT(Hybrids!$K$26:$K$37,Hybrids!BN$26:BN$37)) | H58: =IF(SUMPRODUCT(Hybrids!$K$26:$K$37,Hybrids!BO$26:BO$37)=0,"",SUMPRODUCT(Hybrids!$K$26:$K$37,Hybrids!BO$26:BO$37)) | J58: =IF(SUMPRODUCT(Hybrids!$K$38:$K$49,Hybrids!BJ$38:BJ$49)=0,"",SUMPRODUCT(Hybrids!$K$38:$K$49,Hybrids!BJ$38:BJ$49)) | K58: =IF(SUMPRODUCT(Hybrids!$K$38:$K$49,Hybrids!BK$38:BK$49)=0,"",SUMPRODUCT(Hybrids!$K$38:$K$49,Hybrids!BK$38:BK$49)) | L58: =IF(SUMPRODUCT(Hybrids!$K$38:$K$49,Hybrids!BL$38:BL$49)=0,"",SUMPRODUCT(Hybrids!$K$38:$K$49,Hybrids!BL$38:BL$49)) | M58: =IF(SUMPRODUCT(Hybrids!$K$38:$K$49,Hybrids!BM$38:BM$49)=0,"",SUMPRODUCT(Hybrids!$K$38:$K$49,Hybrids!BM$38:BM$49)) | N58: =IF(SUMPRODUCT(Hybrids!$K$38:$K$49,Hybrids!BN$38:BN$49)=0,"",SUMPRODUCT(Hybrids!$K$38:$K$49,Hybrids!BN$38:BN$49)) | O58: =IF(SUMPRODUCT(Hybrids!$K$38:$K$49,Hybrids!BO$38:BO$49)=0,"",SUMPRODUCT(Hybrids!$K$38:$K$49,Hybrids!BO$38:BO$49)) | Q58: =IF(SUMPRODUCT(Hybrids!$K$4:$K$14,Hybrids!BP$4:BP14)=0,"",SUMPRODUCT(Hybrids!$K$4:$K$14,Hybrids!BP$4:BP14)) | R58: =IF(SUMPRODUCT(Hybrids!$K$4:$K$14,Hybrids!BQ$4:BQ14)=0,"",SUMPRODUCT(Hybrids!$K$4:$K$14,Hybrids!BQ$4:BQ14)) | S58: =IF(SUMPRODUCT(Hybrids!$K$4:$K$14,Hybrids!BR$4:BR14)=0,"",SUMPRODUCT(Hybrids!$K$4:$K$14,Hybrids!BR$4:BR14))
A59: HYBRIDS | B59: Fluo Pink | C59: =IF(SUMPRODUCT(Hybrids!$L$26:$L$37,Hybrids!BJ$26:BJ$37)=0,"",SUMPRODUCT(Hybrids!$L$26:$L$37,Hybrids!BJ$26:BJ$37)) | D59: =IF(SUMPRODUCT(Hybrids!$L$26:$L$37,Hybrids!BK$26:BK$37)=0,"",SUMPRODUCT(Hybrids!$L$26:$L$37,Hybrids!BK$26:BK$37)) | E59: =IF(SUMPRODUCT(Hybrids!$L$26:$L$37,Hybrids!BL$26:BL$37)=0,"",SUMPRODUCT(Hybrids!$L$26:$L$37,Hybrids!BL$26:BL$37)) | F59: =IF(SUMPRODUCT(Hybrids!$L$26:$L$37,Hybrids!BM$26:BM$37)=0,"",SUMPRODUCT(Hybrids!$L$26:$L$37,Hybrids!BM$26:BM$37)) | G59: =IF(SUMPRODUCT(Hybrids!$L$26:$L$37,Hybrids!BN$26:BN$37)=0,"",SUMPRODUCT(Hybrids!$L$26:$L$37,Hybrids!BN$26:BN$37)) | H59: =IF(SUMPRODUCT(Hybrids!$L$26:$L$37,Hybrids!BO$26:BO$37)=0,"",SUMPRODUCT(Hybrids!$L$26:$L$37,Hybrids!BO$26:BO$37)) | J59: =IF(SUMPRODUCT(Hybrids!$L$38:$L$49,Hybrids!BJ$38:BJ$49)=0,"",SUMPRODUCT(Hybrids!$L$38:$L$49,Hybrids!BJ$38:BJ$49)) | K59: =IF(SUMPRODUCT(Hybrids!$L$38:$L$49,Hybrids!BK$38:BK$49)=0,"",SUMPRODUCT(Hybrids!$L$38:$L$49,Hybrids!BK$38:BK$49)) | L59: =IF(SUMPRODUCT(Hybrids!$L$38:$L$49,Hybrids!BL$38:BL$49)=0,"",SUMPRODUCT(Hybrids!$L$38:$L$49,Hybrids!BL$38:BL$49)) | M59: =IF(SUMPRODUCT(Hybrids!$L$38:$L$49,Hybrids!BM$38:BM$49)=0,"",SUMPRODUCT(Hybrids!$L$38:$L$49,Hybrids!BM$38:BM$49)) | N59: =IF(SUMPRODUCT(Hybrids!$L$38:$L$49,Hybrids!BN$38:BN$49)=0,"",SUMPRODUCT(Hybrids!$L$38:$L$49,Hybrids!BN$38:BN$49)) | O59: =IF(SUMPRODUCT(Hybrids!$L$38:$L$49,Hybrids!BO$38:BO$49)=0,"",SUMPRODUCT(Hybrids!$L$38:$L$49,Hybrids!BO$38:BO$49)) | Q59: =IF(SUMPRODUCT(Hybrids!$L$4:$L$14,Hybrids!BP$4:BP14)=0,"",SUMPRODUCT(Hybrids!$L$4:$L$14,Hybrids!BP$4:BP14)) | R59: =IF(SUMPRODUCT(Hybrids!$L$4:$L$14,Hybrids!BQ$4:BQ14)=0,"",SUMPRODUCT(Hybrids!$L$4:$L$14,Hybrids!BQ$4:BQ14)) | S59: =IF(SUMPRODUCT(Hybrids!$L$4:$L$14,Hybrids!BR$4:BR14)=0,"",SUMPRODUCT(Hybrids!$L$4:$L$14,Hybrids!BR$4:BR14))
B60: Violet | C60: =IF(SUMPRODUCT(Hybrids!$M$26:$M$37,Hybrids!BJ$26:BJ$37)=0,"",SUMPRODUCT(Hybrids!$M$26:$M$37,Hybrids!BJ$26:BJ$37)) | D60: =IF(SUMPRODUCT(Hybrids!$M$26:$M$37,Hybrids!BK$26:BK$37)=0,"",SUMPRODUCT(Hybrids!$M$26:$M$37,Hybrids!BK$26:BK$37)) | E60: =IF(SUMPRODUCT(Hybrids!$M$26:$M$37,Hybrids!BL$26:BL$37)=0,"",SUMPRODUCT(Hybrids!$M$26:$M$37,Hybrids!BL$26:BL$37)) | F60: =IF(SUMPRODUCT(Hybrids!$M$26:$M$37,Hybrids!BM$26:BM$37)=0,"",SUMPRODUCT(Hybrids!$M$26:$M$37,Hybrids!BM$26:BM$37)) | G60: =IF(SUMPRODUCT(Hybrids!$M$26:$M$37,Hybrids!BN$26:BN$37)=0,"",SUMPRODUCT(Hybrids!$M$26:$M$37,Hybrids!BN$26:BN$37)) | H60: =IF(SUMPRODUCT(Hybrids!$M$26:$M$37,Hybrids!BO$26:BO$37)=0,"",SUMPRODUCT(Hybrids!$M$26:$M$37,Hybrids!BO$26:BO$37)) | J60: =IF(SUMPRODUCT(Hybrids!$M$38:$M$49,Hybrids!BJ$38:BJ$49)=0,"",SUMPRODUCT(Hybrids!$M$38:$M$49,Hybrids!BJ$38:BJ$49)) | K60: =IF(SUMPRODUCT(Hybrids!$M$38:$M$49,Hybrids!BK$38:BK$49)=0,"",SUMPRODUCT(Hybrids!$M$38:$M$49,Hybrids!BK$38:BK$49)) | L60: =IF(SUMPRODUCT(Hybrids!$M$38:$M$49,Hybrids!BL$38:BL$49)=0,"",SUMPRODUCT(Hybrids!$M$38:$M$49,Hybrids!BL$38:BL$49)) | M60: =IF(SUMPRODUCT(Hybrids!$M$38:$M$49,Hybrids!BM$38:BM$49)=0,"",SUMPRODUCT(Hybrids!$M$38:$M$49,Hybrids!BM$38:BM$49)) | N60: =IF(SUMPRODUCT(Hybrids!$M$38:$M$49,Hybrids!BN$38:BN$49)=0,"",SUMPRODUCT(Hybrids!$M$38:$M$49,Hybrids!BN$38:BN$49)) | O60: =IF(SUMPRODUCT(Hybrids!$M$38:$M$49,Hybrids!BO$38:BO$49)=0,"",SUMPRODUCT(Hybrids!$M$38:$M$49,Hybrids!BO$38:BO$49)) | Q60: =IF(SUMPRODUCT(Hybrids!$M$4:$M$14,Hybrids!BP$4:BP14)=0,"",SUMPRODUCT(Hybrids!$M$4:$M$14,Hybrids!BP$4:BP14)) | R60: =IF(SUMPRODUCT(Hybrids!$M$4:$M$14,Hybrids!BQ$4:BQ14)=0,"",SUMPRODUCT(Hybrids!$M$4:$M$14,Hybrids!BQ$4:BQ14)) | S60: =IF(SUMPRODUCT(Hybrids!$M$4:$M$14,Hybrids!BR$4:BR14)=0,"",SUMPRODUCT(Hybrids!$M$4:$M$14,Hybrids!BR$4:BR14))
B61: Mint | C61: =IF(SUMPRODUCT(Hybrids!$N$26:$N$37,Hybrids!BJ$26:BJ$37)=0,"",SUMPRODUCT(Hybrids!$N$26:$N$37,Hybrids!BJ$26:BJ$37)) | D61: =IF(SUMPRODUCT(Hybrids!$N$26:$N$37,Hybrids!BK$26:BK$37)=0,"",SUMPRODUCT(Hybrids!$N$26:$N$37,Hybrids!BK$26:BK$37)) | E61: =IF(SUMPRODUCT(Hybrids!$N$26:$N$37,Hybrids!BL$26:BL$37)=0,"",SUMPRODUCT(Hybrids!$N$26:$N$37,Hybrids!BL$26:BL$37)) | F61: =IF(SUMPRODUCT(Hybrids!$N$26:$N$37,Hybrids!BM$26:BM$37)=0,"",SUMPRODUCT(Hybrids!$N$26:$N$37,Hybrids!BM$26:BM$37)) | G61: =IF(SUMPRODUCT(Hybrids!$N$26:$N$37,Hybrids!BN$26:BN$37)=0,"",SUMPRODUCT(Hybrids!$N$26:$N$37,Hybrids!BN$26:BN$37)) | H61: =IF(SUMPRODUCT(Hybrids!$N$26:$N$37,Hybrids!BO$26:BO$37)=0,"",SUMPRODUCT(Hybrids!$N$26:$N$37,Hybrids!BO$26:BO$37)) | J61: =IF(SUMPRODUCT(Hybrids!$N$38:$N$49,Hybrids!BJ$38:BJ$49)=0,"",SUMPRODUCT(Hybrids!$N$38:$N$49,Hybrids!BJ$38:BJ$49)) | K61: =IF(SUMPRODUCT(Hybrids!$N$38:$N$49,Hybrids!BK$38:BK$49)=0,"",SUMPRODUCT(Hybrids!$N$38:$N$49,Hybrids!BK$38:BK$49)) | L61: =IF(SUMPRODUCT(Hybrids!$N$38:$N$49,Hybrids!BL$38:BL$49)=0,"",SUMPRODUCT(Hybrids!$N$38:$N$49,Hybrids!BL$38:BL$49)) | M61: =IF(SUMPRODUCT(Hybrids!$N$38:$N$49,Hybrids!BM$38:BM$49)=0,"",SUMPRODUCT(Hybrids!$N$38:$N$49,Hybrids!BM$38:BM$49)) | N61: =IF(SUMPRODUCT(Hybrids!$N$38:$N$49,Hybrids!BN$38:BN$49)=0,"",SUMPRODUCT(Hybrids!$N$38:$N$49,Hybrids!BN$38:BN$49)) | O61: =IF(SUMPRODUCT(Hybrids!$N$38:$N$49,Hybrids!BO$38:BO$49)=0,"",SUMPRODUCT(Hybrids!$N$38:$N$49,Hybrids!BO$38:BO$49)) | Q61: =IF(SUMPRODUCT(Hybrids!$N$4:$N$14,Hybrids!BP$4:BP14)=0,"",SUMPRODUCT(Hybrids!$N$4:$N$14,Hybrids!BP$4:BP14)) | R61: =IF(SUMPRODUCT(Hybrids!$N$4:$N$14,Hybrids!BQ$4:BQ14)=0,"",SUMPRODUCT(Hybrids!$N$4:$N$14,Hybrids!BQ$4:BQ14)) | S61: =IF(SUMPRODUCT(Hybrids!$N$4:$N$14,Hybrids!BR$4:BR14)=0,"",SUMPRODUCT(Hybrids!$N$4:$N$14,Hybrids!BR$4:BR14))
B62: Light Grey | C62: =IF(SUMPRODUCT(Hybrids!$O$26:$O$37,Hybrids!BJ$26:BJ$37)=0,"",SUMPRODUCT(Hybrids!$O$26:$O$37,Hybrids!BJ$26:BJ$37)) | D62: =IF(SUMPRODUCT(Hybrids!$O$26:$O$37,Hybrids!BK$26:BK$37)=0,"",SUMPRODUCT(Hybrids!$O$26:$O$37,Hybrids!BK$26:BK$37)) | E62: =IF(SUMPRODUCT(Hybrids!$O$26:$O$37,Hybrids!BL$26:BL$37)=0,"",SUMPRODUCT(Hybrids!$O$26:$O$37,Hybrids!BL$26:BL$37)) | F62: =IF(SUMPRODUCT(Hybrids!$O$26:$O$37,Hybrids!BM$26:BM$37)=0,"",SUMPRODUCT(Hybrids!$O$26:$O$37,Hybrids!BM$26:BM$37)) | G62: =IF(SUMPRODUCT(Hybrids!$O$26:$O$37,Hybrids!BN$26:BN$37)=0,"",SUMPRODUCT(Hybrids!$O$26:$O$37,Hybrids!BN$26:BN$37)) | H62: =IF(SUMPRODUCT(Hybrids!$O$26:$O$37,Hybrids!BO$26:BO$37)=0,"",SUMPRODUCT(Hybrids!$O$26:$O$37,Hybrids!BO$26:BO$37)) | J62: =IF(SUMPRODUCT(Hybrids!$O$38:$O$49,Hybrids!BJ$38:BJ$49)=0,"",SUMPRODUCT(Hybrids!$O$38:$O$49,Hybrids!BJ$38:BJ$49)) | K62: =IF(SUMPRODUCT(Hybrids!$O$38:$O$49,Hybrids!BK$38:BK$49)=0,"",SUMPRODUCT(Hybrids!$O$38:$O$49,Hybrids!BK$38:BK$49)) | L62: =IF(SUMPRODUCT(Hybrids!$O$38:$O$49,Hybrids!BL$38:BL$49)=0,"",SUMPRODUCT(Hybrids!$O$38:$O$49,Hybrids!BL$38:BL$49)) | M62: =IF(SUMPRODUCT(Hybrids!$O$38:$O$49,Hybrids!BM$38:BM$49)=0,"",SUMPRODUCT(Hybrids!$O$38:$O$49,Hybrids!BM$38:BM$49)) | N62: =IF(SUMPRODUCT(Hybrids!$O$38:$O$49,Hybrids!BN$38:BN$49)=0,"",SUMPRODUCT(Hybrids!$O$38:$O$49,Hybrids!BN$38:BN$49)) | O62: =IF(SUMPRODUCT(Hybrids!$O$38:$O$49,Hybrids!BO$38:BO$49)=0,"",SUMPRODUCT(Hybrids!$O$38:$O$49,Hybrids!BO$38:BO$49)) | Q62: =IF(SUMPRODUCT(Hybrids!$O$4:$O$14,Hybrids!BP$4:BP14)=0,"",SUMPRODUCT(Hybrids!$O$4:$O$14,Hybrids!BP$4:BP14)) | R62: =IF(SUMPRODUCT(Hybrids!$O$4:$O$14,Hybrids!BQ$4:BQ14)=0,"",SUMPRODUCT(Hybrids!$O$4:$O$14,Hybrids!BQ$4:BQ14)) | S62: =IF(SUMPRODUCT(Hybrids!$O$4:$O$14,Hybrids!BR$4:BR14)=0,"",SUMPRODUCT(Hybrids!$O$4:$O$14,Hybrids!BR$4:BR14))
B63: US Light Green | C63: =IF(SUMPRODUCT(Hybrids!$P$26:$P$37,Hybrids!BJ$26:BJ$37)=0,"",SUMPRODUCT(Hybrids!$P$26:$P$37,Hybrids!BJ$26:BJ$37)) | D63: =IF(SUMPRODUCT(Hybrids!$P$26:$P$37,Hybrids!BK$26:BK$37)=0,"",SUMPRODUCT(Hybrids!$P$26:$P$37,Hybrids!BK$26:BK$37)) | E63: =IF(SUMPRODUCT(Hybrids!$P$26:$P$37,Hybrids!BL$26:BL$37)=0,"",SUMPRODUCT(Hybrids!$P$26:$P$37,Hybrids!BL$26:BL$37)) | F63: =IF(SUMPRODUCT(Hybrids!$P$26:$P$37,Hybrids!BM$26:BM$37)=0,"",SUMPRODUCT(Hybrids!$P$26:$P$37,Hybrids!BM$26:BM$37)) | G63: =IF(SUMPRODUCT(Hybrids!$P$26:$P$37,Hybrids!BN$26:BN$37)=0,"",SUMPRODUCT(Hybrids!$P$26:$P$37,Hybrids!BN$26:BN$37)) | H63: =IF(SUMPRODUCT(Hybrids!$P$26:$P$37,Hybrids!BO$26:BO$37)=0,"",SUMPRODUCT(Hybrids!$P$26:$P$37,Hybrids!BO$26:BO$37)) | J63: =IF(SUMPRODUCT(Hybrids!$P$38:$P$49,Hybrids!BJ$38:BJ$49)=0,"",SUMPRODUCT(Hybrids!$P$38:$P$49,Hybrids!BJ$38:BJ$49)) | K63: =IF(SUMPRODUCT(Hybrids!$P$38:$P$49,Hybrids!BK$38:BK$49)=0,"",SUMPRODUCT(Hybrids!$P$38:$P$49,Hybrids!BK$38:BK$49)) | L63: =IF(SUMPRODUCT(Hybrids!$P$38:$P$49,Hybrids!BL$38:BL$49)=0,"",SUMPRODUCT(Hybrids!$P$38:$P$49,Hybrids!BL$38:BL$49)) | M63: =IF(SUMPRODUCT(Hybrids!$P$38:$P$49,Hybrids!BM$38:BM$49)=0,"",SUMPRODUCT(Hybrids!$P$38:$P$49,Hybrids!BM$38:BM$49)) | N63: =IF(SUMPRODUCT(Hybrids!$P$38:$P$49,Hybrids!BN$38:BN$49)=0,"",SUMPRODUCT(Hybrids!$P$38:$P$49,Hybrids!BN$38:BN$49)) | O63: =IF(SUMPRODUCT(Hybrids!$P$38:$P$49,Hybrids!BO$38:BO$49)=0,"",SUMPRODUCT(Hybrids!$P$38:$P$49,Hybrids!BO$38:BO$49)) | Q63: =IF(SUMPRODUCT(Hybrids!$P$4:$P$14,Hybrids!BP$4:BP14)=0,"",SUMPRODUCT(Hybrids!$P$4:$P$14,Hybrids!BP$4:BP14)) | R63: =IF(SUMPRODUCT(Hybrids!$P$4:$P$14,Hybrids!BQ$4:BQ14)=0,"",SUMPRODUCT(Hybrids!$P$4:$P$14,Hybrids!BQ$4:BQ14)) | S63: =IF(SUMPRODUCT(Hybrids!$P$4:$P$14,Hybrids!BR$4:BR14)=0,"",SUMPRODUCT(Hybrids!$P$4:$P$14,Hybrids!BR$4:BR14))
B64: US Orange | C64: =IF(SUMPRODUCT(Hybrids!$Q$26:$Q$37,Hybrids!BJ$26:BJ$37)=0,"",SUMPRODUCT(Hybrids!$Q$26:$Q$37,Hybrids!BJ$26:BJ$37)) | D64: =IF(SUMPRODUCT(Hybrids!$Q$26:$Q$37,Hybrids!BK$26:BK$37)=0,"",SUMPRODUCT(Hybrids!$Q$26:$Q$37,Hybrids!BK$26:BK$37)) | E64: =IF(SUMPRODUCT(Hybrids!$Q$26:$Q$37,Hybrids!BL$26:BL$37)=0,"",SUMPRODUCT(Hybrids!$Q$26:$Q$37,Hybrids!BL$26:BL$37)) | F64: =IF(SUMPRODUCT(Hybrids!$Q$26:$Q$37,Hybrids!BM$26:BM$37)=0,"",SUMPRODUCT(Hybrids!$Q$26:$Q$37,Hybrids!BM$26:BM$37)) | G64: =IF(SUMPRODUCT(Hybrids!$Q$26:$Q$37,Hybrids!BN$26:BN$37)=0,"",SUMPRODUCT(Hybrids!$Q$26:$Q$37,Hybrids!BN$26:BN$37)) | H64: =IF(SUMPRODUCT(Hybrids!$Q$26:$Q$37,Hybrids!BO$26:BO$37)=0,"",SUMPRODUCT(Hybrids!$Q$26:$Q$37,Hybrids!BO$26:BO$37)) | J64: =IF(SUMPRODUCT(Hybrids!$Q$38:$Q$49,Hybrids!BJ$38:BJ$49)=0,"",SUMPRODUCT(Hybrids!$Q$38:$Q$49,Hybrids!BJ$38:BJ$49)) | K64: =IF(SUMPRODUCT(Hybrids!$Q$38:$Q$49,Hybrids!BK$38:BK$49)=0,"",SUMPRODUCT(Hybrids!$Q$38:$Q$49,Hybrids!BK$38:BK$49)) | L64: =IF(SUMPRODUCT(Hybrids!$Q$38:$Q$49,Hybrids!BL$38:BL$49)=0,"",SUMPRODUCT(Hybrids!$Q$38:$Q$49,Hybrids!BL$38:BL$49)) | M64: =IF(SUMPRODUCT(Hybrids!$Q$38:$Q$49,Hybrids!BM$38:BM$49)=0,"",SUMPRODUCT(Hybrids!$Q$38:$Q$49,Hybrids!BM$38:BM$49)) | N64: =IF(SUMPRODUCT(Hybrids!$Q$38:$Q$49,Hybrids!BN$38:BN$49)=0,"",SUMPRODUCT(Hybrids!$Q$38:$Q$49,Hybrids!BN$38:BN$49)) | O64: =IF(SUMPRODUCT(Hybrids!$Q$38:$Q$49,Hybrids!BO$38:BO$49)=0,"",SUMPRODUCT(Hybrids!$Q$38:$Q$49,Hybrids!BO$38:BO$49)) | Q64: =IF(SUMPRODUCT(Hybrids!$Q$4:$Q$14,Hybrids!BP$4:BP14)=0,"",SUMPRODUCT(Hybrids!$Q$4:$Q$14,Hybrids!BP$4:BP14)) | R64: =IF(SUMPRODUCT(Hybrids!$Q$4:$Q$14,Hybrids!BQ$4:BQ14)=0,"",SUMPRODUCT(Hybrids!$Q$4:$Q$14,Hybrids!BQ$4:BQ14)) | S64: =IF(SUMPRODUCT(Hybrids!$Q$4:$Q$14,Hybrids!BR$4:BR14)=0,"",SUMPRODUCT(Hybrids!$Q$4:$Q$14,Hybrids!BR$4:BR14))
B65: White | C65: =IF(SUMPRODUCT(Hybrids!$R$26:$R$37,Hybrids!BJ$26:BJ$37)=0,"",SUMPRODUCT(Hybrids!$R$26:$R$37,Hybrids!BJ$26:BJ$37)) | D65: =IF(SUMPRODUCT(Hybrids!$S$26:$S$37,Hybrids!BK$26:BK$37)=0,"",SUMPRODUCT(Hybrids!$S$26:$S$37,Hybrids!BK$26:BK$37)) | E65: =IF(SUMPRODUCT(Hybrids!$S$26:$S$37,Hybrids!BL$26:BL$37)=0,"",SUMPRODUCT(Hybrids!$S$26:$S$37,Hybrids!BL$26:BL$37)) | F65: =IF(SUMPRODUCT(Hybrids!$S$26:$S$37,Hybrids!BM$26:BM$37)=0,"",SUMPRODUCT(Hybrids!$S$26:$S$37,Hybrids!BM$26:BM$37)) | G65: =IF(SUMPRODUCT(Hybrids!$S$26:$S$37,Hybrids!BN$26:BN$37)=0,"",SUMPRODUCT(Hybrids!$S$26:$S$37,Hybrids!BN$26:BN$37)) | H65: =IF(SUMPRODUCT(Hybrids!$S$26:$S$37,Hybrids!BO$26:BO$37)=0,"",SUMPRODUCT(Hybrids!$S$26:$S$37,Hybrids!BO$26:BO$37)) | J65: =IF(SUMPRODUCT(Hybrids!$R$38:$R$49,Hybrids!BJ$38:BJ$49)=0,"",SUMPRODUCT(Hybrids!$R$38:$R$49,Hybrids!BJ$38:BJ$49)) | K65: =IF(SUMPRODUCT(Hybrids!$R$38:$R$49,Hybrids!BK$38:BK$49)=0,"",SUMPRODUCT(Hybrids!$R$38:$R$49,Hybrids!BK$38:BK$49)) | L65: =IF(SUMPRODUCT(Hybrids!$R$38:$R$49,Hybrids!BL$38:BL$49)=0,"",SUMPRODUCT(Hybrids!$R$38:$R$49,Hybrids!BL$38:BL$49)) | M65: =IF(SUMPRODUCT(Hybrids!$R$38:$R$49,Hybrids!BM$38:BM$49)=0,"",SUMPRODUCT(Hybrids!$R$38:$R$49,Hybrids!BM$38:BM$49)) | N65: =IF(SUMPRODUCT(Hybrids!$R$38:$R$49,Hybrids!BN$38:BN$49)=0,"",SUMPRODUCT(Hybrids!$R$38:$R$49,Hybrids!BN$38:BN$49)) | O65: =IF(SUMPRODUCT(Hybrids!$R$38:$R$49,Hybrids!BO$38:BO$49)=0,"",SUMPRODUCT(Hybrids!$R$38:$R$49,Hybrids!BO$38:BO$49)) | Q65: =IF(SUMPRODUCT(Hybrids!$R$4:$R$14,Hybrids!BP$4:BP14)=0,"",SUMPRODUCT(Hybrids!$R$4:$R$14,Hybrids!BP$4:BP14)) | R65: =IF(SUMPRODUCT(Hybrids!$R$4:$R$14,Hybrids!BQ$4:BQ14)=0,"",SUMPRODUCT(Hybrids!$R$4:$R$14,Hybrids!BQ$4:BQ14)) | S65: =IF(SUMPRODUCT(Hybrids!$R$4:$R$14,Hybrids!BR$4:BR14)=0,"",SUMPRODUCT(Hybrids!$R$4:$R$14,Hybrids!BR$4:BR14))
B66: US Dark Green | C66: =IF(SUMPRODUCT(Hybrids!$S$26:$S$37,Hybrids!BJ$26:BJ$37)=0,"",SUMPRODUCT(Hybrids!$S$26:$S$37,Hybrids!BJ$26:BJ$37)) | D66: =IF(SUMPRODUCT(Hybrids!$R$26:$R$37,Hybrids!BK$26:BK$37)=0,"",SUMPRODUCT(Hybrids!$R$26:$R$37,Hybrids!BK$26:BK$37)) | E66: =IF(SUMPRODUCT(Hybrids!$R$26:$R$37,Hybrids!BL$26:BL$37)=0,"",SUMPRODUCT(Hybrids!$R$26:$R$37,Hybrids!BL$26:BL$37)) | F66: =IF(SUMPRODUCT(Hybrids!$R$26:$R$37,Hybrids!BM$26:BM$37)=0,"",SUMPRODUCT(Hybrids!$R$26:$R$37,Hybrids!BM$26:BM$37)) | G66: =IF(SUMPRODUCT(Hybrids!$R$26:$R$37,Hybrids!BN$26:BN$37)=0,"",SUMPRODUCT(Hybrids!$R$26:$R$37,Hybrids!BN$26:BN$37)) | H66: =IF(SUMPRODUCT(Hybrids!$R$26:$R$37,Hybrids!BO$26:BO$37)=0,"",SUMPRODUCT(Hybrids!$R$26:$R$37,Hybrids!BO$26:BO$37)) | J66: =IF(SUMPRODUCT(Hybrids!$S$38:$S$49,Hybrids!BJ$38:BJ$49)=0,"",SUMPRODUCT(Hybrids!$S$38:$S$49,Hybrids!BJ$38:BJ$49)) | K66: =IF(SUMPRODUCT(Hybrids!$S$38:$S$49,Hybrids!BK$38:BK$49)=0,"",SUMPRODUCT(Hybrids!$S$38:$S$49,Hybrids!BK$38:BK$49)) | L66: =IF(SUMPRODUCT(Hybrids!$S$38:$S$49,Hybrids!BL$38:BL$49)=0,"",SUMPRODUCT(Hybrids!$S$38:$S$49,Hybrids!BL$38:BL$49)) | M66: =IF(SUMPRODUCT(Hybrids!$S$38:$S$49,Hybrids!BM$38:BM$49)=0,"",SUMPRODUCT(Hybrids!$S$38:$S$49,Hybrids!BM$38:BM$49)) | N66: =IF(SUMPRODUCT(Hybrids!$S$38:$S$49,Hybrids!BN$38:BN$49)=0,"",SUMPRODUCT(Hybrids!$S$38:$S$49,Hybrids!BN$38:BN$49)) | O66: =IF(SUMPRODUCT(Hybrids!$S$38:$S$49,Hybrids!BO$38:BO$49)=0,"",SUMPRODUCT(Hybrids!$S$38:$S$49,Hybrids!BO$38:BO$49)) | Q66: =IF(SUMPRODUCT(Hybrids!$S$4:$S$14,Hybrids!BP$4:BP14)=0,"",SUMPRODUCT(Hybrids!$S$4:$S$14,Hybrids!BP$4:BP14)) | R66: =IF(SUMPRODUCT(Hybrids!$S$4:$S$14,Hybrids!BQ$4:BQ14)=0,"",SUMPRODUCT(Hybrids!$S$4:$S$14,Hybrids!BQ$4:BQ14)) | S66: =IF(SUMPRODUCT(Hybrids!$S$4:$S$14,Hybrids!BR$4:BR14)=0,"",SUMPRODUCT(Hybrids!$S$4:$S$14,Hybrids!BR$4:BR14))
B67: US Purple | C67: =IF(SUMPRODUCT(Hybrids!$T$26:$T$37,Hybrids!BJ$26:BJ$37)=0,"",SUMPRODUCT(Hybrids!$T$26:$T$37,Hybrids!BJ$26:BJ$37)) | D67: =IF(SUMPRODUCT(Hybrids!$T$26:$T$37,Hybrids!BK$26:BK$37)=0,"",SUMPRODUCT(Hybrids!$T$26:$T$37,Hybrids!BK$26:BK$37)) | E67: =IF(SUMPRODUCT(Hybrids!$T$26:$T$37,Hybrids!BL$26:BL$37)=0,"",SUMPRODUCT(Hybrids!$T$26:$T$37,Hybrids!BL$26:BL$37)) | F67: =IF(SUMPRODUCT(Hybrids!$T$26:$T$37,Hybrids!BM$26:BM$37)=0,"",SUMPRODUCT(Hybrids!$T$26:$T$37,Hybrids!BM$26:BM$37)) | G67: =IF(SUMPRODUCT(Hybrids!$T$26:$T$37,Hybrids!BN$26:BN$37)=0,"",SUMPRODUCT(Hybrids!$T$26:$T$37,Hybrids!BN$26:BN$37)) | H67: =IF(SUMPRODUCT(Hybrids!$T$26:$T$37,Hybrids!BO$26:BO$37)=0,"",SUMPRODUCT(Hybrids!$T$26:$T$37,Hybrids!BO$26:BO$37)) | J67: =IF(SUMPRODUCT(Hybrids!$T$38:$T$49,Hybrids!BJ$38:BJ$49)=0,"",SUMPRODUCT(Hybrids!$T$38:$T$49,Hybrids!BJ$38:BJ$49)) | K67: =IF(SUMPRODUCT(Hybrids!$T$38:$T$49,Hybrids!BK$38:BK$49)=0,"",SUMPRODUCT(Hybrids!$T$38:$T$49,Hybrids!BK$38:BK$49)) | L67: =IF(SUMPRODUCT(Hybrids!$T$38:$T$49,Hybrids!BL$38:BL$49)=0,"",SUMPRODUCT(Hybrids!$T$38:$T$49,Hybrids!BL$38:BL$49)) | M67: =IF(SUMPRODUCT(Hybrids!$T$38:$T$49,Hybrids!BM$38:BM$49)=0,"",SUMPRODUCT(Hybrids!$T$38:$T$49,Hybrids!BM$38:BM$49)) | N67: =IF(SUMPRODUCT(Hybrids!$T$38:$T$49,Hybrids!BN$38:BN$49)=0,"",SUMPRODUCT(Hybrids!$T$38:$T$49,Hybrids!BN$38:BN$49)) | O67: =IF(SUMPRODUCT(Hybrids!$T$38:$T$49,Hybrids!BO$38:BO$49)=0,"",SUMPRODUCT(Hybrids!$T$38:$T$49,Hybrids!BO$38:BO$49)) | Q67: =IF(SUMPRODUCT(Hybrids!$T$4:$T$14,Hybrids!BP$4:BP14)=0,"",SUMPRODUCT(Hybrids!$T$4:$T$14,Hybrids!BP$4:BP14)) | R67: =IF(SUMPRODUCT(Hybrids!$T$4:$T$14,Hybrids!BQ$4:BQ14)=0,"",SUMPRODUCT(Hybrids!$T$4:$T$14,Hybrids!BQ$4:BQ14)) | S67: =IF(SUMPRODUCT(Hybrids!$T$4:$T$14,Hybrids!BR$4:BR14)=0,"",SUMPRODUCT(Hybrids!$T$4:$T$14,Hybrids!BR$4:BR14))
B69: Total | C69: =SUM(C56:C67) -> 0 | D69: =SUM(D56:D67) -> 0 | E69: =SUM(E56:E67) -> 0 | F69: =SUM(F56:F67) -> 0 | G69: =SUM(G56:G67) -> 0 | H69: =SUM(H56:H67) -> 0 | J69: =SUM(J56:J67) -> 0 | K69: =SUM(K56:K67) -> 0 | L69: =SUM(L56:L67) -> 0 | M69: =SUM(M56:M67) -> 0 | N69: =SUM(N56:N67) -> 0 | O69: =SUM(O56:O67) -> 0 | Q69: =SUM(Q53:Q67) -> 0 | R69: =SUM(R53:R67) -> 0 | S69: =SUM(S53:S67) -> 0
C74: Size
C75: XS | D75: S | E75: M | F75: L | G75: XL | H75: XXL
C76: < 30 cm | D76: 30 - 50 cm | E76: 50 - 80 cm | F76: 80 - 130 cm | G76: 130 - 200 cm | H76: > 200 cm
B77: Black | C77: =IF(SUMPRODUCT(Volumes!$H$4:$H$135,Volumes!AM$4:AM$135)=0,"",SUMPRODUCT(Volumes!$H$4:$H$135,Volumes!AM$4:AM$135)) | D77: =IF(SUMPRODUCT(Volumes!$H$4:$H$135,Volumes!AN$4:AN$135)=0,"",SUMPRODUCT(Volumes!$H$4:$H$135,Volumes!AN$4:AN$135)) | E77: =IF(SUMPRODUCT(Volumes!$H$4:$H$135,Volumes!AO$4:AO$135)=0,"",SUMPRODUCT(Volumes!$H$4:$H$135,Volumes!AO$4:AO$135)) | F77: =IF(SUMPRODUCT(Volumes!$H$4:$H$135,Volumes!AP$4:AP$135)=0,"",SUMPRODUCT(Volumes!$H$4:$H$135,Volumes!AP$4:AP$135)) | G77: =IF(SUMPRODUCT(Volumes!$H$4:$H$135,Volumes!AQ$4:AQ$135)=0,"",SUMPRODUCT(Volumes!$H$4:$H$135,Volumes!AQ$4:AQ$135)) | H77: =IF(SUMPRODUCT(Volumes!$H$4:$H$135,Volumes!AR$4:AR$135)=0,"",SUMPRODUCT(Volumes!$H$4:$H$135,Volumes!AR$4:AR$135))
A78: PLYWOOD VOLUMES | B78: Blue | C78: =IF(SUMPRODUCT(Volumes!$J$4:$J$135,Volumes!AM$4:AM$135)=0,"",SUMPRODUCT(Volumes!$J$4:$J$135,Volumes!AM$4:AM$135)) | D78: =IF(SUMPRODUCT(Volumes!$J$4:$J$135,Volumes!AN$4:AN$135)=0,"",SUMPRODUCT(Volumes!$J$4:$J$135,Volumes!AN$4:AN$135)) | E78: =IF(SUMPRODUCT(Volumes!$J$4:$J$135,Volumes!AO$4:AO$135)=0,"",SUMPRODUCT(Volumes!$J$4:$J$135,Volumes!AO$4:AO$135)) | F78: =IF(SUMPRODUCT(Volumes!$J$4:$J$135,Volumes!AP$4:AP$135)=0,"",SUMPRODUCT(Volumes!$J$4:$J$135,Volumes!AP$4:AP$135)) | G78: =IF(SUMPRODUCT(Volumes!$J$4:$J$135,Volumes!AQ$4:AQ$135)=0,"",SUMPRODUCT(Volumes!$J$4:$J$135,Volumes!AQ$4:AQ$135)) | H78: =IF(SUMPRODUCT(Volumes!$J$4:$J$135,Volumes!AR$4:AR$135)=0,"",SUMPRODUCT(Volumes!$J$4:$J$135,Volumes!AR$4:AR$135))
B79: Yellow | C79: =IF(SUMPRODUCT(Volumes!$K$4:$K$135,Volumes!AM$4:AM$135)=0,"",SUMPRODUCT(Volumes!$K$4:$K$135,Volumes!AM$4:AM$135)) | D79: =IF(SUMPRODUCT(Volumes!$K$4:$K$135,Volumes!AN$4:AN$135)=0,"",SUMPRODUCT(Volumes!$K$4:$K$135,Volumes!AN$4:AN$135)) | E79: =IF(SUMPRODUCT(Volumes!$K$4:$K$135,Volumes!AO$4:AO$135)=0,"",SUMPRODUCT(Volumes!$K$4:$K$135,Volumes!AO$4:AO$135)) | F79: =IF(SUMPRODUCT(Volumes!$K$4:$K$135,Volumes!AP$4:AP$135)=0,"",SUMPRODUCT(Volumes!$K$4:$K$135,Volumes!AP$4:AP$135)) | G79: =IF(SUMPRODUCT(Volumes!$K$4:$K$135,Volumes!AQ$4:AQ$135)=0,"",SUMPRODUCT(Volumes!$K$4:$K$135,Volumes!AQ$4:AQ$135)) | H79: =IF(SUMPRODUCT(Volumes!$K$4:$K$135,Volumes!AR$4:AR$135)=0,"",SUMPRODUCT(Volumes!$K$4:$K$135,Volumes!AR$4:AR$135))
B80: Red | C80: =IF(SUMPRODUCT(Volumes!$L$4:$L$135,Volumes!AM$4:AM$135)=0,"",SUMPRODUCT(Volumes!$L$4:$L$135,Volumes!AM$4:AM$135)) | D80: =IF(SUMPRODUCT(Volumes!$L$4:$L$135,Volumes!AN$4:AN$135)=0,"",SUMPRODUCT(Volumes!$L$4:$L$135,Volumes!AN$4:AN$135)) | E80: =IF(SUMPRODUCT(Volumes!$L$4:$L$135,Volumes!AO$4:AO$135)=0,"",SUMPRODUCT(Volumes!$L$4:$L$135,Volumes!AO$4:AO$135)) | F80: =IF(SUMPRODUCT(Volumes!$L$4:$L$135,Volumes!AP$4:AP$135)=0,"",SUMPRODUCT(Volumes!$L$4:$L$135,Volumes!AP$4:AP$135)) | G80: =IF(SUMPRODUCT(Volumes!$L$4:$L$135,Volumes!AQ$4:AQ$135)=0,"",SUMPRODUCT(Volumes!$L$4:$L$135,Volumes!AQ$4:AQ$135)) | H80: =IF(SUMPRODUCT(Volumes!$L$4:$L$135,Volumes!AR$4:AR$135)=0,"",SUMPRODUCT(Volumes!$L$4:$L$135,Volumes!AR$4:AR$135))
B81: Light Grey | C81: =IF(SUMPRODUCT(Volumes!$G$4:$G$135,Volumes!AM$4:AM$135)=0,"",SUMPRODUCT(Volumes!$G$4:$G$135,Volumes!AM$4:AM$135)) | D81: =IF(SUMPRODUCT(Volumes!$G$4:$G$135,Volumes!AN$4:AN$135)=0,"",SUMPRODUCT(Volumes!$G$4:$G$135,Volumes!AN$4:AN$135)) | E81: =IF(SUMPRODUCT(Volumes!$G$4:$G$135,Volumes!AO$4:AO$135)=0,"",SUMPRODUCT(Volumes!$G$4:$G$135,Volumes!AO$4:AO$135)) | F81: =IF(SUMPRODUCT(Volumes!$G$4:$G$135,Volumes!AP$4:AP$135)=0,"",SUMPRODUCT(Volumes!$G$4:$G$135,Volumes!AP$4:AP$135)) | G81: =IF(SUMPRODUCT(Volumes!$G$4:$G$135,Volumes!AQ$4:AQ$135)=0,"",SUMPRODUCT(Volumes!$G$4:$G$135,Volumes!AQ$4:AQ$135)) | H81: =IF(SUMPRODUCT(Volumes!$G$4:$G$135,Volumes!AR$4:AR$135)=0,"",SUMPRODUCT(Volumes!$G$4:$G$135,Volumes!AR$4:AR$135))
B82: Dark Grey | C82: =IF(SUMPRODUCT(Volumes!$I$4:$I$135,Volumes!AM$4:AM$135)=0,"",SUMPRODUCT(Volumes!$I$4:$I$135,Volumes!AM$4:AM$135)) | D82: =IF(SUMPRODUCT(Volumes!$I$4:$I$135,Volumes!AN$4:AN$135)=0,"",SUMPRODUCT(Volumes!$I$4:$I$135,Volumes!AN$4:AN$135)) | E82: =IF(SUMPRODUCT(Volumes!$I$4:$I$135,Volumes!AO$4:AO$135)=0,"",SUMPRODUCT(Volumes!$I$4:$I$135,Volumes!AO$4:AO$135)) | F82: =IF(SUMPRODUCT(Volumes!$I$4:$I$135,Volumes!AP$4:AP$135)=0,"",SUMPRODUCT(Volumes!$I$4:$I$135,Volumes!AP$4:AP$135)) | G82: =IF(SUMPRODUCT(Volumes!$I$4:$I$135,Volumes!AQ$4:AQ$135)=0,"",SUMPRODUCT(Volumes!$I$4:$I$135,Volumes!AQ$4:AQ$135)) | H82: =IF(SUMPRODUCT(Volumes!$I$4:$I$135,Volumes!AR$4:AR$135)=0,"",SUMPRODUCT(Volumes!$I$4:$I$135,Volumes!AR$4:AR$135))
B84: Total | C84: =SUM(C77:C82) -> 0 | D84: =SUM(D77:D82) -> 0 | E84: =SUM(E77:E82) -> 0 | F84: =SUM(F77:F82) -> 0 | G84: =SUM(G77:G82) -> 0 | H84: =SUM(H77:H82) -> 0
