Workbook
Name Bowl: #REF!
Name Bowls: #REF!
Name Bundel1: #REF!
Name Bundel2: #REF!
Name Bundel3: #REF!
Name Bundel4: #REF!
Name Insert: Hybrids!$C$13:$C$17
Name Inserts: #REF!
Name PU_ring: #REF!
Name Volumes: #REF!
Name Wedges: #REF!
Name Wedges_I: #REF!
Name Wedges_T: #REF!

Sheet Summary of order
A1: ignore:true;
A2: Billing Information | H2: #VALUE!
A3: Company name
A4: Company address
A5: City
A6: ZIP
A7: Country | J7: Total Sets | K7: Total Products | L7: Total excl. VAT
A8: VAT number | H8: Holds | J8: =Holds!T340 -> 0 | K8: =Holds!U340 -> 0 | L8: =Holds!V340 -> 0
A9: Responsible person | H9: Macros | J9: =Macros!T78 -> 0 | K9: =Macros!U78 -> 0 | L9: =Macros!V78 -> 0
A10: Phone | H10: Hybrids - UTURN | J10: =Hybrids!J4+Hybrids!J5+Hybrids!J6+Hybrids!J7+Hybrids!J8+Hybrids!J9+Hybrids!J10+Hybrids!J11+Hybrids!J12+Hybrids!J13+Hybrids!J14+Hybrids!J15+Hybrids!J16+Hybrids!J17+Hybrids!J18+Hybrids!J19+SUM(Hybrids!J20:J28) -> 0 | K10: =Hybrids!K29 -> 0 | L10: =Hybrids!L29 -> 0
A11: Email | H11: Accessories | J11: =Accessories!I6 -> 0 | K11: =Accessories!J5 -> 0 | L11: =Accessories!K6 -> 0
H12: Grand Total excl. VAT | L12: =SUM(L8:M11) -> 0
A13: Delivery Information
A14: Company name | H14: Grand Total excl. VAT | L14: =L12 -> 0
A15: Company address | H15: VAT % | J15: 0 | L15: =L14*J15 -> 0
A16: City | H16: Grand Total incl. VAT | L16: =L14+L15 -> 0
A17: ZIP
A18: Country
A19: VAT number
A20: Responsible person
A21: Phone
A22: Email
B25: Different colors are usually available in stock. Please contact us for current availability.

Sheet Holds
A1: brand:Flathold;start:3;End:339;Range:A;Reference:C;Colors:F->S;productName:Holds | B1: #VALUE! | F1: Europe GYM Price 2026.05 (all prices are without VAT) | T1: Arken SA Rue de Soleure 25 CH - 2740 Moutier order@arken-climbing.com www.flathold.com +41 78 817 51 92
A2: Production Color Code | G2: 3020 | H2: 5015 | I2: 9005 | J2: 2005 | M2: 4008 | N2: 6027 | R2: 9016
A3: Range | B3: Set | C3: Subset | D3: Products / Set | E3: Price € | F3: Yellow | G3: Red | H3: Blue | I3: Black | J3: Fluo Orange | K3: Fluo Green | L3: Fluo Pink | M3: Violet | N3: Mint | O3: US Light Green | P3: US Orange | Q3: US Dark Green | R3: White | S3: US Purple | T3: Nb Sets | U3: Nb Holds | V3: Total €
B4: Jug XXL/E | C4: 031.01 | D4: 2 | E4: 209 | T4: =SUM(F4:S4) -> 0 | U4: =T4*D4 -> 0 | V4: =T4*E4 -> 0
B5: Jug XXL/E | C5: 031.02 | D5: 3 | E5: 248 | T5: =SUM(F5:S5) -> 0 | U5: =T5*D5 -> 0 | V5: =T5*E5 -> 0
B6: Jug XL/E | C6: 031.03 | D6: 3 | E6: 213 | T6: =SUM(F6:S6) -> 0 | U6: =T6*D6 -> 0 | V6: =T6*E6 -> 0
B7: Jug XL/E | C7: 031.04 | D7: 4 | E7: 238 | T7: =SUM(F7:S7) -> 0 | U7: =T7*D7 -> 0 | V7: =T7*E7 -> 0
B8: Jug XL/E | C8: 031.05 | D8: 6 | E8: 258 | T8: =SUM(F8:S8) -> 0 | U8: =T8*D8 -> 0 | V8: =T8*E8 -> 0
B9: Jug L/E | C9: 031.06 | D9: 10 | E9: 255 | T9: =SUM(F9:S9) -> 0 | U9: =T9*D9 -> 0 | V9: =T9*E9 -> 0
B10: Jug M/E | C10: 031.07 | D10: 10 | E10: 182 | T10: =SUM(F10:S10) -> 0 | U10: =T10*D10 -> 0 | V10: =T10*E10 -> 0
B11: Crimp M/E | C11: 031.08 | D11: 12 | E11: 172 | T11: =SUM(F11:S11) -> 0 | U11: =T11*D11 -> 0 | V11: =T11*E11 -> 0
B12: Crimp M/M | C12: 031.09 | D12: 12 | E12: 129 | T12: =SUM(F12:S12) -> 0 | U12: =T12*D12 -> 0 | V12: =T12*E12 -> 0
B13: Crimp M/H | C13: 031.10 | D13: 10 | E13: 82 | T13: =SUM(F13:S13) -> 0 | U13: =T13*D13 -> 0 | V13: =T13*E13 -> 0
B14: Crimp S/H | C14: 031.11 | D14: 10 | E14: 70 | T14: =SUM(F14:S14) -> 0 | U14: =T14*D14 -> 0 | V14: =T14*E14 -> 0
A15: Riverbed | B15: Crimp M/E | C15: 031.12 | D15: 12 | E15: 106 | T15: =SUM(F15:S15) -> 0 | U15: =T15*D15 -> 0 | V15: =T15*E15 -> 0
A16: New! | B16: Crimp S/M | C16: 031.13 | D16: 12 | E16: 88 | T16: =SUM(F16:S16) -> 0 | U16: =T16*D16 -> 0 | V16: =T16*E16 -> 0
B17: Crimp S/H | C17: 031.14 | D17: 12 | E17: 74 | T17: =SUM(F17:S17) -> 0 | U17: =T17*D17 -> 0 | V17: =T17*E17 -> 0
B18: Screw-on XS/H | C18: 031.15 | D18: 20 | E18: 93 | T18: =SUM(F18:S18) -> 0 | U18: =T18*D18 -> 0 | V18: =T18*E18 -> 0
B19: Screw-on XS/H | C19: 031.16 | D19: 20 | E19: 87 | T19: =SUM(F19:S19) -> 0 | U19: =T19*D19 -> 0 | V19: =T19*E19 -> 0
B20: Sloper XXL/E | C20: 031.17 | D20: 2 | E20: 210 | T20: =SUM(F20:S20) -> 0 | U20: =T20*D20 -> 0 | V20: =T20*E20 -> 0
B21: Sloper XXL/M | C21: 031.18 | D21: 3 | E21: 265 | T21: =SUM(F21:S21) -> 0 | U21: =T21*D21 -> 0 | V21: =T21*E21 -> 0
B22: Sloper XL/E | C22: 031.19 | D22: 4 | E22: 239 | T22: =SUM(F22:S22) -> 0 | U22: =T22*D22 -> 0 | V22: =T22*E22 -> 0
B23: Sloper XL/E | C23: 031.20 | D23: 5 | E23: 248 | T23: =SUM(F23:S23) -> 0 | U23: =T23*D23 -> 0 | V23: =T23*E23 -> 0
B24: Jug L/M | C24: 031.21 | D24: 5 | E24: 209 | T24: =SUM(F24:S24) -> 0 | U24: =T24*D24 -> 0 | V24: =T24*E24 -> 0
B25: Jug L/M | C25: 031.22 | D25: 5 | E25: 195 | T25: =SUM(F25:S25) -> 0 | U25: =T25*D25 -> 0 | V25: =T25*E25 -> 0
B26: Jug L/M | C26: 031.23 | D26: 4 | E26: 180 | T26: =SUM(F26:S26) -> 0 | U26: =T26*D26 -> 0 | V26: =T26*E26 -> 0
B27: Foot XS/H | C27: 031.24 | D27: 12 | E27: 84 | T27: =SUM(F27:S27) -> 0 | U27: =T27*D27 -> 0 | V27: =T27*E27 -> 0
B28: Foot XS/H | C28: 031.25 | D28: 12 | E28: 88 | T28: =SUM(F28:S28) -> 0 | U28: =T28*D28 -> 0 | V28: =T28*E28 -> 0
... B39: M-E | C39: 030.11 | D39: 10 | E39: 104 | T39: =SUM(F39:S39) -> 0 | U39: =T39*D39 -> 0 | V39: =T39*E39 -> 0
A40: Ravage | B40: M-E | C40: 030.12 | D40: 10 | E40: 94 | T40: =SUM(F40:S40) -> 0 | U40: =T40*D40 -> 0 | V40: =T40*E40 -> 0
B41: M-M | C41: 030.13 | D41: 11 | E41: 82 | T41: =SUM(F41:S41) -> 0 | U41: =T41*D41 -> 0 | V41: =T41*E41 -> 0
B42: L-E | C42: 030.14 | D42: 10 | E42: 148 | T42: =SUM(F42:S42) -> 0 | U42: =T42*D42 -> 0 | V42: =T42*E42 -> 0
B43: M-M | C43: 030.15 | D43: 12 | E43: 140 | T43: =SUM(F43:S43) -> 0 | U43: =T43*D43 -> 0 | V43: =T43*E43 -> 0
B44: M-M | C44: 030.16 | D44: 11 | E44: 86 | T44: =SUM(F44:S44) -> 0 | U44: =T44*D44 -> 0 | V44: =T44*E44 -> 0
B45: M-E | C45: 030.17 | D45: 5 | E45: 47 | T45: =SUM(F45:S45) -> 0 | U45: =T45*D45 -> 0 | V45: =T45*E45 -> 0
B46: M-M | C46: 030.18 | D46: 6 | E46: 48 | T46: =SUM(F46:S46) -> 0 | U46: =T46*D46 -> 0 | V46: =T46*E46 -> 0
B47: S-M | C47: 030.19 | D47: 10 | E47: 67 | T47: =SUM(F47:S47) -> 0 | U47: =T47*D47 -> 0 | V47: =T47*E47 -> 0
B48: S-M | C48: 030.20 | D48: 11 | E48: 68 | T48: =SUM(F48:S48) -> 0 | U48: =T48*D48 -> 0 | V48: =T48*E48 -> 0
B49: S-H | C49: 030.21 | D49: 10 | E49: 72 | T49: =SUM(F49:S49) -> 0 | U49: =T49*D49 -> 0 | V49: =T49*E49 -> 0
B50: S-H | C50: 030.22 | D50: 13 | E50: 77 | T50: =SUM(F50:S50) -> 0 | U50: =T50*D50 -> 0 | V50: =T50*E50 -> 0
B51: XS-H | C51: 030.23 | D51: 14 | E51: 69 | T51: =SUM(F51:S51) -> 0 | U51: =T51*D51 -> 0 | V51: =T51*E51 -> 0
B52: XS-H | C52: 030.24 | D52: 16 | E52: 75 | T52: =SUM(F52:S52) -> 0 | U52: =T52*D52 -> 0 | V52: =T52*E52 -> 0
... B62: M-M | C62: 029.09 | D62: 6 | E62: 53 | T62: =SUM(F62:S62) -> 0 | U62: =T62*D62 -> 0 | V62: =T62*E62 -> 0
A63: Lucha Libre | B63: M-M | C63: 029.10 | D63: 5 | E63: 38 | T63: =SUM(F63:S63) -> 0 | U63: =T63*D63 -> 0 | V63: =T63*E63 -> 0
B64: M-H | C64: 029.11 | D64: 5 | E64: 48 | T64: =SUM(F64:S64) -> 0 | U64: =T64*D64 -> 0 | V64: =T64*E64 -> 0
B65: M-H | C65: 029.12 | D65: 5 | E65: 36 | T65: =SUM(F65:S65) -> 0 | U65: =T65*D65 -> 0 | V65: =T65*E65 -> 0
B66: XXXL-M | C66: 029.13 | D66: 1 | E66: 229 | T66: =SUM(F66:S66) -> 0 | U66: =T66*D66 -> 0 | V66: =T66*E66 -> 0
B67: XXXL-M | C67: 029.14 | D67: 1 | E67: 180 | T67: =SUM(F67:S67) -> 0 | U67: =T67*D67 -> 0 | V67: =T67*E67 -> 0
B68: XXL-M | C68: 029.15 | D68: 1 | E68: 130 | T68: =SUM(F68:S68) -> 0 | U68: =T68*D68 -> 0 | V68: =T68*E68 -> 0
B69: XL-M | C69: 029.16 | D69: 3 | E69: 307 | T69: =SUM(F69:S69) -> 0 | U69: =T69*D69 -> 0 | V69: =T69*E69 -> 0
B70: XL-M | C70: 029.17 | D70: 3 | E70: 247 | T70: =SUM(F70:S70) -> 0 | U70: =T70*D70 -> 0 | V70: =T70*E70 -> 0
B71: XL-M | C71: 029.18 | D71: 3 | E71: 188 | T71: =SUM(F71:S71) -> 0 | U71: =T71*D71 -> 0 | V71: =T71*E71 -> 0
B72: L-M | C72: 029.19 | D72: 5 | E72: 128 | T72: =SUM(F72:S72) -> 0 | U72: =T72*D72 -> 0 | V72: =T72*E72 -> 0
B73: M-M | C73: 029.20 | D73: 5 | E73: 83 | T73: =SUM(F73:S73) -> 0 | U73: =T73*D73 -> 0 | V73: =T73*E73 -> 0
B74: M-M | C74: 029.21 | D74: 5 | E74: 74 | T74: =SUM(F74:S74) -> 0 | U74: =T74*D74 -> 0 | V74: =T74*E74 -> 0
B75: M-H | C75: 029.22 | D75: 5 | E75: 56 | T75: =SUM(F75:S75) -> 0 | U75: =T75*D75 -> 0 | V75: =T75*E75 -> 0
... B84: S-H | C84: 029.31 | D84: 6 | E84: 39 | T84: =SUM(F84:S84) -> 0 | U84: =T84*D84 -> 0 | V84: =T84*E84 -> 0
A85: Lucha Libre | B85: S-H | C85: 029.32 | D85: 6 | E85: 42 | T85: =SUM(F85:S85) -> 0 | U85: =T85*D85 -> 0 | V85: =T85*E85 -> 0
B86: S-H | C86: 029.33 | D86: 6 | E86: 40 | T86: =SUM(F86:S86) -> 0 | U86: =T86*D86 -> 0 | V86: =T86*E86 -> 0
B87: XXL-E | C87: 029.34 | D87: 2 | E87: 272 | T87: =SUM(F87:S87) -> 0 | U87: =T87*D87 -> 0 | V87: =T87*E87 -> 0
B88: XL-E | C88: 029.35 | D88: 2 | E88: 190 | T88: =SUM(F88:S88) -> 0 | U88: =T88*D88 -> 0 | V88: =T88*E88 -> 0
B89: XL-E | C89: 029.36 | D89: 3 | E89: 302 | T89: =SUM(F89:S89) -> 0 | U89: =T89*D89 -> 0 | V89: =T89*E89 -> 0
B90: XL-E | C90: 029.37 | D90: 3 | E90: 203 | T90: =SUM(F90:S90) -> 0 | U90: =T90*D90 -> 0 | V90: =T90*E90 -> 0
B91: XL-M | C91: 029.38 | D91: 3 | E91: 195 | T91: =SUM(F91:S91) -> 0 | U91: =T91*D91 -> 0 | V91: =T91*E91 -> 0
B92: XL-E | C92: 029.39 | D92: 3 | E92: 259 | T92: =SUM(F92:S92) -> 0 | U92: =T92*D92 -> 0 | V92: =T92*E92 -> 0
B93: XL-M | C93: 029.40 | D93: 3 | E93: 165 | T93: =SUM(F93:S93) -> 0 | U93: =T93*D93 -> 0 | V93: =T93*E93 -> 0
B94: XL-E | C94: 029.41 | D94: 4 | E94: 273 | T94: =SUM(F94:S94) -> 0 | U94: =T94*D94 -> 0 | V94: =T94*E94 -> 0
B95: XL-M | C95: 029.42 | D95: 4 | E95: 225 | T95: =SUM(F95:S95) -> 0 | U95: =T95*D95 -> 0 | V95: =T95*E95 -> 0
B96: L-E | C96: 029.43 | D96: 5 | E96: 271 | T96: =SUM(F96:S96) -> 0 | U96: =T96*D96 -> 0 | V96: =T96*E96 -> 0
B97: L-E | C97: 029.44 | D97: 5 | E97: 236 | T97: =SUM(F97:S97) -> 0 | U97: =T97*D97 -> 0 | V97: =T97*E97 -> 0
... B103: XXL/M | C103: 029.50 | D103: 1 | E103: 147 | T103: =SUM(F103:S103) -> 0 | U103: =T103*D103 -> 0 | V103: =T103*E103 -> 0
A104: Lucha Libre | B104: XL/E | C104: 029.51 | D104: 5 | E104: 263 | T104: =SUM(F104:S104) -> 0 | U104: =T104*D104 -> 0 | V104: =T104*E104 -> 0
A105: Pockets | B105: L/M | C105: 029.52 | D105: 5 | E105: 216 | T105: =SUM(F105:S105) -> 0 | U105: =T105*D105 -> 0 | V105: =T105*E105 -> 0
A106: NEW! | B106: L/M | C106: 029.53 | D106: 7 | E106: 175 | T106: =SUM(F106:S106) -> 0 | U106: =T106*D106 -> 0 | V106: =T106*E106 -> 0
B107: M/M | C107: 029.54 | D107: 7 | E107: 149 | T107: =SUM(F107:S107) -> 0 | U107: =T107*D107 -> 0 | V107: =T107*E107 -> 0
B108: M/H | C108: 029.55 | D108: 5 | E108: 69 | T108: =SUM(F108:S108) -> 0 | U108: =T108*D108 -> 0 | V108: =T108*E108 -> 0
B109: M/H | C109: 029.56 | D109: 6 | E109: 57 | T109: =SUM(F109:S109) -> 0 | U109: =T109*D109 -> 0 | V109: =T109*E109 -> 0
B110: S/H | C110: 029.57 | D110: 6 | E110: 52 | T110: =SUM(F110:S110) -> 0 | U110: =T110*D110 -> 0 | V110: =T110*E110 -> 0
B111: XXXL-E | C111: 028.01 | D111: 1 | E111: 324 | T111: =SUM(F111:S111) -> 0 | U111: =T111*D111 -> 0 | V111: =T111*E111 -> 0
B112: XXXL-E | C112: 028.02 | D112: 1 | E112: 257 | T112: =SUM(F112:S112) -> 0 | U112: =T112*D112 -> 0 | V112: =T112*E112 -> 0
B113: XXXL-E | C113: 028.03 | D113: 1 | E113: 258 | T113: =SUM(F113:S113) -> 0 | U113: =T113*D113 -> 0 | V113: =T113*E113 -> 0
B114: XXXL-E | C114: 028.04 | D114: 1 | E114: 216 | T114: =SUM(F114:S114) -> 0 | U114: =T114*D114 -> 0 | V114: =T114*E114 -> 0
B115: XXXL-E | C115: 028.05 | D115: 1 | E115: 209 | T115: =SUM(F115:S115) -> 0 | U115: =T115*D115 -> 0 | V115: =T115*E115 -> 0
B116: XXL-E | C116: 028.06 | D116: 3 | E116: 279 | T116: =SUM(F116:S116) -> 0 | U116: =T116*D116 -> 0 | V116: =T116*E116 -> 0
B117: XXL-M | C117: 028.07 | D117: 3 | E117: 274 | T117: =SUM(F117:S117) -> 0 | U117: =T117*D117 -> 0 | V117: =T117*E117 -> 0
B118: XL-E | C118: 028.08 | D118: 3 | E118: 234 | T118: =SUM(F118:S118) -> 0 | U118: =T118*D118 -> 0 | V118: =T118*E118 -> 0
... B129: S-H | C129: 028.19 | D129: 5 | E129: 28 | T129: =SUM(F129:S129) -> 0 | U129: =T129*D129 -> 0 | V129: =T129*E129 -> 0
A130: Creature of | B130: XXXL-H | C130: 028.20 | D130: 1 | E130: 208 | T130: =SUM(F130:S130) -> 0 | U130: =T130*D130 -> 0 | V130: =T130*E130 -> 0
A131: Comfort | B131: XXXL-H | C131: 028.21 | D131: 1 | E131: 199 | T131: =SUM(F131:S131) -> 0 | U131: =T131*D131 -> 0 | V131: =T131*E131 -> 0
B132: XXXL-H | C132: 028.22 | D132: 1 | E132: 210 | T132: =SUM(F132:S132) -> 0 | U132: =T132*D132 -> 0 | V132: =T132*E132 -> 0
B133: XXXL-H | C133: 028.23 | D133: 1 | E133: 198 | T133: =SUM(F133:S133) -> 0 | U133: =T133*D133 -> 0 | V133: =T133*E133 -> 0
B134: XXL-H | C134: 028.24 | D134: 1 | E134: 114 | T134: =SUM(F134:S134) -> 0 | U134: =T134*D134 -> 0 | V134: =T134*E134 -> 0
B135: XXL-H | C135: 028.25 | D135: 1 | E135: 135 | T135: =SUM(F135:S135) -> 0 | U135: =T135*D135 -> 0 | V135: =T135*E135 -> 0
B136: XXL-E | C136: 028.26 | D136: 1 | E136: 134 | T136: =SUM(F136:S136) -> 0 | U136: =T136*D136 -> 0 | V136: =T136*E136 -> 0
B137: XXL-M | C137: 028.27 | D137: 1 | E137: 133 | T137: =SUM(F137:S137) -> 0 | U137: =T137*D137 -> 0 | V137: =T137*E137 -> 0
B138: XXL-E | C138: 028.28 | D138: 1 | E138: 135 | T138: =SUM(F138:S138) -> 0 | U138: =T138*D138 -> 0 | V138: =T138*E138 -> 0
B139: XXL-H | C139: 028.29 | D139: 1 | E139: 133 | T139: =SUM(F139:S139) -> 0 | U139: =T139*D139 -> 0 | V139: =T139*E139 -> 0
B140: XXL-E | C140: 028.30 | D140: 1 | E140: 132 | T140: =SUM(F140:S140) -> 0 | U140: =T140*D140 -> 0 | V140: =T140*E140 -> 0
B141: XXL-M | C141: 028.31 | D141: 1 | E141: 135 | T141: =SUM(F141:S141) -> 0 | U141: =T141*D141 -> 0 | V141: =T141*E141 -> 0
B142: XXL-H | C142: 028.32 | D142: 1 | E142: 124 | T142: =SUM(F142:S142) -> 0 | U142: =T142*D142 -> 0 | V142: =T142*E142 -> 0
...

Sheet Macros
A1: brand:Flathold;start:3;End:77;Range:B;Reference:C;Colors:G->S;productName:Volumes | B1: #VALUE! | G1: Europe GYM Price 2026.05 (all prices are without VAT) | T1: Arken SA Rue de Soleure 25 CH - 2740 Moutier order@arken-climbing.com www.flathold.com +41 78 817 51 92
A2: Production Color Code | G2: 9016 | H2: 1018 | I2: 3020 | J2: 5015 | K2: 9005 | O2: 4008 | P2: 6027 | Q2: 6037 | S2: 4005
A3: Material | B3: Range | C3: Subset | D3: Size | E3: Products / Set | F3: Price € | G3: White | H3: Yellow | I3: Red | J3: Blue | K3: Black | L3: Fluo Orange | M3: Fluo Green | N3: Fluo Pink | O3: Violet | P3: Mint | Q3: US Dark Green | R3: Transparent | S3: US Purple | T3: Nb Sets | U3: Nb Macros | V3: Total €
A4: Fiberglass | B4: Revival | C4: V.01.01 | D4: M | E4: 1 | F4: 204 | T4: =SUM(G4:S4) -> 0 | U4: =T4*E4 -> 0 | V4: =T4*F4 -> 0
C5: V.01.02 | D5: M | E5: 1 | F5: 204 | T5: =SUM(G5:S5) -> 0 | U5: =T5*E5 -> 0 | V5: =T5*F5 -> 0
C6: V.01.03 | D6: M | E6: 1 | F6: 204 | T6: =SUM(G6:S6) -> 0 | U6: =T6*E6 -> 0 | V6: =T6*F6 -> 0
C7: V.01.04 | D7: S | E7: 1 | F7: 149 | T7: =SUM(G7:S7) -> 0 | U7: =T7*E7 -> 0 | V7: =T7*F7 -> 0
A8: Fiberglass | B8: Superstar | C8: V.02.01 | D8: L | E8: 1 | F8: 248 | T8: =SUM(G8:S8) -> 0 | U8: =T8*E8 -> 0 | V8: =T8*F8 -> 0
C9: V.02.02 | D9: M | E9: 1 | F9: 204 | T9: =SUM(G9:S9) -> 0 | U9: =T9*E9 -> 0 | V9: =T9*F9 -> 0
C10: V.02.03 | D10: S | E10: 1 | F10: 149 | T10: =SUM(G10:S10) -> 0 | U10: =T10*E10 -> 0 | V10: =T10*F10 -> 0
C11: V.02.04 | D11: S | E11: 1 | F11: 149 | T11: =SUM(G11:S11) -> 0 | U11: =T11*E11 -> 0 | V11: =T11*F11 -> 0
A12: Fiberglass | B12: Elliot Master | C12: V.03.01 | D12: M | E12: 1 | F12: 204 | T12: =SUM(G12:S12) -> 0 | U12: =T12*E12 -> 0 | V12: =T12*F12 -> 0
C13: V.03.02 | D13: M | E13: 1 | F13: 204 | T13: =SUM(G13:S13) -> 0 | U13: =T13*E13 -> 0 | V13: =T13*F13 -> 0
C14: V.03.03 | D14: M | E14: 1 | F14: 204 | T14: =SUM(G14:S14) -> 0 | U14: =T14*E14 -> 0 | V14: =T14*F14 -> 0
C15: V.03.04 | D15: M | E15: 1 | F15: 176 | T15: =SUM(G15:S15) -> 0 | U15: =T15*E15 -> 0 | V15: =T15*F15 -> 0
C16: V.03.05 | D16: M | E16: 1 | F16: 176 | T16: =SUM(G16:S16) -> 0 | U16: =T16*E16 -> 0 | V16: =T16*F16 -> 0
A17: Fiberglass | B17: Thunderbirds | C17: V.04.01 | D17: L | E17: 1 | F17: 248 | T17: =SUM(G17:S17) -> 0 | U17: =T17*E17 -> 0 | V17: =T17*F17 -> 0
C18: V.04.02 | D18: L | E18: 1 | F18: 248 | T18: =SUM(G18:S18) -> 0 | U18: =T18*E18 -> 0 | V18: =T18*F18 -> 0
C19: V.04.03 | D19: M | E19: 1 | F19: 176 | T19: =SUM(G19:S19) -> 0 | U19: =T19*E19 -> 0 | V19: =T19*F19 -> 0
C20: V.04.04 | D20: M | E20: 1 | F20: 176 | T20: =SUM(G20:S20) -> 0 | U20: =T20*E20 -> 0 | V20: =T20*F20 -> 0
A21: Fiberglass | B21: Tsunami | C21: V.05.01 | D21: L | E21: 1 | F21: 286 | T21: =SUM(G21:S21) -> 0 | U21: =T21*E21 -> 0 | V21: =T21*F21 -> 0
C22: V.05.02 | D22: L | E22: 1 | F22: 286 | T22: =SUM(G22:S22) -> 0 | U22: =T22*E22 -> 0 | V22: =T22*F22 -> 0
C23: V.05.03 | D23: L | E23: 1 | F23: 264 | T23: =SUM(G23:S23) -> 0 | U23: =T23*E23 -> 0 | V23: =T23*F23 -> 0
C24: V.05.04 | D24: L | E24: 1 | F24: 264 | T24: =SUM(G24:S24) -> 0 | U24: =T24*E24 -> 0 | V24: =T24*F24 -> 0
C25: V.05.05 | D25: L | E25: 1 | F25: 264 | T25: =SUM(G25:S25) -> 0 | U25: =T25*E25 -> 0 | V25: =T25*F25 -> 0
A26: Fiberglass | B26: Golden Leaves | C26: V.06.01 | D26: XXL | E26: 1 | F26: 358 | T26: =SUM(G26:S26) -> 0 | U26: =T26*E26 -> 0 | V26: =T26*F26 -> 0
C27: V.06.02 | D27: M | E27: 1 | F27: 215 | T27: =SUM(G27:S27) -> 0 | U27: =T27*E27 -> 0 | V27: =T27*F27 -> 0
C28: V.06.03 | D28: M | E28: 1 | F28: 215 | T28: =SUM(G28:S28) -> 0 | U28: =T28*E28 -> 0 | V28: =T28*F28 -> 0
C29: V.06.04 | D29: M | E29: 1 | F29: 215 | T29: =SUM(G29:S29) -> 0 | U29: =T29*E29 -> 0 | V29: =T29*F29 -> 0
C30: V.06.05 | D30: S | E30: 1 | F30: 176 | T30: =SUM(G30:S30) -> 0 | U30: =T30*E30 -> 0 | V30: =T30*F30 -> 0
A31: Fiberglass | B31: Borderline | C31: V.07.01 | D31: XL | E31: 1 | F31: 292 | T31: =SUM(G31:S31) -> 0 | U31: =T31*E31 -> 0 | V31: =T31*F31 -> 0
C32: V.07.02 | D32: XL | E32: 1 | F32: 292 | T32: =SUM(G32:S32) -> 0 | U32: =T32*E32 -> 0 | V32: =T32*F32 -> 0
C33: V.07.03 | D33: L | E33: 1 | F33: 286 | T33: =SUM(G33:S33) -> 0 | U33: =T33*E33 -> 0 | V33: =T33*F33 -> 0
C34: V.07.04 | D34: L | E34: 1 | F34: 286 | T34: =SUM(G34:S34) -> 0 | U34: =T34*E34 -> 0 | V34: =T34*F34 -> 0
C35: V.07.05 | D35: M | E35: 1 | F35: 215 | T35: =SUM(G35:S35) -> 0 | U35: =T35*E35 -> 0 | V35: =T35*F35 -> 0
C36: V.07.06 | D36: M | E36: 1 | F36: 215 | T36: =SUM(G36:S36) -> 0 | U36: =T36*E36 -> 0 | V36: =T36*F36 -> 0
A37: Fiberglass | B37: Jolly Jumper | C37: V.08.01 | D37: XL | E37: 1 | F37: 286 | T37: =SUM(G37:S37) -> 0 | U37: =T37*E37 -> 0 | V37: =T37*F37 -> 0
C38: V.08.02 | D38: XL | E38: 1 | F38: 286 | T38: =SUM(G38:S38) -> 0 | U38: =T38*E38 -> 0 | V38: =T38*F38 -> 0
C39: V.08.03 | D39: L | E39: 1 | F39: 264 | T39: =SUM(G39:S39) -> 0 | U39: =T39*E39 -> 0 | V39: =T39*F39 -> 0
C40: V.08.04 | D40: L | E40: 1 | F40: 264 | T40: =SUM(G40:S40) -> 0 | U40: =T40*E40 -> 0 | V40: =T40*F40 -> 0
C41: V.08.05 | D41: M | E41: 1 | F41: 248 | T41: =SUM(G41:S41) -> 0 | U41: =T41*E41 -> 0 | V41: =T41*F41 -> 0
A42: ABS | B42: Borderline Mini | C42: V.09.01 | D42: M | E42: 1 | F42: 220 | T42: =SUM(G42:S42) -> 0 | U42: =T42*E42 -> 0 | V42: =T42*F42 -> 0
C43: V.09.02 | D43: M | E43: 1 | F43: 220 | T43: =SUM(G43:S43) -> 0 | U43: =T43*E43 -> 0 | V43: =T43*F43 -> 0
C44: V.09.03 | D44: M | E44: 1 | F44: 220 | T44: =SUM(G44:S44) -> 0 | U44: =T44*E44 -> 0 | V44: =T44*F44 -> 0
C45: V.09.04 | D45: S | E45: 1 | F45: 215 | T45: =SUM(G45:S45) -> 0 | U45: =T45*E45 -> 0 | V45: =T45*F45 -> 0
C46: V.09.05 | D46: S | E46: 1 | F46: 210 | T46: =SUM(G46:S46) -> 0 | U46: =T46*E46 -> 0 | V46: =T46*F46 -> 0
C47: V.09.06 | D47: S | E47: 1 | F47: 210 | T47: =SUM(G47:S47) -> 0 | U47: =T47*E47 -> 0 | V47: =T47*F47 -> 0
C48: V.09.07 | D48: S | E48: 1 | F48: 210 | T48: =SUM(G48:S48) -> 0 | U48: =T48*E48 -> 0 | V48: =T48*F48 -> 0
C49: V.09.08 | D49: S | E49: 1 | F49: 200 | T49: =SUM(G49:S49) -> 0 | U49: =T49*E49 -> 0 | V49: =T49*F49 -> 0
C50: V.09.09 | D50: S | E50: 1 | F50: 200 | T50: =SUM(G50:S50) -> 0 | U50: =T50*E50 -> 0 | V50: =T50*F50 -> 0
A51: PET | C51: V.10.01 | D51: S | E51: 2 | F51: 350 | T51: =SUM(G51:S51) -> 0 | U51: =T51*E51 -> 0 | V51: =T51*F51 -> 0
B52: Obsessed | C52: V.10.02 | D52: XS | E52: 2 | F52: 340 | T52: =SUM(G52:S52) -> 0 | U52: =T52*E52 -> 0 | V52: =T52*F52 -> 0
C53: V.10.03 | D53: XS | E53: 2 | F53: 330 | T53: =SUM(G53:S53) -> 0 | U53: =T53*E53 -> 0 | V53: =T53*F53 -> 0
A54: Fiberglass | B54: Floating Point | C54: V.11.01 | D54: S | E54: 1 | F54: 275 | T54: =SUM(G54:S54) -> 0 | U54: =T54*E54 -> 0 | V54: =T54*F54 -> 0
C55: V.11.02 | D55: S | E55: 1 | F55: 275 | T55: =SUM(G55:S55) -> 0 | U55: =T55*E55 -> 0 | V55: =T55*F55 -> 0
C56: V.11.03 | D56: S | E56: 1 | F56: 275 | T56: =SUM(G56:S56) -> 0 | U56: =T56*E56 -> 0 | V56: =T56*F56 -> 0
C57: V.11.04 | D57: S | E57: 1 | F57: 275 | T57: =SUM(G57:S57) -> 0 | U57: =T57*E57 -> 0 | V57: =T57*F57 -> 0
C58: V.11.05 | D58: S | E58: 1 | F58: 275 | T58: =SUM(G58:S58) -> 0 | U58: =T58*E58 -> 0 | V58: =T58*F58 -> 0
C59: V.11.06 | D59: XS | E59: 1 | F59: 264 | T59: =SUM(G59:S59) -> 0 | U59: =T59*E59 -> 0 | V59: =T59*F59 -> 0
A60: Fiberglass | B60: Mephisto | C60: V.12.01 | D60: M | E60: 1 | F60: 260 | T60: =SUM(G60:S60) -> 0 | U60: =T60*E60 -> 0 | V60: =T60*F60 -> 0
C61: V.12.02 | D61: M | E61: 1 | F61: 260 | T61: =SUM(G61:S61) -> 0 | U61: =T61*E61 -> 0 | V61: =T61*F61 -> 0
C62: V.12.03 | D62: M | E62: 1 | F62: 260 | T62: =SUM(G62:S62) -> 0 | U62: =T62*E62 -> 0 | V62: =T62*F62 -> 0
C63: V.12.04 | D63: M | E63: 1 | F63: 260 | T63: =SUM(G63:S63) -> 0 | U63: =T63*E63 -> 0 | V63: =T63*F63 -> 0
C64: V.12.05 | D64: M | E64: 1 | F64: 260 | T64: =SUM(G64:S64) -> 0 | U64: =T64*E64 -> 0 | V64: =T64*F64 -> 0
C65: V.12.06 | D65: M | E65: 1 | F65: 260 | T65: =SUM(G65:S65) -> 0 | U65: =T65*E65 -> 0 | V65: =T65*F65 -> 0
C66: V.12.07 | D66: M | E66: 1 | F66: 260 | T66: =SUM(G66:S66) -> 0 | U66: =T66*E66 -> 0 | V66: =T66*F66 -> 0
C67: V.12.08 | D67: M | E67: 1 | F67: 260 | T67: =SUM(G67:S67) -> 0 | U67: =T67*E67 -> 0 | V67: =T67*F67 -> 0
C68: V.12.09 | D68: M | E68: 1 | F68: 260 | T68: =SUM(G68:S68) -> 0 | U68: =T68*E68 -> 0 | V68: =T68*F68 -> 0
B69: Mephisto Special Edition NEW! | C69: V.12.11 | D69: M | E69: 1 | F69: 260 | T69: =SUM(G69:S69) -> 0 | U69: =T69*E69 -> 0 | V69: =T69*F69 -> 0
C70: V.12.12 | D70: M | E70: 1 | F70: 260 | T70: =SUM(G70:S70) -> 0 | U70: =T70*E70 -> 0 | V70: =T70*F70 -> 0
C71: V.12.13 | D71: M | E71: 1 | F71: 260 | T71: =SUM(G71:S71) -> 0 | U71: =T71*E71 -> 0 | V71: =T71*F71 -> 0
C72: V.12.14 | D72: M | E72: 1 | F72: 260 | T72: =SUM(G72:S72) -> 0 | U72: =T72*E72 -> 0 | V72: =T72*F72 -> 0
C73: V.12.15 | D73: M | E73: 1 | F73: 260 | T73: =SUM(G73:S73) -> 0 | U73: =T73*E73 -> 0 | V73: =T73*F73 -> 0
C74: V.12.16 | D74: M | E74: 1 | F74: 260 | T74: =SUM(G74:S74) -> 0 | U74: =T74*E74 -> 0 | V74: =T74*F74 -> 0
C75: V.12.17 | D75: M | E75: 1 | F75: 260 | T75: =SUM(G75:S75) -> 0 | U75: =T75*E75 -> 0 | V75: =T75*F75 -> 0
C76: V.12.18 | D76: M | E76: 1 | F76: 260 | T76: =SUM(G76:S76) -> 0 | U76: =T76*E76 -> 0 | V76: =T76*F76 -> 0
C77: V.12.19 | D77: M | E77: 1 | F77: 260 | T77: =SUM(G77:S77) -> 0 | U77: =T77*E77 -> 0 | V77: =T77*F77 -> 0
E78: Total Macros | G78: =SUMPRODUCT(G4:G77,$E4:$E77) -> 0 | H78: =SUMPRODUCT(H4:H77,$E4:$E77) -> 0 | I78: =SUMPRODUCT(I4:I77,$E4:$E77) -> 0 | J78: =SUMPRODUCT(J4:J77,$E4:$E77) -> 0 | K78: =SUMPRODUCT(K4:K77,$E4:$E77) -> 0 | L78: =SUMPRODUCT(L4:L77,$E4:$E77) -> 0 | M78: =SUMPRODUCT(M4:M77,$E4:$E77) -> 0 | N78: =SUMPRODUCT(N4:N77,$E4:$E77) -> 0 | ... S78: =SUMPRODUCT(S4:S77,$E4:$E77) -> 0 | T78: =SUM(T4:T77) -> 0 | U78: =SUM(U4:U77) -> 0 | V78: =SUM(V4:V77) -> 0

Sheet Hybrids
A1: brand:Flathold;start:3;End:28;Range:A;Reference:C;Colors:G->I;productName:UTURN | B1: #VALUE! | G1: Europe GYM Order Form 2026.05 (all prices are without VAT) | J1: Arken SA Rue de Soleure 25 CH - 2740 Moutier order@arken-climbing.com www.flathold.com +41 78 817 51 92
A2: Production Color Code | G2: 9005 | H2: 5015
A3: Range | B3: Set | C3: Subset | D3: Size | E3: Products / Set | F3: Price € | G3: Black | H3: Blue | I3: No Color | J3: Nb Sets | K3: Nb Products | L3: Total €
A4: #VALUE! | B4: Stack 1 | C4: UB.02 / UI.03 / UR.01 / UA.02 | D4: L | E4: 4 | F4: 571 | J4: =SUM(G4:I4) -> 0 | K4: =J4*E4 -> 0 | L4: =J4*F4 -> 0
B5: Stack 2 | C5: UB.01 / UV.02 / UA.01 / UA.03 | D5: XL | E5: 4 | F5: 1007 | J5: =SUM(G5:I5) -> 0 | K5: =J5*E5 -> 0 | L5: =J5*F5 -> 0
B6: Stack 3 | C6: UB.01 / UM.01 / UR.01 / UI.01 / UA.01+02+03 | D6: XL | E6: 7 | F6: 1113 | J6: =SUM(G6:I6) -> 0 | K6: =J6*E6 -> 0 | L6: =J6*F6 -> 0
B7: Ball XL | C7: UB.01 | D7: XL | E7: 1 | F7: 545 | J7: =SUM(G7:I7) -> 0 | K7: =J7*E7 -> 0 | L7: =J7*F7 -> 0
B8: Ball L | C8: UB.02 | D8: L | E8: 1 | F8: 395 | J8: =SUM(G8:I8) -> 0 | K8: =J8*E8 -> 0 | L8: =J8*F8 -> 0
B9: Volume 1 (incl. Bolt) | C9: UV.01 | D9: L | E9: 1 | F9: 420 | J9: =SUM(G9:I9) -> 0 | K9: =J9*E9 -> 0 | L9: =J9*F9 -> 0
B10: Volume 2 (incl. Bolt) | C10: UV.02 | D10: L | E10: 1 | F10: 420 | J10: =SUM(G10:I10) -> 0 | K10: =J10*E10 -> 0 | L10: =J10*F10 -> 0
B11: Volume 3 (incl. Bolt) | C11: UV.03 | D11: L | E11: 1 | F11: 420 | J11: =SUM(G11:I11) -> 0 | K11: =J11*E11 -> 0 | L11: =J11*F11 -> 0
B12: Volume 4 (incl. Bolt) | C12: UV.04 | D12: L | E12: 1 | F12: 420 | J12: =SUM(G12:I12) -> 0 | K12: =J12*E12 -> 0 | L12: =J12*F12 -> 0
B13: Insert 1 | C13: UI.01 | D13: M | E13: 1 | F13: 115 | J13: =SUM(G13:I13) -> 0 | K13: =J13*E13 -> 0 | L13: =J13*F13 -> 0
B14: Insert 2 | C14: UI.02 | D14: M | E14: 1 | F14: 115 | J14: =SUM(G14:I14) -> 0 | K14: =J14*E14 -> 0 | L14: =J14*F14 -> 0
B15: Insert 3 | C15: UI.03 | D15: M | E15: 1 | F15: 115 | J15: =SUM(G15:I15) -> 0 | K15: =J15*E15 -> 0 | L15: =J15*F15 -> 0
B16: Insert 4 | C16: UI.04 | D16: M | E16: 1 | F16: 115 | J16: =SUM(G16:I16) -> 0 | K16: =J16*E16 -> 0 | L16: =J16*F16 -> 0
... B21: Fixing Ring (incl. screws UA.08) | C21: UA.02 | D21: M | E21: 1 | F21: 21 | J21: =SUM(G21:I21) -> 0 | K21: =J21*E21 -> 0 | L21: =J21*F21 -> 0
A22: #VALUE! | B22: Assembly Tool | C22: UA.03 | D22: S | E22: 1 | F22: 11 | J22: =SUM(G22:I22) -> 0 | K22: =J22*E22 -> 0 | L22: =J22*F22 -> 0
B23: 1x M10 Bolt 160mm | C23: UA.04 | D23: S | E23: 1 | F23: 12 | J23: =SUM(G23:I23) -> 0 | K23: =J23*E23 -> 0 | L23: =J23*F23 -> 0
B24: 1x M10 Bolt 190mm | C24: UA.05 | D24: S | E24: 1 | F24: 13 | J24: =SUM(G24:I24) -> 0 | K24: =J24*E24 -> 0 | L24: =J24*F24 -> 0
A25: Accessories | B25: 1x M10 Bolt 230mm | C25: UA.06 | D25: S | E25: 1 | F25: 14 | J25: =SUM(G25:I25) -> 0 | K25: =J25*E25 -> 0 | L25: =J25*F25 -> 0
B26: 1x M10 Bolt 250mm | C26: UA.07 | D26: S | E26: 1 | F26: 15 | J26: =SUM(G26:I26) -> 0 | K26: =J26*E26 -> 0 | L26: =J26*F26 -> 0
B27: 6x M6 Screws 45mm | C27: UA.08 | D27: S | E27: 6 | F27: 3 | J27: =SUM(G27:I27) -> 0 | K27: =J27*E27 -> 0 | L27: =J27*F27 -> 0
B28: Rubber Band | C28: UA.09 | D28: S | E28: 1 | F28: 2 | J28: =SUM(G28:I28) -> 0 | K28: =J28*E28 -> 0 | L28: =J28*F28 -> 0
F29: Total Products | G29: =SUMPRODUCT($E4:$E28,G4:G28) -> 0 | H29: =SUMPRODUCT($E4:$E28,H4:H28) -> 0 | I29: =SUMPRODUCT($E4:$E28,I4:I28) -> 0 | J29: =SUM(J4:J28) -> 0 | K29: =SUM(K4:K28) -> 0 | L29: =SUM(L4:L28) -> 0

Sheet Accessories
A1: brand:Flathold;start:3;End:5;Range:A;Reference:C;Colors:G->H;productName:Accessories | B1: #VALUE! | F1: Europe GYM Price 2026.05 (all prices are without VAT) | I1: Arken SA Rue de Soleure 25 CH - 2740 Moutier order@arken-climbing.com www.flathold.com +41 78 817 51 92
A3: Range | B3: Set | C3: Subset | D3: Size | E3: Products / Set | F3: Price € | G3: Mint | H3: White | I3: Nb Sets | J3: Nb Products | K3: Total €
A4: Brush | B4: Box Pack 40 Brush | C4: A.01.01 | D4: S | E4: 40 | F4: 200 | I4: =SUM(G4:H4) -> 0 | J4: =I4*E4 -> 0 | K4: =F4*I4 -> 0
B5: Box Pack 40 Brush | C5: A.01.02 | D5: M | E5: 40 | F5: 285 | I5: =SUM(G5:H5) -> 0 | J5: =I5*E5 -> 0 | K5: =F5*I5 -> 0
F6: Total Products | G6: =SUMPRODUCT(E4:E5,G4:G5) -> 0 | H6: =SUMPRODUCT(E4:E5,H4:H5) -> 0 | I6: =SUM(I4:I5) -> 0 | J6: =SUM(J4:J5) -> 0 | K6: =SUM(K4:K5) -> 0
