Workbook
Name Bowl: #REF!
Name Bowls: #REF!
Name Bundel1: #REF!
Name Bundel2: #REF!
Name Bundel3: #REF!
Name Bundel4: #REF!
Name Insert: Hybrids!$C$13:$C$17
Name Inserts: #REF!
Name PU_ring: #REF!
Name Volumes: #REF!
Name Wedges: #REF!
Name Wedges_I: #REF!
Name Wedges_T: #REF!

Sheet Summary of order
A1: ignore:true;
A2: Billing Information | H2: #VALUE!
A3: Company name
A4: Company address
A5: City
A6: ZIP
A7: Country | J7: Total Sets | K7: Total Products | L7: Total excl. VAT
A8: VAT number | H8: Holds | J8: =Holds!T340 -> 0 | K8: =Holds!U340 -> 0 | L8: =Holds!V340 -> 0
A9: Responsible person | H9: Macros | J9: =Macros!T78 -> 0 | K9: =Macros!U78 -> 0 | L9: =Macros!V78 -> 0
A10: Phone | H10: Hybrids - UTURN | J10: =Hybrids!J4+Hybrids!J5+Hybrids!J6+Hybrids!J7+Hybrids!J8+Hybrids!J9+Hybrids!J10+Hybrids!J11+Hybrids!J12+Hybrids!J13+Hybrids!J14+Hybrids!J15+Hybrids!J16+Hybrids!J17+Hybrids!J18+Hybrids!J19+SUM(Hybrids!J20:J28) -> 0 | K10: =Hybrids!K29 -> 0 | L10: =Hybrids!L29 -> 0
A11: Email | H11: Accessories | J11: =Accessories!I6 -> 0 | K11: =Accessories!J5 -> 0 | L11: =Accessories!K6 -> 0
H12: Grand Total excl. VAT | L12: =SUM(L8:M11) -> 0
A13: Delivery Information
A14: Company name | H14: Grand Total excl. VAT | L14: =L12 -> 0
A15: Company address | H15: VAT % | J15: 0 | L15: =L14*J15 -> 0
A16: City | H16: Grand Total incl. VAT | L16: =L14+L15 -> 0
A17: ZIP
A18: Country
A19: VAT number
A20: Responsible person
A21: Phone
A22: Email
B25: Different colors are usually available in stock. Please contact us for current availability.

Sheet Holds
A1: brand:Flathold;start:3;End:339;Range:A;Reference:C;Colors:F->S;productName:Holds | B1: #VALUE! | F1: Europe GYM Price 2026.05 (all prices are without VAT) | T1: Arken SA Rue de Soleure 25 CH - 2740 Moutier order@arken-climbing.com www.flathold.com +41 78 817 51 92
A2: Production Color Code | G2: 3020 | H2: 5015 | I2: 9005 | J2: 2005 | M2: 4008 | N2: 6027 | R2: 9016
A3: Range | B3: Set | C3: Subset | D3: Products / Set | E3: Price € | F3: Yellow | G3: Red | H3: Blue | I3: Black | J3: Fluo Orange | K3: Fluo Green | L3: Fluo Pink | M3: Violet | N3: Mint | O3: US Light Green | P3: US Orange | Q3: US Dark Green | R3: White | S3: US Purple | T3: Nb Sets | U3: Nb Holds | V3: Total €
B4: Jug XXL/E | C4: 031.01 | D4: 2 | E4: 209 | T4: =SUM(F4:S4) -> 0 | U4: =T4*D4 -> 0 | V4: =T4*E4 -> 0
B5: Jug XXL/E | C5: 031.02 | D5: 3 | E5: 248 | T5: =SUM(F5:S5) -> 0 | U5: =T5*D5 -> 0 | V5: =T5*E5 -> 0
B6: Jug XL/E | C6: 031.03 | D6: 3 | E6: 213 | T6: =SUM(F6:S6) -> 0 | U6: =T6*D6 -> 0 | V6: =T6*E6 -> 0
B7: Jug XL/E | C7: 031.04 | D7: 4 | E7: 238 | T7: =SUM(F7:S7) -> 0 | U7: =T7*D7 -> 0 | V7: =T7*E7 -> 0
B8: Jug XL/E | C8: 031.05 | D8: 6 | E8: 258 | T8: =SUM(F8:S8) -> 0 | U8: =T8*D8 -> 0 | V8: =T8*E8 -> 0
B9: Jug L/E | C9: 031.06 | D9: 10 | E9: 255 | T9: =SUM(F9:S9) -> 0 | U9: =T9*D9 -> 0 | V9: =T9*E9 -> 0
B10: Jug M/E | C10: 031.07 | D10: 10 | E10: 182 | T10: =SUM(F10:S10) -> 0 | U10: =T10*D10 -> 0 | V10: =T10*E10 -> 0
B11: Crimp M/E | C11: 031.08 | D11: 12 | E11: 172 | T11: =SUM(F11:S11) -> 0 | U11: =T11*D11 -> 0 | V11: =T11*E11 -> 0
B12: Crimp M/M | C12: 031.09 | D12: 12 | E12: 129 | T12: =SUM(F12:S12) -> 0 | U12: =T12*D12 -> 0 | V12: =T12*E12 -> 0
B13: Crimp M/H | C13: 031.10 | D13: 10 | E13: 82 | T13: =SUM(F13:S13) -> 0 | U13: =T13*D13 -> 0 | V13: =T13*E13 -> 0
B14: Crimp S/H | C14: 031.11 | D14: 10 | E14: 70 | T14: =SUM(F14:S14) -> 0 | U14: =T14*D14 -> 0 | V14: =T14*E14 -> 0
A15: Riverbed | B15: Crimp M/E | C15: 031.12 | D15: 12 | E15: 106 | T15: =SUM(F15:S15) -> 0 | U15: =T15*D15 -> 0 | V15: =T15*E15 -> 0
A16: New! | B16: Crimp S/M | C16: 031.13 | D16: 12 | E16: 88 | T16: =SUM(F16:S16) -> 0 | U16: =T16*D16 -> 0 | V16: =T16*E16 -> 0
B17: Crimp S/H | C17: 031.14 | D17: 12 | E17: 74 | T17: =SUM(F17:S17) -> 0 | U17: =T17*D17 -> 0 | V17: =T17*E17 -> 0
B18: Screw-on XS/H | C18: 031.15 | D18: 20 | E18: 93 | T18: =SUM(F18:S18) -> 0 | U18: =T18*D18 -> 0 | V18: =T18*E18 -> 0
B19: Screw-on XS/H | C19: 031.16 | D19: 20 | E19: 87 | T19: =SUM(F19:S19) -> 0 | U19: =T19*D19 -> 0 | V19: =T19*E19 -> 0
B20: Sloper XXL/E | C20: 031.17 | D20: 2 | E20: 210 | T20: =SUM(F20:S20) -> 0 | U20: =T20*D20 -> 0 | V20: =T20*E20 -> 0
B21: Sloper XXL/M | C21: 031.18 | D21: 3 | E21: 265 | T21: =SUM(F21:S21) -> 0 | U21: =T21*D21 -> 0 | V21: =T21*E21 -> 0
B22: Sloper XL/E | C22: 031.19 | D22: 4 | E22: 239 | T22: =SUM(F22:S22) -> 0 | U22: =T22*D22 -> 0 | V22: =T22*E22 -> 0
B23: Sloper XL/E | C23: 031.20 | D23: 5 | E23: 248 | T23: =SUM(F23:S23) -> 0 | U23: =T23*D23 -> 0 | V23: =T23*E23 -> 0
B24: Jug L/M | C24: 031.21 | D24: 5 | E24: 209 | T24: =SUM(F24:S24) -> 0 | U24: =T24*D24 -> 0 | V24: =T24*E24 -> 0
B25: Jug L/M | C25: 031.22 | D25: 5 | E25: 195 | T25: =SUM(F25:S25) -> 0 | U25: =T25*D25 -> 0 | V25: =T25*E25 -> 0
B26: Jug L/M | C26: 031.23 | D26: 4 | E26: 180 | T26: =SUM(F26:S26) -> 0 | U26: =T26*D26 -> 0 | V26: =T26*E26 -> 0
B27: Foot XS/H | C27: 031.24 | D27: 12 | E27: 84 | T27: =SUM(F27:S27) -> 0 | U27: =T27*D27 -> 0 | V27: =T27*E27 -> 0
B28: Foot XS/H | C28: 031.25 | D28: 12 | E28: 88 | T28: =SUM(F28:S28) -> 0 | U28: =T28*D28 -> 0 | V28: =T28*E28 -> 0
... B39: M-E | C39: 030.11 | D39: 10 | E39: 104 | T39: =SUM(F39:S39) -> 0 | U39: =T39*D39 -> 0 | V39: =T39*E39 -> 0
A40: Ravage | B40: M-E | C40: 030.12 | D40: 10 | E40: 94 | T40: =SUM(F40:S40) -> 0 | U40: =T40*D40 -> 0 | V40: =T40*E40 -> 0
B41: M-M | C41: 030.13 | D41: 11 | E41: 82 | T41: =SUM(F41:S41) -> 0 | U41: =T41*D41 -> 0 | V41: =T41*E41 -> 0
B42: L-E | C42: 030.14 | D42: 10 | E42: 148 | T42: =SUM(F42:S42) -> 0 | U42: =T42*D42 -> 0 | V42: =T42*E42 -> 0
B43: M-M | C43: 030.15 | D43: 12 | E43: 140 | T43: =SUM(F43:S43) -> 0 | U43: =T43*D43 -> 0 | V43: =T43*E43 -> 0
B44: M-M | C44: 030.16 | D44: 11 | E44: 86 | T44: =SUM(F44:S44) -> 0 | U44: =T44*D44 -> 0 | V44: =T44*E44 -> 0
B45: M-E | C45: 030.17 | D45: 5 | E45: 47 | T45: =SUM(F45:S45) -> 0 | U45: =T45*D45 -> 0 | V45: =T45*E45 -> 0
B46: M-M | C46: 030.18 | D46: 6 | E46: 48 | T46: =SUM(F46:S46) -> 0 | U46: =T46*D46 -> 0 | V46: =T46*E46 -> 0
B47: S-M | C47: 030.19 | D47: 10 | E47: 67 | T47: =SUM(F47:S47) -> 0 | U47: =T47*D47 -> 0 | V47: =T47*E47 -> 0
B48: S-M | C48: 030.20 | D48: 11 | E48: 68 | T48: =SUM(F48:S48) -> 0 | U48: =T48*D48 -> 0 | V48: =T48*E48 -> 0
B49: S-H | C49: 030.21 | D49: 10 | E49: 72 | T49: =SUM(F49:S49) -> 0 | U49: =T49*D49 -> 0 | V49: =T49*E49 -> 0
B50: S-H | C50: 030.22 | D50: 13 | E50: 77 | T50: =SUM(F50:S50) -> 0 | U50: =T50*D50 -> 0 | V50: =T50*E50 -> 0
...

Sheet Macros
A1: brand:Flathold;start:3;End:77;Range:B;Reference:C;Colors:G->S;productName:Volumes | B1: #VALUE! | G1: Europe GYM Price 2026.05 (all prices are without VAT) | T1: Arken SA Rue de Soleure 25 CH - 2740 Moutier order@arken-climbing.com www.flathold.com +41 78 817 51 92
A2: Production Color Code | G2: 9016 | H2: 1018 | I2: 3020 | J2: 5015 | K2: 9005 | O2: 4008 | P2: 6027 | Q2: 6037 | S2: 4005
A3: Material | B3: Range | C3: Subset | D3: Size | E3: Products / Set | F3: Price € | G3: White | H3: Yellow | I3: Red | J3: Blue | K3: Black | L3: Fluo Orange | M3: Fluo Green | N3: Fluo Pink | O3: Violet | P3: Mint | Q3: US Dark Green | R3: Transparent | S3: US Purple | T3: Nb Sets | U3: Nb Macros | V3: Total €
A4: Fiberglass | B4: Revival | C4: V.01.01 | D4: M | E4: 1 | F4: 204 | T4: =SUM(G4:S4) -> 0 | U4: =T4*E4 -> 0 | V4: =T4*F4 -> 0
C5: V.01.02 | D5: M | E5: 1 | F5: 204 | T5: =SUM(G5:S5) -> 0 | U5: =T5*E5 -> 0 | V5: =T5*F5 -> 0
C6: V.01.03 | D6: M | E6: 1 | F6: 204 | T6: =SUM(G6:S6) -> 0 | U6: =T6*E6 -> 0 | V6: =T6*F6 -> 0
C7: V.01.04 | D7: S | E7: 1 | F7: 149 | T7: =SUM(G7:S7) -> 0 | U7: =T7*E7 -> 0 | V7: =T7*F7 -> 0
A8: Fiberglass | B8: Superstar | C8: V.02.01 | D8: L | E8: 1 | F8: 248 | T8: =SUM(G8:S8) -> 0 | U8: =T8*E8 -> 0 | V8: =T8*F8 -> 0
C9: V.02.02 | D9: M | E9: 1 | F9: 204 | T9: =SUM(G9:S9) -> 0 | U9: =T9*E9 -> 0 | V9: =T9*F9 -> 0
C10: V.02.03 | D10: S | E10: 1 | F10: 149 | T10: =SUM(G10:S10) -> 0 | U10: =T10*E10 -> 0 | V10: =T10*F10 -> 0
C11: V.02.04 | D11: S | E11: 1 | F11: 149 | T11: =SUM(G11:S11) -> 0 | U11: =T11*E11 -> 0 | V11: =T11*F11 -> 0
A12: Fiberglass | B12: Elliot Master | C12: V.03.01 | D12: M | E12: 1 | F12: 204 | T12: =SUM(G12:S12) -> 0 | U12: =T12*E12 -> 0 | V12: =T12*F12 -> 0
C13: V.03.02 | D13: M | E13: 1 | F13: 204 | T13: =SUM(G13:S13) -> 0 | U13: =T13*E13 -> 0 | V13: =T13*F13 -> 0
C14: V.03.03 | D14: M | E14: 1 | F14: 204 | T14: =SUM(G14:S14) -> 0 | U14: =T14*E14 -> 0 | V14: =T14*F14 -> 0
C15: V.03.04 | D15: M | E15: 1 | F15: 176 | T15: =SUM(G15:S15) -> 0 | U15: =T15*E15 -> 0 | V15: =T15*F15 -> 0
C16: V.03.05 | D16: M | E16: 1 | F16: 176 | T16: =SUM(G16:S16) -> 0 | U16: =T16*E16 -> 0 | V16: =T16*F16 -> 0
A17: Fiberglass | B17: Thunderbirds | C17: V.04.01 | D17: L | E17: 1 | F17: 248 | T17: =SUM(G17:S17) -> 0 | U17: =T17*E17 -> 0 | V17: =T17*F17 -> 0
C18: V.04.02 | D18: L | E18: 1 | F18: 248 | T18: =SUM(G18:S18) -> 0 | U18: =T18*E18 -> 0 | V18: =T18*F18 -> 0
C19: V.04.03 | D19: M | E19: 1 | F19: 176 | T19: =SUM(G19:S19) -> 0 | U19: =T19*E19 -> 0 | V19: =T19*F19 -> 0
C20: V.04.04 | D20: M | E20: 1 | F20: 176 | T20: =SUM(G20:S20) -> 0 | U20: =T20*E20 -> 0 | V20: =T20*F20 -> 0
A21: Fiberglass | B21: Tsunami | C21: V.05.01 | D21: L | E21: 1 | F21: 286 | T21: =SUM(G21:S21) -> 0 | U21: =T21*E21 -> 0 | V21: =T21*F21 -> 0
C22: V.05.02 | D22: L | E22: 1 | F22: 286 | T22: =SUM(G22:S22) -> 0 | U22: =T22*E22 -> 0 | V22: =T22*F22 -> 0
C23: V.05.03 | D23: L | E23: 1 | F23: 264 | T23: =SUM(G23:S23) -> 0 | U23: =T23*E23 -> 0 | V23: =T23*F23 -> 0
C24: V.05.04 | D24: L | E24: 1 | F24: 264 | T24: =SUM(G24:S24) -> 0 | U24: =T24*E24 -> 0 | V24: =T24*F24 -> 0
C25: V.05.05 | D25: L | E25: 1 | F25: 264 | T25: =SUM(G25:S25) -> 0 | U25: =T25*E25 -> 0 | V25: =T25*F25 -> 0
A26: Fiberglass | B26: Golden Leaves | C26: V.06.01 | D26: XXL | E26: 1 | F26: 358 | T26: =SUM(G26:S26) -> 0 | U26: =T26*E26 -> 0 | V26: =T26*F26 -> 0
C27: V.06.02 | D27: M | E27: 1 | F27: 215 | T27: =SUM(G27:S27) -> 0 | U27: =T27*E27 -> 0 | V27: =T27*F27 -> 0
C28: V.06.03 | D28: M | E28: 1 | F28: 215 | T28: =SUM(G28:S28) -> 0 | U28: =T28*E28 -> 0 | V28: =T28*F28 -> 0
C29: V.06.04 | D29: M | E29: 1 | F29: 215 | T29: =SUM(G29:S29) -> 0 | U29: =T29*E29 -> 0 | V29: =T29*F29 -> 0
C30: V.06.05 | D30: S | E30: 1 | F30: 176 | T30: =SUM(G30:S30) -> 0 | U30: =T30*E30 -> 0 | V30: =T30*F30 -> 0
A31: Fiberglass | B31: Borderline | C31: V.07.01 | D31: XL | E31: 1 | F31: 292 | T31: =SUM(G31:S31) -> 0 | U31: =T31*E31 -> 0 | V31: =T31*F31 -> 0
C32: V.07.02 | D32: XL | E32: 1 | F32: 292 | T32: =SUM(G32:S32) -> 0 | U32: =T32*E32 -> 0 | V32: =T32*F32 -> 0
C33: V.07.03 | D33: L | E33: 1 | F33: 286 | T33: =SUM(G33:S33) -> 0 | U33: =T33*E33 -> 0 | V33: =T33*F33 -> 0
C34: V.07.04 | D34: L | E34: 1 | F34: 286 | T34: =SUM(G34:S34) -> 0 | U34: =T34*E34 -> 0 | V34: =T34*F34 -> 0
C35: V.07.05 | D35: M | E35: 1 | F35: 215 | T35: =SUM(G35:S35) -> 0 | U35: =T35*E35 -> 0 | V35: =T35*F35 -> 0
C36: V.07.06 | D36: M | E36: 1 | F36: 215 | T36: =SUM(G36:S36) -> 0 | U36: =T36*E36 -> 0 | V36: =T36*F36 -> 0
A37: Fiberglass | B37: Jolly Jumper | C37: V.08.01 | D37: XL | E37: 1 | F37: 286 | T37: =SUM(G37:S37) -> 0 | U37: =T37*E37 -> 0 | V37: =T37*F37 -> 0
C38: V.08.02 | D38: XL | E38: 1 | F38: 286 | T38: =SUM(G38:S38) -> 0 | U38: =T38*E38 -> 0 | V38: =T38*F38 -> 0
C39: V.08.03 | D39: L | E39: 1 | F39: 264 | T39: =SUM(G39:S39) -> 0 | U39: =T39*E39 -> 0 | V39: =T39*F39 -> 0
C40: V.08.04 | D40: L | E40: 1 | F40: 264 | T40: =SUM(G40:S40) -> 0 | U40: =T40*E40 -> 0 | V40: =T40*F40 -> 0
...

Sheet Hybrids
A1: brand:Flathold;start:3;End:28;Range:A;Reference:C;Colors:G->I;productName:UTURN | B1: #VALUE! | G1: Europe GYM Order Form 2026.05 (all prices are without VAT) | J1: Arken SA Rue de Soleure 25 CH - 2740 Moutier order@arken-climbing.com www.flathold.com +41 78 817 51 92
A2: Production Color Code | G2: 9005 | H2: 5015
A3: Range | B3: Set | C3: Subset | D3: Size | E3: Products / Set | F3: Price € | G3: Black | H3: Blue | I3: No Color | J3: Nb Sets | K3: Nb Products | L3: Total €
A4: #VALUE! | B4: Stack 1 | C4: UB.02 / UI.03 / UR.01 / UA.02 | D4: L | E4: 4 | F4: 571 | J4: =SUM(G4:I4) -> 0 | K4: =J4*E4 -> 0 | L4: =J4*F4 -> 0
B5: Stack 2 | C5: UB.01 / UV.02 / UA.01 / UA.03 | D5: XL | E5: 4 | F5: 1007 | J5: =SUM(G5:I5) -> 0 | K5: =J5*E5 -> 0 | L5: =J5*F5 -> 0
B6: Stack 3 | C6: UB.01 / UM.01 / UR.01 / UI.01 / UA.01+02+03 | D6: XL | E6: 7 | F6: 1113 | J6: =SUM(G6:I6) -> 0 | K6: =J6*E6 -> 0 | L6: =J6*F6 -> 0
B7: Ball XL | C7: UB.01 | D7: XL | E7: 1 | F7: 545 | J7: =SUM(G7:I7) -> 0 | K7: =J7*E7 -> 0 | L7: =J7*F7 -> 0
B8: Ball L | C8: UB.02 | D8: L | E8: 1 | F8: 395 | J8: =SUM(G8:I8) -> 0 | K8: =J8*E8 -> 0 | L8: =J8*F8 -> 0
B9: Volume 1 (incl. Bolt) | C9: UV.01 | D9: L | E9: 1 | F9: 420 | J9: =SUM(G9:I9) -> 0 | K9: =J9*E9 -> 0 | L9: =J9*F9 -> 0
B10: Volume 2 (incl. Bolt) | C10: UV.02 | D10: L | E10: 1 | F10: 420 | J10: =SUM(G10:I10) -> 0 | K10: =J10*E10 -> 0 | L10: =J10*F10 -> 0
B11: Volume 3 (incl. Bolt) | C11: UV.03 | D11: L | E11: 1 | F11: 420 | J11: =SUM(G11:I11) -> 0 | K11: =J11*E11 -> 0 | L11: =J11*F11 -> 0
B12: Volume 4 (incl. Bolt) | C12: UV.04 | D12: L | E12: 1 | F12: 420 | J12: =SUM(G12:I12) -> 0 | K12: =J12*E12 -> 0 | L12: =J12*F12 -> 0
B13: Insert 1 | C13: UI.01 | D13: M | E13: 1 | F13: 115 | J13: =SUM(G13:I13) -> 0 | K13: =J13*E13 -> 0 | L13: =J13*F13 -> 0
B14: Insert 2 | C14: UI.02 | D14: M | E14: 1 | F14: 115 | J14: =SUM(G14:I14) -> 0 | K14: =J14*E14 -> 0 | L14: =J14*F14 -> 0
B15: Insert 3 | C15: UI.03 | D15: M | E15: 1 | F15: 115 | J15: =SUM(G15:I15) -> 0 | K15: =J15*E15 -> 0 | L15: =J15*F15 -> 0
B16: Insert 4 | C16: UI.04 | D16: M | E16: 1 | F16: 115 | J16: =SUM(G16:I16) -> 0 | K16: =J16*E16 -> 0 | L16: =J16*F16 -> 0
... B21: Fixing Ring (incl. screws UA.08) | C21: UA.02 | D21: M | E21: 1 | F21: 21 | J21: =SUM(G21:I21) -> 0 | K21: =J21*E21 -> 0 | L21: =J21*F21 -> 0
A22: #VALUE! | B22: Assembly Tool | C22: UA.03 | D22: S | E22: 1 | F22: 11 | J22: =SUM(G22:I22) -> 0 | K22: =J22*E22 -> 0 | L22: =J22*F22 -> 0
B23: 1x M10 Bolt 160mm | C23: UA.04 | D23: S | E23: 1 | F23: 12 | J23: =SUM(G23:I23) -> 0 | K23: =J23*E23 -> 0 | L23: =J23*F23 -> 0
B24: 1x M10 Bolt 190mm | C24: UA.05 | D24: S | E24: 1 | F24: 13 | J24: =SUM(G24:I24) -> 0 | K24: =J24*E24 -> 0 | L24: =J24*F24 -> 0
A25: Accessories | B25: 1x M10 Bolt 230mm | C25: UA.06 | D25: S | E25: 1 | F25: 14 | J25: =SUM(G25:I25) -> 0 | K25: =J25*E25 -> 0 | L25: =J25*F25 -> 0
B26: 1x M10 Bolt 250mm | C26: UA.07 | D26: S | E26: 1 | F26: 15 | J26: =SUM(G26:I26) -> 0 | K26: =J26*E26 -> 0 | L26: =J26*F26 -> 0
B27: 6x M6 Screws 45mm | C27: UA.08 | D27: S | E27: 6 | F27: 3 | J27: =SUM(G27:I27) -> 0 | K27: =J27*E27 -> 0 | L27: =J27*F27 -> 0
B28: Rubber Band | C28: UA.09 | D28: S | E28: 1 | F28: 2 | J28: =SUM(G28:I28) -> 0 | K28: =J28*E28 -> 0 | L28: =J28*F28 -> 0
F29: Total Products | G29: =SUMPRODUCT($E4:$E28,G4:G28) -> 0 | H29: =SUMPRODUCT($E4:$E28,H4:H28) -> 0 | I29: =SUMPRODUCT($E4:$E28,I4:I28) -> 0 | J29: =SUM(J4:J28) -> 0 | K29: =SUM(K4:K28) -> 0 | L29: =SUM(L4:L28) -> 0

Sheet Accessories
A1: brand:Flathold;start:3;End:5;Range:A;Reference:C;Colors:G->H;productName:Accessories | B1: #VALUE! | F1: Europe GYM Price 2026.05 (all prices are without VAT) | I1: Arken SA Rue de Soleure 25 CH - 2740 Moutier order@arken-climbing.com www.flathold.com +41 78 817 51 92
A3: Range | B3: Set | C3: Subset | D3: Size | E3: Products / Set | F3: Price € | G3: Mint | H3: White | I3: Nb Sets | J3: Nb Products | K3: Total €
A4: Brush | B4: Box Pack 40 Brush | C4: A.01.01 | D4: S | E4: 40 | F4: 200 | I4: =SUM(G4:H4) -> 0 | J4: =I4*E4 -> 0 | K4: =F4*I4 -> 0
B5: Box Pack 40 Brush | C5: A.01.02 | D5: M | E5: 40 | F5: 285 | I5: =SUM(G5:H5) -> 0 | J5: =I5*E5 -> 0 | K5: =F5*I5 -> 0
F6: Total Products | G6: =SUMPRODUCT(E4:E5,G4:G5) -> 0 | H6: =SUMPRODUCT(E4:E5,H4:H5) -> 0 | I6: =SUM(I4:I5) -> 0 | J6: =SUM(J4:J5) -> 0 | K6: =SUM(K4:K5) -> 0
