Workbook

Sheet RECAP
C1: ArtLine Holds 2, chemin du Génie - PA du Génie 69200 Venissieux, France Tel: +33(0)4 82 53 75 15 | F1: Order Sheet All prices in Euros
B3: EUR (HT) | C3: DISCOUNT (%) | D3: WEIGHT (Kg) | G3: Contact : | H3: Johane Perret
A4: Total Amount Order : | B4: =SUM(B6:B16) -> 0 | D4: =SUM(D7:D16) -> 0 | G4: E-mail: | H4: johane@artline-holds.com
A5: Equipment | B5: =Equipment!C2 -> 0 | C5: =Equipment!D2 -> 0 | D5: =Equipment!AA1 -> 0 | G5: Phone : | I5: +33 (0)4 82 53 75 15
A6: PE/PU - Volx | B6: ='PE-PU - Volx'!B2 -> 0 | C6: ='PE-PU - Volx'!C2 -> 0 | D6: ='PE-PU - Volx'!X1 -> 0
A7: PE - CompositeX | B7: ='PE - CompositeX'!B2 -> 0 | C7: ='PE - CompositeX'!C2 -> 0 | D7: ='PE - CompositeX'!AA1 -> 0
A8: PU - CompositeX | B8: ='PU - CompositeX'!C2 -> 0 | C8: ='PU - CompositeX'!D2 -> 0 | D8: ='PU - CompositeX'!AA1 -> 0
A9: Packs CompositeX | B9: ='Packs CompositeX'!C2 -> 0 | C9: ='Packs CompositeX'!D2 -> 0 | D9: ='Packs CompositeX'!AA1 -> 0
A10: TP Thermoplastic - Ghold | B10: ='TP Thermoplastic - Ghold'!C2 -> 0 | C10: ='TP Thermoplastic - Ghold'!D2 -> 0 | D10: ='TP Thermoplastic - Ghold'!Y1 -> 0
A11: PU - Peak Performance USA | B11: ='PU - Peak Performance USA'!D2 -> 0 | C11: ='PU - Peak Performance USA'!E2 -> 0 | D11: ='PU - Peak Performance USA'!Y1 -> 0
A12: GRP/PU - 360 Europe | B12: ='GRP-PU - 360 Europe'!C2 -> 0 | C12: ='GRP-PU - 360 Europe'!D2 -> 0 | D12: ='GRP-PU - 360 Europe'!Y1 -> 0
A13: GRP - 360 Mexico | B13: ='GRP - 360 Mexico'!C2 -> 0 | C13: ='GRP - 360 Mexico'!D2 -> 0 | D13: ='GRP-PU - 360 Europe'!Z2 -> 0
A14: GRP/PU - KastLine | B14: ='GRP-PU - KastLine'!C2 -> 0 | C14: ='GRP-PU - KastLine'!D2 -> 0 | D14: ='GRP-PU - KastLine'!AB1 -> 0
A15: Wooden Volumes - Manusad | B15: ='Wooden Volumes - Manusad'!C2 -> 0 | C15: ='Wooden Volumes - Manusad'!D3 -> 0 | D15: ='Wooden Volumes - Manusad'!AC1 -> 0
A16: TrainingLine & Homewall | B16: ='Training & Homewall'!C2 -> 0 | C16: ='Training & Homewall'!D2 -> 0 | D16: ='Training & Homewall'!Y1 -> 0
A18: Holds Size of your order
A19: XS | B19: S | C19: M | D19: L | E19: XL | F19: XXL | G19: XXXL | H19: Mega | I19: TOTAL
A20: ='Packs CompositeX'!H3+'PE - CompositeX'!H3+'PU - CompositeX'!H3+'GRP-PU - 360 Europe'!H3+'GRP-PU - KastLine'!H3+'TP Thermoplastic - Ghold'!H3+'PE-PU - Volx'!H3+'GRP - 360 Mexico'!I3+'PU - Peak Performance USA'!I3+Equipment!H3 -> 0 | B20: ='Packs CompositeX'!I3+'PE - CompositeX'!I3+'PU - CompositeX'!I3+'GRP-PU - 360 Europe'!I3+'GRP-PU - KastLine'!I3+'TP Thermoplastic - Ghold'!I3+'PE-PU - Volx'!I3+'GRP - 360 Mexico'!J3+'PU - Peak Performance USA'!J3+Equipment!I3 -> 0 | C20: ='Packs CompositeX'!J3+'PE - CompositeX'!J3+'PU - CompositeX'!J3+'GRP-PU - 360 Europe'!J3+'GRP-PU - KastLine'!J3+'TP Thermoplastic - Ghold'!J3+'PE-PU - Volx'!J3+'GRP - 360 Mexico'!K3+'PU - Peak Performance USA'!K3+Equipment!J3 -> 0 | D20: ='Packs CompositeX'!K3+'PE - CompositeX'!K3+'PU - CompositeX'!K3+'GRP-PU - 360 Europe'!K3+'GRP-PU - KastLine'!K3+'TP Thermoplastic - Ghold'!K3+'PE-PU - Volx'!K3+'GRP - 360 Mexico'!L3+'PU - Peak Performance USA'!L3+Equipment!K3 -> 0 | E20: ='Packs CompositeX'!L3+'PE - CompositeX'!L3+'PU - CompositeX'!L3+'GRP-PU - 360 Europe'!L3+'GRP-PU - KastLine'!L3+'TP Thermoplastic - Ghold'!L3+'PE-PU - Volx'!L3+'GRP - 360 Mexico'!M3+'PU - Peak Performance USA'!M3+Equipment!L3 -> 0 | F20: ='Packs CompositeX'!M3+'PE - CompositeX'!M3+'PU - CompositeX'!M3+'GRP-PU - 360 Europe'!M3+'GRP-PU - KastLine'!M3+'TP Thermoplastic - Ghold'!M3+'PE-PU - Volx'!M3+'GRP - 360 Mexico'!N3+'PU - Peak Performance USA'!N3+Equipment!M3 -> 0 | G20: ='Packs CompositeX'!N3+'PE - CompositeX'!N3+'PU - CompositeX'!N3+'GRP-PU - 360 Europe'!N3+'GRP-PU - KastLine'!N3+'TP Thermoplastic - Ghold'!N3+'PE-PU - Volx'!N3+'GRP - 360 Mexico'!O3+'PU - Peak Performance USA'!O3+Equipment!N3 -> 0 | H20: ='Packs CompositeX'!O3+'PE - CompositeX'!O3+'PU - CompositeX'!O3+'GRP-PU - 360 Europe'!O3+'GRP-PU - KastLine'!O3+'TP Thermoplastic - Ghold'!O3+'PE-PU - Volx'!O3+'GRP - 360 Mexico'!P3 -> 0 | I20: =SUM(A20:H20) -> 0
A22: Volumes Size of your order
A23: XS | B23: S | C23: M | D23: L | E23: XL | F23: XXL | G23: TOTAL
A24: ='Wooden Volumes - Manusad'!H3 -> 0 | B24: ='Wooden Volumes - Manusad'!I3 -> 0 | C24: ='Wooden Volumes - Manusad'!J3 -> 0 | D24: ='Wooden Volumes - Manusad'!K3 -> 0 | E24: ='Wooden Volumes - Manusad'!L3 -> 0 | F24: ='Wooden Volumes - Manusad'!M3 -> 0 | G24: =SUM(A24:F24) -> 0
A26: Bolts adapted to your order
A27: 30 mm | B27: 40 mm | C27: 50 mm | D27: 70 mm | E27: 90 mm | F27: 100 mm | G27: 120 mm | H27: 140 mm | I27: 160 mm | J27: 180 mm | K27: 200 mm | L27: TOTAL
A28: ='Packs CompositeX'!H8+'PE - CompositeX'!H8+'PU - CompositeX'!H8+'Wooden Volumes - Manusad'!H8+'GRP-PU - 360 Europe'!H8+'Training & Homewall'!H8+'GRP-PU - KastLine'!H8+'TP Thermoplastic - Ghold'!H8+'PE-PU - Volx'!H8+'PU - Peak Performance USA'!I8+'GRP - 360 Mexico'!I8+Equipment!H8 -> 0 | B28: ='Packs CompositeX'!I8+'PE - CompositeX'!I8+'PU - CompositeX'!I8+'Wooden Volumes - Manusad'!I8+'GRP-PU - 360 Europe'!I8+'Training & Homewall'!I8+'GRP-PU - KastLine'!I8+'TP Thermoplastic - Ghold'!I8+'PE-PU - Volx'!I8+'PU - Peak Performance USA'!J8+'GRP - 360 Mexico'!J8+Equipment!I8 -> 0 | C28: ='Packs CompositeX'!J8+'PE - CompositeX'!J8+'PU - CompositeX'!J8+'Wooden Volumes - Manusad'!J8+'GRP-PU - 360 Europe'!J8+'Training & Homewall'!J8+'GRP-PU - KastLine'!J8+'TP Thermoplastic - Ghold'!J8+'PE-PU - Volx'!J8+'PU - Peak Performance USA'!K8+'GRP - 360 Mexico'!K8+Equipment!J8 -> 0 | D28: ='Packs CompositeX'!K8+'PE - CompositeX'!K8+'PU - CompositeX'!K8+'Wooden Volumes - Manusad'!K8+'GRP-PU - 360 Europe'!K8+'Training & Homewall'!K8+'GRP-PU - KastLine'!K8+'TP Thermoplastic - Ghold'!K8+'PE-PU - Volx'!K8+'PU - Peak Performance USA'!L8+'GRP - 360 Mexico'!L8+Equipment!K8 -> 0 | E28: ='Packs CompositeX'!L8+'PE - CompositeX'!L8+'PU - CompositeX'!L8+'Wooden Volumes - Manusad'!L8+'GRP-PU - 360 Europe'!L8+'Training & Homewall'!L8+'GRP-PU - KastLine'!L8+'TP Thermoplastic - Ghold'!L8+'PE-PU - Volx'!L8+'PU - Peak Performance USA'!M8+'GRP - 360 Mexico'!M8+Equipment!L8 -> 0 | F28: ='Packs CompositeX'!M8+'PE - CompositeX'!M8+'PU - CompositeX'!M8+'Wooden Volumes - Manusad'!M8+'GRP-PU - 360 Europe'!M8+'Training & Homewall'!M8+'GRP-PU - KastLine'!M8+'TP Thermoplastic - Ghold'!M8+'PE-PU - Volx'!M8+'PU - Peak Performance USA'!N8+'GRP - 360 Mexico'!N8+Equipment!M8 -> 0 | G28: ='Packs CompositeX'!N8+'PE - CompositeX'!N8+'PU - CompositeX'!N8+'Wooden Volumes - Manusad'!N8+'GRP-PU - 360 Europe'!N8+'Training & Homewall'!N8+'GRP-PU - KastLine'!N8+'TP Thermoplastic - Ghold'!N8+'PE-PU - Volx'!N8+'PU - Peak Performance USA'!O8+'GRP - 360 Mexico'!O8+Equipment!N8 -> 0 | H28: ='Packs CompositeX'!O8+'PE - CompositeX'!O8+'PU - CompositeX'!O8+'Wooden Volumes - Manusad'!O8+'GRP-PU - 360 Europe'!O8+'Training & Homewall'!O8+'GRP-PU - KastLine'!O8+'TP Thermoplastic - Ghold'!O8+'PE-PU - Volx'!O8+'PU - Peak Performance USA'!P8+'GRP - 360 Mexico'!P8+Equipment!O8 -> 0 | ... K28: ='Packs CompositeX'!R8+'PE - CompositeX'!R8+'PU - CompositeX'!R8+'Wooden Volumes - Manusad'!R8+'GRP-PU - 360 Europe'!R8+'Training & Homewall'!R8+'GRP-PU - KastLine'!R8+'TP Thermoplastic - Ghold'!R8+'PE-PU - Volx'!R8+'PU - Peak Performance USA'!S8+'GRP - 360 Mexico'!S8+Equipment!R8 -> 0 | L28: =SUM(A28:K28) -> 0
A30: Screws adapted to your order
A31: 50 mm | B31: 70 mm | C31: TOTAL
A32: ='Packs CompositeX'!W8+'PE - CompositeX'!W8+'PU - CompositeX'!W8+'Wooden Volumes - Manusad'!X8+'GRP-PU - 360 Europe'!U8+'Training & Homewall'!H3+'GRP-PU - KastLine'!X8+'TP Thermoplastic - Ghold'!V8+'PE-PU - Volx'!U8+'PU - Peak Performance USA'!V8+'GRP - 360 Mexico'!V8+Equipment!W8 -> 0 | B32: ='Packs CompositeX'!X8+'PE - CompositeX'!X8+'PU - CompositeX'!X8+'Wooden Volumes - Manusad'!Y8+'GRP-PU - 360 Europe'!V8+'Training & Homewall'!I3+'GRP-PU - KastLine'!Y8+'TP Thermoplastic - Ghold'!W8+'PE-PU - Volx'!V8+'PU - Peak Performance USA'!W8+'GRP - 360 Mexico'!W8+Equipment!X8 -> 0 | C32: =SUM(A32:B32) -> 0
A35: Prices are as an indicator
A36: Costs of transport will be added and depends on the volume of the order
A37: A specific quotation will be provided in order to determine the exactly amount of your order

Sheet Equipment
C1: EUR HT | D1: DISCOUNT % | H1: Holds Size of your order : | W1: Total Weight of your order (kg) : | AA1: =BP16 -> 0
A2: Total Amount order : | C2: =C3+C4 -> 0 | D2: =AVERAGE(D3:D4) -> 0 | H2: XS | I2: S | J2: M | K2: L | L2: XL | M2: XXL | N2: XXXL | O2: TOTAL
C3: =F12+F13 -> 0 | D3: 0 | E3: PE/PU | H3: =W16 -> 0 | I3: =X16 -> 0 | J3: =Y16 -> 0 | K3: =Z16 -> 0 | L3: =AA16 -> 0 | M3: =AB16 -> 0 | N3: =AC16 -> 0 | O3: =SUM(H3:N3) -> 0
C4: =F15 -> 0 | D4: 0 | E4: Artlab
A5: Equipement
H6: Bolts adapted of your order: | W6: Screws adapted of your order:
H7: 30 mm | I7: 40 mm | J7: 50 mm | K7: 70 mm | L7: 90 mm | M7: 100 mm | N7: 120 mm | O7: 140 mm | P7: 160 mm | Q7: 180 mm | R7: 200 mm | S7: TOTAL | W7: 50 mm | X7: 70 mm | Y7: TOTAL
A8: In RED : NEW | H8: =AL16 -> 0 | I8: =AM16 -> 0 | J8: =AN16 -> 0 | K8: =AO16 -> 0 | L8: =AP16 -> 0 | M8: =AQ16 -> 0 | N8: =AR16 -> 0 | O8: =AS16 -> 0 | ... R8: =AV16 -> 0 | S8: =SUM(H8:R8) -> 0 | W8: =BJ16 -> 0 | X8: =BK16 -> 0 | Y8: =SUM(W8:X8) -> 0
B10: Size | C10: Nb of Holds per Set | D10: Sets Total | E10: Retail Price | F10: Final Price | H10: Green RAL 6002 (PE) US Green (PU) | I10: Yellow Pantone 116C | J10: Red RAL 3020 | K10: Blue RAL 5015 | L10: Violet RAL 4008 or US Purple | M10: Grey RAL 7001 | N10: Black RAL 9005 | O10: White RAL 9016 | P10: Fluo Orange RAL 2005 | Q10: Fluo Pink Pantone 806C | R10: Fluo Yellow RAL 1026 | S10: Fluo Green Pantone 802C | T10: Pure Orange RAL 2004 (PE) Orange US (PU) | U10: Blue Mint RAL 6027 | W10: Sizes | AL10: Bolts | BJ10: Screws | BO10: Weight
W11: XS | X11: S | Y11: M | Z11: L | AA11: XL | AB11: XXL | AC11: XXXL | AD11: XS | AE11: S | AF11: M | AG11: L | AH11: XL | AI11: XXL | AJ11: XXXL | AL11: 30 mm | AM11: 40 mm | AN11: 50 mm | AO11: 70 mm | AP11: 90 mm | AQ11: 100 mm | AR11: 120 mm | AS11: 140 mm | AT11: 160 mm | AU11: 180 mm | AV11: 200 mm | AX11: 30 mm | AY11: 40 mm | AZ11: 50 mm | BA11: 70 mm | BB11: 90 mm | BC11: 100 mm | BD11: 120 mm | BE11: 140 mm | BF11: 160 mm | BG11: 180 mm | BH11: 200 mm | BJ11: 50 mm | BK11: 70 mm | BL11: 50 mm | BM11: 70 mm | BO11: Set | BP11: Total Sets
A12: Top Down Jugs (PE) | B12: L | C12: 10 | D12: =SUM(H12:T12) -> 0 | E12: 135 | F12: =D12*E12*(100-$D$3)/100 -> 0 | Z12: =AG12*$D12 -> 0 | AG12: 10 | AM12: =AY12*$D12 -> 0 | AY12: 10 | BO12: 6.93 | BP12: =BO12*D12 -> 0
A13: Top Down Jugs (PU) | B13: L | C13: 10 | D13: =SUM(H13:U13) -> 0 | E13: 260 | F13: =D13*E13*(100-$D$3)/100 -> 0 | Z13: =AG13*$D13 -> 0 | AG13: 10 | AM13: =AY13*$D13 -> 0 | AY13: 10 | BO13: 5 | BP13: =BO13*D13 -> 0
A15: ArtLab - Alpha Setter Bag | B15: Main pouch : 25x28 cm, secondary pouches : 24x14 cm | C15: 1 | D15: =SUM(H15:T15) -> 0 | E15: 74.17 | F15: =D15*E15*(100-$D$4)/100 -> 0 | BO15: 0.65 | BP15: =BO15*D15 -> 0
F16: =SUM(F12:F15) -> 0 | H16: =SUM(H12:H15) -> 0 | I16: =SUM(I12:I15) -> 0 | J16: =SUM(J12:J15) -> 0 | K16: =SUM(K12:K15) -> 0 | L16: =SUM(L12:L15) -> 0 | M16: =SUM(M12:M15) -> 0 | N16: =SUM(N12:N15) -> 0 | O16: =SUM(O12:O15) -> 0 | ... U16: =SUM(U12:U15) -> 0 | W16: =SUM(W12:W15) -> 0 | X16: =SUM(X12:X15) -> 0 | Y16: =SUM(Y12:Y15) -> 0 | Z16: =SUM(Z12:Z15) -> 0 | AA16: =SUM(AA12:AA15) -> 0 | AB16: =SUM(AB12:AB15) -> 0 | AC16: =SUM(AC12:AC15) -> 0 | AL16: =SUM(AL12:AL15) -> 0 | AM16: =SUM(AM12:AM15) -> 0 | AN16: =SUM(AN12:AN15) -> 0 | AO16: =SUM(AO12:AO15) -> 0 | AP16: =SUM(AP12:AP15) -> 0 | AQ16: =SUM(AQ12:AQ15) -> 0 | AR16: =SUM(AR12:AR15) -> 0 | AS16: =SUM(AS12:AS15) -> 0 | ... AV16: =SUM(AV12:AV15) -> 0 | BJ16: =SUM(BJ12:BJ15) -> 0 | BK16: =SUM(BK12:BK15) -> 0 | BP16: =SUM(BP12:BP15) -> 0

Sheet PE-PU - Volx
B1: EUR HT | C1: DISCOUNT % | H1: Holds Size of your order : | U1: Total Weight of your order (kg) : | X1: =BN15+BN25 -> 0
A2: Total Amount order : | B2: =F15+F25 -> 0 | H2: XS | I2: S | J2: M | K2: L | L2: XL | M2: XXL | N2: XXXL | O2: TOTAL
H3: =U15+U25 -> 0 | I3: =V15+V25 -> 0 | J3: =W15+W25 -> 0 | K3: =X15+X25 -> 0 | L3: =Y15+Y25 -> 0 | M3: =Z15+Z25 -> 0 | N3: =AA15+AA25 -> 0 | O3: =SUM(H3:N3) -> 0
A5: PE/PU by Volx
H6: Bolts adapted to your order : | U6: Screws adapted to your order :
H7: 30 mm | I7: 40 mm | J7: 50 mm | K7: 70 mm | L7: 90 mm | M7: 100 mm | N7: 120 mm | O7: 140 mm | P7: 160 mm | Q7: 180 mm | R7: 200 mm | S7: TOTAL | U7: 50 mm | V7: 70 mm | W7: TOTAL
H8: =AJ15+AJ25 -> 0 | I8: =AK15+AK25 -> 0 | J8: =AL15+AL25 -> 0 | K8: =AM15+AM25 -> 0 | L8: =AN15+AN25 -> 0 | M8: =AO15+AO25 -> 0 | N8: =AP15+AP25 -> 0 | O8: =AQ15+AQ25 -> 0 | ... R8: =AT15+AT25 -> 0 | S8: =SUM(H8:R8) -> 0 | U8: =BH15+BH25 -> 0 | V8: =BI15+BI25 -> 0 | W8: =SUM(U8:V8) -> 0
B10: Size | C10: Nb of Holds per Set | D10: Sets Total | E10: Retail Price | F10: Final Price | H10: Green RAL 6002 or 6018 | I10: Yellow RAL 1023 | J10: Red RAL 3000 | K10: Blue RAL 5015 | L10: Violet RAL 4008 | M10: Grey RAL 7040 | N10: Black RAL 9005 | O10: White RAL 9010 | P10: Fluo Orange | Q10: Fluo Pink | R10: Fluo Yellow | S10: Fluo Green | U10: Sizes | AJ10: Bolts | BH10: Screws | BM10: Weight
A11: Speed Kid (PE) | U11: XS | V11: S | W11: M | X11: L | Y11: XL | Z11: XXL | AA11: XXXL | AB11: XS | AC11: S | AD11: M | AE11: L | AF11: XL | AG11: XXL | AH11: XXXL | AJ11: 30 mm | AK11: 40 mm | AL11: 50 mm | AM11: 70 mm | AN11: 90 mm | AO11: 100 mm | AP11: 120 mm | AQ11: 140 mm | AR11: 160 mm | AS11: 180 mm | AT11: 200 mm | AV11: 30 mm | AW11: 40 mm | AX11: 50 mm | AY11: 70 mm | AZ11: 90 mm | BA11: 100 mm | BB11: 120 mm | BC11: 140 mm | BD11: 160 mm | BE11: 180 mm | BF11: 200 mm | BH11: 50 mm | BI11: 70 mm | BJ11: 50 mm | BK11: 70 mm | BM11: Set | BN11: Total Sets
A12: Pack Speed Kid | B12: S/XL | C12: 16 | D12: =SUM(H12:S12) -> 0 | E12: 560 | F12: =D12*E12*(100-$C$2)/100 -> 0 | H12: +15% | I12: +15% | J12: +15% | L12: +15% | M12: +15% | N12: +15% | O12: +15% | P12: +15% | Q12: +15% | R12: +15% | S12: +15% | V12: =AC12*$D12 -> 0 | Y12: =AF12*$D12 -> 0 | AC12: 4 | AF12: 12 | AJ12: =AV12*$D12 -> 0 | AN12: =AZ12*$D12 -> 0 | AV12: 4 | AZ12: 12 | BH12: =BJ12*$D12 -> 0 | BM12: 21.6 | BN12: =BM12*D12 -> 0
A13: Speed Kid Foot | B13: S | C13: 1 | D13: =SUM(H13:S13) -> 0 | E13: 5 | F13: =D13*E13*(100-$C$2)/100 -> 0 | H13: +15% | I13: +15% | J13: +15% | L13: +15% | M13: +15% | N13: +15% | O13: +15% | P13: +15% | Q13: +15% | R13: +15% | S13: +15% | V13: =AC13*$D13 -> 0 | AC13: 1 | AJ13: =AV13*$D13 -> 0 | AV13: 1 | BH13: =BJ13*$D13 -> 0 | BM13: 0.15 | BN13: =BM13*D13 -> 0
A14: Speed Kid Hand | B14: XL | C14: 1 | D14: =SUM(H14:S14) -> 0 | E14: 45 | F14: =D14*E14*(100-$C$2)/100 -> 0 | H14: +15% | I14: +15% | J14: +15% | L14: +15% | M14: +15% | N14: +15% | O14: +15% | P14: +15% | Q14: +15% | R14: +15% | S14: +15% | Y14: =AF14*$D14 -> 0 | AF14: 1 | AN14: =AZ14*$D14 -> 0 | AZ14: 1 | BH14: =BJ14*$D14 -> 0 | BM14: 1.75 | BN14: =BM14*D14 -> 0
F15: =SUM(F12:F14) -> 0 | H15: =SUM(H12:H14) -> 0 | I15: =SUM(I12:I14) -> 0 | J15: =SUM(J12:J14) -> 0 | K15: =SUM(K12:K14) -> 0 | L15: =SUM(L12:L14) -> 0 | M15: =SUM(M12:M14) -> 0 | N15: =SUM(N12:N14) -> 0 | O15: =SUM(O12:O14) -> 0 | ... S15: =SUM(S12:S14) -> 0 | U15: =SUM(U12:U14) -> 0 | V15: =SUM(V12:V14) -> 0 | W15: =SUM(W12:W14) -> 0 | X15: =SUM(X12:X14) -> 0 | Y15: =SUM(Y12:Y14) -> 0 | Z15: =SUM(Z12:Z14) -> 0 | AA15: =SUM(AA12:AA14) -> 0 | AJ15: =SUM(AJ12:AJ14) -> 0 | AK15: =SUM(AK12:AK14) -> 0 | AL15: =SUM(AL12:AL14) -> 0 | AM15: =SUM(AM12:AM14) -> 0 | AN15: =SUM(AN12:AN14) -> 0 | AO15: =SUM(AO12:AO14) -> 0 | AP15: =SUM(AP12:AP14) -> 0 | AQ15: =SUM(AQ12:AQ14) -> 0 | ... AT15: =SUM(AT12:AT14) -> 0 | BH15: =SUM(BH12:BH14) -> 0 | BI15: =SUM(BI12:BI14) -> 0 | BN15: =SUM(BN12:BN14) -> 0
A16: ArtLab (PU) | U16: XS | V16: S | W16: M | X16: L | Y16: XL | Z16: XXL | AA16: XXXL | AB16: XS | AC16: S | AD16: M | AE16: L | AF16: XL | AG16: XXL | AH16: XXXL | AJ16: 30 mm | AK16: 40 mm | AL16: 50 mm | AM16: 70 mm | AN16: 90 mm | AO16: 100 mm | AP16: 120 mm | AQ16: 140 mm | AR16: 160 mm | AS16: 180 mm | AT16: 200 mm | AV16: 30 mm | AW16: 40 mm | AX16: 50 mm | AY16: 70 mm | AZ16: 90 mm | BA16: 100 mm | BB16: 120 mm | BC16: 140 mm | BD16: 160 mm | BE16: 180 mm | BF16: 200 mm | BH16: 50 mm | BI16: 70 mm | BJ16: 50 mm | BK16: 70 mm | BM16: Set | BN16: Total Sets
A17: Micro Adjuster XS | B17: XS | C17: 6 | D17: =SUM(H17:S17) -> 0 | E17: 42.5 | F17: =D17*E17*(100-$C$2)/100 -> 0 | U17: =AB17*$D17 -> 0 | AB17: 6 | BH17: =BJ17*$D17 -> 0 | BJ17: 12 | BM17: 0.26 | BN17: =BM17*D17 -> 0
A18: Micro Adjusters S | B18: S | C18: 6 | D18: =SUM(H18:S18) -> 0 | E18: 82.5 | F18: =D18*E18*(100-$C$2)/100 -> 0 | V18: =AC18*$D18 -> 0 | AC18: 6 | BH18: =BJ18*$D18 -> 0 | BJ18: 12 | BM18: 0.69 | BN18: =BM18*D18 -> 0
A19: Micro Adjusters M | B19: M | C19: 6 | D19: =SUM(H19:S19) -> 0 | E19: 107.5 | F19: =D19*E19*(100-$C$2)/100 -> 0 | W19: =AD19*$D19 -> 0 | AD19: 6 | BH19: =BJ19*$D19 -> 0 | BJ19: 12 | BM19: 1.26 | BN19: =BM19*D19 -> 0
A20: Micro Adjusters L | B20: L | C20: 6 | D20: =SUM(H20:S20) -> 0 | E20: 167.5 | F20: =D20*E20*(100-$C$2)/100 -> 0 | X20: =AE20*$D20 -> 0 | AE20: 6 | BI20: =BK20*$D20 -> 0 | BK20: 18 | BM20: 2.23 | BN20: =BM20*D20 -> 0
A21: Micro Adjusters + Plugs XS | B21: XS | C21: 12 | D21: =SUM(H21:S21) -> 0 | E21: 52.5 | F21: =D21*E21*(100-$C$2)/100 -> 0 | U21: =AB21*$D21 -> 0 | AB21: 12 | BH21: =BJ21*$D21 -> 0 | BJ21: 12 | BM21: 0.3 | BN21: =BM21*D21 -> 0
A22: Micro Adjusters + Plugs S | B22: S | C22: 12 | D22: =SUM(H22:S22) -> 0 | E22: 97.5 | F22: =D22*E22*(100-$C$2)/100 -> 0 | V22: =AC22*$D22 -> 0 | AC22: 12 | BH22: =BJ22*$D22 -> 0 | BJ22: 12 | BM22: 0.8 | BN22: =BM22*D22 -> 0
A23: Micro Adjusters + Plugs M | B23: M | C23: 12 | D23: =SUM(H23:S23) -> 0 | E23: 125 | F23: =D23*E23*(100-$C$2)/100 -> 0 | W23: =AD23*$D23 -> 0 | AD23: 12 | BH23: =BJ23*$D23 -> 0 | BJ23: 12 | BM23: 1.5 | BN23: =BM23*D23 -> 0
A24: Micro Adjusters + Plugs L | B24: L | C24: 12 | D24: =SUM(H24:S24) -> 0 | E24: 192.5 | F24: =D24*E24*(100-$C$2)/100 -> 0 | X24: =AE24*$D24 -> 0 | AE24: 12 | BI24: =BK24*$D24 -> 0 | BK24: 18 | BM24: 2.75 | BN24: =BM24*D24 -> 0
F25: =SUM(F17:F24) -> 0 | H25: =SUM(H17:H24) -> 0 | I25: =SUM(I17:I24) -> 0 | J25: =SUM(J17:J24) -> 0 | K25: =SUM(K17:K24) -> 0 | L25: =SUM(L17:L24) -> 0 | M25: =SUM(M17:M24) -> 0 | N25: =SUM(N17:N24) -> 0 | O25: =SUM(O17:O24) -> 0 | ... S25: =SUM(S17:S24) -> 0 | U25: =SUM(U17:U24) -> 0 | V25: =SUM(V17:V24) -> 0 | W25: =SUM(W17:W24) -> 0 | X25: =SUM(X17:X24) -> 0 | Y25: =SUM(Y17:Y24) -> 0 | Z25: =SUM(Z17:Z24) -> 0 | AA25: =SUM(AA17:AA24) -> 0 | AJ25: =SUM(AJ17:AJ24) -> 0 | AK25: =SUM(AK17:AK24) -> 0 | AL25: =SUM(AL17:AL24) -> 0 | AM25: =SUM(AM17:AM24) -> 0 | AN25: =SUM(AN17:AN24) -> 0 | AO25: =SUM(AO17:AO24) -> 0 | AP25: =SUM(AP17:AP24) -> 0 | AQ25: =SUM(AQ17:AQ24) -> 0 | ... AT25: =SUM(AT17:AT24) -> 0 | BH25: =SUM(BH17:BH24) -> 0 | BI25: =SUM(BI17:BI24) -> 0 | BN25: =SUM(BN17:BN24) -> 0

Sheet PE - CompositeX
B1: EUR HT | C1: DISCOUNT % | H1: Holds Size of your order : | W1: Total Weight of your order (kg) : | AA1: =BP26+BP56+BP67+BP81+BP118+BP36+BP12 -> 0
A2: Total Amount order : | B2: =F26+F36+F56+F67+F81+F118+F12 -> 0 | H2: XS | I2: S | J2: M | K2: L | L2: XL | M2: XXL | N2: XXXL | O2: TOTAL
H3: =W26+W36+W56+W67+W81+W118+W12 -> 0 | I3: =X26+X36+X56+X67+X81+X118+X12 -> 0 | J3: =Y26+Y36+Y56+Y67+Y81+Y118+Y12 -> 0 | K3: =Z26+Z36+Z56+Z67+Z81+Z118+Z12 -> 0 | L3: =AA26+AA36+AA56+AA67+AA81+AA118+AA12 -> 0 | M3: =AB26+AB36+AB56+AB67+AB81+AB118+AB12 -> 0 | N3: =AC26+AC36+AC56+AC67+AC81+AC118+AC12 -> 0 | O3: =SUM(H3:N3) -> 0
A5: PE by CompositeX
B6: CompositeX CX 200 | H6: Bolts adapted to your order : | W6: Screws adapted to your order :
H7: 30 mm | I7: 40 mm | J7: 50 mm | K7: 70 mm | L7: 90 mm | M7: 100 mm | N7: 120 mm | O7: 140 mm | P7: 160 mm | Q7: 180 mm | R7: 200 mm | S7: TOTAL | W7: 50 mm | X7: 70 mm | Y7: TOTAL
A8: In RED : NEW | H8: =AL26+AL36+AL56+AL67+AL81+AL118+AL12 -> 0 | I8: =AM26+AM36+AM56+AM67+AM81+AM118+AM12 -> 0 | J8: =AN26+AN36+AN56+AN67+AN81+AN118+AN12 -> 0 | K8: =AO26+AO36+AO56+AO67+AO81+AO118+AO12 -> 0 | L8: =AP26+AP36+AP56+AP67+AP81+AP118+AP12 -> 0 | M8: =AQ26+AQ36+AQ56+AQ67+AQ81+AQ118+AQ12 -> 0 | N8: =AR26+AR36+AR56+AR67+AR81+AR118+AR12 -> 0 | O8: =AS26+AS36+AS56+AS67+AS81+AS118+AS12 -> 0 | ... R8: =AV26+AV36+AV56+AV67+AV81+AV118+AV12 -> 0 | S8: =SUM(H8:R8) -> 0 | W8: =BJ26+BJ36+BJ56+BJ67+BJ81+BJ118 -> 0 | X8: =BK26+BK36+BK56+BK67+BK81 -> 0 | Y8: =SUM(W8:X8) -> 0
B10: Size | C10: Nb of Holds per Set | D10: Sets Total | E10: Retail Price | F10: Final Price | H10: Green RAL 6002 | I10: Yellow Pantone 116C | J10: Red RAL 3020 | K10: Blue RAL 5015 | L10: Violet RAL 4008 | M10: Grey RAL 7001 | N10: Black RAL 9005 | O10: White RAL 9016 | P10: Fluo Orange RAL 2005 | Q10: Fluo Pink Pantone 806C | R10: Fluo Yellow RAL 1026 | S10: Fluo Green Pantone 802C | T10: Pure Orange RAL 2004 | U10: Blue Mint RAL 6027 | W10: Sizes | AL10: Bolts | BJ10: Screws | BO10: Weight
A11: Top Down | W11: XS | X11: S | Y11: M | Z11: L | AA11: XL | AB11: XXL | AC11: XXXL | AD11: XS | AE11: S | AF11: M | AG11: L | AH11: XL | AI11: XXL | AJ11: XXXL | AL11: 30 mm | AM11: 40 mm | AN11: 50 mm | AO11: 70 mm | AP11: 90 mm | AQ11: 100 mm | AR11: 120 mm | AS11: 140 mm | AT11: 160 mm | AU11: 180 mm | AV11: 200 mm | AX11: 30 mm | AY11: 40 mm | AZ11: 50 mm | BA11: 70 mm | BB11: 90 mm | BC11: 100 mm | BD11: 120 mm | BE11: 140 mm | BF11: 160 mm | BG11: 180 mm | BH11: 200 mm | BJ11: 50 mm | BK11: 70 mm | BL11: 50 mm | BM11: 70 mm | BO11: Set | BP11: Total Sets
A12: Top Down Jugs | B12: L | C12: 10 | D12: =SUM(H12:T12) -> 0 | E12: 135 | F12: =D12*E12*(100-$D$2)/100 -> 0 | Z12: =AG12*$D12 -> 0 | AG12: 10 | AM12: =AY12*$D12 -> 0 | AY12: 10 | BO12: 6.93 | BP12: =BO12*D12 -> 0
A13: BleauLine : | W13: XS | X13: S | Y13: M | Z13: L | AA13: XL | AB13: XXL | AC13: XXXL | AD13: XS | AE13: S | AF13: M | AG13: L | AH13: XL | AI13: XXL | AJ13: XXXL | AL13: 30 mm | AM13: 40 mm | AN13: 50 mm | AO13: 70 mm | AP13: 90 mm | AQ13: 100 mm | AR13: 120 mm | AS13: 140 mm | AT13: 160 mm | AU13: 180 mm | AV13: 200 mm | AX13: 30 mm | AY13: 40 mm | AZ13: 50 mm | BA13: 70 mm | BB13: 90 mm | BC13: 100 mm | BD13: 120 mm | BE13: 140 mm | BF13: 160 mm | BG13: 180 mm | BH13: 200 mm | BJ13: 40 mm | BK13: 70 mm | BL13: 40 mm | BM13: 70 mm | BO13: Set | BP13: Total Sets
A14: Foot 1 | B14: XS | C14: 15 | D14: =SUM(H14:U14) -> 0 | E14: 57.5 | F14: =D14*E14*(100-$C$2)/100 -> 0 | W14: =AD14*$D14 -> 0 | AD14: 15 | AL14: =AX14*$D14 -> 0 | AX14: 15 | BO14: 0.7 | BP14: =BO14*D14 -> 0
A15: Foot 2 | B15: XS | C15: 15 | D15: =SUM(H15:U15) -> 0 | E15: 60 | F15: =D15*E15*(100-$C$2)/100 -> 0 | W15: =AD15*$D15 -> 0 | AD15: 15 | AL15: =AX15*$D15 -> 0 | AX15: 15 | BO15: 0.7 | BP15: =BO15*D15 -> 0
A16: Crimps 1 | B16: M | C16: 10 | D16: =SUM(H16:U16) -> 0 | E16: 70 | F16: =D16*E16*(100-$C$2)/100 -> 0 | Y16: =AF16*$D16 -> 0 | AF16: 10 | AL16: =AX16*$D16 -> 0 | AX16: 10 | BO16: 2.31 | BP16: =BO16*D16 -> 0
A17: Crimps 2 | B17: M | C17: 10 | D17: =SUM(H17:U17) -> 0 | E17: 70 | F17: =D17*E17*(100-$C$2)/100 -> 0 | Y17: =AF17*$D17 -> 0 | AF17: 10 | AL17: =AX17*$D17 -> 0 | AX17: 10 | BO17: 2.34 | BP17: =BO17*D17 -> 0
A18: Crimps 3 | B18: M | C18: 10 | D18: =SUM(H18:U18) -> 0 | E18: 85 | F18: =D18*E18*(100-$C$2)/100 -> 0 | Y18: =AF18*$D18 -> 0 | AF18: 10 | AL18: =AX18*$D18 -> 0 | AX18: 10 | BO18: 3.33 | BP18: =BO18*D18 -> 0
A19: Crimps 4 | B19: L | C19: 5 | D19: =SUM(H19:U19) -> 0 | E19: 92.5 | F19: =D19*E19*(100-$C$2)/100 -> 0 | Z19: =AG19*$D19 -> 0 | AG19: 5 | AL19: =AX19*$D19 -> 0 | AM19: =AY19*$D19 -> 0 | AX19: 4 | AY19: 1 | BO19: 4.35 | BP19: =BO19*D19 -> 0
A20: Edges 1 | B20: L | C20: 10 | D20: =SUM(H20:U20) -> 0 | E20: 102.5 | F20: =D20*E20*(100-$C$2)/100 -> 0 | Z20: =AG20*$D20 -> 0 | AG20: 10 | AL20: =AX20*$D20 -> 0 | AX20: 10 | BO20: 4.33 | BP20: =BO20*D20 -> 0
A21: Incut Edges | B21: L | C21: 5 | D21: =SUM(H21:U21) -> 0 | E21: 105 | F21: =D21*E21*(100-$C$2)/100 -> 0 | Z21: =AG21*$D21 -> 0 | AG21: 5 | AL21: =AX21*$D21 -> 0 | AM21: =AY21*$D21 -> 0 | AX21: 4 | AY21: 1 | BO21: 5.14 | BP21: =BO21*D21 -> 0
A22: Pinches 1 | B22: L | C22: 10 | D22: =SUM(H22:U22) -> 0 | E22: 137.5 | F22: =D22*E22*(100-$C$2)/100 -> 0 | Z22: =AG22*$D22 -> 0 | AG22: 10 | AL22: =AX22*$D22 -> 0 | AM22: =AY22*$D22 -> 0 | AN22: =AZ22*$D22 -> 0 | AX22: 4 | AY22: 3 | AZ22: 3 | BO22: 6.22 | BP22: =BO22*D22 -> 0
A23: Pinches 2 | B23: L/XL | C23: 5 | D23: =SUM(H23:U23) -> 0 | E23: 92.5 | F23: =D23*E23*(100-$C$2)/100 -> 0 | Z23: =AG23*$D23 -> 0 | AA23: =AH23*$D23 -> 0 | AG23: 3 | AH23: 2 | AL23: =AX23*$D23 -> 0 | AM23: =AY23*$D23 -> 0 | AO23: =BA23*$D23 -> 0 | AX23: 1 | AY23: 1 | BA23: 3 | BO23: 4.2 | BP23: =BO23*D23 -> 0
A24: Pockets 1 | B24: L | C24: 10 | D24: =SUM(H24:U24) -> 0 | E24: 155 | F24: =D24*E24*(100-$C$2)/100 -> 0 | Z24: =AG24*$D24 -> 0 | AG24: 10 | AL24: =AX24*$D24 -> 0 | AM24: =AY24*$D24 -> 0 | AN24: =AZ24*$D24 -> 0 | AX24: 4 | AY24: 4 | AZ24: 2 | BO24: 7.87 | BP24: =BO24*D24 -> 0
A25: Slopers 1 | B25: L | C25: 5 | D25: =SUM(H25:U25) -> 0 | E25: 105 | F25: =D25*E25*(100-$C$2)/100 -> 0 | Z25: =AG25*$D25 -> 0 | AG25: 5 | AL25: =AX25*$D25 -> 0 | AM25: =AY25*$D25 -> 0 | AN25: =AZ25*$D25 -> 0 | AX25: 1 | AY25: 3 | AZ25: 1 | BO25: 5.5 | BP25: =BO25*D25 -> 0
F26: =SUM(F14:F25) -> 0 | H26: =SUM(H14:H25) -> 0 | I26: =SUM(I14:I25) -> 0 | J26: =SUM(J14:J25) -> 0 | K26: =SUM(K14:K25) -> 0 | L26: =SUM(L14:L25) -> 0 | M26: =SUM(M14:M25) -> 0 | N26: =SUM(N14:N25) -> 0 | O26: =SUM(O14:O25) -> 0 | ... U26: =SUM(U14:U25) -> 0 | W26: =SUM(W14:W25) -> 0 | X26: =SUM(X14:X25) -> 0 | Y26: =SUM(Y14:Y25) -> 0 | Z26: =SUM(Z14:Z25) -> 0 | AA26: =SUM(AA14:AA25) -> 0 | AB26: =SUM(AB14:AB25) -> 0 | AC26: =SUM(AC14:AC25) -> 0 | AL26: =SUM(AL14:AL25) -> 0 | AM26: =SUM(AM14:AM25) -> 0 | AN26: =SUM(AN14:AN25) -> 0 | AO26: =SUM(AO14:AO25) -> 0 | BP26: =SUM(BP14:BP25) -> 0
A27: FirstLine : | W27: XS | X27: S | Y27: M | Z27: L | AA27: XL | AB27: XXL | AC27: XXXL | AD27: XS | AE27: S | AF27: M | AG27: L | AH27: XL | AI27: XXL | AJ27: XXXL | AL27: 30 mm | AM27: 40 mm | AN27: 50 mm | AO27: 70 mm | AP27: 90 mm | AQ27: 100 mm | AR27: 120 mm | AS27: 140 mm | AT27: 160 mm | AU27: 180 mm | AV27: 200 mm | AX27: 30 mm | AY27: 40 mm | AZ27: 50 mm | BA27: 70 mm | BB27: 90 mm | BC27: 100 mm | BD27: 120 mm | BE27: 140 mm | BF27: 160 mm | BG27: 180 mm | BH27: 200 mm | BJ27: 40 mm | BK27: 70 mm | BL27: 40 mm | BM27: 70 mm | BO27: Set | BP27: Total Sets
A28: Crimps 1 | B28: M | C28: 10 | D28: =SUM(H28:U28) -> 0 | E28: 60 | F28: =D28*E28*(100-$C$2)/100 -> 0 | Y28: =AF28*$D28 -> 0 | AF28: 10 | AL28: =AX28*$D28 -> 0 | AM28: =AY28*$D28 -> 0 | AX28: 9 | AY28: 1 | BO28: 1.8 | BP28: =BO28*D28 -> 0
A29: Foot 1 | B29: XS/S | C29: 10 | D29: =SUM(H29:U29) -> 0 | E29: 47.5 | F29: =D29*E29*(100-$C$2)/100 -> 0 | W29: =AD29*$D29 -> 0 | X29: =AE29*$D29 -> 0 | AD29: 5 | AE29: 5 | AL29: =AX29*$D29 -> 0 | AM29: =AY29*$D29 -> 0 | AX29: 3 | AY29: 7 | BO29: 1 | BP29: =BO29*D29 -> 0
A30: Foot 2 | B30: XS/S | C30: 10 | D30: =SUM(H30:U30) -> 0 | E30: 52.5 | F30: =D30*E30*(100-$C$2)/100 -> 0 | W30: =AD30*$D30 -> 0 | X30: =AE30*$D30 -> 0 | AD30: 5 | AE30: 5 | AM30: =AY30*$D30 -> 0 | AN30: =AZ30*$D30 -> 0 | AY30: 9 | AZ30: 1 | BO30: 1.4 | BP30: =BO30*D30 -> 0
A31: Foot Hand 1 | B31: S/M | C31: 10 | D31: =SUM(H31:U31) -> 0 | E31: 60 | F31: =D31*E31*(100-$C$2)/100 -> 0 | X31: =AE31*$D31 -> 0 | Y31: =AF31*$D31 -> 0 | AE31: 5 | AF31: 5 | AL31: =AX31*$D31 -> 0 | AX31: 10 | BO31: 1.9 | BP31: =BO31*D31 -> 0
A32: Jugs 1 | B32: M | C32: 10 | D32: =SUM(H32:U32) -> 0 | E32: 75 | F32: =D32*E32*(100-$C$2)/100 -> 0 | Y32: =AF32*$D32 -> 0 | AF32: 10 | AL32: =AX32*$D32 -> 0 | AM32: =AY32*$D32 -> 0 | AN32: =AZ32*$D32 -> 0 | AX32: 2 | AY32: 7 | AZ32: 1 | BO32: 2.7 | BP32: =BO32*D32 -> 0
A33: Mini Edges 1 | B33: M | C33: 10 | D33: =SUM(H33:U33) -> 0 | E33: 85 | F33: =D33*E33*(100-$C$2)/100 -> 0 | Y33: =AF33*$D33 -> 0 | AF33: 10 | AL33: =AX33*$D33 -> 0 | AM33: =AY33*$D33 -> 0 | AX33: 3 | AY33: 7 | BO33: 3.2 | BP33: =BO33*D33 -> 0
A34: Mini Jugs 1 | B34: M | C34: 10 | D34: =SUM(H34:U34) -> 0 | E34: 70 | F34: =D34*E34*(100-$C$2)/100 -> 0 | Y34: =AF34*$D34 -> 0 | AF34: 10 | AL34: =AX34*$D34 -> 0 | AM34: =AY34*$D34 -> 0 | AN34: =AZ34*$D34 -> 0 | AX34: 1 | AY34: 7 | AZ34: 2 | BO34: 2.4 | BP34: =BO34*D34 -> 0
A35: Mini Jugs 2 | B35: M | C35: 10 | D35: =SUM(H35:U35) -> 0 | E35: 62.5 | F35: =D35*E35*(100-$C$2)/100 -> 0 | Y35: =AF35*$D35 -> 0 | AF35: 10 | AL35: =AX35*$D35 -> 0 | AM35: =AY35*$D35 -> 0 | AX35: 6 | AY35: 4 | BO35: 2.1 | BP35: =BO35*D35 -> 0
F36: =SUM(F28:F35) -> 0 | H36: =SUM(H28:H35) -> 0 | I36: =SUM(I28:I35) -> 0 | J36: =SUM(J28:J35) -> 0 | K36: =SUM(K28:K35) -> 0 | L36: =SUM(L28:L35) -> 0 | M36: =SUM(M28:M35) -> 0 | N36: =SUM(N28:N35) -> 0 | O36: =SUM(O28:O35) -> 0 | ... U36: =SUM(U28:U35) -> 0 | W36: =SUM(W28:W35) -> 0 | X36: =SUM(X28:X35) -> 0 | Y36: =SUM(Y28:Y35) -> 0 | Z36: =SUM(Z28:Z35) -> 0 | AA36: =SUM(AA28:AA35) -> 0 | AB36: =SUM(AB28:AB35) -> 0 | AC36: =SUM(AC28:AC35) -> 0 | AL36: =SUM(AL28:AL35) -> 0 | AM36: =SUM(AM28:AM35) -> 0 | AN36: =SUM(AN28:AN35) -> 0 | AO36: =SUM(AO28:AO35) -> 0 | AP36: =SUM(AP28:AP35) -> 0 | AQ36: =SUM(AQ28:AQ35) -> 0 | AR36: =SUM(AR28:AR35) -> 0 | AS36: =SUM(AS28:AS35) -> 0 | ... AV36: =SUM(AV28:AV35) -> 0 | BP36: =SUM(BP28:BP35) -> 0
A37: FreshLine : | W37: XS | X37: S | Y37: M | Z37: L | AA37: XL | AB37: XXL | AC37: XXXL | AD37: XS | AE37: S | AF37: M | AG37: L | AH37: XL | AI37: XXL | AJ37: XXXL | AL37: 30 mm | AM37: 40 mm | AN37: 50 mm | AO37: 70 mm | AP37: 90 mm | AQ37: 100 mm | AR37: 120 mm | AS37: 140 mm | AT37: 160 mm | AU37: 180 mm | AV37: 200 mm | AX37: 30 mm | AY37: 40 mm | AZ37: 50 mm | BA37: 70 mm | BB37: 90 mm | BC37: 100 mm | BD37: 120 mm | BE37: 140 mm | BF37: 160 mm | BG37: 180 mm | BH37: 200 mm | BJ37: 40 mm | BK37: 70 mm | BL37: 40 mm | BM37: 70 mm | BO37: Set | BP37: Total Sets
A38: Bridges | B38: XXL | C38: 5 | D38: =SUM(H38:U38) -> 0 | E38: 185 | F38: =D38*E38*(100-$C$2)/100 -> 0 | AB38: =AI38*$D38 -> 0 | AI38: 5 | AM38: =AY38*$D38 -> 0 | AO38: =BA38*$D38 -> 0 | AP38: =BB38*$D38 -> 0 | AY38: 1 | BA38: 2 | BB38: 2 | BO38: 9.667 | BP38: =BO38*D38 -> 0
A39: Crimps 1 | B39: M | C39: 20 | D39: =SUM(H39:U39) -> 0 | E39: 110 | F39: =D39*E39*(100-$C$2)/100 -> 0 | Y39: =AF39*$D39 -> 0 | AF39: 20 | AL39: =AX39*$D39 -> 0 | AM39: =AY39*$D39 -> 0 | AN39: =AZ39*$D39 -> 0 | AX39: 10 | AY39: 9 | AZ39: 1 | BO39: 3.456 | BP39: =BO39*D39 -> 0
A40: Crimps 2 | B40: M | C40: 20 | D40: =SUM(H40:U40) -> 0 | E40: 122.5 | F40: =D40*E40*(100-$C$2)/100 -> 0 | Y40: =AF40*$D40 -> 0 | AF40: 20 | AL40: =AX40*$D40 -> 0 | AM40: =AY40*$D40 -> 0 | AX40: 6 | AY40: 14 | BO40: 4.238 | BP40: =BO40*D40 -> 0
A41: Foot 1 | B41: S | C41: 20 | D41: =SUM(H41:U41) -> 0 | E41: 75 | F41: =D41*E41*(100-$C$2)/100 -> 0 | X41: =AE41*$D41 -> 0 | AE41: 20 | AL41: =AX41*$D41 -> 0 | AX41: 20 | BO41: 0.9 | BP41: =BO41*D41 -> 0
A42: Foot 2 | B42: S | C42: 20 | D42: =SUM(H42:U42) -> 0 | E42: 75 | F42: =D42*E42*(100-$C$2)/100 -> 0 | X42: =AE42*$D42 -> 0 | AE42: 20 | AL42: =AX42*$D42 -> 0 | AX42: 20 | BO42: 1 | BP42: =BO42*D42 -> 0
...

Sheet PU - CompositeX
C1: EUR HT | D1: DISCOUNT % | H1: Holds Size of your order : | W1: Total Weight of your order (kg) : | AA1: =BO33+BO72+BO90+BO136+BO150+BO201+BO225 -> 0
A2: Total Amount order : | C2: =F33+F72++F90+F136+F150+F201+F225 -> 0 | E2: =C2/O3 -> #DIV/0! | H2: XS | I2: S | J2: M | K2: L | L2: XL | M2: XXL | N2: XXXL | O2: TOTAL
H3: =W201+W33+W$90+W225+W$150+W$136+W$72 -> 0 | I3: =X201+X33+X$90+X225+X$150+X$136+X$72 -> 0 | J3: =Y201+Y33+Y$90+Y225+Y$150+Y$136+Y$72 -> 0 | K3: =Z201+Z33+Z$90+Z225+Z$150+Z$136+Z$72+Z12 -> 0 | L3: =AA201+AA33+AA$90+AA225+AA$150+AA$136+AA$72 -> 0 | M3: =AB201+AB33+AB$90+AB225+AB$150+AB$136+AB$72 -> 0 | N3: =AC201+AC33+AC$90+AC225+AC$150+AC$136+AC$72 -> 0 | O3: =SUM(H3:N3) -> 0
A5: PU by CompositeX
B6: CompositeX Dannomond | H6: Bolts adapted to your order: | W6: Screws adapted to your order:
H7: 30 mm | I7: 40 mm | J7: 50 mm | K7: 70 mm | L7: 90 mm | M7: 100 mm | N7: 120 mm | O7: 140 mm | P7: 160 mm | Q7: 180 mm | R7: 200 mm | S7: TOTAL | W7: 50 mm | X7: 70 mm | Y7: TOTAL
A8: In RED : NEW | H8: =AL33+AL$90+AL$150+AL$136+AL$72+AL201+AL225 -> 0 | I8: =AM33+AM$90+AM$150+AM$136+AM$72+AM201+AM225 -> 0 | J8: =AN33+AN$90+AN$150+AN$136+AN$72+AN201+AN225 -> 0 | K8: =AO33+AO$90+AO$150+AO$136+AO$72+AO201+AO225 -> 0 | L8: =AP33+AP$90+AP$150+AP$136+AP$72+AP201+AP225 -> 0 | M8: =AQ33+AQ$90+AQ$150+AQ$136+AQ$72+AQ201+AQ225 -> 0 | N8: =AR33+AR$90+AR$150+AR$136+AR$72+AR201+AR225 -> 0 | O8: =AS33+AS$90+AS$150+AS$136+AS$72+AS201+AS225 -> 0 | ... R8: =AV33+AV$90+AV$150+AV$136+AV$72+AV201+AV225 -> 0 | S8: =SUM(H8:R8) -> 0 | W8: =BI33+BI72+BI90+BI136+BI150+BI201+BI225 -> 0 | X8: =BJ33+BJ72+BJ90+BJ136+BJ150+BJ201+BJ225 -> 0 | Y8: =SUM(W8:X8) -> 0
B10: Size | C10: Nb of Holds per Set | D10: Sets Total | E10: Retail Price | F10: Final Price | H10: US 16-16 Green HEX 009933 | I10: Yellow Pantone 116C | J10: Red RAL 3020 | K10: Blue RAL 5015 | L10: Violet RAL 4008 | M10: US 17-13 Purple HTML 683075 | N10: Grey RAL 7001 NEW | O10: Black RAL 9005 | P10: White RAL 9010 | Q10: Fluo Orange 2005 | R10: Fluo Pink Pantone 806C | S10: Fluo Green Pantone 802C | T10: Orange US 14-01 | U10: Blue Mint RAL 6027 | W10: Sizes | AL10: Bolts | BI10: Screws | BN10: Weight
A11: Top Down | W11: XS | X11: S | Y11: M | Z11: L | AA11: XL | AB11: XXL | AC11: XXXL | AD11: XS | AE11: S | AF11: M | AG11: L | AH11: XL | AI11: XXL | AJ11: XXXL | AL11: 30 mm | AM11: 40 mm | AN11: 50 mm | AO11: 70 mm | AP11: 90 mm | AQ11: 100 mm | AR11: 120 mm | AS11: 140 mm | AT11: 160 mm | AU11: 180 mm | AV11: 200 mm | AW11: 30 mm | AX11: 40 mm | AY11: 50 mm | AZ11: 70 mm | BA11: 90 mm | BB11: 100 mm | BC11: 120 mm | BD11: 140 mm | BE11: 160 mm | BF11: 180 mm | BG11: 200 mm | BI11: 50 mm | BJ11: 70 mm | BK11: 50 mm | BL11: 70 mm | BN11: Set | BO11: Total Sets
A12: Top Down Jugs (PU) | B12: L | C12: 10 | D12: =SUM(H12:U12) -> 0 | E12: 260 | F12: =D12*E12*(100-$D$2)/100 -> 0 | Z12: =AG12*$D12 -> 0 | AG12: 10 | AM12: =AX12*$D12 -> 0 | AX12: 10 | BN12: 5 | BO12: =BN12*D12 -> 0
A13: BleauLine : | W13: XS | X13: S | Y13: M | Z13: L | AA13: XL | AB13: XXL | AC13: XXXL | AD13: XS | AE13: S | AF13: M | AG13: L | AH13: XL | AI13: XXL | AJ13: XXXL | AL13: 30 mm | AM13: 40 mm | AN13: 50 mm | AO13: 70 mm | AP13: 90 mm | AQ13: 100 mm | AR13: 120 mm | AS13: 140 mm | AT13: 160 mm | AU13: 180 mm | AV13: 200 mm | AW13: 30 mm | AX13: 40 mm | AY13: 50 mm | AZ13: 70 mm | BA13: 90 mm | BB13: 100 mm | BC13: 120 mm | BD13: 140 mm | BE13: 160 mm | BF13: 180 mm | BG13: 200 mm | BI13: 50 mm | BJ13: 70 mm | BK13: 50 mm | BL13: 70 mm | BN13: Set | BO13: Total Sets
A14: Crimps 1 (PU) | B14: M | C14: 10 | D14: =SUM(H14:U14) -> 0 | E14: 105 | F14: =D14*E14*(100-$D$2)/100 -> 0 | Y14: =AF14*$D14 -> 0 | AF14: 10 | AL14: =AW14*$D14 -> 0 | AW14: 10 | BN14: 1.47 | BO14: =BN14*D14 -> 0
A15: Crimps 2 (PU) | B15: M | C15: 10 | D15: =SUM(H15:U15) -> 0 | E15: 107.5 | F15: =D15*E15*(100-$D$2)/100 -> 0 | Y15: =AF15*$D15 -> 0 | AF15: 10 | AL15: =AW15*$D15 -> 0 | AW15: 10 | BN15: 1.6 | BO15: =BN15*D15 -> 0
A16: Crimps 3 (PU) | B16: M | C16: 10 | D16: =SUM(H16:U16) -> 0 | E16: 135 | F16: =D16*E16*(100-$D$2)/100 -> 0 | Y16: =AF16*$D16 -> 0 | AF16: 10 | AL16: =AW16*$D16 -> 0 | AW16: 10 | BN16: 2.4 | BO16: =BN16*D16 -> 0
A17: Crimps 4 (PU) | B17: L | C17: 10 | D17: =SUM(H17:U17) -> 0 | E17: 147.5 | F17: =D17*E17*(100-$D$2)/100 -> 0 | Z17: =AG17*$D17 -> 0 | AG17: 5 | AL17: =AW17*$D17 -> 0 | AM17: =AX17*$D17 -> 0 | AW17: 4 | AX17: 1 | BN17: 3.1 | BO17: =BN17*D17 -> 0
A18: Edges (PU) | B18: L | C18: 10 | D18: =SUM(H18:U18) -> 0 | E18: 165 | F18: =D18*E18*(100-$D$2)/100 -> 0 | Z18: =AG18*$D18 -> 0 | AG18: 10 | AL18: =AW18*$D18 -> 0 | AW18: 10 | BN18: 2.9 | BO18: =BN18*D18 -> 0
A19: Foot 1 (PU) | B19: XS | C19: 15 | D19: =SUM(H19:U19) -> 0 | E19: 82.5 | F19: =D19*E19*(100-$D$2)/100 -> 0 | W19: =AD19*$D19 -> 0 | AD19: 15 | AL19: =AW19*$D19 -> 0 | AW19: 15 | BN19: 0.7 | BO19: =BN19*D19 -> 0
A20: Foot 2 (PU) | B20: XS | C20: 15 | D20: =SUM(H20:U20) -> 0 | E20: 85 | F20: =D20*E20*(100-$D$2)/100 -> 0 | W20: =AD20*$D20 -> 0 | AD20: 15 | AL20: =AW20*$D20 -> 0 | AW20: 15 | BN20: 0.7 | BO20: =BN20*D20 -> 0
A21: Foot Hand (PU) | B21: S | C21: 10 | D21: =SUM(H21:U21) -> 0 | E21: 90 | F21: =D21*E21*(100-$D$2)/100 -> 0 | X21: =AE21*$D21 -> 0 | AE21: 10 | AL21: =AW21*$D21 -> 0 | AW21: 10 | BN21: 1.191 | BO21: =BN21*D21 -> 0
A22: Incut Edges (PU) | B22: L | C22: 5 | D22: =SUM(H22:U22) -> 0 | E22: 170 | F22: =D22*E22*(100-$D$2)/100 -> 0 | Z22: =AG22*$D22 -> 0 | AG22: 5 | AL22: =AW22*$D22 -> 0 | AM22: =AX22*$D22 -> 0 | AW22: 4 | AX22: 1 | BN22: 3.7 | BO22: =BN22*D22 -> 0
A23: Mega 1 (PU) | B23: XL | C23: 2 | D23: =SUM(H23:U23) -> 0 | E23: 180 | F23: =D23*E23*(100-$D$2)/100 -> 0 | AA23: =AH23*$D23 -> 0 | AH23: 2 | AQ23: =BB23*$D23 -> 0 | BB23: 2 | BN23: 3.3 | BO23: =BN23*D23 -> 0
A24: Mega 2 (PU) | B24: L/XL | C24: 2 | D24: =SUM(H24:U24) -> 0 | E24: 170 | F24: =D24*E24*(100-$D$2)/100 -> 0 | Z24: =AG24*$D24 -> 0 | AA24: =AH24*$D24 -> 0 | AG24: 1 | AH24: 1 | AN24: =AY24*$D24 -> 0 | AQ24: =BB24*$D24 -> 0 | AY24: 1 | BB24: 1 | BN24: 3.2 | BO24: =BN24*D24 -> 0
A25: Pinches 1 (PU) | B25: L | C25: 10 | D25: =SUM(H25:U25) -> 0 | E25: 227.5 | F25: =D25*E25*(100-$D$2)/100 -> 0 | Z25: =AG25*$D25 -> 0 | AG25: 10 | AL25: =AW25*$D25 -> 0 | AM25: =AX25*$D25 -> 0 | AN25: =AY25*$D25 -> 0 | AW25: 4 | AX25: 3 | AY25: 3 | BN25: 4.4 | BO25: =BN25*D25 -> 0
A26: Pinches 2 (PU) | B26: L/XL | C26: 5 | D26: =SUM(H26:U26) -> 0 | E26: 180 | F26: =D26*E26*(100-$D$2)/100 -> 0 | Z26: =AG26*$D26 -> 0 | AA26: =AH26*$D26 -> 0 | AG26: 3 | AH26: 2 | AM26: =AX26*$D26 -> 0 | AN26: =AY26*$D26 -> 0 | AO26: =AZ26*$D26 -> 0 | AX26: 1 | AY26: 1 | AZ26: 3 | BN26: 2.6 | BO26: =BN26*D26 -> 0
A27: Pockets 1 (PU) | B27: L | C27: 10 | D27: =SUM(H27:U27) -> 0 | E27: 270 | F27: =D27*E27*(100-$D$2)/100 -> 0 | Z27: =AG27*$D27 -> 0 | AG27: 10 | AL27: =AW27*$D27 -> 0 | AM27: =AX27*$D27 -> 0 | AN27: =AY27*$D27 -> 0 | AW27: 4 | AX27: 4 | AY27: 2 | BN27: 5.6 | BO27: =BN27*D27 -> 0
A28: Pockets 2 (PU) | B28: L/XL | C28: 5 | D28: =SUM(H28:U28) -> 0 | E28: 255 | F28: =D28*E28*(100-$D$2)/100 -> 0 | Z28: =AG28*$D28 -> 0 | AA28: =AH28*$D28 -> 0 | AG28: 4 | AH28: 1 | AM28: =AX28*$D28 -> 0 | AN28: =AY28*$D28 -> 0 | AO28: =AZ28*$D28 -> 0 | AP28: =BA28*$D28 -> 0 | AX28: 1 | AY28: 2 | AZ28: 1 | BA28: 1 | BN28: 4 | BO28: =BN28*D28 -> 0
A29: Screw-ons 1 (PU) | B29: M | C29: 5 | D29: =SUM(H29:U29) -> 0 | E29: 67.5 | F29: =D29*E29*(100-$D$2)/100 -> 0 | Y29: =AF29*$D29 -> 0 | AF29: 5 | BI29: =BK29*$D29 -> 0 | BK29: 15 | BN29: 1.2 | BO29: =BN29*D29 -> 0
A30: Screw-ons 2 (PU) | B30: M | C30: 5 | D30: =SUM(H30:U30) -> 0 | E30: 62.5 | F30: =D30*E30*(100-$D$2)/100 -> 0 | Y30: =AF30*$D30 -> 0 | AF30: 5 | BI30: =BK30*$D30 -> 0 | BK30: 15 | BN30: 1 | BO30: =BN30*D30 -> 0
A31: Slopers 1 (PU) | B31: L | C31: 5 | D31: =SUM(H31:U31) -> 0 | E31: 180 | F31: =D31*E31*(100-$D$2)/100 -> 0 | Z31: =AG31*$D31 -> 0 | AG31: 5 | AL31: =AW31*$D31 -> 0 | AM31: =AX31*$D31 -> 0 | AN31: =AY31*$D31 -> 0 | AW31: 1 | AX31: 3 | AY31: 1 | BN31: 3.9 | BO31: =BN31*D31 -> 0
A32: Slopers 2 (PU) | B32: L/XL | C32: 5 | D32: =SUM(H32:U32) -> 0 | E32: 185 | F32: =D32*E32*(100-$D$2)/100 -> 0 | Z32: =AG32*$D32 -> 0 | AA32: =AH32*$D32 -> 0 | AG32: 4 | AH32: 1 | AM32: =AX32*$D32 -> 0 | AN32: =AY32*$D32 -> 0 | AO32: =AZ32*$D32 -> 0 | AX32: 1 | AY32: 2 | AZ32: 2 | BN32: 2.7 | BO32: =BN32*D32 -> 0
F33: =SUM(F12:F32) -> 0 | H33: =SUM(H14:H32) -> 0 | I33: =SUM(I14:I32) -> 0 | J33: =SUM(J14:J32) -> 0 | K33: =SUM(K14:K32) -> 0 | L33: =SUM(L14:L32) -> 0 | M33: =SUM(M14:M32) -> 0 | N33: =SUM(N14:N32) -> 0 | O33: =SUM(O14:O32) -> 0 | ... U33: =SUM(U14:U32) -> 0 | W33: =SUM(W14:W32) -> 0 | X33: =SUM(X14:X32) -> 0 | Y33: =SUM(Y14:Y32) -> 0 | Z33: =SUM(Z14:Z32) -> 0 | AA33: =SUM(AA14:AA32) -> 0 | AB33: =SUM(AB14:AB32) -> 0 | AC33: =SUM(AC14:AC32) -> 0 | AD33: =SUM(AD14:AD32) -> 30 | ... AJ33: =SUM(AJ14:AJ32) -> 0 | AL33: =SUM(AL12:AL32) -> 0 | AM33: =SUM(AM12:AM32) -> 0 | AN33: =SUM(AN12:AN32) -> 0 | AO33: =SUM(AO12:AO32) -> 0 | AP33: =SUM(AP12:AP32) -> 0 | AQ33: =SUM(AQ12:AQ32) -> 0 | AR33: =SUM(AR12:AR32) -> 0 | AS33: =SUM(AS12:AS32) -> 0 | ... AV33: =SUM(AV12:AV32) -> 0 | BI33: =SUM(BI12:BI32) -> 0 | BO33: =SUM(BO12:BO32) -> 0
A34: FatLine : | W34: XS | X34: S | Y34: M | Z34: L | AA34: XL | AB34: XXL | AC34: XXXL | AD34: XS | AE34: S | AF34: M | AG34: L | AH34: XL | AI34: XXL | AJ34: XXXL | AL34: 30 mm | AM34: 40 mm | AN34: 50 mm | AO34: 70 mm | AP34: 90 mm | AQ34: 100 mm | AR34: 120 mm | AS34: 140 mm | AT34: 160 mm | AU34: 180 mm | AV34: 200 mm | AW34: 30 mm | AX34: 40 mm | AY34: 50 mm | AZ34: 70 mm | BA34: 90 mm | BB34: 100 mm | BC34: 120 mm | BD34: 140 mm | BE34: 160 mm | BF34: 180 mm | BG34: 200 mm | BI34: 50 mm | BJ34: 70 mm | BK34: 50 mm | BL34: 70 mm | BN34: Set | BO34: Total Sets
A35: Bleau 1 (PU) | B35: XXL | C35: 1 | D35: =SUM(H35:U35) -> 0 | E35: 140 | F35: =D35*E35*(100-$D$2)/100 -> 0 | AB35: =AI35*$D35 -> 0 | AI35: 1 | BN35: 2.574 | BO35: =BN35*D35 -> 0
A36: Bleau 2 (PU) | B36: XXL | C36: 1 | D36: =SUM(H36:U36) -> 0 | E36: 250 | F36: =D36*E36*(100-$D$2)/100 -> 0 | AB36: =AI36*$D36 -> 0 | AI36: 1 | BN36: 5 | BO36: =BN36*D36 -> 0
A37: Bleau 3 (PU) | B37: XXL | C37: 1 | D37: =SUM(H37:U37) -> 0 | E37: 135 | F37: =D37*E37*(100-$D$2)/100 -> 0 | AB37: =AI37*$D37 -> 0 | AI37: 1 | BN37: 2.6 | BO37: =BN37*D37 -> 0
A38: Boulder 1 (PU) | B38: XXL | C38: 1 | D38: =SUM(H38:U38) -> 0 | E38: 135 | F38: =D38*E38*(100-$D$2)/100 -> 0 | AB38: =AI38*$D38 -> 0 | AI38: 1 | BJ38: =BL38*$D38 -> 0 | BL38: 6 | BN38: 2.4 | BO38: =BN38*D38 -> 0
A39: Boulder 2 (PU) | B39: XXL | C39: 1 | D39: =SUM(H39:U39) -> 0 | E39: 132.5 | F39: =D39*E39*(100-$D$2)/100 -> 0 | AB39: =AI39*$D39 -> 0 | AI39: 1 | BJ39: =BL39*$D39 -> 0 | BL39: 6 | BN39: 2.3 | BO39: =BN39*D39 -> 0
A40: Boulder 3 (PU) | B40: XXXL | C40: 1 | D40: =SUM(H40:U40) -> 0 | E40: 137.5 | F40: =D40*E40*(100-$D$2)/100 -> 0 | AC40: =AJ40*$D40 -> 0 | AJ40: 1 | BJ40: =BL40*$D40 -> 0 | BL40: 7 | BN40: 2.4 | BO40: =BN40*D40 -> 0
A41: Boulder 4 (PU) | B41: XXL | C41: 1 | D41: =SUM(H41:U41) -> 0 | E41: 150 | F41: =D41*E41*(100-$D$2)/100 -> 0 | AB41: =AI41*$D41 -> 0 | AI41: 1 | BJ41: =BL41*$D41 -> 0 | BL41: 6 | BN41: 2.6 | BO41: =BN41*D41 -> 0
A42: Boulder 5 (PU) | B42: XXL | C42: 1 | D42: =SUM(H42:U42) -> 0 | E42: 90 | F42: =D42*E42*(100-$D$2)/100 -> 0 | AB42: =AI42*$D42 -> 0 | AI42: 1 | BJ42: =BL42*$D42 -> 0 | BL42: 6 | BN42: 1.5 | BO42: =BN42*D42 -> 0
...

Sheet Packs CompositeX
C1: EUR HT | D1: DISCOUNT % | H1: Holds Size of your order : | W1: Total Weight of your order (kg) : | AA1: =BP27 -> 0
A2: Total Amount order : | C2: =F27 -> 0 | H2: XS | I2: S | J2: M | K2: L | L2: XL | M2: XXL | N2: XXXL | O2: TOTAL
H3: =W27 -> 0 | I3: =X27 -> 0 | J3: =Y27 -> 0 | K3: =Z27 -> 0 | L3: =AA27 -> 0 | M3: =AB27 -> 0 | N3: =AC27 -> 0 | O3: =SUM(H3:N3) -> 0
A5: Packs by CompositeX
B6: CompositeX CX 200 & Dannomond | H6: Bolts adapted to your order : | W6: Screws adapted to your order :
H7: 30 mm | I7: 40 mm | J7: 50 mm | K7: 70 mm | L7: 90 mm | M7: 100 mm | N7: 120 mm | O7: 140 mm | P7: 160 mm | Q7: 180 mm | R7: 200 mm | S7: TOTAL | W7: 50 mm | X7: 70 mm | Y7: TOTAL
A8: In RED : NEW | H8: =AL27 -> 0 | I8: =AM27 -> 0 | J8: =AN27 -> 0 | K8: =AO27 -> 0 | L8: =AP27 -> 0 | M8: =AQ27 -> 0 | N8: =AR27 -> 0 | O8: =AS27 -> 0 | ... R8: =AV27 -> 0 | S8: =SUM(H8:R8) -> 0 | W8: =BJ27 -> 0 | X8: =BK27 -> 0 | Y8: =SUM(W8:X8) -> 0
B10: Size | C10: Nb of Holds per Set | D10: Sets Total | E10: Retail Price | F10: Final Price | H10: Green RAL 6002 | I10: Yellow Pantone 116C | J10: Red RAL 3020 | K10: Blue RAL 5015 | L10: Violet RAL 4008 | M10: Grey RAL 7001 | N10: Black RAL 9005 | O10: White RAL 9016 | P10: Fluo Orange RAL 2005 | Q10: Fluo Pink Pantone 806C | R10: Fluo Yellow RAL 1026 | S10: Fluo Green Pantone 802C | T10: Pure Orange RAL 2004 | U10: Blue Mint RAL 6027 | W10: Sizes | AL10: Bolts | BJ10: Screws | BO10: Weight
W11: XS | X11: S | Y11: M | Z11: L | AA11: XL | AB11: XXL | AC11: XXXL | AD11: XS | AE11: S | AF11: M | AG11: L | AH11: XL | AI11: XXL | AJ11: XXXL | AL11: 30 mm | AM11: 40 mm | AN11: 50 mm | AO11: 70 mm | AP11: 90 mm | AQ11: 100 mm | AR11: 120 mm | AS11: 140 mm | AT11: 160 mm | AU11: 180 mm | AV11: 200 mm | AX11: 30 mm | AY11: 40 mm | AZ11: 50 mm | BA11: 70 mm | BB11: 90 mm | BC11: 100 mm | BD11: 120 mm | BE11: 140 mm | BF11: 160 mm | BG11: 180 mm | BH11: 200 mm | BJ11: 40 mm | BK11: 70 mm | BL11: 40 mm | BM11: 70 mm | BO11: Set | BP11: Total Sets
A12: Pack Beginner 20 | B12: S/M | C12: 20 | D12: =SUM(H12:U12) -> 0 | E12: 110 | F12: =D12*E12*(100-$D$2)/100 -> 0 | X12: =AE12*$D12 -> 0 | Y12: =AF12*$D12 -> 0 | AE12: 10 | AF12: 10 | AL12: =AX12*$D12 -> 0 | AM12: =AY12*$D12 -> 0 | AN12: =AZ12*$D12 -> 0 | AX12: 6 | AY12: 12 | AZ12: 2 | BO12: 4.1 | BP12: =BO12*D12 -> 0
A13: Pack Start 20 | B13: XS/S/M | C13: 20 | D13: =SUM(H13:U13) -> 0 | E13: 112.5 | F13: =D13*E13*(100-$D$2)/100 -> 0 | W13: =AD13*$D13 -> 0 | X13: =AE13*$D13 -> 0 | Y13: =AF13*$D13 -> 0 | AD13: 5 | AE13: 5 | AF13: 10 | AL13: =AX13*$D13 -> 0 | AM13: =AY13*$D13 -> 0 | AN13: =AZ13*$D13 -> 0 | AX13: 3 | AY13: 14 | AZ13: 3 | BO13: 4.2 | BP13: =BO13*D13 -> 0
A14: Pack Start 30 | B14: S/M | C14: 30 | D14: =SUM(H14:U14) -> 0 | E14: 162.5 | F14: =D14*E14*(100-$D$2)/100 -> 0 | X14: =AE14*$D14 -> 0 | Y14: =AF14*$D14 -> 0 | AE14: 5 | AF14: 25 | AL14: =AX14*$D14 -> 0 | AM14: =AY14*$D14 -> 0 | AN14: =AZ14*$D14 -> 0 | AX14: 7 | AY14: 20 | AZ14: 3 | BO14: 6.2 | BP14: =BO14*D14 -> 0
A15: Pack Start 40 | B15: XS/S/M | C15: 40 | D15: =SUM(H15:U15) -> 0 | E15: 200 | F15: =D15*E15*(100-$D$2)/100 -> 0 | W15: =AD15*$D15 -> 0 | X15: =AE15*$D15 -> 0 | Y15: =AF15*$D15 -> 0 | AD15: 5 | AE15: 10 | AF15: 25 | AL15: =AX15*$D15 -> 0 | AM15: =AY15*$D15 -> 0 | AN15: =AZ15*$D15 -> 0 | AX15: 10 | AY15: 27 | AZ15: 3 | BO15: 7.15 | BP15: =BO15*D15 -> 0
A16: Pack Start 50 | B16: XS/S/M | C16: 50 | D16: =SUM(H16:U16) -> 0 | E16: 257.5 | F16: =D16*E16*(100-$D$2)/100 -> 0 | W16: =AD16*$D16 -> 0 | X16: =AE16*$D16 -> 0 | Y16: =AF16*$D16 -> 0 | AD16: 5 | AE16: 10 | AF16: 35 | AL16: =AX16*$D16 -> 0 | AM16: =AY16*$D16 -> 0 | AN16: =AZ16*$D16 -> 0 | AX16: 12 | AY16: 34 | AZ16: 4 | BO16: 9.9 | BP16: =BO16*D16 -> 0
A17: Pack FreshLine | B17: XS to L | C17: 100 | D17: =SUM(H17:U17) -> 0 | E17: 620 | F17: =D17*E17*(100-$D$2)/100 -> 0 | W17: =AD17*$D17 -> 0 | X17: =AE17*$D17 -> 0 | Y17: =AF17*$D17 -> 0 | Z17: =AG17*$D17 -> 0 | AD17: 20 | AE17: 20 | AF17: 22 | AG17: 38 | AL17: =AX17*$D17 -> 0 | AM17: =AY17*$D17 -> 0 | AN17: =AZ17*$D17 -> 0 | AO17: =BA17*$D17 -> 0 | AP17: =BB17*$D17 -> 0 | AX17: 30 | AY17: 42 | AZ17: 22 | BA17: 4 | BB17: 2 | BO17: 34.5 | BP17: =BO17*D17 -> 0
A18: Pack ProLine (PU) | B18: XS to XL | C18: 55 | D18: =SUM(H18:U18) -> 0 | E18: 970 | F18: =D18*E18*(100-$D$2)/100 -> 0 | W18: =AD18*$D18 -> 0 | X18: =AE18*$D18 -> 0 | Y18: =AF18*$D18 -> 0 | Z18: =AG18*$D18 -> 0 | AA18: =AH18*$D18 -> 0 | AD18: 25 | AF18: 15 | AG18: 5 | AH18: 10 | AL18: =AX18*$D18 -> 0 | AM18: =AY18*$D18 -> 0 | AO18: =BA18*$D18 -> 0 | AP18: =BB18*$D18 -> 0 | AQ18: =BC18*$D18 -> 0 | AX18: 5 | AY18: 6 | BA18: 2 | BB18: 6 | BC18: 1 | BJ18: =BL18*$D18 -> 0 | BL18: 85 | BO18: 14.7 | BP18: =BO18*D18 -> 0
A19: Pack TribeLine Drops (PE/PU) | B19: S to XXXL | C19: 41 | D19: =SUM(H19:U19) -> 0 | E19: 1410 | F19: =D19*E19*(100-$D$2)/100 -> 0 | X19: =AE19*$D19 -> 0 | Y19: =AF19*$D19 -> 0 | Z19: =AG19*$D19 -> 0 | AA19: =AH19*$D19 -> 0 | AC19: =AJ19*$D19 -> 0 | AE19: 5 | AF19: 15 | AG19: 15 | AH19: 5 | AJ19: 1 | AL19: =AX19*$D19 -> 0 | AM19: =AY19*$D19 -> 0 | AN19: =AZ19*$D19 -> 0 | AO19: =BA19*$D19 -> 0 | AP19: =BB19*$D19 -> 0 | AQ19: =BC19*$D19 -> 0 | AR19: =BD19*$D19 -> 0 | AS19: =BE19*$D19 -> 0 | ... AU19: =BG19*$D19 -> 0 | AX19: 10 | AY19: 1 | AZ19: 4 | BA19: 2 | BB19: 1 | BC19: 5 | BD19: 1 | BE19: 3 | BF19: 1 | BG19: 1 | BJ19: =BL19*$D19 -> 0 | BL19: 32 | BO19: 39 | BP19: =BO19*D19 -> 0
A20: Pack TribeLine Jugs Basics | B20: S to L | C20: 65 | D20: =SUM(H20:U20) -> 0 | E20: 700 | F20: =D20*E20*(100-$D$2)/100 -> 0 | X20: =AE20*$D20 -> 0 | Y20: =AF20*$D20 -> 0 | Z20: =AG20*$D20 -> 0 | AE20: 20 | AF20: 35 | AG20: 10 | AL20: =AX20*$D20 -> 0 | AM20: =AY20*$D20 -> 0 | AN20: =AZ20*$D20 -> 0 | AO20: =BA20*$D20 -> 0 | AP20: =BB20*$D20 -> 0 | AX20: 22 | AY20: 16 | AZ20: 15 | BA20: 9 | BB20: 1 | BO20: 32.8 | BP20: =BO20*D20 -> 0
A21: Pack TribeLine Jugs Deluxe (PE/PU) | B21: S to XL | C21: 76 | D21: =SUM(H21:U21) -> 0 | E21: 1840 | F21: =D21*E21*(100-$D$2)/100 -> 0 | X21: =AE21*$D21 -> 0 | Y21: =AF21*$D21 -> 0 | Z21: =AG21*$D21 -> 0 | AA21: =AH21*$D21 -> 0 | AE21: 20 | AF21: 30 | AG21: 15 | AH21: 11 | AL21: =AX21*$D21 -> 0 | AM21: =AY21*$D21 -> 0 | AN21: =AZ21*$D21 -> 0 | AO21: =BA21*$D21 -> 0 | AP21: =BB21*$D21 -> 0 | AX21: 22 | AY21: 9 | AZ21: 14 | BA21: 28 | BB21: 3 | BO21: 60.7 | BP21: =BO21*D21 -> 0
A22: Pack TribeLine Pinches (PE/PU) | B22: S to XXL | C22: 55 | D22: =SUM(H22:U22) -> 0 | E22: 750 | F22: =D22*E22*(100-$D$2)/100 -> 0 | X22: =AE22*$D22 -> 0 | Y22: =AF22*$D22 -> 0 | Z22: =AG22*$D22 -> 0 | AA22: =AH22*$D22 -> 0 | AB22: =AI22*$D22 -> 0 | AE22: 25 | AF22: 5 | AG22: 10 | AH22: 10 | AI22: 5 | AL22: =AX22*$D22 -> 0 | AM22: =AY22*$D22 -> 0 | AN22: =AZ22*$D22 -> 0 | AO22: =BA22*$D22 -> 0 | AP22: =BB22*$D22 -> 0 | AQ22: =BC22*$D22 -> 0 | AX22: 6 | AY22: 21 | AZ22: 17 | BA22: 8 | BB22: 4 | BC22: 4 | BO22: 32.8 | BP22: =BO22*D22 -> 0
A23: Pack TribeLine Pockets (PE/PU) | B23: S to XL | C23: 51 | D23: =SUM(H23:U23) -> 0 | E23: 1125 | F23: =D23*E23*(100-$D$2)/100 -> 0 | X23: =AE23*$D23 -> 0 | Y23: =AF23*$D23 -> 0 | Z23: =AG23*$D23 -> 0 | AA23: =AH23*$D23 -> 0 | AE23: 20 | AF23: 4 | AG23: 21 | AH23: 6 | AL23: =AX23*$D23 -> 0 | AM23: =AY23*$D23 -> 0 | AN23: =AZ23*$D23 -> 0 | AO23: =BA23*$D23 -> 0 | AP23: =BB23*$D23 -> 0 | AQ23: =BC23*$D23 -> 0 | AR23: =BD23*$D23 -> 0 | AX23: 2 | AY23: 20 | AZ23: 2 | BA23: 15 | BB23: 6 | BC23: 3 | BD23: 3 | BO23: 38.3 | BP23: =BO23*D23 -> 0
A24: Pack TribeLine Pockets DT (PU) | B24: M to XXL | C24: 40 | D24: =SUM(H24:U24) -> 0 | E24: 1185 | F24: =D24*E24*(100-$D$2)/100 -> 0 | Y24: =AF24*$D24 -> 0 | Z24: =AG24*$D24 -> 0 | AA24: =AH24*$D24 -> 0 | AB24: =AI24*$D24 -> 0 | AF24: 19 | AG24: 11 | AH24: 5 | AI24: 5 | AN24: =AZ24*$D24 -> 0 | AP24: =BB24*$D24 -> 0 | AQ24: =BC24*$D24 -> 0 | AZ24: 5 | BB24: 3 | BC24: 2 | BJ24: =BL24*$D24 -> 0 | BL24: 95 | BO24: 15.7 | BP24: =BO24*D24 -> 0
A25: Pack Vortex Boulder | B25: XS to XXL | C25: 42 | D25: =SUM(H25:U25) -> 0 | E25: 715 | F25: =D25*E25*(100-$D$2)/100 -> 0 | W25: =AD25*$D25 -> 0 | X25: =AE25*$D25 -> 0 | Y25: =AF25*$D25 -> 0 | Z25: =AG25*$D25 -> 0 | AA25: =AH25*$D25 -> 0 | AB25: =AI25*$D25 -> 0 | AD25: 15 | AE25: 10 | AF25: 5 | AG25: 3 | AH25: 6 | AI25: 3 | AL25: =AX25*$D25 -> 0 | AM25: =AY25*$D25 -> 0 | AO25: =BA25*$D25 -> 0 | AP25: =BB25*$D25 -> 0 | AQ25: =BC25*$D25 -> 0 | AX25: 1 | AY25: 3 | BA25: 4 | BB25: 3 | BC25: 1 | BJ25: =BL25*$D25 -> 0 | BL25: 70 | BO25: 8.1 | BP25: =BO25*D25 -> 0
A26: Pack Vortex Lead | B26: XS to L | C26: 54 | D26: =SUM(H26:U26) -> 0 | E26: 725 | F26: =D26*E26*(100-$D$2)/100 -> 0 | W26: =AD26*$D26 -> 0 | X26: =AE26*$D26 -> 0 | Y26: =AF26*$D26 -> 0 | Z26: =AG26*$D26 -> 0 | AD26: 15 | AE26: 5 | AF26: 20 | AG26: 14 | AL26: =AX26*$D26 -> 0 | AM26: =AY26*$D26 -> 0 | AO26: =BA26*$D26 -> 0 | AP26: =BB26*$D26 -> 0 | AX26: 18 | AY26: 3 | BA26: 2 | BB26: 1 | BJ26: =BL26*$D26 -> 0 | BL26: 50 | BO26: 8.062 | BP26: =BO26*D26 -> 0
F27: =SUM(F12:F26) -> 0 | H27: =SUM(H12:H26) -> 0 | I27: =SUM(I12:I26) -> 0 | J27: =SUM(J12:J26) -> 0 | K27: =SUM(K12:K26) -> 0 | L27: =SUM(L12:L26) -> 0 | M27: =SUM(M12:M26) -> 0 | N27: =SUM(N12:N26) -> 0 | O27: =SUM(O12:O26) -> 0 | ... U27: =SUM(U12:U26) -> 0 | W27: =SUM(W12:W26) -> 0 | X27: =SUM(X12:X26) -> 0 | Y27: =SUM(Y12:Y26) -> 0 | Z27: =SUM(Z12:Z26) -> 0 | AA27: =SUM(AA12:AA26) -> 0 | AB27: =SUM(AB12:AB26) -> 0 | AC27: =SUM(AC12:AC26) -> 0 | AL27: =SUM(AL12:AL26) -> 0 | AM27: =SUM(AM12:AM26) -> 0 | AN27: =SUM(AN12:AN26) -> 0 | AO27: =SUM(AO12:AO26) -> 0 | AP27: =SUM(AP12:AP26) -> 0 | AQ27: =SUM(AQ12:AQ26) -> 0 | AR27: =SUM(AR12:AR26) -> 0 | AS27: =SUM(AS12:AS26) -> 0 | ... AV27: =SUM(AV12:AV26) -> 0 | BJ27: =SUM(BJ12:BJ26) -> 0 | BK27: =SUM(BK12:BK26) -> 0 | BP27: =SUM(BP12:BP26) -> 0

Sheet TP Thermoplastic - Ghold
C1: EUR HT | D1: DISCOUNT % | H1: Holds Size of your order : | V1: Total Weight of your order (kg) : | Y1: =BN25+BN52+BN40+BN48 -> 0
A2: Total Amount order : | C2: =F25+F52+F40+F48 -> 0 | D2: 0 | H2: XS | I2: S | J2: M | K2: L | L2: XL | M2: XXL | N2: XXXL | O2: TOTAL
H3: =V25+V52+V40+V48 -> 0 | I3: =W25+W52+W40+W48 -> 0 | J3: =X25+X52+X40+X48 -> 0 | K3: =Y25+Y52+Y40+Y48 -> 0 | L3: =Z25+Z52+Z40+Z48 -> 0 | M3: =AA25+AA52+AA40+AA48 -> 0 | N3: =AB25+AB52+AB40+AB48 -> 0 | O3: =SUM(H3:N3) -> 0
A5: Thermoplastic (TP) by Ghold
B6: Recyclable by Ghold | H6: Bolts adapted to your order: | V6: Screws adapted to your order:
H7: 30 mm | I7: 40 mm | J7: 50 mm | K7: 70 mm | L7: 90 mm | M7: 100 mm | N7: 120 mm | O7: 140 mm | P7: 160 mm | Q7: 180 mm | R7: 200 mm | S7: TOTAL | V7: 50 mm | W7: 70 mm | X7: TOTAL
A8: In RED : NEW | H8: =AK25+AK52+AK40+AK48 -> 0 | I8: =AL25+AL52+AL40+AL48 -> 0 | J8: =AM25+AM52+AM40+AM48 -> 0 | K8: =AN25+AN52+AN40+AN48 -> 0 | L8: =AO25+AO52+AO40+AO48 -> 0 | M8: =AP25+AP52+AP40+AP48 -> 0 | N8: =AQ25+AQ52+AQ40+AQ48 -> 0 | O8: =AR25+AR52+AR40+AR48 -> 0 | ... R8: =AU25+AU52+AU40+AU48 -> 0 | S8: =SUM(H8:R8) -> 0 | V8: =BH25+BH52+BH40+BH48 -> 0 | W8: =BI25+BI52+BI40+BI48 -> 0 | X8: =SUM(V8:W8) -> 0
B10: Size | C10: Nb of Holds per Set | D10: Sets Total | E10: Retail Price | F10: Final Price | H10: US 16-16 Green HEX 009933 | I10: Yellow Pantone 116C | J10: Red RAL 3020 | K10: Blue RAL 5015 | L10: Violet RAL 4008 | M10: Blue Mint RAL 6027 | N10: Black RAL 9005 | O10: White RAL 9010 | P10: Fluo Orange RAL 2005 | Q10: Fluo Pink Pantone 806C | R10: Fluo Green Pantone 802C | V10: Sizes | AK10: Bolts | BH10: Screws | BM10: Weight
A11: Mercy | V11: XS | W11: S | X11: M | Y11: L | Z11: XL | AA11: XXL | AB11: XXXL | AC11: XS | AD11: S | AE11: M | AF11: L | AG11: XL | AH11: XXL | AI11: XXXL | AK11: 30 mm | AL11: 40 mm | AM11: 50 mm | AN11: 70 mm | AO11: 90 mm | AP11: 100 mm | AQ11: 120 mm | AR11: 140 mm | AS11: 160 mm | AT11: 180 mm | AU11: 200 mm | AV11: 30 mm | AW11: 40 mm | AX11: 50 mm | AY11: 70 mm | AZ11: 90 mm | BA11: 100 mm | BB11: 120 mm | BC11: 140 mm | BD11: 160 mm | BE11: 180 mm | BF11: 200 mm | BH11: 50 mm | BI11: 70 mm | BJ11: 50 mm | BK11: 70 mm | BM11: Set | BN11: Total Sets
A12: Mercy XS1 DT | B12: XS | C12: 5 | D12: =SUM(H12:T12) -> 0 | E12: 27.5 | F12: =D12*E12*(100-$D$2)/100 -> 0 | V12: =AC12*D12 -> 0 | AC12: 5 | BH12: =BJ12*D12 -> 0 | BJ12: 10 | BM12: 0.1 | BN12: =BM12*D12 -> 0
A13: Mercy S1 DT | B13: S | C13: 5 | D13: =SUM(H13:T13) -> 0 | E13: 40 | F13: =D13*E13*(100-$D$2)/100 -> 0 | W13: =AD13*$D13 -> 0 | AD13: 5 | BH13: =BJ13*D13 -> 0 | BJ13: 10 | BM13: 0.24 | BN13: =BM13*D13 -> 0
A14: Mercy S2 DT | B14: S | C14: 5 | D14: =SUM(H14:T14) -> 0 | E14: 40 | F14: =D14*E14*(100-$D$2)/100 -> 0 | W14: =AD14*$D14 -> 0 | AD14: 5 | BH14: =BJ14*D14 -> 0 | BJ14: 10 | BM14: 0.25 | BN14: =BM14*D14 -> 0
A15: Mercy M1 DT | B15: M | C15: 5 | D15: =SUM(H15:T15) -> 0 | E15: 50 | F15: =D15*E15*(100-$D$2)/100 -> 0 | X15: =AE15*$D15 -> 0 | AE15: 5 | BH15: =BJ15*D15 -> 0 | BJ15: 10 | BM15: 0.37 | BN15: =BM15*D15 -> 0
A16: Mercy M2 DT | B16: M | C16: 5 | D16: =SUM(H16:T16) -> 0 | E16: 50 | F16: =D16*E16*(100-$D$2)/100 -> 0 | X16: =AE16*$D16 -> 0 | AE16: 5 | BH16: =BJ16*D16 -> 0 | BJ16: 10 | BM16: 0.46 | BN16: =BM16*D16 -> 0
A17: Mercy M3 | B17: M | C17: 5 | D17: =SUM(H17:T17) -> 0 | E17: 50 | F17: =D17*E17*(100-$D$2)/100 -> 0 | X17: =AE17*$D17 -> 0 | AE17: 5 | AK17: =AV17*$D17 -> 0 | AV17: 5 | BM17: 0.47 | BN17: =BM17*D17 -> 0
A18: Mercy M4 | B18: M | C18: 5 | D18: =SUM(H18:T18) -> 0 | E18: 50 | F18: =D18*E18*(100-$D$2)/100 -> 0 | X18: =AE18*$D18 -> 0 | AE18: 5 | AK18: =AV18*$D18 -> 0 | AV18: 5 | BM18: 0.4 | BN18: =BM18*D18 -> 0
A19: Mercy L1 DT | B19: L | C19: 5 | D19: =SUM(H19:T19) -> 0 | E19: 70 | F19: =D19*E19*(100-$D$2)/100 -> 0 | Y19: =AF19*$D19 -> 0 | AF19: 5 | BH19: =BJ19*D19 -> 0 | BJ19: 15 | BM19: 0.78 | BN19: =BM19*D19 -> 0
A20: Mercy L2 DT | B20: L | C20: 5 | D20: =SUM(H20:T20) -> 0 | E20: 65 | F20: =D20*E20*(100-$D$2)/100 -> 0 | Y20: =AF20*$D20 -> 0 | AF20: 5 | BH20: =BJ20*D20 -> 0 | BJ20: 15 | BM20: 0.69 | BN20: =BM20*D20 -> 0
A21: Mercy L3 DT | B21: L | C21: 5 | D21: =SUM(H21:T21) -> 0 | E21: 97.5 | F21: =D21*E21*(100-$D$2)/100 -> 0 | Y21: =AF21*$D21 -> 0 | AF21: 5 | BH21: =BJ21*D21 -> 0 | BJ21: 15 | BM21: 1.36 | BN21: =BM21*D21 -> 0
A22: Mercy L4 DT | B22: L | C22: 5 | D22: =SUM(H22:T22) -> 0 | E22: 70 | F22: =D22*E22*(100-$D$2)/100 -> 0 | Y22: =AF22*$D22 -> 0 | AF22: 5 | BH22: =BJ22*D22 -> 0 | BJ22: 15 | BM22: 0.81 | BN22: =BM22*D22 -> 0
A23: Mercy L5 | B23: L | C23: 5 | D23: =SUM(H23:T23) -> 0 | E23: 87.5 | F23: =D23*E23*(100-$D$2)/100 -> 0 | Y23: =AF23*$D23 -> 0 | AF23: 5 | AL23: =AW23*$D23 -> 0 | AW23: 5 | BH23: =BJ23*D23 -> 0 | BJ23: 15 | BM23: 1.08 | BN23: =BM23*D23 -> 0
A24: Pack | B24: XS-L | C24: =SUM(C12:C23) -> 60 | D24: =SUM(H24:T24) -> 0 | E24: 697.5 | F24: =D24*E24*(100-$D$2)/100 -> 0 | V24: =AC24*$D24 -> 0 | W24: =AD24*$D24 -> 0 | X24: =AE24*$D24 -> 0 | Y24: =AF24*$D24 -> 0 | AC24: 5 | AD24: 10 | AE24: 20 | AF24: 25 | AK24: =AV24*$D24 -> 0 | AL24: =AW24*$D24 -> 0 | AV24: 10 | AW24: 5 | BH24: =BJ24*D24 -> 0 | BJ24: =SUM(BJ12:BJ23) -> 125 | BM24: =SUM(BM12:BM23) -> 7.01 | BN24: =BM24*D24 -> 0
F25: =SUM(F12:F24) -> 0 | H25: =SUM(H12:H24) -> 0 | I25: =SUM(I12:I24) -> 0 | J25: =SUM(J12:J24) -> 0 | K25: =SUM(K12:K24) -> 0 | L25: =SUM(L12:L24) -> 0 | M25: =SUM(M12:M24) -> 0 | N25: =SUM(N12:N24) -> 0 | O25: =SUM(O12:O24) -> 0 | ... T25: =SUM(T12:T24) -> 0 | V25: =SUM(V12:V24) -> 0 | W25: =SUM(W12:W24) -> 0 | X25: =SUM(X12:X24) -> 0 | Y25: =SUM(Y12:Y24) -> 0 | Z25: =SUM(Z12:Z24) -> 0 | AA25: =SUM(AA12:AA24) -> 0 | AB25: =SUM(AB12:AB24) -> 0 | AK25: =SUM(AK12:AK24) -> 0 | AL25: =SUM(AL12:AL24) -> 0 | AM25: =SUM(AM12:AM24) -> 0 | AN25: =SUM(AN12:AN24) -> 0 | AO25: =SUM(AO12:AO24) -> 0 | AP25: =SUM(AP12:AP24) -> 0 | AQ25: =SUM(AQ12:AQ24) -> 0 | AR25: =SUM(AR12:AR24) -> 0 | ... AU25: =SUM(AU12:AU24) -> 0 | BH25: =SUM(BH12:BH24) -> 0 | BI25: =SUM(BI12:BI24) -> 0 | BN25: =SUM(BN12:BN24) -> 0
A26: Mercy (reverse) | V26: XS | W26: S | X26: M | Y26: L | Z26: XL | AA26: XXL | AB26: XXXL | AC26: XS | AD26: S | AE26: M | AF26: L | AG26: XL | AH26: XXL | AI26: XXXL | AK26: 30 mm | AL26: 40 mm | AM26: 50 mm | AN26: 70 mm | AO26: 90 mm | AP26: 100 mm | AQ26: 120 mm | AR26: 140 mm | AS26: 160 mm | AT26: 180 mm | AU26: 200 mm | AV26: 30 mm | AW26: 40 mm | AX26: 50 mm | AY26: 70 mm | AZ26: 90 mm | BA26: 100 mm | BB26: 120 mm | BC26: 140 mm | BD26: 160 mm | BE26: 180 mm | BF26: 200 mm | BH26: 50 mm | BI26: 70 mm | BJ26: 50 mm | BK26: 70 mm | BM26: Set | BN26: Total Sets
A27: Mercy XS2 DT | B27: XS | C27: 5 | D27: =SUM(H27:T27) -> 0 | E27: 27.5 | F27: =D27*E27*(100-$D$2)/100 -> 0 | V27: =AC27*D27 -> 0 | AC27: 5 | BH27: =BJ27*D27 -> 0 | BJ27: 10 | BM27: 0.1 | BN27: =BM27*D27 -> 0
A28: Mercy XS3 DT | B28: XS | C28: 5 | D28: =SUM(H28:T28) -> 0 | E28: 27.5 | F28: =D28*E28*(100-$D$2)/100 -> 0 | V28: =AC28*D28 -> 0 | AC28: 5 | BH28: =BJ28*D28 -> 0 | BJ28: 10 | BM28: 0.12 | BN28: =BM28*D28 -> 0
A29: Mercy S3 | B29: S | C29: 5 | D29: =SUM(H29:T29) -> 0 | E29: 42.5 | F29: =D29*E29*(100-$D$2)/100 -> 0 | W29: =AD29*$D29 -> 0 | AD29: 5 | BH29: =BJ29*D29 -> 0 | BJ29: 10 | BM29: 0.33 | BN29: =BM29*D29 -> 0
A30: Mercy M5 DT | B30: M | C30: 5 | D30: =SUM(H30:T30) -> 0 | E30: 40 | F30: =D30*E30*(100-$D$2)/100 -> 0 | X30: =AE30*$D30 -> 0 | AE30: 5 | BH30: =BJ30*D30 -> 0 | BJ30: 10 | BM30: 0.25 | BN30: =BM30*D30 -> 0
A31: Mercy M6 DT | B31: M | C31: 5 | D31: =SUM(H31:T31) -> 0 | E31: 45 | F31: =D31*E31*(100-$D$2)/100 -> 0 | X31: =AE31*$D31 -> 0 | AE31: 5 | BH31: =BJ31*D31 -> 0 | BJ31: 10 | BM31: 0.36 | BN31: =BM31*D31 -> 0
A32: Mercy M7 DT | B32: M | C32: 5 | D32: =SUM(H32:T32) -> 0 | E32: 47.5 | F32: =D32*E32*(100-$D$2)/100 -> 0 | X32: =AE32*$D32 -> 0 | AE32: 5 | BH32: =BJ32*D32 -> 0 | BJ32: 10 | BM32: 0.39 | BN32: =BM32*D32 -> 0
