Workbook

Sheet RECAP
C1: ArtLine Holds 2, chemin du Génie - PA du Génie 69200 Venissieux, France Tel: +33(0)4 82 53 75 15 | F1: Order Sheet All prices in Euros
B3: EUR (HT) | C3: DISCOUNT (%) | D3: WEIGHT (Kg) | G3: Contact : | H3: Johane Perret
A4: Total Amount Order : | B4: =SUM(B6:B16) -> 0 | D4: =SUM(D7:D16) -> 0 | G4: E-mail: | H4: johane@artline-holds.com
A5: Equipment | B5: =Equipment!C2 -> 0 | C5: =Equipment!D2 -> 0 | D5: =Equipment!AA1 -> 0 | G5: Phone : | I5: +33 (0)4 82 53 75 15
A6: PE/PU - Volx | B6: ='PE-PU - Volx'!B2 -> 0 | C6: ='PE-PU - Volx'!C2 -> 0 | D6: ='PE-PU - Volx'!X1 -> 0
A7: PE - CompositeX | B7: ='PE - CompositeX'!B2 -> 0 | C7: ='PE - CompositeX'!C2 -> 0 | D7: ='PE - CompositeX'!AA1 -> 0
A8: PU - CompositeX | B8: ='PU - CompositeX'!C2 -> 0 | C8: ='PU - CompositeX'!D2 -> 0 | D8: ='PU - CompositeX'!AA1 -> 0
A9: Packs CompositeX | B9: ='Packs CompositeX'!C2 -> 0 | C9: ='Packs CompositeX'!D2 -> 0 | D9: ='Packs CompositeX'!AA1 -> 0
A10: TP Thermoplastic - Ghold | B10: ='TP Thermoplastic - Ghold'!C2 -> 0 | C10: ='TP Thermoplastic - Ghold'!D2 -> 0 | D10: ='TP Thermoplastic - Ghold'!Y1 -> 0
A11: PU - Peak Performance USA | B11: ='PU - Peak Performance USA'!D2 -> 0 | C11: ='PU - Peak Performance USA'!E2 -> 0 | D11: ='PU - Peak Performance USA'!Y1 -> 0
A12: GRP/PU - 360 Europe | B12: ='GRP-PU - 360 Europe'!C2 -> 0 | C12: ='GRP-PU - 360 Europe'!D2 -> 0 | D12: ='GRP-PU - 360 Europe'!Y1 -> 0
A13: GRP - 360 Mexico | B13: ='GRP - 360 Mexico'!C2 -> 0 | C13: ='GRP - 360 Mexico'!D2 -> 0 | D13: ='GRP-PU - 360 Europe'!Z2 -> 0
A14: GRP/PU - KastLine | B14: ='GRP-PU - KastLine'!C2 -> 0 | C14: ='GRP-PU - KastLine'!D2 -> 0 | D14: ='GRP-PU - KastLine'!AB1 -> 0
A15: Wooden Volumes - Manusad | B15: ='Wooden Volumes - Manusad'!C2 -> 0 | C15: ='Wooden Volumes - Manusad'!D3 -> 0 | D15: ='Wooden Volumes - Manusad'!AC1 -> 0
A16: TrainingLine & Homewall | B16: ='Training & Homewall'!C2 -> 0 | C16: ='Training & Homewall'!D2 -> 0 | D16: ='Training & Homewall'!Y1 -> 0
A18: Holds Size of your order
A19: XS | B19: S | C19: M | D19: L | E19: XL | F19: XXL | G19: XXXL | H19: Mega | I19: TOTAL
A20: ='Packs CompositeX'!H3+'PE - CompositeX'!H3+'PU - CompositeX'!H3+'GRP-PU - 360 Europe'!H3+'GRP-PU - KastLine'!H3+'TP Thermoplastic - Ghold'!H3+'PE-PU - Volx'!H3+'GRP - 360 Mexico'!I3+'PU - Peak Performance USA'!I3+Equipment!H3 -> 0 | B20: ='Packs CompositeX'!I3+'PE - CompositeX'!I3+'PU - CompositeX'!I3+'GRP-PU - 360 Europe'!I3+'GRP-PU - KastLine'!I3+'TP Thermoplastic - Ghold'!I3+'PE-PU - Volx'!I3+'GRP - 360 Mexico'!J3+'PU - Peak Performance USA'!J3+Equipment!I3 -> 0 | C20: ='Packs CompositeX'!J3+'PE - CompositeX'!J3+'PU - CompositeX'!J3+'GRP-PU - 360 Europe'!J3+'GRP-PU - KastLine'!J3+'TP Thermoplastic - Ghold'!J3+'PE-PU - Volx'!J3+'GRP - 360 Mexico'!K3+'PU - Peak Performance USA'!K3+Equipment!J3 -> 0 | D20: ='Packs CompositeX'!K3+'PE - CompositeX'!K3+'PU - CompositeX'!K3+'GRP-PU - 360 Europe'!K3+'GRP-PU - KastLine'!K3+'TP Thermoplastic - Ghold'!K3+'PE-PU - Volx'!K3+'GRP - 360 Mexico'!L3+'PU - Peak Performance USA'!L3+Equipment!K3 -> 0 | E20: ='Packs CompositeX'!L3+'PE - CompositeX'!L3+'PU - CompositeX'!L3+'GRP-PU - 360 Europe'!L3+'GRP-PU - KastLine'!L3+'TP Thermoplastic - Ghold'!L3+'PE-PU - Volx'!L3+'GRP - 360 Mexico'!M3+'PU - Peak Performance USA'!M3+Equipment!L3 -> 0 | F20: ='Packs CompositeX'!M3+'PE - CompositeX'!M3+'PU - CompositeX'!M3+'GRP-PU - 360 Europe'!M3+'GRP-PU - KastLine'!M3+'TP Thermoplastic - Ghold'!M3+'PE-PU - Volx'!M3+'GRP - 360 Mexico'!N3+'PU - Peak Performance USA'!N3+Equipment!M3 -> 0 | G20: ='Packs CompositeX'!N3+'PE - CompositeX'!N3+'PU - CompositeX'!N3+'GRP-PU - 360 Europe'!N3+'GRP-PU - KastLine'!N3+'TP Thermoplastic - Ghold'!N3+'PE-PU - Volx'!N3+'GRP - 360 Mexico'!O3+'PU - Peak Performance USA'!O3+Equipment!N3 -> 0 | H20: ='Packs CompositeX'!O3+'PE - CompositeX'!O3+'PU - CompositeX'!O3+'GRP-PU - 360 Europe'!O3+'GRP-PU - KastLine'!O3+'TP Thermoplastic - Ghold'!O3+'PE-PU - Volx'!O3+'GRP - 360 Mexico'!P3 -> 0 | I20: =SUM(A20:H20) -> 0
A22: Volumes Size of your order
A23: XS | B23: S | C23: M | D23: L | E23: XL | F23: XXL | G23: TOTAL
A24: ='Wooden Volumes - Manusad'!H3 -> 0 | B24: ='Wooden Volumes - Manusad'!I3 -> 0 | C24: ='Wooden Volumes - Manusad'!J3 -> 0 | D24: ='Wooden Volumes - Manusad'!K3 -> 0 | E24: ='Wooden Volumes - Manusad'!L3 -> 0 | F24: ='Wooden Volumes - Manusad'!M3 -> 0 | G24: =SUM(A24:F24) -> 0
A26: Bolts adapted to your order
A27: 30 mm | B27: 40 mm | C27: 50 mm | D27: 70 mm | E27: 90 mm | F27: 100 mm | G27: 120 mm | H27: 140 mm | I27: 160 mm | J27: 180 mm | K27: 200 mm | L27: TOTAL
A28: ='Packs CompositeX'!H8+'PE - CompositeX'!H8+'PU - CompositeX'!H8+'Wooden Volumes - Manusad'!H8+'GRP-PU - 360 Europe'!H8+'Training & Homewall'!H8+'GRP-PU - KastLine'!H8+'TP Thermoplastic - Ghold'!H8+'PE-PU - Volx'!H8+'PU - Peak Performance USA'!I8+'GRP - 360 Mexico'!I8+Equipment!H8 -> 0 | B28: ='Packs CompositeX'!I8+'PE - CompositeX'!I8+'PU - CompositeX'!I8+'Wooden Volumes - Manusad'!I8+'GRP-PU - 360 Europe'!I8+'Training & Homewall'!I8+'GRP-PU - KastLine'!I8+'TP Thermoplastic - Ghold'!I8+'PE-PU - Volx'!I8+'PU - Peak Performance USA'!J8+'GRP - 360 Mexico'!J8+Equipment!I8 -> 0 | C28: ='Packs CompositeX'!J8+'PE - CompositeX'!J8+'PU - CompositeX'!J8+'Wooden Volumes - Manusad'!J8+'GRP-PU - 360 Europe'!J8+'Training & Homewall'!J8+'GRP-PU - KastLine'!J8+'TP Thermoplastic - Ghold'!J8+'PE-PU - Volx'!J8+'PU - Peak Performance USA'!K8+'GRP - 360 Mexico'!K8+Equipment!J8 -> 0 | D28: ='Packs CompositeX'!K8+'PE - CompositeX'!K8+'PU - CompositeX'!K8+'Wooden Volumes - Manusad'!K8+'GRP-PU - 360 Europe'!K8+'Training & Homewall'!K8+'GRP-PU - KastLine'!K8+'TP Thermoplastic - Ghold'!K8+'PE-PU - Volx'!K8+'PU - Peak Performance USA'!L8+'GRP - 360 Mexico'!L8+Equipment!K8 -> 0 | E28: ='Packs CompositeX'!L8+'PE - CompositeX'!L8+'PU - CompositeX'!L8+'Wooden Volumes - Manusad'!L8+'GRP-PU - 360 Europe'!L8+'Training & Homewall'!L8+'GRP-PU - KastLine'!L8+'TP Thermoplastic - Ghold'!L8+'PE-PU - Volx'!L8+'PU - Peak Performance USA'!M8+'GRP - 360 Mexico'!M8+Equipment!L8 -> 0 | F28: ='Packs CompositeX'!M8+'PE - CompositeX'!M8+'PU - CompositeX'!M8+'Wooden Volumes - Manusad'!M8+'GRP-PU - 360 Europe'!M8+'Training & Homewall'!M8+'GRP-PU - KastLine'!M8+'TP Thermoplastic - Ghold'!M8+'PE-PU - Volx'!M8+'PU - Peak Performance USA'!N8+'GRP - 360 Mexico'!N8+Equipment!M8 -> 0 | G28: ='Packs CompositeX'!N8+'PE - CompositeX'!N8+'PU - CompositeX'!N8+'Wooden Volumes - Manusad'!N8+'GRP-PU - 360 Europe'!N8+'Training & Homewall'!N8+'GRP-PU - KastLine'!N8+'TP Thermoplastic - Ghold'!N8+'PE-PU - Volx'!N8+'PU - Peak Performance USA'!O8+'GRP - 360 Mexico'!O8+Equipment!N8 -> 0 | H28: ='Packs CompositeX'!O8+'PE - CompositeX'!O8+'PU - CompositeX'!O8+'Wooden Volumes - Manusad'!O8+'GRP-PU - 360 Europe'!O8+'Training & Homewall'!O8+'GRP-PU - KastLine'!O8+'TP Thermoplastic - Ghold'!O8+'PE-PU - Volx'!O8+'PU - Peak Performance USA'!P8+'GRP - 360 Mexico'!P8+Equipment!O8 -> 0 | ... K28: ='Packs CompositeX'!R8+'PE - CompositeX'!R8+'PU - CompositeX'!R8+'Wooden Volumes - Manusad'!R8+'GRP-PU - 360 Europe'!R8+'Training & Homewall'!R8+'GRP-PU - KastLine'!R8+'TP Thermoplastic - Ghold'!R8+'PE-PU - Volx'!R8+'PU - Peak Performance USA'!S8+'GRP - 360 Mexico'!S8+Equipment!R8 -> 0 | L28: =SUM(A28:K28) -> 0
A30: Screws adapted to your order
A31: 50 mm | B31: 70 mm | C31: TOTAL
A32: ='Packs CompositeX'!W8+'PE - CompositeX'!W8+'PU - CompositeX'!W8+'Wooden Volumes - Manusad'!X8+'GRP-PU - 360 Europe'!U8+'Training & Homewall'!H3+'GRP-PU - KastLine'!X8+'TP Thermoplastic - Ghold'!V8+'PE-PU - Volx'!U8+'PU - Peak Performance USA'!V8+'GRP - 360 Mexico'!V8+Equipment!W8 -> 0 | B32: ='Packs CompositeX'!X8+'PE - CompositeX'!X8+'PU - CompositeX'!X8+'Wooden Volumes - Manusad'!Y8+'GRP-PU - 360 Europe'!V8+'Training & Homewall'!I3+'GRP-PU - KastLine'!Y8+'TP Thermoplastic - Ghold'!W8+'PE-PU - Volx'!V8+'PU - Peak Performance USA'!W8+'GRP - 360 Mexico'!W8+Equipment!X8 -> 0 | C32: =SUM(A32:B32) -> 0
A35: Prices are as an indicator
A36: Costs of transport will be added and depends on the volume of the order
A37: A specific quotation will be provided in order to determine the exactly amount of your order

Sheet Equipment
C1: EUR HT | D1: DISCOUNT % | H1: Holds Size of your order : | W1: Total Weight of your order (kg) : | AA1: =BP16 -> 0
A2: Total Amount order : | C2: =C3+C4 -> 0 | D2: =AVERAGE(D3:D4) -> 0 | H2: XS | I2: S | J2: M | K2: L | L2: XL | M2: XXL | N2: XXXL | O2: TOTAL
C3: =F12+F13 -> 0 | D3: 0 | E3: PE/PU | H3: =W16 -> 0 | I3: =X16 -> 0 | J3: =Y16 -> 0 | K3: =Z16 -> 0 | L3: =AA16 -> 0 | M3: =AB16 -> 0 | N3: =AC16 -> 0 | O3: =SUM(H3:N3) -> 0
C4: =F15 -> 0 | D4: 0 | E4: Artlab
A5: Equipement
H6: Bolts adapted of your order: | W6: Screws adapted of your order:
H7: 30 mm | I7: 40 mm | J7: 50 mm | K7: 70 mm | L7: 90 mm | M7: 100 mm | N7: 120 mm | O7: 140 mm | P7: 160 mm | Q7: 180 mm | R7: 200 mm | S7: TOTAL | W7: 50 mm | X7: 70 mm | Y7: TOTAL
A8: In RED : NEW | H8: =AL16 -> 0 | I8: =AM16 -> 0 | J8: =AN16 -> 0 | K8: =AO16 -> 0 | L8: =AP16 -> 0 | M8: =AQ16 -> 0 | N8: =AR16 -> 0 | O8: =AS16 -> 0 | ... R8: =AV16 -> 0 | S8: =SUM(H8:R8) -> 0 | W8: =BJ16 -> 0 | X8: =BK16 -> 0 | Y8: =SUM(W8:X8) -> 0
B10: Size | C10: Nb of Holds per Set | D10: Sets Total | E10: Retail Price | F10: Final Price | H10: Green RAL 6002 (PE) US Green (PU) | I10: Yellow Pantone 116C | J10: Red RAL 3020 | K10: Blue RAL 5015 | L10: Violet RAL 4008 or US Purple | M10: Grey RAL 7001 | N10: Black RAL 9005 | O10: White RAL 9016 | P10: Fluo Orange RAL 2005 | Q10: Fluo Pink Pantone 806C | R10: Fluo Yellow RAL 1026 | S10: Fluo Green Pantone 802C | T10: Pure Orange RAL 2004 (PE) Orange US (PU) | U10: Blue Mint RAL 6027 | W10: Sizes | AL10: Bolts | BJ10: Screws | BO10: Weight
W11: XS | X11: S | Y11: M | Z11: L | AA11: XL | AB11: XXL | AC11: XXXL | AD11: XS | AE11: S | AF11: M | AG11: L | AH11: XL | AI11: XXL | AJ11: XXXL | AL11: 30 mm | AM11: 40 mm | AN11: 50 mm | AO11: 70 mm | AP11: 90 mm | AQ11: 100 mm | AR11: 120 mm | AS11: 140 mm | AT11: 160 mm | AU11: 180 mm | AV11: 200 mm | AX11: 30 mm | AY11: 40 mm | AZ11: 50 mm | BA11: 70 mm | BB11: 90 mm | BC11: 100 mm | BD11: 120 mm | BE11: 140 mm | BF11: 160 mm | BG11: 180 mm | BH11: 200 mm | BJ11: 50 mm | BK11: 70 mm | BL11: 50 mm | BM11: 70 mm | BO11: Set | BP11: Total Sets
A12: Top Down Jugs (PE) | B12: L | C12: 10 | D12: =SUM(H12:T12) -> 0 | E12: 135 | F12: =D12*E12*(100-$D$3)/100 -> 0 | Z12: =AG12*$D12 -> 0 | AG12: 10 | AM12: =AY12*$D12 -> 0 | AY12: 10 | BO12: 6.93 | BP12: =BO12*D12 -> 0
A13: Top Down Jugs (PU) | B13: L | C13: 10 | D13: =SUM(H13:U13) -> 0 | E13: 260 | F13: =D13*E13*(100-$D$3)/100 -> 0 | Z13: =AG13*$D13 -> 0 | AG13: 10 | AM13: =AY13*$D13 -> 0 | AY13: 10 | BO13: 5 | BP13: =BO13*D13 -> 0
A15: ArtLab - Alpha Setter Bag | B15: Main pouch : 25x28 cm, secondary pouches : 24x14 cm | C15: 1 | D15: =SUM(H15:T15) -> 0 | E15: 74.17 | F15: =D15*E15*(100-$D$4)/100 -> 0 | BO15: 0.65 | BP15: =BO15*D15 -> 0
F16: =SUM(F12:F15) -> 0 | H16: =SUM(H12:H15) -> 0 | I16: =SUM(I12:I15) -> 0 | J16: =SUM(J12:J15) -> 0 | K16: =SUM(K12:K15) -> 0 | L16: =SUM(L12:L15) -> 0 | M16: =SUM(M12:M15) -> 0 | N16: =SUM(N12:N15) -> 0 | O16: =SUM(O12:O15) -> 0 | ... U16: =SUM(U12:U15) -> 0 | W16: =SUM(W12:W15) -> 0 | X16: =SUM(X12:X15) -> 0 | Y16: =SUM(Y12:Y15) -> 0 | Z16: =SUM(Z12:Z15) -> 0 | AA16: =SUM(AA12:AA15) -> 0 | AB16: =SUM(AB12:AB15) -> 0 | AC16: =SUM(AC12:AC15) -> 0 | AL16: =SUM(AL12:AL15) -> 0 | AM16: =SUM(AM12:AM15) -> 0 | AN16: =SUM(AN12:AN15) -> 0 | AO16: =SUM(AO12:AO15) -> 0 | AP16: =SUM(AP12:AP15) -> 0 | AQ16: =SUM(AQ12:AQ15) -> 0 | AR16: =SUM(AR12:AR15) -> 0 | AS16: =SUM(AS12:AS15) -> 0 | ... AV16: =SUM(AV12:AV15) -> 0 | BJ16: =SUM(BJ12:BJ15) -> 0 | BK16: =SUM(BK12:BK15) -> 0 | BP16: =SUM(BP12:BP15) -> 0

Sheet PE-PU - Volx
B1: EUR HT | C1: DISCOUNT % | H1: Holds Size of your order : | U1: Total Weight of your order (kg) : | X1: =BN15+BN25 -> 0
A2: Total Amount order : | B2: =F15+F25 -> 0 | H2: XS | I2: S | J2: M | K2: L | L2: XL | M2: XXL | N2: XXXL | O2: TOTAL
H3: =U15+U25 -> 0 | I3: =V15+V25 -> 0 | J3: =W15+W25 -> 0 | K3: =X15+X25 -> 0 | L3: =Y15+Y25 -> 0 | M3: =Z15+Z25 -> 0 | N3: =AA15+AA25 -> 0 | O3: =SUM(H3:N3) -> 0
A5: PE/PU by Volx
H6: Bolts adapted to your order : | U6: Screws adapted to your order :
H7: 30 mm | I7: 40 mm | J7: 50 mm | K7: 70 mm | L7: 90 mm | M7: 100 mm | N7: 120 mm | O7: 140 mm | P7: 160 mm | Q7: 180 mm | R7: 200 mm | S7: TOTAL | U7: 50 mm | V7: 70 mm | W7: TOTAL
H8: =AJ15+AJ25 -> 0 | I8: =AK15+AK25 -> 0 | J8: =AL15+AL25 -> 0 | K8: =AM15+AM25 -> 0 | L8: =AN15+AN25 -> 0 | M8: =AO15+AO25 -> 0 | N8: =AP15+AP25 -> 0 | O8: =AQ15+AQ25 -> 0 | ... R8: =AT15+AT25 -> 0 | S8: =SUM(H8:R8) -> 0 | U8: =BH15+BH25 -> 0 | V8: =BI15+BI25 -> 0 | W8: =SUM(U8:V8) -> 0
B10: Size | C10: Nb of Holds per Set | D10: Sets Total | E10: Retail Price | F10: Final Price | H10: Green RAL 6002 or 6018 | I10: Yellow RAL 1023 | J10: Red RAL 3000 | K10: Blue RAL 5015 | L10: Violet RAL 4008 | M10: Grey RAL 7040 | N10: Black RAL 9005 | O10: White RAL 9010 | P10: Fluo Orange | Q10: Fluo Pink | R10: Fluo Yellow | S10: Fluo Green | U10: Sizes | AJ10: Bolts | BH10: Screws | BM10: Weight
A11: Speed Kid (PE) | U11: XS | V11: S | W11: M | X11: L | Y11: XL | Z11: XXL | AA11: XXXL | AB11: XS | AC11: S | AD11: M | AE11: L | AF11: XL | AG11: XXL | AH11: XXXL | AJ11: 30 mm | AK11: 40 mm | AL11: 50 mm | AM11: 70 mm | AN11: 90 mm | AO11: 100 mm | AP11: 120 mm | AQ11: 140 mm | AR11: 160 mm | AS11: 180 mm | AT11: 200 mm | AV11: 30 mm | AW11: 40 mm | AX11: 50 mm | AY11: 70 mm | AZ11: 90 mm | BA11: 100 mm | BB11: 120 mm | BC11: 140 mm | BD11: 160 mm | BE11: 180 mm | BF11: 200 mm | BH11: 50 mm | BI11: 70 mm | BJ11: 50 mm | BK11: 70 mm | BM11: Set | BN11: Total Sets
A12: Pack Speed Kid | B12: S/XL | C12: 16 | D12: =SUM(H12:S12) -> 0 | E12: 560 | F12: =D12*E12*(100-$C$2)/100 -> 0 | H12: +15% | I12: +15% | J12: +15% | L12: +15% | M12: +15% | N12: +15% | O12: +15% | P12: +15% | Q12: +15% | R12: +15% | S12: +15% | V12: =AC12*$D12 -> 0 | Y12: =AF12*$D12 -> 0 | AC12: 4 | AF12: 12 | AJ12: =AV12*$D12 -> 0 | AN12: =AZ12*$D12 -> 0 | AV12: 4 | AZ12: 12 | BH12: =BJ12*$D12 -> 0 | BM12: 21.6 | BN12: =BM12*D12 -> 0
A13: Speed Kid Foot | B13: S | C13: 1 | D13: =SUM(H13:S13) -> 0 | E13: 5 | F13: =D13*E13*(100-$C$2)/100 -> 0 | H13: +15% | I13: +15% | J13: +15% | L13: +15% | M13: +15% | N13: +15% | O13: +15% | P13: +15% | Q13: +15% | R13: +15% | S13: +15% | V13: =AC13*$D13 -> 0 | AC13: 1 | AJ13: =AV13*$D13 -> 0 | AV13: 1 | BH13: =BJ13*$D13 -> 0 | BM13: 0.15 | BN13: =BM13*D13 -> 0
A14: Speed Kid Hand | B14: XL | C14: 1 | D14: =SUM(H14:S14) -> 0 | E14: 45 | F14: =D14*E14*(100-$C$2)/100 -> 0 | H14: +15% | I14: +15% | J14: +15% | L14: +15% | M14: +15% | N14: +15% | O14: +15% | P14: +15% | Q14: +15% | R14: +15% | S14: +15% | Y14: =AF14*$D14 -> 0 | AF14: 1 | AN14: =AZ14*$D14 -> 0 | AZ14: 1 | BH14: =BJ14*$D14 -> 0 | BM14: 1.75 | BN14: =BM14*D14 -> 0
F15: =SUM(F12:F14) -> 0 | H15: =SUM(H12:H14) -> 0 | I15: =SUM(I12:I14) -> 0 | J15: =SUM(J12:J14) -> 0 | K15: =SUM(K12:K14) -> 0 | L15: =SUM(L12:L14) -> 0 | M15: =SUM(M12:M14) -> 0 | N15: =SUM(N12:N14) -> 0 | O15: =SUM(O12:O14) -> 0 | ... S15: =SUM(S12:S14) -> 0 | U15: =SUM(U12:U14) -> 0 | V15: =SUM(V12:V14) -> 0 | W15: =SUM(W12:W14) -> 0 | X15: =SUM(X12:X14) -> 0 | Y15: =SUM(Y12:Y14) -> 0 | Z15: =SUM(Z12:Z14) -> 0 | AA15: =SUM(AA12:AA14) -> 0 | AJ15: =SUM(AJ12:AJ14) -> 0 | AK15: =SUM(AK12:AK14) -> 0 | AL15: =SUM(AL12:AL14) -> 0 | AM15: =SUM(AM12:AM14) -> 0 | AN15: =SUM(AN12:AN14) -> 0 | AO15: =SUM(AO12:AO14) -> 0 | AP15: =SUM(AP12:AP14) -> 0 | AQ15: =SUM(AQ12:AQ14) -> 0 | ... AT15: =SUM(AT12:AT14) -> 0 | BH15: =SUM(BH12:BH14) -> 0 | BI15: =SUM(BI12:BI14) -> 0 | BN15: =SUM(BN12:BN14) -> 0
A16: ArtLab (PU) | U16: XS | V16: S | W16: M | X16: L | Y16: XL | Z16: XXL | AA16: XXXL | AB16: XS | AC16: S | AD16: M | AE16: L | AF16: XL | AG16: XXL | AH16: XXXL | AJ16: 30 mm | AK16: 40 mm | AL16: 50 mm | AM16: 70 mm | AN16: 90 mm | AO16: 100 mm | AP16: 120 mm | AQ16: 140 mm | AR16: 160 mm | AS16: 180 mm | AT16: 200 mm | AV16: 30 mm | AW16: 40 mm | AX16: 50 mm | AY16: 70 mm | AZ16: 90 mm | BA16: 100 mm | BB16: 120 mm | BC16: 140 mm | BD16: 160 mm | BE16: 180 mm | BF16: 200 mm | BH16: 50 mm | BI16: 70 mm | BJ16: 50 mm | BK16: 70 mm | BM16: Set | BN16: Total Sets
A17: Micro Adjuster XS | B17: XS | C17: 6 | D17: =SUM(H17:S17) -> 0 | E17: 42.5 | F17: =D17*E17*(100-$C$2)/100 -> 0 | U17: =AB17*$D17 -> 0 | AB17: 6 | BH17: =BJ17*$D17 -> 0 | BJ17: 12 | BM17: 0.26 | BN17: =BM17*D17 -> 0
A18: Micro Adjusters S | B18: S | C18: 6 | D18: =SUM(H18:S18) -> 0 | E18: 82.5 | F18: =D18*E18*(100-$C$2)/100 -> 0 | V18: =AC18*$D18 -> 0 | AC18: 6 | BH18: =BJ18*$D18 -> 0 | BJ18: 12 | BM18: 0.69 | BN18: =BM18*D18 -> 0
A19: Micro Adjusters M | B19: M | C19: 6 | D19: =SUM(H19:S19) -> 0 | E19: 107.5 | F19: =D19*E19*(100-$C$2)/100 -> 0 | W19: =AD19*$D19 -> 0 | AD19: 6 | BH19: =BJ19*$D19 -> 0 | BJ19: 12 | BM19: 1.26 | BN19: =BM19*D19 -> 0
A20: Micro Adjusters L | B20: L | C20: 6 | D20: =SUM(H20:S20) -> 0 | E20: 167.5 | F20: =D20*E20*(100-$C$2)/100 -> 0 | X20: =AE20*$D20 -> 0 | AE20: 6 | BI20: =BK20*$D20 -> 0 | BK20: 18 | BM20: 2.23 | BN20: =BM20*D20 -> 0
A21: Micro Adjusters + Plugs XS | B21: XS | C21: 12 | D21: =SUM(H21:S21) -> 0 | E21: 52.5 | F21: =D21*E21*(100-$C$2)/100 -> 0 | U21: =AB21*$D21 -> 0 | AB21: 12 | BH21: =BJ21*$D21 -> 0 | BJ21: 12 | BM21: 0.3 | BN21: =BM21*D21 -> 0
A22: Micro Adjusters + Plugs S | B22: S | C22: 12 | D22: =SUM(H22:S22) -> 0 | E22: 97.5 | F22: =D22*E22*(100-$C$2)/100 -> 0 | V22: =AC22*$D22 -> 0 | AC22: 12 | BH22: =BJ22*$D22 -> 0 | BJ22: 12 | BM22: 0.8 | BN22: =BM22*D22 -> 0
A23: Micro Adjusters + Plugs M | B23: M | C23: 12 | D23: =SUM(H23:S23) -> 0 | E23: 125 | F23: =D23*E23*(100-$C$2)/100 -> 0 | W23: =AD23*$D23 -> 0 | AD23: 12 | BH23: =BJ23*$D23 -> 0 | BJ23: 12 | BM23: 1.5 | BN23: =BM23*D23 -> 0
A24: Micro Adjusters + Plugs L | B24: L | C24: 12 | D24: =SUM(H24:S24) -> 0 | E24: 192.5 | F24: =D24*E24*(100-$C$2)/100 -> 0 | X24: =AE24*$D24 -> 0 | AE24: 12 | BI24: =BK24*$D24 -> 0 | BK24: 18 | BM24: 2.75 | BN24: =BM24*D24 -> 0
F25: =SUM(F17:F24) -> 0 | H25: =SUM(H17:H24) -> 0 | I25: =SUM(I17:I24) -> 0 | J25: =SUM(J17:J24) -> 0 | K25: =SUM(K17:K24) -> 0 | L25: =SUM(L17:L24) -> 0 | M25: =SUM(M17:M24) -> 0 | N25: =SUM(N17:N24) -> 0 | O25: =SUM(O17:O24) -> 0 | ... S25: =SUM(S17:S24) -> 0 | U25: =SUM(U17:U24) -> 0 | V25: =SUM(V17:V24) -> 0 | W25: =SUM(W17:W24) -> 0 | X25: =SUM(X17:X24) -> 0 | Y25: =SUM(Y17:Y24) -> 0 | Z25: =SUM(Z17:Z24) -> 0 | AA25: =SUM(AA17:AA24) -> 0 | AJ25: =SUM(AJ17:AJ24) -> 0 | AK25: =SUM(AK17:AK24) -> 0 | AL25: =SUM(AL17:AL24) -> 0 | AM25: =SUM(AM17:AM24) -> 0 | AN25: =SUM(AN17:AN24) -> 0 | AO25: =SUM(AO17:AO24) -> 0 | AP25: =SUM(AP17:AP24) -> 0 | AQ25: =SUM(AQ17:AQ24) -> 0 | ... AT25: =SUM(AT17:AT24) -> 0 | BH25: =SUM(BH17:BH24) -> 0 | BI25: =SUM(BI17:BI24) -> 0 | BN25: =SUM(BN17:BN24) -> 0

Sheet PE - CompositeX
B1: EUR HT | C1: DISCOUNT % | H1: Holds Size of your order : | W1: Total Weight of your order (kg) : | AA1: =BP26+BP56+BP67+BP81+BP118+BP36+BP12 -> 0
A2: Total Amount order : | B2: =F26+F36+F56+F67+F81+F118+F12 -> 0 | H2: XS | I2: S | J2: M | K2: L | L2: XL | M2: XXL | N2: XXXL | O2: TOTAL
H3: =W26+W36+W56+W67+W81+W118+W12 -> 0 | I3: =X26+X36+X56+X67+X81+X118+X12 -> 0 | J3: =Y26+Y36+Y56+Y67+Y81+Y118+Y12 -> 0 | K3: =Z26+Z36+Z56+Z67+Z81+Z118+Z12 -> 0 | L3: =AA26+AA36+AA56+AA67+AA81+AA118+AA12 -> 0 | M3: =AB26+AB36+AB56+AB67+AB81+AB118+AB12 -> 0 | N3: =AC26+AC36+AC56+AC67+AC81+AC118+AC12 -> 0 | O3: =SUM(H3:N3) -> 0
A5: PE by CompositeX
B6: CompositeX CX 200 | H6: Bolts adapted to your order : | W6: Screws adapted to your order :
H7: 30 mm | I7: 40 mm | J7: 50 mm | K7: 70 mm | L7: 90 mm | M7: 100 mm | N7: 120 mm | O7: 140 mm | P7: 160 mm | Q7: 180 mm | R7: 200 mm | S7: TOTAL | W7: 50 mm | X7: 70 mm | Y7: TOTAL
A8: In RED : NEW | H8: =AL26+AL36+AL56+AL67+AL81+AL118+AL12 -> 0 | I8: =AM26+AM36+AM56+AM67+AM81+AM118+AM12 -> 0 | J8: =AN26+AN36+AN56+AN67+AN81+AN118+AN12 -> 0 | K8: =AO26+AO36+AO56+AO67+AO81+AO118+AO12 -> 0 | L8: =AP26+AP36+AP56+AP67+AP81+AP118+AP12 -> 0 | M8: =AQ26+AQ36+AQ56+AQ67+AQ81+AQ118+AQ12 -> 0 | N8: =AR26+AR36+AR56+AR67+AR81+AR118+AR12 -> 0 | O8: =AS26+AS36+AS56+AS67+AS81+AS118+AS12 -> 0 | ... R8: =AV26+AV36+AV56+AV67+AV81+AV118+AV12 -> 0 | S8: =SUM(H8:R8) -> 0 | W8: =BJ26+BJ36+BJ56+BJ67+BJ81+BJ118 -> 0 | X8: =BK26+BK36+BK56+BK67+BK81 -> 0 | Y8: =SUM(W8:X8) -> 0
B10: Size | C10: Nb of Holds per Set | D10: Sets Total | E10: Retail Price | F10: Final Price | H10: Green RAL 6002 | I10: Yellow Pantone 116C | J10: Red RAL 3020 | K10: Blue RAL 5015 | L10: Violet RAL 4008 | M10: Grey RAL 7001 | N10: Black RAL 9005 | O10: White RAL 9016 | P10: Fluo Orange RAL 2005 | Q10: Fluo Pink Pantone 806C | R10: Fluo Yellow RAL 1026 | S10: Fluo Green Pantone 802C | T10: Pure Orange RAL 2004 | U10: Blue Mint RAL 6027 | W10: Sizes | AL10: Bolts | BJ10: Screws | BO10: Weight
A11: Top Down | W11: XS | X11: S | Y11: M | Z11: L | AA11: XL | AB11: XXL | AC11: XXXL | AD11: XS | AE11: S | AF11: M | AG11: L | AH11: XL | AI11: XXL | AJ11: XXXL | AL11: 30 mm | AM11: 40 mm | AN11: 50 mm | AO11: 70 mm | AP11: 90 mm | AQ11: 100 mm | AR11: 120 mm | AS11: 140 mm | AT11: 160 mm | AU11: 180 mm | AV11: 200 mm | AX11: 30 mm | AY11: 40 mm | AZ11: 50 mm | BA11: 70 mm | BB11: 90 mm | BC11: 100 mm | BD11: 120 mm | BE11: 140 mm | BF11: 160 mm | BG11: 180 mm | BH11: 200 mm | BJ11: 50 mm | BK11: 70 mm | BL11: 50 mm | BM11: 70 mm | BO11: Set | BP11: Total Sets
A12: Top Down Jugs | B12: L | C12: 10 | D12: =SUM(H12:T12) -> 0 | E12: 135 | F12: =D12*E12*(100-$D$2)/100 -> 0 | Z12: =AG12*$D12 -> 0 | AG12: 10 | AM12: =AY12*$D12 -> 0 | AY12: 10 | BO12: 6.93 | BP12: =BO12*D12 -> 0
A13: BleauLine : | W13: XS | X13: S | Y13: M | Z13: L | AA13: XL | AB13: XXL | AC13: XXXL | AD13: XS | AE13: S | AF13: M | AG13: L | AH13: XL | AI13: XXL | AJ13: XXXL | AL13: 30 mm | AM13: 40 mm | AN13: 50 mm | AO13: 70 mm | AP13: 90 mm | AQ13: 100 mm | AR13: 120 mm | AS13: 140 mm | AT13: 160 mm | AU13: 180 mm | AV13: 200 mm | AX13: 30 mm | AY13: 40 mm | AZ13: 50 mm | BA13: 70 mm | BB13: 90 mm | BC13: 100 mm | BD13: 120 mm | BE13: 140 mm | BF13: 160 mm | BG13: 180 mm | BH13: 200 mm | BJ13: 40 mm | BK13: 70 mm | BL13: 40 mm | BM13: 70 mm | BO13: Set | BP13: Total Sets
A14: Foot 1 | B14: XS | C14: 15 | D14: =SUM(H14:U14) -> 0 | E14: 57.5 | F14: =D14*E14*(100-$C$2)/100 -> 0 | W14: =AD14*$D14 -> 0 | AD14: 15 | AL14: =AX14*$D14 -> 0 | AX14: 15 | BO14: 0.7 | BP14: =BO14*D14 -> 0
A15: Foot 2 | B15: XS | C15: 15 | D15: =SUM(H15:U15) -> 0 | E15: 60 | F15: =D15*E15*(100-$C$2)/100 -> 0 | W15: =AD15*$D15 -> 0 | AD15: 15 | AL15: =AX15*$D15 -> 0 | AX15: 15 | BO15: 0.7 | BP15: =BO15*D15 -> 0
A16: Crimps 1 | B16: M | C16: 10 | D16: =SUM(H16:U16) -> 0 | E16: 70 | F16: =D16*E16*(100-$C$2)/100 -> 0 | Y16: =AF16*$D16 -> 0 | AF16: 10 | AL16: =AX16*$D16 -> 0 | AX16: 10 | BO16: 2.31 | BP16: =BO16*D16 -> 0
A17: Crimps 2 | B17: M | C17: 10 | D17: =SUM(H17:U17) -> 0 | E17: 70 | F17: =D17*E17*(100-$C$2)/100 -> 0 | Y17: =AF17*$D17 -> 0 | AF17: 10 | AL17: =AX17*$D17 -> 0 | AX17: 10 | BO17: 2.34 | BP17: =BO17*D17 -> 0
A18: Crimps 3 | B18: M | C18: 10 | D18: =SUM(H18:U18) -> 0 | E18: 85 | F18: =D18*E18*(100-$C$2)/100 -> 0 | Y18: =AF18*$D18 -> 0 | AF18: 10 | AL18: =AX18*$D18 -> 0 | AX18: 10 | BO18: 3.33 | BP18: =BO18*D18 -> 0
A19: Crimps 4 | B19: L | C19: 5 | D19: =SUM(H19:U19) -> 0 | E19: 92.5 | F19: =D19*E19*(100-$C$2)/100 -> 0 | Z19: =AG19*$D19 -> 0 | AG19: 5 | AL19: =AX19*$D19 -> 0 | AM19: =AY19*$D19 -> 0 | AX19: 4 | AY19: 1 | BO19: 4.35 | BP19: =BO19*D19 -> 0
A20: Edges 1 | B20: L | C20: 10 | D20: =SUM(H20:U20) -> 0 | E20: 102.5 | F20: =D20*E20*(100-$C$2)/100 -> 0 | Z20: =AG20*$D20 -> 0 | AG20: 10 | AL20: =AX20*$D20 -> 0 | AX20: 10 | BO20: 4.33 | BP20: =BO20*D20 -> 0
A21: Incut Edges | B21: L | C21: 5 | D21: =SUM(H21:U21) -> 0 | E21: 105 | F21: =D21*E21*(100-$C$2)/100 -> 0 | Z21: =AG21*$D21 -> 0 | AG21: 5 | AL21: =AX21*$D21 -> 0 | AM21: =AY21*$D21 -> 0 | AX21: 4 | AY21: 1 | BO21: 5.14 | BP21: =BO21*D21 -> 0
A22: Pinches 1 | B22: L | C22: 10 | D22: =SUM(H22:U22) -> 0 | E22: 137.5 | F22: =D22*E22*(100-$C$2)/100 -> 0 | Z22: =AG22*$D22 -> 0 | AG22: 10 | AL22: =AX22*$D22 -> 0 | AM22: =AY22*$D22 -> 0 | AN22: =AZ22*$D22 -> 0 | AX22: 4 | AY22: 3 | AZ22: 3 | BO22: 6.22 | BP22: =BO22*D22 -> 0
A23: Pinches 2 | B23: L/XL | C23: 5 | D23: =SUM(H23:U23) -> 0 | E23: 92.5 | F23: =D23*E23*(100-$C$2)/100 -> 0 | Z23: =AG23*$D23 -> 0 | AA23: =AH23*$D23 -> 0 | AG23: 3 | AH23: 2 | AL23: =AX23*$D23 -> 0 | AM23: =AY23*$D23 -> 0 | AO23: =BA23*$D23 -> 0 | AX23: 1 | AY23: 1 | BA23: 3 | BO23: 4.2 | BP23: =BO23*D23 -> 0
A24: Pockets 1 | B24: L | C24: 10 | D24: =SUM(H24:U24) -> 0 | E24: 155 | F24: =D24*E24*(100-$C$2)/100 -> 0 | Z24: =AG24*$D24 -> 0 | AG24: 10 | AL24: =AX24*$D24 -> 0 | AM24: =AY24*$D24 -> 0 | AN24: =AZ24*$D24 -> 0 | AX24: 4 | AY24: 4 | AZ24: 2 | BO24: 7.87 | BP24: =BO24*D24 -> 0
A25: Slopers 1 | B25: L | C25: 5 | D25: =SUM(H25:U25) -> 0 | E25: 105 | F25: =D25*E25*(100-$C$2)/100 -> 0 | Z25: =AG25*$D25 -> 0 | AG25: 5 | AL25: =AX25*$D25 -> 0 | AM25: =AY25*$D25 -> 0 | AN25: =AZ25*$D25 -> 0 | AX25: 1 | AY25: 3 | AZ25: 1 | BO25: 5.5 | BP25: =BO25*D25 -> 0
F26: =SUM(F14:F25) -> 0 | H26: =SUM(H14:H25) -> 0 | I26: =SUM(I14:I25) -> 0 | J26: =SUM(J14:J25) -> 0 | K26: =SUM(K14:K25) -> 0 | L26: =SUM(L14:L25) -> 0 | M26: =SUM(M14:M25) -> 0 | N26: =SUM(N14:N25) -> 0 | O26: =SUM(O14:O25) -> 0 | ... U26: =SUM(U14:U25) -> 0 | W26: =SUM(W14:W25) -> 0 | X26: =SUM(X14:X25) -> 0 | Y26: =SUM(Y14:Y25) -> 0 | Z26: =SUM(Z14:Z25) -> 0 | AA26: =SUM(AA14:AA25) -> 0 | AB26: =SUM(AB14:AB25) -> 0 | AC26: =SUM(AC14:AC25) -> 0 | AL26: =SUM(AL14:AL25) -> 0 | AM26: =SUM(AM14:AM25) -> 0 | AN26: =SUM(AN14:AN25) -> 0 | AO26: =SUM(AO14:AO25) -> 0 | BP26: =SUM(BP14:BP25) -> 0
A27: FirstLine : | W27: XS | X27: S | Y27: M | Z27: L | AA27: XL | AB27: XXL | AC27: XXXL | AD27: XS | AE27: S | AF27: M | AG27: L | AH27: XL | AI27: XXL | AJ27: XXXL | AL27: 30 mm | AM27: 40 mm | AN27: 50 mm | AO27: 70 mm | AP27: 90 mm | AQ27: 100 mm | AR27: 120 mm | AS27: 140 mm | AT27: 160 mm | AU27: 180 mm | AV27: 200 mm | AX27: 30 mm | AY27: 40 mm | AZ27: 50 mm | BA27: 70 mm | BB27: 90 mm | BC27: 100 mm | BD27: 120 mm | BE27: 140 mm | BF27: 160 mm | BG27: 180 mm | BH27: 200 mm | BJ27: 40 mm | BK27: 70 mm | BL27: 40 mm | BM27: 70 mm | BO27: Set | BP27: Total Sets
A28: Crimps 1 | B28: M | C28: 10 | D28: =SUM(H28:U28) -> 0 | E28: 60 | F28: =D28*E28*(100-$C$2)/100 -> 0 | Y28: =AF28*$D28 -> 0 | AF28: 10 | AL28: =AX28*$D28 -> 0 | AM28: =AY28*$D28 -> 0 | AX28: 9 | AY28: 1 | BO28: 1.8 | BP28: =BO28*D28 -> 0
A29: Foot 1 | B29: XS/S | C29: 10 | D29: =SUM(H29:U29) -> 0 | E29: 47.5 | F29: =D29*E29*(100-$C$2)/100 -> 0 | W29: =AD29*$D29 -> 0 | X29: =AE29*$D29 -> 0 | AD29: 5 | AE29: 5 | AL29: =AX29*$D29 -> 0 | AM29: =AY29*$D29 -> 0 | AX29: 3 | AY29: 7 | BO29: 1 | BP29: =BO29*D29 -> 0
A30: Foot 2 | B30: XS/S | C30: 10 | D30: =SUM(H30:U30) -> 0 | E30: 52.5 | F30: =D30*E30*(100-$C$2)/100 -> 0 | W30: =AD30*$D30 -> 0 | X30: =AE30*$D30 -> 0 | AD30: 5 | AE30: 5 | AM30: =AY30*$D30 -> 0 | AN30: =AZ30*$D30 -> 0 | AY30: 9 | AZ30: 1 | BO30: 1.4 | BP30: =BO30*D30 -> 0
A31: Foot Hand 1 | B31: S/M | C31: 10 | D31: =SUM(H31:U31) -> 0 | E31: 60 | F31: =D31*E31*(100-$C$2)/100 -> 0 | X31: =AE31*$D31 -> 0 | Y31: =AF31*$D31 -> 0 | AE31: 5 | AF31: 5 | AL31: =AX31*$D31 -> 0 | AX31: 10 | BO31: 1.9 | BP31: =BO31*D31 -> 0
A32: Jugs 1 | B32: M | C32: 10 | D32: =SUM(H32:U32) -> 0 | E32: 75 | F32: =D32*E32*(100-$C$2)/100 -> 0 | Y32: =AF32*$D32 -> 0 | AF32: 10 | AL32: =AX32*$D32 -> 0 | AM32: =AY32*$D32 -> 0 | AN32: =AZ32*$D32 -> 0 | AX32: 2 | AY32: 7 | AZ32: 1 | BO32: 2.7 | BP32: =BO32*D32 -> 0
A33: Mini Edges 1 | B33: M | C33: 10 | D33: =SUM(H33:U33) -> 0 | E33: 85 | F33: =D33*E33*(100-$C$2)/100 -> 0 | Y33: =AF33*$D33 -> 0 | AF33: 10 | AL33: =AX33*$D33 -> 0 | AM33: =AY33*$D33 -> 0 | AX33: 3 | AY33: 7 | BO33: 3.2 | BP33: =BO33*D33 -> 0
A34: Mini Jugs 1 | B34: M | C34: 10 | D34: =SUM(H34:U34) -> 0 | E34: 70 | F34: =D34*E34*(100-$C$2)/100 -> 0 | Y34: =AF34*$D34 -> 0 | AF34: 10 | AL34: =AX34*$D34 -> 0 | AM34: =AY34*$D34 -> 0 | AN34: =AZ34*$D34 -> 0 | AX34: 1 | AY34: 7 | AZ34: 2 | BO34: 2.4 | BP34: =BO34*D34 -> 0
A35: Mini Jugs 2 | B35: M | C35: 10 | D35: =SUM(H35:U35) -> 0 | E35: 62.5 | F35: =D35*E35*(100-$C$2)/100 -> 0 | Y35: =AF35*$D35 -> 0 | AF35: 10 | AL35: =AX35*$D35 -> 0 | AM35: =AY35*$D35 -> 0 | AX35: 6 | AY35: 4 | BO35: 2.1 | BP35: =BO35*D35 -> 0
F36: =SUM(F28:F35) -> 0 | H36: =SUM(H28:H35) -> 0 | I36: =SUM(I28:I35) -> 0 | J36: =SUM(J28:J35) -> 0 | K36: =SUM(K28:K35) -> 0 | L36: =SUM(L28:L35) -> 0 | M36: =SUM(M28:M35) -> 0 | N36: =SUM(N28:N35) -> 0 | O36: =SUM(O28:O35) -> 0 | ... U36: =SUM(U28:U35) -> 0 | W36: =SUM(W28:W35) -> 0 | X36: =SUM(X28:X35) -> 0 | Y36: =SUM(Y28:Y35) -> 0 | Z36: =SUM(Z28:Z35) -> 0 | AA36: =SUM(AA28:AA35) -> 0 | AB36: =SUM(AB28:AB35) -> 0 | AC36: =SUM(AC28:AC35) -> 0 | AL36: =SUM(AL28:AL35) -> 0 | AM36: =SUM(AM28:AM35) -> 0 | AN36: =SUM(AN28:AN35) -> 0 | AO36: =SUM(AO28:AO35) -> 0 | AP36: =SUM(AP28:AP35) -> 0 | AQ36: =SUM(AQ28:AQ35) -> 0 | AR36: =SUM(AR28:AR35) -> 0 | AS36: =SUM(AS28:AS35) -> 0 | ... AV36: =SUM(AV28:AV35) -> 0 | BP36: =SUM(BP28:BP35) -> 0
A37: FreshLine : | W37: XS | X37: S | Y37: M | Z37: L | AA37: XL | AB37: XXL | AC37: XXXL | AD37: XS | AE37: S | AF37: M | AG37: L | AH37: XL | AI37: XXL | AJ37: XXXL | AL37: 30 mm | AM37: 40 mm | AN37: 50 mm | AO37: 70 mm | AP37: 90 mm | AQ37: 100 mm | AR37: 120 mm | AS37: 140 mm | AT37: 160 mm | AU37: 180 mm | AV37: 200 mm | AX37: 30 mm | AY37: 40 mm | AZ37: 50 mm | BA37: 70 mm | BB37: 90 mm | BC37: 100 mm | BD37: 120 mm | BE37: 140 mm | BF37: 160 mm | BG37: 180 mm | BH37: 200 mm | BJ37: 40 mm | BK37: 70 mm | BL37: 40 mm | BM37: 70 mm | BO37: Set | BP37: Total Sets
A38: Bridges | B38: XXL | C38: 5 | D38: =SUM(H38:U38) -> 0 | E38: 185 | F38: =D38*E38*(100-$C$2)/100 -> 0 | AB38: =AI38*$D38 -> 0 | AI38: 5 | AM38: =AY38*$D38 -> 0 | AO38: =BA38*$D38 -> 0 | AP38: =BB38*$D38 -> 0 | AY38: 1 | BA38: 2 | BB38: 2 | BO38: 9.667 | BP38: =BO38*D38 -> 0
A39: Crimps 1 | B39: M | C39: 20 | D39: =SUM(H39:U39) -> 0 | E39: 110 | F39: =D39*E39*(100-$C$2)/100 -> 0 | Y39: =AF39*$D39 -> 0 | AF39: 20 | AL39: =AX39*$D39 -> 0 | AM39: =AY39*$D39 -> 0 | AN39: =AZ39*$D39 -> 0 | AX39: 10 | AY39: 9 | AZ39: 1 | BO39: 3.456 | BP39: =BO39*D39 -> 0
A40: Crimps 2 | B40: M | C40: 20 | D40: =SUM(H40:U40) -> 0 | E40: 122.5 | F40: =D40*E40*(100-$C$2)/100 -> 0 | Y40: =AF40*$D40 -> 0 | AF40: 20 | AL40: =AX40*$D40 -> 0 | AM40: =AY40*$D40 -> 0 | AX40: 6 | AY40: 14 | BO40: 4.238 | BP40: =BO40*D40 -> 0
A41: Foot 1 | B41: S | C41: 20 | D41: =SUM(H41:U41) -> 0 | E41: 75 | F41: =D41*E41*(100-$C$2)/100 -> 0 | X41: =AE41*$D41 -> 0 | AE41: 20 | AL41: =AX41*$D41 -> 0 | AX41: 20 | BO41: 0.9 | BP41: =BO41*D41 -> 0
A42: Foot 2 | B42: S | C42: 20 | D42: =SUM(H42:U42) -> 0 | E42: 75 | F42: =D42*E42*(100-$C$2)/100 -> 0 | X42: =AE42*$D42 -> 0 | AE42: 20 | AL42: =AX42*$D42 -> 0 | AX42: 20 | BO42: 1 | BP42: =BO42*D42 -> 0
A43: Edges 1 | B43: L | C43: 10 | D43: =SUM(H43:U43) -> 0 | E43: 105 | F43: =D43*E43*(100-$C$2)/100 -> 0 | Z43: =AG43*$D43 -> 0 | AG43: 10 | AL43: =AX43*$D43 -> 0 | AM43: =AY43*$D43 -> 0 | AN43: =AZ43*$D43 -> 0 | AX43: 1 | AY43: 7 | AZ43: 2 | BO43: 4.48 | BP43: =BO43*D43 -> 0
A44: Edges 2 | B44: L | C44: 10 | D44: =SUM(H44:U44) -> 0 | E44: 130 | F44: =D44*E44*(100-$C$2)/100 -> 0 | Z44: =AG44*$D44 -> 0 | AG44: 10 | AM44: =AY44*$D44 -> 0 | AN44: =AZ44*$D44 -> 0 | AO44: =BA44*$D44 -> 0 | AY44: 3 | AZ44: 5 | BA44: 2 | BO44: 7.595 | BP44: =BO44*D44 -> 0
A45: Jugs | B45: L | C45: 20 | D45: =SUM(H45:U45) -> 0 | E45: 152.5 | F45: =D45*E45*(100-$C$2)/100 -> 0 | Z45: =AG45*$D45 -> 0 | AG45: 20 | AM45: =AY45*$D45 -> 0 | AN45: =AZ45*$D45 -> 0 | AY45: 12 | AZ45: 8 | BO45: 6.13 | BP45: =BO45*D45 -> 0
A46: Large Jugs | B46: XL | C46: 10 | D46: =SUM(H46:U46) -> 0 | E46: 165 | F46: =D46*E46*(100-$C$2)/100 -> 0 | AA46: =AH46*$D46 -> 0 | AH46: 10 | AN46: =AZ46*$D46 -> 0 | AO46: =BA46*$D46 -> 0 | AZ46: 2 | BA46: 8 | BO46: 8.774 | BP46: =BO46*D46 -> 0
A47: Mega Jugs 1 | B47: XL | C47: 5 | D47: =SUM(H47:U47) -> 0 | E47: 102.5 | F47: =D47*E47*(100-$C$2)/100 -> 0 | AA47: =AH47*$D47 -> 0 | AH47: 5 | AN47: =AZ47*$D47 -> 0 | AO47: =BA47*$D47 -> 0 | AP47: =BB47*$D47 -> 0 | AZ47: 1 | BA47: 3 | BB47: 1 | BO47: 6.015 | BP47: =BO47*D47 -> 0
A48: Mega Jugs 2 | B48: XL | C48: 5 | D48: =SUM(H48:U48) -> 0 | E48: 137.5 | F48: =D48*E48*(100-$C$2)/100 -> 0 | AA48: =AH48*$D48 -> 0 | AH48: 5 | AO48: =BA48*$D48 -> 0 | AP48: =BB48*$D48 -> 0 | BA48: 3 | BB48: 2 | BO48: 8.288 | BP48: =BO48*D48 -> 0
A49: Mini Crimps | B49: S | C49: 20 | D49: =SUM(H49:U49) -> 0 | E49: 97.5 | F49: =D49*E49*(100-$C$2)/100 -> 0 | X49: =AE49*$D49 -> 0 | AE49: 20 | AL49: =AX49*$D49 -> 0 | AM49: =AY49*$D49 -> 0 | AX49: 16 | AY49: 4 | BO49: 2.531 | BP49: =BO49*D49 -> 0
A50: Mini Jugs | B50: M | C50: 20 | D50: =SUM(H50:U50) -> 0 | E50: 125 | F50: =D50*E50*(100-$C$2)/100 -> 0 | Y50: =AF50*$D50 -> 0 | AF50: 20 | AM50: =AY50*$D50 -> 0 | AN50: =AZ50*$D50 -> 0 | AY50: 16 | AZ50: 4 | BO50: 4.2 | BP50: =BO50*D50 -> 0
A51: Mini Slopers | B51: L | C51: 10 | D51: =SUM(H51:U51) -> 0 | E51: 132.5 | F51: =D51*E51*(100-$C$2)/100 -> 0 | Z51: =AG51*$D51 -> 0 | AG51: 10 | AL51: =AX51*$D51 -> 0 | AM51: =AY51*$D51 -> 0 | AN51: =AZ51*$D51 -> 0 | AO51: =BA51*$D51 -> 0 | AX51: 1 | AY51: 1 | AZ51: 7 | BA51: 1 | BO51: 6.072 | BP51: =BO51*D51 -> 0
A52: Pinches 1 | B52: L | C52: 10 | D52: =SUM(H52:U52) -> 0 | E52: 130 | F52: =D52*E52*(100-$C$2)/100 -> 0 | Z52: =AG52*$D52 -> 0 | AG52: 10 | AM52: =AY52*$D52 -> 0 | AN52: =AZ52*$D52 -> 0 | AO52: =BA52*$D52 -> 0 | AP52: =BB52*$D52 -> 0 | AX52: 1 | AY52: 3 | AZ52: 2 | BA52: 2 | BB52: 2 | BO52: 6.51 | BP52: =BO52*D52 -> 0
A53: Pinches 2 | B53: XL | C53: 5 | D53: =SUM(H53:U53) -> 0 | E53: 100 | F53: =D53*E53*(100-$C$2)/100 -> 0 | AA53: =AH53*$D53 -> 0 | AH53: 5 | AN53: =AZ53*$D53 -> 0 | AO53: =BA53*$D53 -> 0 | AP53: =BB53*$D53 -> 0 | AZ53: 1 | BA53: 3 | BB53: 1 | BO53: 5.082 | BP53: =BO53*D53 -> 0
A54: Pinches 3 | B54: XL | C54: 5 | D54: =SUM(H54:U54) -> 0 | E54: 87.5 | F54: =D54*E54*(100-$C$2)/100 -> 0 | AA54: =AH54*$D54 -> 0 | AH54: 5 | AM54: =AY54*$D54 -> 0 | AO54: =BA54*$D54 -> 0 | AY54: 1 | BA54: 4 | BO54: 4.378 | BP54: =BO54*D54 -> 0
A55: Pockets | B55: M/L/XL | C55: 10 | D55: =SUM(H55:U55) -> 0 | E55: 167.5 | F55: =D55*E55*(100-$C$2)/100 -> 0 | Y55: =AF55*$D55 -> 0 | Z55: =AG55*$D55 -> 0 | AA55: =AH55*$D55 -> 0 | AF55: 2 | AG55: 7 | AH55: 1 | AL55: =AX55*$D55 -> 0 | AM55: =AY55*$D55 -> 0 | AN55: =AZ55*$D55 -> 0 | AO55: =BA55*$D55 -> 0 | AX55: 2 | AY55: 6 | AZ55: 1 | BA55: 1 | BO55: 8.712 | BP55: =BO55*D55 -> 0
F56: =SUM(F38:F55) -> 0 | H56: =SUM(H38:H55) -> 0 | I56: =SUM(I38:I55) -> 0 | J56: =SUM(J38:J55) -> 0 | K56: =SUM(K38:K55) -> 0 | L56: =SUM(L38:L55) -> 0 | M56: =SUM(M38:M55) -> 0 | N56: =SUM(N38:N55) -> 0 | O56: =SUM(O38:O55) -> 0 | ... U56: =SUM(U38:U55) -> 0 | X56: =SUM(X38:X55) -> 0 | Y56: =SUM(Y38:Y55) -> 0 | Z56: =SUM(Z38:Z55) -> 0 | AA56: =SUM(AA38:AA55) -> 0 | AB56: =SUM(AB38:AB55) -> 0 | AL56: =SUM(AL38:AL55) -> 0 | AM56: =SUM(AM38:AM55) -> 0 | AN56: =SUM(AN38:AN55) -> 0 | AO56: =SUM(AO38:AO55) -> 0 | AP56: =SUM(AP38:AP55) -> 0 | BP56: =SUM(BP38:BP55) -> 0
A57: ProLine : | W57: XS | X57: S | Y57: M | Z57: L | AA57: XL | AB57: XXL | AC57: XXXL | AD57: XS | AE57: S | AF57: M | AG57: L | AH57: XL | AI57: XXL | AJ57: XXXL | AL57: 30 mm | AM57: 40 mm | AN57: 50 mm | AO57: 70 mm | AP57: 90 mm | AQ57: 100 mm | AR57: 120 mm | AS57: 140 mm | AT57: 160 mm | AU57: 180 mm | AV57: 200 mm | AX57: 30 mm | AY57: 40 mm | AZ57: 50 mm | BA57: 70 mm | BB57: 90 mm | BC57: 100 mm | BD57: 120 mm | BE57: 140 mm | BF57: 160 mm | BG57: 180 mm | BH57: 200 mm | BJ57: 40 mm | BK57: 70 mm | BL57: 40 mm | BM57: 70 mm | BO57: Set | BP57: Total Sets
A58: Bleau | B58: M/L/XL | C58: 15 | D58: =SUM(H58:U58) -> 0 | E58: 310 | F58: =D58*E58*(100-$C$2)/100 -> 0 | Y58: =AF58*$D58 -> 0 | Z58: =AG58*$D58 -> 0 | AA58: =AH58*$D58 -> 0 | AF58: 2 | AG58: 11 | AH58: 2 | AL58: =AX58*$D58 -> 0 | AM58: =AY58*$D58 -> 0 | AN58: =AZ58*$D58 -> 0 | AO58: =BA58*$D58 -> 0 | AP58: =BB58*$D58 -> 0 | AX58: 1 | AY58: 2 | AZ58: 7 | BA58: 3 | BB58: 2 | BO58: 18.476 | BP58: =BO58*D58 -> 0
A59: Crimps 1 (ProModel - Mike Fuselier) | B59: M | C59: 5 | D59: =SUM(H59:U59) -> 0 | E59: 57.5 | F59: =D59*E59*(100-$C$2)/100 -> 0 | Y59: =AF59*$D59 -> 0 | AF59: 5 | AL59: =AX59*$D59 -> 0 | AX59: 5 | BO59: 2.5 | BP59: =BO59*D59 -> 0
A60: Edges 1 (ProModel - Mike Fuselier) | B60: L | C60: 5 | D60: =SUM(H60:U60) -> 0 | E60: 52.5 | F60: =D60*E60*(100-$C$2)/100 -> 0 | Z60: =AG60*$D60 -> 0 | AG60: 5 | AL60: =AX60*$D60 -> 0 | AX60: 5 | BO60: 2.2 | BP60: =BO60*D60 -> 0
A61: Edges 2 (ProModel - Mike Fuselier) | B61: L | C61: 5 | D61: =SUM(H61:U61) -> 0 | E61: 72.5 | F61: =D61*E61*(100-$C$2)/100 -> 0 | Z61: =AG61*$D61 -> 0 | AG61: 5 | AL61: =AX61*$D61 -> 0 | AX61: 5 | BO61: 3.4 | BP61: =BO61*D61 -> 0
A62: Edges 3 (ProModel - Mike Fuselier) | B62: L | C62: 5 | D62: =SUM(H62:U62) -> 0 | E62: 95 | F62: =D62*E62*(100-$C$2)/100 -> 0 | Z62: =AG62*$D62 -> 0 | AG62: 5 | AL62: =AX62*$D62 -> 0 | AM62: =AY62*$D62 -> 0 | AN62: =AZ62*$D62 -> 0 | AX62: 1 | AY62: 1 | AZ62: 3 | BO62: 4.7 | BP62: =BO62*D62 -> 0
A63: Hueco | B63: M/L/XL | C63: 15 | D63: =SUM(H63:U63) -> 0 | E63: 235 | F63: =D63*E63*(100-$C$2)/100 -> 0 | Y63: =AF63*$D63 -> 0 | Z63: =AG63*$D63 -> 0 | AA63: =AH63*$D63 -> 0 | AF63: 7 | AG63: 5 | AH63: 3 | AL63: =AX63*$D63 -> 0 | AM63: =AY63*$D63 -> 0 | AN63: =AZ63*$D63 -> 0 | AO63: =BA63*$D63 -> 0 | AP63: =BB63*$D63 -> 0 | AX63: 3 | AY63: 1 | AZ63: 4 | BA63: 5 | BB63: 2 | BO63: 13.55 | BP63: =BO63*D63 -> 0
A64: Incut Edges 1 (ProModel - Mike Fuselier) | B64: L | C64: 5 | D64: =SUM(H64:U64) -> 0 | E64: 80 | F64: =D64*E64*(100-$C$2)/100 -> 0 | Z64: =AG64*$D64 -> 0 | AG64: 5 | AL64: =AX64*$D64 -> 0 | AM64: =AY64*$D64 -> 0 | AX64: 3 | AY64: 2 | BO64: 3.8 | BP64: =BO64*D64 -> 0
A65: Pinches (ProModel - Mike Fuselier) | B65: L | C65: 5 | D65: =SUM(H65:U65) -> 0 | E65: 87.5 | F65: =D65*E65*(100-$C$2)/100 -> 0 | Z65: =AG65*$D65 -> 0 | AG65: 5 | AM65: =AY65*$D65 -> 0 | AY65: 5 | BO65: 4.2 | BP65: =BO65*D65 -> 0
A66: Quartz | B66: M/L/XL | C66: 15 | D66: =SUM(H66:U66) -> 0 | E66: 220 | F66: =D66*E66*(100-$C$2)/100 -> 0 | Y66: =AF66*$D66 -> 0 | Z66: =AG66*$D66 -> 0 | AA66: =AH66*$D66 -> 0 | AF66: 3 | AG66: 11 | AH66: 1 | AL66: =AX66*$D66 -> 0 | AM66: =AY66*$D66 -> 0 | AN66: =AZ66*$D66 -> 0 | AO66: =BA66*$D66 -> 0 | AP66: =BB66*$D66 -> 0 | AX66: 2 | AY66: 4 | AZ66: 5 | BA66: 2 | BB66: 2 | BO66: 12.339 | BP66: =BO66*D66 -> 0
F67: =SUM(F58:F66) -> 0 | H67: =SUM(H58:H66) -> 0 | I67: =SUM(I58:I66) -> 0 | J67: =SUM(J58:J66) -> 0 | K67: =SUM(K58:K66) -> 0 | L67: =SUM(L58:L66) -> 0 | M67: =SUM(M58:M66) -> 0 | N67: =SUM(N58:N66) -> 0 | O67: =SUM(O58:O66) -> 0 | ... U67: =SUM(U58:U66) -> 0 | Y67: =SUM(Y58:Y66) -> 0 | Z67: =SUM(Z58:Z66) -> 0 | AA67: =SUM(AA58:AA66) -> 0 | AL67: =SUM(AL58:AL66) -> 0 | AM67: =SUM(AM58:AM66) -> 0 | AN67: =SUM(AN58:AN66) -> 0 | AO67: =SUM(AO58:AO66) -> 0 | AP67: =SUM(AP58:AP66) -> 0 | BP67: =SUM(BP58:BP66) -> 0
A68: StoneLine : | W68: XS | X68: S | Y68: M | Z68: L | AA68: XL | AB68: XXL | AC68: XXXL | AD68: XS | AE68: S | AF68: M | AG68: L | AH68: XL | AI68: XXL | AJ68: XXXL | AL68: 30 mm | AM68: 40 mm | AN68: 50 mm | AO68: 70 mm | AP68: 90 mm | AQ68: 100 mm | AR68: 120 mm | AS68: 140 mm | AT68: 160 mm | AU68: 180 mm | AV68: 200 mm | AX68: 30 mm | AY68: 40 mm | AZ68: 50 mm | BA68: 70 mm | BB68: 90 mm | BC68: 100 mm | BD68: 120 mm | BE68: 140 mm | BF68: 160 mm | BG68: 180 mm | BH68: 200 mm | BJ68: 40 mm | BK68: 70 mm | BL68: 40 mm | BM68: 70 mm | BO68: Set | BP68: Total Sets
A69: Crimps | B69: M | C69: 20 | D69: =SUM(H69:U69) -> 0 | E69: 122.5 | F69: =D69*E69*(100-$C$2)/100 -> 0 | Y69: =AF69*$D69 -> 0 | AF69: 20 | AL69: =AX69*$D69 -> 0 | AX69: 20 | BO69: 4.2 | BP69: =BO69*D69 -> 0
A70: Edges | B70: M/L | C70: 10 | D70: =SUM(H70:U70) -> 0 | E70: 122.5 | F70: =D70*E70*(100-$C$2)/100 -> 0 | Y70: =AF70*$D70 -> 0 | Z70: =AG70*$D70 -> 0 | AF70: 5 | AG70: 5 | AL70: =AX70*$D70 -> 0 | AM70: =AY70*$D70 -> 0 | AX70: 5 | AY70: 5 | BO70: 5.679 | BP70: =BO70*D70 -> 0
A71: Foot | B71: S | C71: 20 | D71: =SUM(H71:U71) -> 0 | E71: 80 | F71: =D71*E71*(100-$C$2)/100 -> 0 | X71: =AE71*$D71 -> 0 | AE71: 20 | AL71: =AX71*$D71 -> 0 | AM71: =AY71*$D71 -> 0 | AX71: 17 | AY71: 3 | BO71: 1.8 | BP71: =BO71*D71 -> 0
A72: Incut Edges | B72: M | C72: 20 | D72: =SUM(H72:U72) -> 0 | E72: 130 | F72: =D72*E72*(100-$C$2)/100 -> 0 | Y72: =AF72*$D72 -> 0 | AF72: 20 | AL72: =AX72*$D72 -> 0 | AM72: =AY72*$D72 -> 0 | AX72: 12 | AY72: 8 | BO72: 4.854 | BP72: =BO72*D72 -> 0
A73: Jugs | B73: L | C73: 20 | D73: =SUM(H73:U73) -> 0 | E73: 200 | F73: =D73*E73*(100-$C$2)/100 -> 0 | Z73: =AG73*$D73 -> 0 | AG73: 20 | AL73: =AX73*$D73 -> 0 | AM73: =AY73*$D73 -> 0 | AN73: =AZ73*$D73 -> 0 | AO73: =BA73*$D73 -> 0 | AX73: 1 | AY73: 6 | AZ73: 7 | BA73: 6 | BO73: 9.101 | BP73: =BO73*D73 -> 0
A74: Large Jugs | B74: XL | C74: 10 | D74: =SUM(H74:U74) -> 0 | E74: 180 | F74: =D74*E74*(100-$C$2)/100 -> 0 | AA74: =AH74*$D74 -> 0 | AH74: 10 | AL74: =AX74*$D74 -> 0 | AM74: =AY74*$D74 -> 0 | AN74: =AZ74*$D74 -> 0 | AO74: =BA74*$D74 -> 0 | AX74: 1 | AY74: 1 | AZ74: 4 | BA74: 4 | BO74: 9.524 | BP74: =BO74*D74 -> 0
A75: Méga Jugs | B75: XXL | C75: 5 | D75: =SUM(H75:U75) -> 0 | E75: 242.5 | F75: =D75*E75*(100-$C$2)/100 -> 0 | AB75: =AI75*$D75 -> 0 | AI75: 5 | AL75: =AX75*$D75 -> 0 | AO75: =BA75*$D75 -> 0 | AQ75: =BC75*$D75 -> 0 | AX75: 1 | BA75: 3 | BC75: 1 | BO75: 15 | BP75: =BO75*D75 -> 0
A76: Mini Crimps | B76: S | C76: 20 | D76: =SUM(H76:U76) -> 0 | E76: 90 | F76: =D76*E76*(100-$C$2)/100 -> 0 | X76: =AE76*$D76 -> 0 | AE76: 20 | AL76: =AX76*$D76 -> 0 | AX76: 20 | BO76: 2.474 | BP76: =BO76*D76 -> 0
A77: Mini Jugs | B77: M | C77: 20 | D77: =SUM(H77:U77) -> 0 | E77: 132.5 | F77: =D77*E77*(100-$C$2)/100 -> 0 | Y77: =AF77*$D77 -> 0 | AF77: 20 | AL77: =AX77*$D77 -> 0 | AM77: =AY77*$D77 -> 0 | AN77: =AZ77*$D77 -> 0 | AO77: =BA77*$D77 -> 0 | AX77: 3 | AY77: 9 | AZ77: 7 | BA77: 1 | BO77: 5.071 | BP77: =BO77*D77 -> 0
A78: Mini Slopers | B78: L | C78: 10 | D78: =SUM(H78:U78) -> 0 | E78: 137.5 | F78: =D78*E78*(100-$C$2)/100 -> 0 | Z78: =AG78*$D78 -> 0 | AG78: 10 | AL78: =AX78*$D78 -> 0 | AM78: =AY78*$D78 -> 0 | AN78: =AZ78*$D78 -> 0 | AO78: =BA78*$D78 -> 0 | AX78: 2 | AY78: 4 | AZ78: 2 | BA78: 2 | BO78: 7.196 | BP78: =BO78*D78 -> 0
A79: Pinches | B79: M/L | C79: 10 | D79: =SUM(H79:U79) -> 0 | E79: 102.5 | F79: =D79*E79*(100-$C$2)/100 -> 0 | Y79: =AF79*$D79 -> 0 | Z79: =AG79*$D79 -> 0 | AF79: 5 | AG79: 5 | AL79: =AX79*$D79 -> 0 | AM79: =AY79*$D79 -> 0 | AN79: =AZ79*$D79 -> 0 | AX79: 3 | AY79: 4 | AZ79: 3 | BO79: 4.687 | BP79: =BO79*D79 -> 0
A80: Pockets | B80: L | C80: 10 | D80: =SUM(H80:U80) -> 0 | E80: 137.5 | F80: =D80*E80*(100-$C$2)/100 -> 0 | Z80: =AG80*$D80 -> 0 | AG80: 10 | AL80: =AX80*$D80 -> 0 | AM80: =AY80*$D80 -> 0 | AN80: =AZ80*$D80 -> 0 | AX80: 1 | AY80: 6 | AZ80: 3 | BO80: 7.184 | BP80: =BO80*D80 -> 0
F81: =SUM(F69:F80) -> 0 | H81: =SUM(H69:H80) -> 0 | I81: =SUM(I69:I80) -> 0 | J81: =SUM(J69:J80) -> 0 | K81: =SUM(K69:K80) -> 0 | L81: =SUM(L69:L80) -> 0 | M81: =SUM(M69:M80) -> 0 | N81: =SUM(N69:N80) -> 0 | O81: =SUM(O69:O80) -> 0 | ... U81: =SUM(U69:U80) -> 0 | X81: =SUM(X69:X80) -> 0 | Y81: =SUM(Y69:Y80) -> 0 | Z81: =SUM(Z69:Z80) -> 0 | AA81: =SUM(AA69:AA80) -> 0 | AB81: =SUM(AB69:AB80) -> 0 | AL81: =SUM(AL69:AL80) -> 0 | AM81: =SUM(AM69:AM80) -> 0 | AN81: =SUM(AN69:AN80) -> 0 | AO81: =SUM(AO69:AO80) -> 0 | AQ81: =SUM(AQ69:AQ80) -> 0 | BP81: =SUM(BP69:BP80) -> 0
A82: TribeLine : | W82: XS | X82: S | Y82: M | Z82: L | AA82: XL | AB82: XXL | AC82: XXXL | AD82: XS | AE82: S | AF82: M | AG82: L | AH82: XL | AI82: XXL | AJ82: XXXL | AL82: 30 mm | AM82: 40 mm | AN82: 50 mm | AO82: 70 mm | AP82: 90 mm | AQ82: 100 mm | AR82: 120 mm | AS82: 140 mm | AT82: 160 mm | AU82: 180 mm | AV82: 200 mm | AX82: 30 mm | AY82: 40 mm | AZ82: 50 mm | BA82: 70 mm | BB82: 90 mm | BC82: 100 mm | BD82: 120 mm | BE82: 140 mm | BF82: 160 mm | BG82: 180 mm | BH82: 200 mm | BJ82: 40 mm | BK82: 70 mm | BL82: 40 mm | BM82: 70 mm | BO82: Set | BP82: Total Sets
A83: Bridges XL1 | B83: XL | C83: 5 | D83: =SUM(H83:U83) -> 0 | E83: 142.5 | F83: =D83*E83*(100-$C$2)/100 -> 0 | AA83: =AH83*$D83 -> 0 | AH83: 5 | AM83: =AY83*$D83 -> 0 | AN83: =AZ83*$D83 -> 0 | AO83: =BA83*$D83 -> 0 | AY83: 1 | AZ83: 3 | BA83: 1 | BO83: 6.62 | BP83: =BO83*D83 -> 0
A84: Drop M2 | B84: M | C84: 5 | D84: =SUM(H84:U84) -> 0 | E84: 42.5 | F84: =D84*E84*(100-$C$2)/100 -> 0 | Y84: =AF84*$D84 -> 0 | AF84: 5 | AL84: =AX84*$D84 -> 0 | AX84: 5 | BO84: 1.3 | BP84: =BO84*D84 -> 0
A85: Drop M3 | B85: M | C85: 5 | D85: =SUM(H85:U85) -> 0 | E85: 40 | F85: =D85*E85*(100-$C$2)/100 -> 0 | Y85: =AF85*$D85 -> 0 | AF85: 5 | AL85: =AX85*$D85 -> 0 | AX85: 5 | BO85: 1.2 | BP85: =BO85*D85 -> 0
A86: Drop L1 | B86: L | C86: 5 | D86: =SUM(H86:U86) -> 0 | E86: 150 | F86: =D86*E86*(100-$C$2)/100 -> 0 | Z86: =AG86*$D86 -> 0 | AG86: 5 | AQ86: =BC86*$D86 -> 0 | AR86: =BD86*$D86 -> 0 | AS86: =BE86*$D86 -> 0 | BC86: 2 | BD86: 1 | BE86: 2 | BO86: 8 | BP86: =BO86*D86 -> 0
A87: Drop L2 | B87: L | C87: 5 | D87: =SUM(H87:U87) -> 0 | E87: 150 | F87: =D87*E87*(100-$C$2)/100 -> 0 | Z87: =AG87*$D87 -> 0 | AG87: 5 | AO87: =BA87*$D87 -> 0 | AP87: =BB87*$D87 -> 0 | AQ87: =BC87*$D87 -> 0 | BA87: 3 | BB87: 1 | BC87: 1 | BO87: 7.8 | BP87: =BO87*D87 -> 0
A88: Drop L3 | B88: L | C88: 5 | D88: =SUM(H88:U88) -> 0 | E88: 102.5 | F88: =D88*E88*(100-$C$2)/100 -> 0 | Z88: =AG88*$D88 -> 0 | AG88: 5 | AM88: =AY88*$D88 -> 0 | AN88: =AZ88*$D88 -> 0 | AY88: 1 | AZ88: 4 | BO88: 4.9 | BP88: =BO88*D88 -> 0
A89: Drop XL1 | B89: XL | C89: 1 | D89: =SUM(H89:U89) -> 0 | E89: 70 | F89: =D89*E89*(100-$C$2)/100 -> 0 | AA89: =AH89*$D89 -> 0 | AH89: 1 | AT89: =BF89*$D89 -> 0 | BF89: 1 | BO89: 4 | BP89: =BO89*D89 -> 0
A90: Drop XL2 | B90: XL | C90: 1 | D90: =SUM(H90:U90) -> 0 | E90: 85 | F90: =D90*E90*(100-$C$2)/100 -> 0 | AA90: =AH90*$D90 -> 0 | AH90: 1 | AU90: =BG90*$D90 -> 0 | BG90: 1 | BO90: 5.3 | BP90: =BO90*D90 -> 0
A91: Drop XL3 | B91: XL | C91: 1 | D91: =SUM(H91:U91) -> 0 | E91: 75 | F91: =D91*E91*(100-$C$2)/100 -> 0 | AA91: =AH91*$D91 -> 0 | AH91: 1 | AS91: =BE91*$D91 -> 0 | BE91: 1 | BO91: 4.6 | BP91: =BO91*D91 -> 0
A92: Drop XL4 | B92: XL | C92: 1 | D92: =SUM(H92:U92) -> 0 | E92: 80 | F92: =D92*E92*(100-$C$2)/100 -> 0 | AA92: =AH92*$D92 -> 0 | AH92: 1 | AQ92: =BC92*$D92 -> 0 | BC92: 1 | BO92: 4.5 | BP92: =BO92*D92 -> 0
A93: Drop XL5 | B93: XL | C93: 1 | D93: =SUM(H93:U93) -> 0 | E93: 55 | F93: =D93*E93*(100-$C$2)/100 -> 0 | AA93: =AH93*$D93 -> 0 | AH93: 1 | AQ93: =BC93*$D93 -> 0 | BC93: 1 | BO93: 3.3 | BP93: =BO93*D93 -> 0
A94: Jugs S1 feet | B94: S | C94: 20 | D94: =SUM(H94:U94) -> 0 | E94: 80 | F94: =D94*E94*(100-$C$2)/100 -> 0 | X94: =AE94*$D94 -> 0 | AE94: 20 | AL94: =AX94*$D94 -> 0 | AM94: =AY94*$D94 -> 0 | AX94: 2 | AY94: 18 | BO94: 1.1 | BP94: =BO94*D94 -> 0
A95: Jugs S2 feet | B95: S | C95: 20 | D95: =SUM(H95:U95) -> 0 | E95: 75 | F95: =D95*E95*(100-$C$2)/100 -> 0 | X95: =AE95*$D95 -> 0 | AE95: 20 | AL95: =AX95*$D95 -> 0 | AX95: 20 | BO95: 0.9 | BP95: =BO95*D95 -> 0
A96: Jugs M/L 1 | B96: M/L | C96: 10 | D96: =SUM(H96:U96) -> 0 | E96: 185 | F96: =D96*E96*(100-$C$2)/100 -> 0 | Y96: =AF96*$D96 -> 0 | Z96: =AG96*$D96 -> 0 | AF96: 5 | AG96: 5 | AN96: =AZ96*$D96 -> 0 | AO96: =BA96*$D96 -> 0 | AZ96: 3 | BA96: 7 | BO96: 9.6 | BP96: =BO96*D96 -> 0
A97: Jugs M/L 2 | B97: M/L | C97: 10 | D97: =SUM(H97:U97) -> 0 | E97: 160 | F97: =D97*E97*(100-$C$2)/100 -> 0 | Y97: =AF97*$D97 -> 0 | Z97: =AG97*$D97 -> 0 | AF97: 5 | AG97: 5 | AN97: =AZ97*$D97 -> 0 | AO97: =BA97*$D97 -> 0 | AZ97: 5 | BA97: 5 | BO97: 7.9 | BP97: =BO97*D97 -> 0
A98: Jugs M1 | B98: M | C98: 15 | D98: =SUM(H98:U98) -> 0 | E98: 150 | F98: =D98*E98*(100-$C$2)/100 -> 0 | Y98: =AF98*$D98 -> 0 | AF98: 15 | AL98: =AX98*$D98 -> 0 | AM98: =AY98*$D98 -> 0 | AN98: =AZ98*$D98 -> 0 | AX98: 2 | AY98: 9 | AZ98: 4 | BO98: 6.7 | BP98: =BO98*D98 -> 0
A99: Jugs M2 | B99: M | C99: 15 | D99: =SUM(H99:U99) -> 0 | E99: 180 | F99: =D99*E99*(100-$C$2)/100 -> 0 | Y99: =AF99*$D99 -> 0 | AF99: 15 | AM99: =AY99*$D99 -> 0 | AN99: =AZ99*$D99 -> 0 | AY99: 7 | AZ99: 6 | BO99: 8.5 | BP99: =BO99*D99 -> 0
A100: Jugs L1 | B100: L | C100: 5 | D100: =SUM(H100:U100) -> 0 | E100: 205 | F100: =D100*E100*(100-$C$2)/100 -> 0 | Z100: =AG100*$D100 -> 0 | AG100: 5 | AO100: =BA100*$D100 -> 0 | AP100: =BB100*$D100 -> 0 | BA100: 2 | BB100: 3 | BO100: 12 | BP100: =BO100*D100 -> 0
A101: Jugs L2 | B101: L | C101: 5 | D101: =SUM(H101:U101) -> 0 | E101: 180 | F101: =D101*E101*(100-$C$2)/100 -> 0 | Z101: =AG101*$D101 -> 0 | AG101: 5 | AO101: =BA101*$D101 -> 0 | AP101: =BB101*$D101 -> 0 | BA101: 4 | BB101: 1 | BO101: 10.7 | BP101: =BO101*D101 -> 0
A102: Jugs L3 | B102: L | C102: 5 | D102: =SUM(H102:U102) -> 0 | E102: 147.5 | F102: =D102*E102*(100-$C$2)/100 -> 0 | Z102: =AG102*$D102 -> 0 | AG102: 5 | AO102: =BA102*$D102 -> 0 | BA102: 5 | BO102: 8.2 | BP102: =BO102*D102 -> 0
...

Sheet PU - CompositeX
C1: EUR HT | D1: DISCOUNT % | H1: Holds Size of your order : | W1: Total Weight of your order (kg) : | AA1: =BO33+BO72+BO90+BO136+BO150+BO201+BO225 -> 0
A2: Total Amount order : | C2: =F33+F72++F90+F136+F150+F201+F225 -> 0 | E2: =C2/O3 -> #DIV/0! | H2: XS | I2: S | J2: M | K2: L | L2: XL | M2: XXL | N2: XXXL | O2: TOTAL
H3: =W201+W33+W$90+W225+W$150+W$136+W$72 -> 0 | I3: =X201+X33+X$90+X225+X$150+X$136+X$72 -> 0 | J3: =Y201+Y33+Y$90+Y225+Y$150+Y$136+Y$72 -> 0 | K3: =Z201+Z33+Z$90+Z225+Z$150+Z$136+Z$72+Z12 -> 0 | L3: =AA201+AA33+AA$90+AA225+AA$150+AA$136+AA$72 -> 0 | M3: =AB201+AB33+AB$90+AB225+AB$150+AB$136+AB$72 -> 0 | N3: =AC201+AC33+AC$90+AC225+AC$150+AC$136+AC$72 -> 0 | O3: =SUM(H3:N3) -> 0
A5: PU by CompositeX
B6: CompositeX Dannomond | H6: Bolts adapted to your order: | W6: Screws adapted to your order:
H7: 30 mm | I7: 40 mm | J7: 50 mm | K7: 70 mm | L7: 90 mm | M7: 100 mm | N7: 120 mm | O7: 140 mm | P7: 160 mm | Q7: 180 mm | R7: 200 mm | S7: TOTAL | W7: 50 mm | X7: 70 mm | Y7: TOTAL
A8: In RED : NEW | H8: =AL33+AL$90+AL$150+AL$136+AL$72+AL201+AL225 -> 0 | I8: =AM33+AM$90+AM$150+AM$136+AM$72+AM201+AM225 -> 0 | J8: =AN33+AN$90+AN$150+AN$136+AN$72+AN201+AN225 -> 0 | K8: =AO33+AO$90+AO$150+AO$136+AO$72+AO201+AO225 -> 0 | L8: =AP33+AP$90+AP$150+AP$136+AP$72+AP201+AP225 -> 0 | M8: =AQ33+AQ$90+AQ$150+AQ$136+AQ$72+AQ201+AQ225 -> 0 | N8: =AR33+AR$90+AR$150+AR$136+AR$72+AR201+AR225 -> 0 | O8: =AS33+AS$90+AS$150+AS$136+AS$72+AS201+AS225 -> 0 | ... R8: =AV33+AV$90+AV$150+AV$136+AV$72+AV201+AV225 -> 0 | S8: =SUM(H8:R8) -> 0 | W8: =BI33+BI72+BI90+BI136+BI150+BI201+BI225 -> 0 | X8: =BJ33+BJ72+BJ90+BJ136+BJ150+BJ201+BJ225 -> 0 | Y8: =SUM(W8:X8) -> 0
B10: Size | C10: Nb of Holds per Set | D10: Sets Total | E10: Retail Price | F10: Final Price | H10: US 16-16 Green HEX 009933 | I10: Yellow Pantone 116C | J10: Red RAL 3020 | K10: Blue RAL 5015 | L10: Violet RAL 4008 | M10: US 17-13 Purple HTML 683075 | N10: Grey RAL 7001 NEW | O10: Black RAL 9005 | P10: White RAL 9010 | Q10: Fluo Orange 2005 | R10: Fluo Pink Pantone 806C | S10: Fluo Green Pantone 802C | T10: Orange US 14-01 | U10: Blue Mint RAL 6027 | W10: Sizes | AL10: Bolts | BI10: Screws | BN10: Weight
A11: Top Down | W11: XS | X11: S | Y11: M | Z11: L | AA11: XL | AB11: XXL | AC11: XXXL | AD11: XS | AE11: S | AF11: M | AG11: L | AH11: XL | AI11: XXL | AJ11: XXXL | AL11: 30 mm | AM11: 40 mm | AN11: 50 mm | AO11: 70 mm | AP11: 90 mm | AQ11: 100 mm | AR11: 120 mm | AS11: 140 mm | AT11: 160 mm | AU11: 180 mm | AV11: 200 mm | AW11: 30 mm | AX11: 40 mm | AY11: 50 mm | AZ11: 70 mm | BA11: 90 mm | BB11: 100 mm | BC11: 120 mm | BD11: 140 mm | BE11: 160 mm | BF11: 180 mm | BG11: 200 mm | BI11: 50 mm | BJ11: 70 mm | BK11: 50 mm | BL11: 70 mm | BN11: Set | BO11: Total Sets
A12: Top Down Jugs (PU) | B12: L | C12: 10 | D12: =SUM(H12:U12) -> 0 | E12: 260 | F12: =D12*E12*(100-$D$2)/100 -> 0 | Z12: =AG12*$D12 -> 0 | AG12: 10 | AM12: =AX12*$D12 -> 0 | AX12: 10 | BN12: 5 | BO12: =BN12*D12 -> 0
A13: BleauLine : | W13: XS | X13: S | Y13: M | Z13: L | AA13: XL | AB13: XXL | AC13: XXXL | AD13: XS | AE13: S | AF13: M | AG13: L | AH13: XL | AI13: XXL | AJ13: XXXL | AL13: 30 mm | AM13: 40 mm | AN13: 50 mm | AO13: 70 mm | AP13: 90 mm | AQ13: 100 mm | AR13: 120 mm | AS13: 140 mm | AT13: 160 mm | AU13: 180 mm | AV13: 200 mm | AW13: 30 mm | AX13: 40 mm | AY13: 50 mm | AZ13: 70 mm | BA13: 90 mm | BB13: 100 mm | BC13: 120 mm | BD13: 140 mm | BE13: 160 mm | BF13: 180 mm | BG13: 200 mm | BI13: 50 mm | BJ13: 70 mm | BK13: 50 mm | BL13: 70 mm | BN13: Set | BO13: Total Sets
A14: Crimps 1 (PU) | B14: M | C14: 10 | D14: =SUM(H14:U14) -> 0 | E14: 105 | F14: =D14*E14*(100-$D$2)/100 -> 0 | Y14: =AF14*$D14 -> 0 | AF14: 10 | AL14: =AW14*$D14 -> 0 | AW14: 10 | BN14: 1.47 | BO14: =BN14*D14 -> 0
A15: Crimps 2 (PU) | B15: M | C15: 10 | D15: =SUM(H15:U15) -> 0 | E15: 107.5 | F15: =D15*E15*(100-$D$2)/100 -> 0 | Y15: =AF15*$D15 -> 0 | AF15: 10 | AL15: =AW15*$D15 -> 0 | AW15: 10 | BN15: 1.6 | BO15: =BN15*D15 -> 0
A16: Crimps 3 (PU) | B16: M | C16: 10 | D16: =SUM(H16:U16) -> 0 | E16: 135 | F16: =D16*E16*(100-$D$2)/100 -> 0 | Y16: =AF16*$D16 -> 0 | AF16: 10 | AL16: =AW16*$D16 -> 0 | AW16: 10 | BN16: 2.4 | BO16: =BN16*D16 -> 0
A17: Crimps 4 (PU) | B17: L | C17: 10 | D17: =SUM(H17:U17) -> 0 | E17: 147.5 | F17: =D17*E17*(100-$D$2)/100 -> 0 | Z17: =AG17*$D17 -> 0 | AG17: 5 | AL17: =AW17*$D17 -> 0 | AM17: =AX17*$D17 -> 0 | AW17: 4 | AX17: 1 | BN17: 3.1 | BO17: =BN17*D17 -> 0
A18: Edges (PU) | B18: L | C18: 10 | D18: =SUM(H18:U18) -> 0 | E18: 165 | F18: =D18*E18*(100-$D$2)/100 -> 0 | Z18: =AG18*$D18 -> 0 | AG18: 10 | AL18: =AW18*$D18 -> 0 | AW18: 10 | BN18: 2.9 | BO18: =BN18*D18 -> 0
A19: Foot 1 (PU) | B19: XS | C19: 15 | D19: =SUM(H19:U19) -> 0 | E19: 82.5 | F19: =D19*E19*(100-$D$2)/100 -> 0 | W19: =AD19*$D19 -> 0 | AD19: 15 | AL19: =AW19*$D19 -> 0 | AW19: 15 | BN19: 0.7 | BO19: =BN19*D19 -> 0
A20: Foot 2 (PU) | B20: XS | C20: 15 | D20: =SUM(H20:U20) -> 0 | E20: 85 | F20: =D20*E20*(100-$D$2)/100 -> 0 | W20: =AD20*$D20 -> 0 | AD20: 15 | AL20: =AW20*$D20 -> 0 | AW20: 15 | BN20: 0.7 | BO20: =BN20*D20 -> 0
A21: Foot Hand (PU) | B21: S | C21: 10 | D21: =SUM(H21:U21) -> 0 | E21: 90 | F21: =D21*E21*(100-$D$2)/100 -> 0 | X21: =AE21*$D21 -> 0 | AE21: 10 | AL21: =AW21*$D21 -> 0 | AW21: 10 | BN21: 1.191 | BO21: =BN21*D21 -> 0
A22: Incut Edges (PU) | B22: L | C22: 5 | D22: =SUM(H22:U22) -> 0 | E22: 170 | F22: =D22*E22*(100-$D$2)/100 -> 0 | Z22: =AG22*$D22 -> 0 | AG22: 5 | AL22: =AW22*$D22 -> 0 | AM22: =AX22*$D22 -> 0 | AW22: 4 | AX22: 1 | BN22: 3.7 | BO22: =BN22*D22 -> 0
A23: Mega 1 (PU) | B23: XL | C23: 2 | D23: =SUM(H23:U23) -> 0 | E23: 180 | F23: =D23*E23*(100-$D$2)/100 -> 0 | AA23: =AH23*$D23 -> 0 | AH23: 2 | AQ23: =BB23*$D23 -> 0 | BB23: 2 | BN23: 3.3 | BO23: =BN23*D23 -> 0
A24: Mega 2 (PU) | B24: L/XL | C24: 2 | D24: =SUM(H24:U24) -> 0 | E24: 170 | F24: =D24*E24*(100-$D$2)/100 -> 0 | Z24: =AG24*$D24 -> 0 | AA24: =AH24*$D24 -> 0 | AG24: 1 | AH24: 1 | AN24: =AY24*$D24 -> 0 | AQ24: =BB24*$D24 -> 0 | AY24: 1 | BB24: 1 | BN24: 3.2 | BO24: =BN24*D24 -> 0
A25: Pinches 1 (PU) | B25: L | C25: 10 | D25: =SUM(H25:U25) -> 0 | E25: 227.5 | F25: =D25*E25*(100-$D$2)/100 -> 0 | Z25: =AG25*$D25 -> 0 | AG25: 10 | AL25: =AW25*$D25 -> 0 | AM25: =AX25*$D25 -> 0 | AN25: =AY25*$D25 -> 0 | AW25: 4 | AX25: 3 | AY25: 3 | BN25: 4.4 | BO25: =BN25*D25 -> 0
A26: Pinches 2 (PU) | B26: L/XL | C26: 5 | D26: =SUM(H26:U26) -> 0 | E26: 180 | F26: =D26*E26*(100-$D$2)/100 -> 0 | Z26: =AG26*$D26 -> 0 | AA26: =AH26*$D26 -> 0 | AG26: 3 | AH26: 2 | AM26: =AX26*$D26 -> 0 | AN26: =AY26*$D26 -> 0 | AO26: =AZ26*$D26 -> 0 | AX26: 1 | AY26: 1 | AZ26: 3 | BN26: 2.6 | BO26: =BN26*D26 -> 0
A27: Pockets 1 (PU) | B27: L | C27: 10 | D27: =SUM(H27:U27) -> 0 | E27: 270 | F27: =D27*E27*(100-$D$2)/100 -> 0 | Z27: =AG27*$D27 -> 0 | AG27: 10 | AL27: =AW27*$D27 -> 0 | AM27: =AX27*$D27 -> 0 | AN27: =AY27*$D27 -> 0 | AW27: 4 | AX27: 4 | AY27: 2 | BN27: 5.6 | BO27: =BN27*D27 -> 0
A28: Pockets 2 (PU) | B28: L/XL | C28: 5 | D28: =SUM(H28:U28) -> 0 | E28: 255 | F28: =D28*E28*(100-$D$2)/100 -> 0 | Z28: =AG28*$D28 -> 0 | AA28: =AH28*$D28 -> 0 | AG28: 4 | AH28: 1 | AM28: =AX28*$D28 -> 0 | AN28: =AY28*$D28 -> 0 | AO28: =AZ28*$D28 -> 0 | AP28: =BA28*$D28 -> 0 | AX28: 1 | AY28: 2 | AZ28: 1 | BA28: 1 | BN28: 4 | BO28: =BN28*D28 -> 0
A29: Screw-ons 1 (PU) | B29: M | C29: 5 | D29: =SUM(H29:U29) -> 0 | E29: 67.5 | F29: =D29*E29*(100-$D$2)/100 -> 0 | Y29: =AF29*$D29 -> 0 | AF29: 5 | BI29: =BK29*$D29 -> 0 | BK29: 15 | BN29: 1.2 | BO29: =BN29*D29 -> 0
A30: Screw-ons 2 (PU) | B30: M | C30: 5 | D30: =SUM(H30:U30) -> 0 | E30: 62.5 | F30: =D30*E30*(100-$D$2)/100 -> 0 | Y30: =AF30*$D30 -> 0 | AF30: 5 | BI30: =BK30*$D30 -> 0 | BK30: 15 | BN30: 1 | BO30: =BN30*D30 -> 0
A31: Slopers 1 (PU) | B31: L | C31: 5 | D31: =SUM(H31:U31) -> 0 | E31: 180 | F31: =D31*E31*(100-$D$2)/100 -> 0 | Z31: =AG31*$D31 -> 0 | AG31: 5 | AL31: =AW31*$D31 -> 0 | AM31: =AX31*$D31 -> 0 | AN31: =AY31*$D31 -> 0 | AW31: 1 | AX31: 3 | AY31: 1 | BN31: 3.9 | BO31: =BN31*D31 -> 0
A32: Slopers 2 (PU) | B32: L/XL | C32: 5 | D32: =SUM(H32:U32) -> 0 | E32: 185 | F32: =D32*E32*(100-$D$2)/100 -> 0 | Z32: =AG32*$D32 -> 0 | AA32: =AH32*$D32 -> 0 | AG32: 4 | AH32: 1 | AM32: =AX32*$D32 -> 0 | AN32: =AY32*$D32 -> 0 | AO32: =AZ32*$D32 -> 0 | AX32: 1 | AY32: 2 | AZ32: 2 | BN32: 2.7 | BO32: =BN32*D32 -> 0
F33: =SUM(F12:F32) -> 0 | H33: =SUM(H14:H32) -> 0 | I33: =SUM(I14:I32) -> 0 | J33: =SUM(J14:J32) -> 0 | K33: =SUM(K14:K32) -> 0 | L33: =SUM(L14:L32) -> 0 | M33: =SUM(M14:M32) -> 0 | N33: =SUM(N14:N32) -> 0 | O33: =SUM(O14:O32) -> 0 | ... U33: =SUM(U14:U32) -> 0 | W33: =SUM(W14:W32) -> 0 | X33: =SUM(X14:X32) -> 0 | Y33: =SUM(Y14:Y32) -> 0 | Z33: =SUM(Z14:Z32) -> 0 | AA33: =SUM(AA14:AA32) -> 0 | AB33: =SUM(AB14:AB32) -> 0 | AC33: =SUM(AC14:AC32) -> 0 | AD33: =SUM(AD14:AD32) -> 30 | ... AJ33: =SUM(AJ14:AJ32) -> 0 | AL33: =SUM(AL12:AL32) -> 0 | AM33: =SUM(AM12:AM32) -> 0 | AN33: =SUM(AN12:AN32) -> 0 | AO33: =SUM(AO12:AO32) -> 0 | AP33: =SUM(AP12:AP32) -> 0 | AQ33: =SUM(AQ12:AQ32) -> 0 | AR33: =SUM(AR12:AR32) -> 0 | AS33: =SUM(AS12:AS32) -> 0 | ... AV33: =SUM(AV12:AV32) -> 0 | BI33: =SUM(BI12:BI32) -> 0 | BO33: =SUM(BO12:BO32) -> 0
A34: FatLine : | W34: XS | X34: S | Y34: M | Z34: L | AA34: XL | AB34: XXL | AC34: XXXL | AD34: XS | AE34: S | AF34: M | AG34: L | AH34: XL | AI34: XXL | AJ34: XXXL | AL34: 30 mm | AM34: 40 mm | AN34: 50 mm | AO34: 70 mm | AP34: 90 mm | AQ34: 100 mm | AR34: 120 mm | AS34: 140 mm | AT34: 160 mm | AU34: 180 mm | AV34: 200 mm | AW34: 30 mm | AX34: 40 mm | AY34: 50 mm | AZ34: 70 mm | BA34: 90 mm | BB34: 100 mm | BC34: 120 mm | BD34: 140 mm | BE34: 160 mm | BF34: 180 mm | BG34: 200 mm | BI34: 50 mm | BJ34: 70 mm | BK34: 50 mm | BL34: 70 mm | BN34: Set | BO34: Total Sets
A35: Bleau 1 (PU) | B35: XXL | C35: 1 | D35: =SUM(H35:U35) -> 0 | E35: 140 | F35: =D35*E35*(100-$D$2)/100 -> 0 | AB35: =AI35*$D35 -> 0 | AI35: 1 | BN35: 2.574 | BO35: =BN35*D35 -> 0
A36: Bleau 2 (PU) | B36: XXL | C36: 1 | D36: =SUM(H36:U36) -> 0 | E36: 250 | F36: =D36*E36*(100-$D$2)/100 -> 0 | AB36: =AI36*$D36 -> 0 | AI36: 1 | BN36: 5 | BO36: =BN36*D36 -> 0
A37: Bleau 3 (PU) | B37: XXL | C37: 1 | D37: =SUM(H37:U37) -> 0 | E37: 135 | F37: =D37*E37*(100-$D$2)/100 -> 0 | AB37: =AI37*$D37 -> 0 | AI37: 1 | BN37: 2.6 | BO37: =BN37*D37 -> 0
A38: Boulder 1 (PU) | B38: XXL | C38: 1 | D38: =SUM(H38:U38) -> 0 | E38: 135 | F38: =D38*E38*(100-$D$2)/100 -> 0 | AB38: =AI38*$D38 -> 0 | AI38: 1 | BJ38: =BL38*$D38 -> 0 | BL38: 6 | BN38: 2.4 | BO38: =BN38*D38 -> 0
A39: Boulder 2 (PU) | B39: XXL | C39: 1 | D39: =SUM(H39:U39) -> 0 | E39: 132.5 | F39: =D39*E39*(100-$D$2)/100 -> 0 | AB39: =AI39*$D39 -> 0 | AI39: 1 | BJ39: =BL39*$D39 -> 0 | BL39: 6 | BN39: 2.3 | BO39: =BN39*D39 -> 0
A40: Boulder 3 (PU) | B40: XXXL | C40: 1 | D40: =SUM(H40:U40) -> 0 | E40: 137.5 | F40: =D40*E40*(100-$D$2)/100 -> 0 | AC40: =AJ40*$D40 -> 0 | AJ40: 1 | BJ40: =BL40*$D40 -> 0 | BL40: 7 | BN40: 2.4 | BO40: =BN40*D40 -> 0
A41: Boulder 4 (PU) | B41: XXL | C41: 1 | D41: =SUM(H41:U41) -> 0 | E41: 150 | F41: =D41*E41*(100-$D$2)/100 -> 0 | AB41: =AI41*$D41 -> 0 | AI41: 1 | BJ41: =BL41*$D41 -> 0 | BL41: 6 | BN41: 2.6 | BO41: =BN41*D41 -> 0
A42: Boulder 5 (PU) | B42: XXL | C42: 1 | D42: =SUM(H42:U42) -> 0 | E42: 90 | F42: =D42*E42*(100-$D$2)/100 -> 0 | AB42: =AI42*$D42 -> 0 | AI42: 1 | BJ42: =BL42*$D42 -> 0 | BL42: 6 | BN42: 1.5 | BO42: =BN42*D42 -> 0
A43: Boulder 6 (PU) | B43: XXL | C43: 1 | D43: =SUM(H43:U43) -> 0 | E43: 105 | F43: =D43*E43*(100-$D$2)/100 -> 0 | AB43: =AI43*$D43 -> 0 | AI43: 1 | BJ43: =BL43*$D43 -> 0 | BL43: 6 | BN43: 1.8 | BO43: =BN43*D43 -> 0
A44: Boulder 7 (PU) | B44: XXL | C44: 1 | D44: =SUM(H44:U44) -> 0 | E44: 110 | F44: =D44*E44*(100-$D$2)/100 -> 0 | AB44: =AI44*$D44 -> 0 | AI44: 1 | BJ44: =BL44*$D44 -> 0 | BL44: 4 | BN44: 1.8 | BO44: =BN44*D44 -> 0
A45: Boulder 8 (PU) | B45: XXL | C45: 1 | D45: =SUM(H45:U45) -> 0 | E45: 105 | F45: =D45*E45*(100-$D$2)/100 -> 0 | AB45: =AI45*$D45 -> 0 | AI45: 1 | BJ45: =BL45*$D45 -> 0 | BL45: 4 | BN45: 1.8 | BO45: =BN45*D45 -> 0
A46: Boulder 9 (PU) | B46: XXL | C46: 1 | D46: =SUM(H46:U46) -> 0 | E46: 105 | F46: =D46*E46*(100-$D$2)/100 -> 0 | AB46: =AI46*$D46 -> 0 | AI46: 1 | BJ46: =BL46*$D46 -> 0 | BL46: 4 | BN46: 1.44 | BO46: =BN46*D46 -> 0
A47: Hueco 1 (PU) | B47: XXXL | C47: 1 | D47: =SUM(H47:U47) -> 0 | E47: 212.5 | F47: =D47*E47*(100-$D$2)/100 -> 0 | AC47: =AJ47*$D47 -> 0 | AJ47: 1 | BN47: 4.158 | BO47: =BN47*D47 -> 0
A48: Hueco 2 (PU) | B48: XXL | C48: 1 | D48: =SUM(H48:U48) -> 0 | E48: 135 | F48: =D48*E48*(100-$D$2)/100 -> 0 | AB48: =AI48*$D48 -> 0 | AI48: 1 | BN48: 2.788 | BO48: =BN48*D48 -> 0
A49: Limestone 1 (PU) | B49: XXL | C49: 1 | D49: =SUM(H49:U49) -> 0 | E49: 235 | F49: =D49*E49*(100-$D$2)/100 -> 0 | AB49: =AI49*$D49 -> 0 | AI49: 1 | BN49: 4.634 | BO49: =BN49*D49 -> 0
A50: Limestone 2 (PU) | B50: XXXL | C50: 1 | D50: =SUM(H50:U50) -> 0 | E50: 245 | F50: =D50*E50*(100-$D$2)/100 -> 0 | AC50: =AJ50*$D50 -> 0 | AJ50: 1 | BN50: 4.77 | BO50: =BN50*D50 -> 0
A51: Limestone 3 (PU) | B51: XXL | C51: 1 | D51: =SUM(H51:U51) -> 0 | E51: 135 | F51: =D51*E51*(100-$D$2)/100 -> 0 | AB51: =AI51*$D51 -> 0 | AI51: 1 | BN51: 1.6 | BO51: =BN51*D51 -> 0
A52: Limestone 4 (PU) | B52: XXL | C52: 1 | D52: =SUM(H52:U52) -> 0 | E52: 120 | F52: =D52*E52*(100-$D$2)/100 -> 0 | AB52: =AI52*$D52 -> 0 | AI52: 1 | BN52: 2.2 | BO52: =BN52*D52 -> 0
A53: Limestone 5 (PU) | B53: XXL | C53: 1 | D53: =SUM(H53:U53) -> 0 | E53: 107.5 | F53: =D53*E53*(100-$D$2)/100 -> 0 | AB53: =AI53*$D53 -> 0 | AI53: 1 | BN53: 2.1 | BO53: =BN53*D53 -> 0
A54: Monster 1 (PU) | B54: XXL | C54: 1 | D54: =SUM(H54:U54) -> 0 | E54: 105 | F54: =D54*E54*(100-$D$2)/100 -> 0 | AB54: =AI54*$D54 -> 0 | AI54: 1 | BN54: 2.008 | BO54: =BN54*D54 -> 0
A55: Monster 2 (PU) | B55: XXL | C55: 1 | D55: =SUM(H55:U55) -> 0 | E55: 140 | F55: =D55*E55*(100-$D$2)/100 -> 0 | AB55: =AI55*$D55 -> 0 | AI55: 1 | BN55: 2.981 | BO55: =BN55*D55 -> 0
A56: Monster 3 (PU) | B56: XXL | C56: 1 | D56: =SUM(H56:U56) -> 0 | E56: 92.5 | F56: =D56*E56*(100-$D$2)/100 -> 0 | AB56: =AI56*$D56 -> 0 | AI56: 1 | BN56: 1.621 | BO56: =BN56*D56 -> 0
A57: Monster 4 (PU) | B57: XXL | C57: 1 | D57: =SUM(H57:U57) -> 0 | E57: 175 | F57: =D57*E57*(100-$D$2)/100 -> 0 | AB57: =AI57*$D57 -> 0 | AI57: 1 | BN57: 3.338 | BO57: =BN57*D57 -> 0
A58: Monster 5 (PU) | B58: XXL | C58: 1 | D58: =SUM(H58:U58) -> 0 | E58: 80 | F58: =D58*E58*(100-$D$2)/100 -> 0 | AB58: =AI58*$D58 -> 0 | AI58: 1 | BN58: 1.761 | BO58: =BN58*D58 -> 0
A59: Monster 6 (PU) | B59: XXL | C59: 1 | D59: =SUM(H59:U59) -> 0 | E59: 105 | F59: =D59*E59*(100-$D$2)/100 -> 0 | AB59: =AI59*$D59 -> 0 | AI59: 1 | BN59: 1.4 | BO59: =BN59*D59 -> 0
A60: Monster 7 (PU) | B60: XXL | C60: 1 | D60: =SUM(H60:U60) -> 0 | E60: 100 | F60: =D60*E60*(100-$D$2)/100 -> 0 | AB60: =AI60*$D60 -> 0 | AI60: 1 | BN60: 2.2 | BO60: =BN60*D60 -> 0
A61: Monster 8 (PU) | B61: XXL | C61: 1 | D61: =SUM(H61:U61) -> 0 | E61: 100 | F61: =D61*E61*(100-$D$2)/100 -> 0 | AB61: =AI61*$D61 -> 0 | AI61: 1 | BN61: 2.1 | BO61: =BN61*D61 -> 0
A62: Monster 9 (PU) | B62: XXL | C62: 1 | D62: =SUM(H62:U62) -> 0 | E62: 117.5 | F62: =D62*E62*(100-$D$2)/100 -> 0 | AB62: =AI62*$D62 -> 0 | AI62: 1 | BN62: 1.6 | BO62: =BN62*D62 -> 0
A63: Monster 10 (PU) | B63: XXXL | C63: 1 | D63: =SUM(H63:U63) -> 0 | E63: 132.5 | F63: =D63*E63*(100-$D$2)/100 -> 0 | AC63: =AJ63*$D63 -> 0 | AJ63: 1 | BN63: 1.9 | BO63: =BN63*D63 -> 0
A64: Monster 11 (PU) | B64: XXXL | C64: 1 | D64: =SUM(H64:U64) -> 0 | E64: 110 | F64: =D64*E64*(100-$D$2)/100 -> 0 | AC64: =AJ64*$D64 -> 0 | AJ64: 1 | BN64: 2.3 | BO64: =BN64*D64 -> 0
A65: Pure 1 (PU) | B65: XXL | C65: 1 | D65: =SUM(H65:U65) -> 0 | E65: 110 | F65: =D65*E65*(100-$D$2)/100 -> 0 | AB65: =AI65*$D65 -> 0 | AI65: 1 | BN65: 1.8 | BO65: =BN65*D65 -> 0
A66: Pure 2 (PU) | B66: XXL | C66: 1 | D66: =SUM(H66:U66) -> 0 | E66: 127.5 | F66: =D66*E66*(100-$D$2)/100 -> 0 | AB66: =AI66*$D66 -> 0 | AI66: 1 | BN66: 2.1 | BO66: =BN66*D66 -> 0
A67: The Drop (PU) | B67: XXXL | C67: 1 | D67: =SUM(H67:U67) -> 0 | E67: 260 | F67: =D67*E67*(100-$D$2)/100 -> 0 | AC67: =AJ67*$D67 -> 0 | AJ67: 1 | BI67: =BK67*$D67 -> 0 | BJ67: =BL67*$D67 -> 0 | BK67: 3 | BL67: 3 | BN67: 5 | BO67: =BN67*D67 -> 0
A68: Twins 1 (PU) | B68: XXL | C68: 2 | D68: =SUM(H68:U68) -> 0 | E68: 147.5 | F68: =D68*E68*(100-$D$2)/100 -> 0 | AB68: =AI68*$D68 -> 0 | AI68: 2 | BI68: =BK68*$D68 -> 0 | BJ68: =BL68*$D68 -> 0 | BK68: 3 | BL68: 3 | BN68: 2.5 | BO68: =BN68*D68 -> 0
A69: Twins 2 (PU) | B69: XXXL | C69: 2 | D69: =SUM(H69:U69) -> 0 | E69: 142.5 | F69: =D69*E69*(100-$D$2)/100 -> 0 | AC69: =AJ69*$D69 -> 0 | AJ69: 2 | BI69: =BK69*$D69 -> 0 | BJ69: =BL69*$D69 -> 0 | BK69: 3 | BL69: 3 | BN69: 2.2 | BO69: =BN69*D69 -> 0
A70: Twins 3 (PU) | B70: XXL | C70: 2 | D70: =SUM(H70:U70) -> 0 | E70: 207.5 | F70: =D70*E70*(100-$D$2)/100 -> 0 | AB70: =AI70*$D70 -> 0 | AI70: 2 | BI70: =BK70*$D70 -> 0 | BJ70: =BL70*$D70 -> 0 | BK70: 3 | BL70: 3 | BN70: 3.5 | BO70: =BN70*D70 -> 0
A71: Twins 4 (PU) | B71: XXL | C71: 2 | D71: =SUM(H71:U71) -> 0 | E71: 152.5 | F71: =D71*E71*(100-$D$2)/100 -> 0 | AB71: =AI71*$D71 -> 0 | AI71: 2 | BI71: =BK71*$D71 -> 0 | BJ71: =BL71*$D71 -> 0 | BK71: 4 | BL71: 4 | BN71: 2.5 | BO71: =BN71*D71 -> 0
F72: =SUM(F35:F71) -> 0 | H72: =SUM(H35:H71) -> 0 | I72: =SUM(I35:I71) -> 0 | J72: =SUM(J35:J71) -> 0 | K72: =SUM(K35:K71) -> 0 | L72: =SUM(L35:L71) -> 0 | M72: =SUM(M35:M71) -> 0 | N72: =SUM(N35:N71) -> 0 | O72: =SUM(O35:O71) -> 0 | ... U72: =SUM(U35:U71) -> 0 | AB72: =SUM(AB35:AB71) -> 0 | AC72: =SUM(AC35:AC71) -> 0 | BI72: =SUM(BI35:BI71) -> 0 | BJ72: =SUM(BJ35:BJ71) -> 0 | BO72: =SUM(BO35:BO71) -> 0
A73: FreshLine : | W73: XS | X73: S | Y73: M | Z73: L | AA73: XL | AB73: XXL | AC73: XXXL | AD73: XS | AE73: S | AF73: M | AG73: L | AH73: XL | AI73: XXL | AJ73: XXXL | AL73: 30 mm | AM73: 40 mm | AN73: 50 mm | AO73: 70 mm | AP73: 90 mm | AQ73: 100 mm | AR73: 120 mm | AS73: 140 mm | AT73: 160 mm | AU73: 180 mm | AV73: 200 mm | AW73: 30 mm | AX73: 40 mm | AY73: 50 mm | AZ73: 70 mm | BA73: 90 mm | BB73: 100 mm | BC73: 120 mm | BD73: 140 mm | BE73: 160 mm | BF73: 180 mm | BG73: 200 mm | BI73: 50 mm | BJ73: 70 mm | BK73: 50 mm | BL73: 70 mm | BN73: Set | BO73: Total Sets
A74: Bridges (PU) | B74: XXL | C74: 5 | D74: =SUM(H74:U74) -> 0 | E74: 355 | F74: =D74*E74*(100-$D$2)/100 -> 0 | AB74: =AI74*$D74 -> 0 | AI74: 5 | AM74: =AX74*$D74 -> 0 | AO74: =AZ74*$D74 -> 0 | AX74: 1 | AZ74: 2 | BN74: 6.6 | BO74: =BN74*D74 -> 0
A75: Crimps 1 (PU) | B75: M | C75: 20 | D75: =SUM(H75:U75) -> 0 | E75: 172.5 | F75: =D75*E75*(100-$D$2)/100 -> 0 | Y75: =AF75*$D75 -> 0 | AF75: 20 | AL75: =AW75*$D75 -> 0 | AM75: =AX75*$D75 -> 0 | AN75: =AY75*$D75 -> 0 | AW75: 6 | AX75: 13 | AY75: 1 | BN75: 2.517 | BO75: =BN75*D75 -> 0
A76: Crimps 2 (PU) | B76: M | C76: 20 | D76: =SUM(H76:U76) -> 0 | E76: 195 | F76: =D76*E76*(100-$D$2)/100 -> 0 | Y76: =AF76*$D76 -> 0 | AF76: 20 | AL76: =AW76*$D76 -> 0 | AM76: =AX76*$D76 -> 0 | AW76: 7 | AX76: 13 | BN76: 3.016 | BO76: =BN76*D76 -> 0
A77: Edges 1 (PU) | B77: L | C77: 10 | D77: =SUM(H77:U77) -> 0 | E77: 170 | F77: =D77*E77*(100-$D$2)/100 -> 0 | Z77: =AG77*$D77 -> 0 | AG77: 10 | AL77: =AW77*$D77 -> 0 | AM77: =AX77*$D77 -> 0 | AN77: =AY77*$D77 -> 0 | AW77: 1 | AX77: 7 | AY77: 2 | BN77: 3.239 | BO77: =BN77*D77 -> 0
A78: Edges 2 (PU) | B78: L | C78: 10 | D78: =SUM(H78:U78) -> 0 | E78: 225 | F78: =D78*E78*(100-$D$2)/100 -> 0 | Z78: =AG78*$D78 -> 0 | AG78: 10 | AL78: =AW78*$D78 -> 0 | AM78: =AX78*$D78 -> 0 | AN78: =AY78*$D78 -> 0 | AW78: 1 | AX78: 4 | AY78: 4 | BN78: 4.5 | BO78: =BN78*D78 -> 0
A79: Foot 1 (PU) | B79: S | C79: 20 | D79: =SUM(H79:U79) -> 0 | E79: 110 | F79: =D79*E79*(100-$D$2)/100 -> 0 | X79: =AE79*$D79 -> 0 | AE79: 20 | AL79: =AW79*$D79 -> 0 | AW79: 20 | BN79: 0.949 | BO79: =BN79*D79 -> 0
A80: Foot 2 (PU) | B80: S | C80: 20 | D80: =SUM(H80:U80) -> 0 | E80: 110 | F80: =D80*E80*(100-$D$2)/100 -> 0 | X80: =AE80*$D80 -> 0 | AE80: 20 | AL80: =AW80*$D80 -> 0 | AW80: 20 | BN80: 1.002 | BO80: =BN80*D80 -> 0
A81: Hybrid (PU) | B81: M | C81: 10 | D81: =SUM(H81:U81) -> 0 | E81: 85 | F81: =D81*E81*(100-$D$2)/100 -> 0 | Y81: =AF81*$D81 -> 0 | AF81: 10 | AL81: =AW81*$D81 -> 0 | AW81: 10 | BN81: 1.099 | BO81: =BN81*D81 -> 0
A82: Jugs (PU) | B82: L | C82: 20 | D82: =SUM(H82:U82) -> 0 | E82: 252.5 | F82: =D82*E82*(100-$D$2)/100 -> 0 | Z82: =AG82*$D82 -> 0 | AG82: 20 | AM82: =AX82*$D82 -> 0 | AN82: =AY82*$D82 -> 0 | AX82: 12 | AY82: 8 | BN82: 4.378 | BO82: =BN82*D82 -> 0
A83: Large Slopers (PU) | B83: XXL | C83: 5 | D83: =SUM(H83:U83) -> 0 | E83: 315 | F83: =D83*E83*(100-$D$2)/100 -> 0 | AB83: =AI83*$D83 -> 0 | AI83: 5 | AO83: =AZ83*$D83 -> 0 | AR83: =BC83*$D83 -> 0 | AZ83: 1 | BC83: 2 | BN83: 5.466 | BO83: =BN83*D83 -> 0
A84: Mini Crimps (PU) | B84: S | C84: 20 | D84: =SUM(H84:U84) -> 0 | E84: 147.5 | F84: =D84*E84*(100-$D$2)/100 -> 0 | X84: =AE84*$D84 -> 0 | AE84: 20 | AL84: =AW84*$D84 -> 0 | AM84: =AX84*$D84 -> 0 | AW84: 16 | AX84: 4 | BN84: 1.971 | BO84: =BN84*D84 -> 0
A85: Mini Jugs (PU) | B85: M | C85: 20 | D85: =SUM(H85:U85) -> 0 | E85: 192.5 | F85: =D85*E85*(100-$D$2)/100 -> 0 | Y85: =AF85*$D85 -> 0 | AF85: 20 | AM85: =AX85*$D85 -> 0 | AN85: =AY85*$D85 -> 0 | AX85: 16 | AY85: 4 | BN85: 3.064 | BO85: =BN85*D85 -> 0
A86: Mini Slopers (PU) | B86: L | C86: 10 | D86: =SUM(H86:U86) -> 0 | E86: 210 | F86: =D86*E86*(100-$D$2)/100 -> 0 | Z86: =AG86*$D86 -> 0 | AG86: 10 | AL86: =AW86*$D86 -> 0 | AM86: =AX86*$D86 -> 0 | AN86: =AY86*$D86 -> 0 | AO86: =AZ86*$D86 -> 0 | AW86: 1 | AX86: 1 | AY86: 7 | AZ86: 1 | BN86: 4.385 | BO86: =BN86*D86 -> 0
A87: Pinches 1 (PU) | B87: L | C87: 10 | D87: =SUM(H87:U87) -> 0 | E87: 230 | F87: =D87*E87*(100-$D$2)/100 -> 0 | Z87: =AG87*$D87 -> 0 | AG87: 10 | AM87: =AX87*$D87 -> 0 | AN87: =AY87*$D87 -> 0 | AO87: =AZ87*$D87 -> 0 | AX87: 3 | AY87: 3 | AZ87: 2 | BN87: 4.625 | BO87: =BN87*D87 -> 0
A88: Pockets (PU) | B88: XL | C88: 10 | D88: =SUM(H88:U88) -> 0 | E88: 270 | F88: =D88*E88*(100-$D$2)/100 -> 0 | AA88: =AH88*$D88 -> 0 | AH88: 10 | AL88: =AW88*$D88 -> 0 | AM88: =AX88*$D88 -> 0 | AN88: =AY88*$D88 -> 0 | AW88: 2 | AX88: 5 | AY88: 2 | BN88: 6 | BO88: =BN88*D88 -> 0
A89: Slopers (PU) | B89: XL | C89: 5 | D89: =SUM(H89:U89) -> 0 | E89: 215 | F89: =D89*E89*(100-$D$2)/100 -> 0 | AA89: =AH89*$D89 -> 0 | AH89: 5 | AO89: =AZ89*$D89 -> 0 | AZ89: 3 | BN89: 3.631 | BO89: =BN89*D89 -> 0
F90: =SUM(F74:F89) -> 0 | H90: =SUM(H74:H89) -> 0 | I90: =SUM(I74:I89) -> 0 | J90: =SUM(J74:J89) -> 0 | K90: =SUM(K74:K89) -> 0 | L90: =SUM(L74:L89) -> 0 | M90: =SUM(M74:M89) -> 0 | N90: =SUM(N74:N89) -> 0 | O90: =SUM(O74:O89) -> 0 | ... U90: =SUM(U74:U89) -> 0 | X90: =SUM(X74:X89) -> 0 | Y90: =SUM(Y74:Y89) -> 0 | Z90: =SUM(Z74:Z89) -> 0 | AA90: =SUM(AA74:AA89) -> 0 | AB90: =SUM(AB74:AB89) -> 0 | AL90: =SUM(AL74:AL89) -> 0 | AM90: =SUM(AM74:AM89) -> 0 | AN90: =SUM(AN74:AN89) -> 0 | AO90: =SUM(AO74:AO89) -> 0 | AR90: =SUM(AR74:AR89) -> 0 | BO90: =SUM(BO74:BO89) -> 0
A91: ProLine : | W91: XS | X91: S | Y91: M | Z91: L | AA91: XL | AB91: XXL | AC91: XXXL | AD91: XS | AE91: S | AF91: M | AG91: L | AH91: XL | AI91: XXL | AJ91: XXXL | AL91: 30 mm | AM91: 40 mm | AN91: 50 mm | AO91: 70 mm | AP91: 90 mm | AQ91: 100 mm | AR91: 120 mm | AS91: 140 mm | AT91: 160 mm | AU91: 180 mm | AV91: 200 mm | AW91: 30 mm | AX91: 40 mm | AY91: 50 mm | AZ91: 70 mm | BA91: 90 mm | BB91: 100 mm | BC91: 120 mm | BD91: 140 mm | BE91: 160 mm | BF91: 180 mm | BG91: 200 mm | BI91: 50 mm | BJ91: 70 mm | BK91: 50 mm | BL91: 70 mm | BN91: Set | BO91: Total Sets
A92: Bleau (PU) | B92: M/L/XL | C92: 15 | D92: =SUM(H92:U92) -> 0 | E92: 540 | F92: =D92*E92*(100-$D$2)/100 -> 0 | Y92: =AF92*$D92 -> 0 | Z92: =AG92*$D92 -> 0 | AA92: =AH92*$D92 -> 0 | AF92: 2 | AG92: 11 | AH92: 2 | AL92: =AW92*$D92 -> 0 | AM92: =AX92*$D92 -> 0 | AN92: =AY92*$D92 -> 0 | AO92: =AZ92*$D92 -> 0 | AP92: =BA92*$D92 -> 0 | AW92: 1 | AX92: 2 | AY92: 7 | AZ92: 3 | BA92: 2 | BN92: 12.5 | BO92: =BN92*D92 -> 0
A93: Boulder Crimp 1 (PU) | B93: XL | C93: 1 | D93: =SUM(H93:U93) -> 0 | E93: 65 | F93: =D93*E93*(100-$D$2)/100 -> 0 | AA93: =AH93*$D93 -> 0 | AH93: 1 | BI93: =BK93*$D93 -> 0 | BK93: 3 | BN93: 0.9 | BO93: =BN93*D93 -> 0
A94: Boulder Crimp 2 (PU) | B94: XL | C94: 1 | D94: =SUM(H94:U94) -> 0 | E94: 72.5 | F94: =D94*E94*(100-$D$2)/100 -> 0 | AA94: =AH94*$D94 -> 0 | AH94: 1 | BI94: =BK94*$D94 -> 0 | BK94: 3 | BN94: 1.1 | BO94: =BN94*D94 -> 0
A95: Boulder Edge 1 (PU) | B95: XL | C95: 1 | D95: =SUM(H95:U95) -> 0 | E95: 72.5 | F95: =D95*E95*(100-$D$2)/100 -> 0 | AA95: =AH95*$D95 -> 0 | AH95: 1 | BI95: =BK95*$D95 -> 0 | BK95: 3 | BN95: 1.1 | BO95: =BN95*D95 -> 0
A96: Boulder Edge 2 (PU) | B96: XL | C96: 1 | D96: =SUM(H96:U96) -> 0 | E96: 65 | F96: =D96*E96*(100-$D$2)/100 -> 0 | AA96: =AH96*$D96 -> 0 | AH96: 1 | BI96: =BK96*$D96 -> 0 | BK96: 3 | BN96: 1 | BO96: =BN96*D96 -> 0
A97: Boulder Pinches 1 (PU) | B97: XL | C97: 2 | D97: =SUM(H97:U97) -> 0 | E97: 135 | F97: =D97*E97*(100-$D$2)/100 -> 0 | AA97: =AH97*$D97 -> 0 | AH97: 2 | AQ97: =BB97*$D97 -> 0 | BB97: 2 | BN97: 2.2 | BO97: =BN97*D97 -> 0
A98: Boulder Pocket 1 (PU) | B98: XL | C98: 1 | D98: =SUM(H98:U98) -> 0 | E98: 50 | F98: =D98*E98*(100-$D$2)/100 -> 0 | AA98: =AH98*$D98 -> 0 | AH98: 1 | BI98: =BK98*$D98 -> 0 | BK98: 3 | BN98: 0.65 | BO98: =BN98*D98 -> 0
A99: Boulder Pocket 2 (PU) | B99: XL | C99: 1 | D99: =SUM(H99:U99) -> 0 | E99: 50 | F99: =D99*E99*(100-$D$2)/100 -> 0 | AA99: =AH99*$D99 -> 0 | AH99: 1 | BI99: =BK99*$D99 -> 0 | BK99: 3 | BN99: 0.65 | BO99: =BN99*D99 -> 0
A100: Boulder Pocket 3 (PU) | B100: XL | C100: 1 | D100: =SUM(H100:U100) -> 0 | E100: 50 | F100: =D100*E100*(100-$D$2)/100 -> 0 | AA100: =AH100*$D100 -> 0 | AH100: 1 | BI100: =BK100*$D100 -> 0 | BK100: 3 | BN100: 0.6 | BO100: =BN100*D100 -> 0
A101: Boulder Pocket 4 (PU) | B101: XL | C101: 1 | D101: =SUM(H101:U101) -> 0 | E101: 50 | F101: =D101*E101*(100-$D$2)/100 -> 0 | AA101: =AH101*$D101 -> 0 | AH101: 1 | BI101: =BK101*$D101 -> 0 | BK101: 3 | BN101: 0.6 | BO101: =BN101*D101 -> 0
A102: Boulder Slopy Edges 1 (PU) | B102: XL | C102: 2 | D102: =SUM(H102:U102) -> 0 | E102: 85 | F102: =D102*E102*(100-$D$2)/100 -> 0 | AA102: =AH102*$D102 -> 0 | AH102: 2 | AM102: =AX102*$D102 -> 0 | AN102: =AY102*$D102 -> 0 | AX102: 1 | AY102: 1 | BN102: 1.1 | BO102: =BN102*D102 -> 0
...

Sheet Packs CompositeX
C1: EUR HT | D1: DISCOUNT % | H1: Holds Size of your order : | W1: Total Weight of your order (kg) : | AA1: =BP27 -> 0
A2: Total Amount order : | C2: =F27 -> 0 | H2: XS | I2: S | J2: M | K2: L | L2: XL | M2: XXL | N2: XXXL | O2: TOTAL
H3: =W27 -> 0 | I3: =X27 -> 0 | J3: =Y27 -> 0 | K3: =Z27 -> 0 | L3: =AA27 -> 0 | M3: =AB27 -> 0 | N3: =AC27 -> 0 | O3: =SUM(H3:N3) -> 0
A5: Packs by CompositeX
B6: CompositeX CX 200 & Dannomond | H6: Bolts adapted to your order : | W6: Screws adapted to your order :
H7: 30 mm | I7: 40 mm | J7: 50 mm | K7: 70 mm | L7: 90 mm | M7: 100 mm | N7: 120 mm | O7: 140 mm | P7: 160 mm | Q7: 180 mm | R7: 200 mm | S7: TOTAL | W7: 50 mm | X7: 70 mm | Y7: TOTAL
A8: In RED : NEW | H8: =AL27 -> 0 | I8: =AM27 -> 0 | J8: =AN27 -> 0 | K8: =AO27 -> 0 | L8: =AP27 -> 0 | M8: =AQ27 -> 0 | N8: =AR27 -> 0 | O8: =AS27 -> 0 | ... R8: =AV27 -> 0 | S8: =SUM(H8:R8) -> 0 | W8: =BJ27 -> 0 | X8: =BK27 -> 0 | Y8: =SUM(W8:X8) -> 0
B10: Size | C10: Nb of Holds per Set | D10: Sets Total | E10: Retail Price | F10: Final Price | H10: Green RAL 6002 | I10: Yellow Pantone 116C | J10: Red RAL 3020 | K10: Blue RAL 5015 | L10: Violet RAL 4008 | M10: Grey RAL 7001 | N10: Black RAL 9005 | O10: White RAL 9016 | P10: Fluo Orange RAL 2005 | Q10: Fluo Pink Pantone 806C | R10: Fluo Yellow RAL 1026 | S10: Fluo Green Pantone 802C | T10: Pure Orange RAL 2004 | U10: Blue Mint RAL 6027 | W10: Sizes | AL10: Bolts | BJ10: Screws | BO10: Weight
W11: XS | X11: S | Y11: M | Z11: L | AA11: XL | AB11: XXL | AC11: XXXL | AD11: XS | AE11: S | AF11: M | AG11: L | AH11: XL | AI11: XXL | AJ11: XXXL | AL11: 30 mm | AM11: 40 mm | AN11: 50 mm | AO11: 70 mm | AP11: 90 mm | AQ11: 100 mm | AR11: 120 mm | AS11: 140 mm | AT11: 160 mm | AU11: 180 mm | AV11: 200 mm | AX11: 30 mm | AY11: 40 mm | AZ11: 50 mm | BA11: 70 mm | BB11: 90 mm | BC11: 100 mm | BD11: 120 mm | BE11: 140 mm | BF11: 160 mm | BG11: 180 mm | BH11: 200 mm | BJ11: 40 mm | BK11: 70 mm | BL11: 40 mm | BM11: 70 mm | BO11: Set | BP11: Total Sets
A12: Pack Beginner 20 | B12: S/M | C12: 20 | D12: =SUM(H12:U12) -> 0 | E12: 110 | F12: =D12*E12*(100-$D$2)/100 -> 0 | X12: =AE12*$D12 -> 0 | Y12: =AF12*$D12 -> 0 | AE12: 10 | AF12: 10 | AL12: =AX12*$D12 -> 0 | AM12: =AY12*$D12 -> 0 | AN12: =AZ12*$D12 -> 0 | AX12: 6 | AY12: 12 | AZ12: 2 | BO12: 4.1 | BP12: =BO12*D12 -> 0
A13: Pack Start 20 | B13: XS/S/M | C13: 20 | D13: =SUM(H13:U13) -> 0 | E13: 112.5 | F13: =D13*E13*(100-$D$2)/100 -> 0 | W13: =AD13*$D13 -> 0 | X13: =AE13*$D13 -> 0 | Y13: =AF13*$D13 -> 0 | AD13: 5 | AE13: 5 | AF13: 10 | AL13: =AX13*$D13 -> 0 | AM13: =AY13*$D13 -> 0 | AN13: =AZ13*$D13 -> 0 | AX13: 3 | AY13: 14 | AZ13: 3 | BO13: 4.2 | BP13: =BO13*D13 -> 0
A14: Pack Start 30 | B14: S/M | C14: 30 | D14: =SUM(H14:U14) -> 0 | E14: 162.5 | F14: =D14*E14*(100-$D$2)/100 -> 0 | X14: =AE14*$D14 -> 0 | Y14: =AF14*$D14 -> 0 | AE14: 5 | AF14: 25 | AL14: =AX14*$D14 -> 0 | AM14: =AY14*$D14 -> 0 | AN14: =AZ14*$D14 -> 0 | AX14: 7 | AY14: 20 | AZ14: 3 | BO14: 6.2 | BP14: =BO14*D14 -> 0
A15: Pack Start 40 | B15: XS/S/M | C15: 40 | D15: =SUM(H15:U15) -> 0 | E15: 200 | F15: =D15*E15*(100-$D$2)/100 -> 0 | W15: =AD15*$D15 -> 0 | X15: =AE15*$D15 -> 0 | Y15: =AF15*$D15 -> 0 | AD15: 5 | AE15: 10 | AF15: 25 | AL15: =AX15*$D15 -> 0 | AM15: =AY15*$D15 -> 0 | AN15: =AZ15*$D15 -> 0 | AX15: 10 | AY15: 27 | AZ15: 3 | BO15: 7.15 | BP15: =BO15*D15 -> 0
A16: Pack Start 50 | B16: XS/S/M | C16: 50 | D16: =SUM(H16:U16) -> 0 | E16: 257.5 | F16: =D16*E16*(100-$D$2)/100 -> 0 | W16: =AD16*$D16 -> 0 | X16: =AE16*$D16 -> 0 | Y16: =AF16*$D16 -> 0 | AD16: 5 | AE16: 10 | AF16: 35 | AL16: =AX16*$D16 -> 0 | AM16: =AY16*$D16 -> 0 | AN16: =AZ16*$D16 -> 0 | AX16: 12 | AY16: 34 | AZ16: 4 | BO16: 9.9 | BP16: =BO16*D16 -> 0
A17: Pack FreshLine | B17: XS to L | C17: 100 | D17: =SUM(H17:U17) -> 0 | E17: 620 | F17: =D17*E17*(100-$D$2)/100 -> 0 | W17: =AD17*$D17 -> 0 | X17: =AE17*$D17 -> 0 | Y17: =AF17*$D17 -> 0 | Z17: =AG17*$D17 -> 0 | AD17: 20 | AE17: 20 | AF17: 22 | AG17: 38 | AL17: =AX17*$D17 -> 0 | AM17: =AY17*$D17 -> 0 | AN17: =AZ17*$D17 -> 0 | AO17: =BA17*$D17 -> 0 | AP17: =BB17*$D17 -> 0 | AX17: 30 | AY17: 42 | AZ17: 22 | BA17: 4 | BB17: 2 | BO17: 34.5 | BP17: =BO17*D17 -> 0
A18: Pack ProLine (PU) | B18: XS to XL | C18: 55 | D18: =SUM(H18:U18) -> 0 | E18: 970 | F18: =D18*E18*(100-$D$2)/100 -> 0 | W18: =AD18*$D18 -> 0 | X18: =AE18*$D18 -> 0 | Y18: =AF18*$D18 -> 0 | Z18: =AG18*$D18 -> 0 | AA18: =AH18*$D18 -> 0 | AD18: 25 | AF18: 15 | AG18: 5 | AH18: 10 | AL18: =AX18*$D18 -> 0 | AM18: =AY18*$D18 -> 0 | AO18: =BA18*$D18 -> 0 | AP18: =BB18*$D18 -> 0 | AQ18: =BC18*$D18 -> 0 | AX18: 5 | AY18: 6 | BA18: 2 | BB18: 6 | BC18: 1 | BJ18: =BL18*$D18 -> 0 | BL18: 85 | BO18: 14.7 | BP18: =BO18*D18 -> 0
A19: Pack TribeLine Drops (PE/PU) | B19: S to XXXL | C19: 41 | D19: =SUM(H19:U19) -> 0 | E19: 1410 | F19: =D19*E19*(100-$D$2)/100 -> 0 | X19: =AE19*$D19 -> 0 | Y19: =AF19*$D19 -> 0 | Z19: =AG19*$D19 -> 0 | AA19: =AH19*$D19 -> 0 | AC19: =AJ19*$D19 -> 0 | AE19: 5 | AF19: 15 | AG19: 15 | AH19: 5 | AJ19: 1 | AL19: =AX19*$D19 -> 0 | AM19: =AY19*$D19 -> 0 | AN19: =AZ19*$D19 -> 0 | AO19: =BA19*$D19 -> 0 | AP19: =BB19*$D19 -> 0 | AQ19: =BC19*$D19 -> 0 | AR19: =BD19*$D19 -> 0 | AS19: =BE19*$D19 -> 0 | ... AU19: =BG19*$D19 -> 0 | AX19: 10 | AY19: 1 | AZ19: 4 | BA19: 2 | BB19: 1 | BC19: 5 | BD19: 1 | BE19: 3 | BF19: 1 | BG19: 1 | BJ19: =BL19*$D19 -> 0 | BL19: 32 | BO19: 39 | BP19: =BO19*D19 -> 0
A20: Pack TribeLine Jugs Basics | B20: S to L | C20: 65 | D20: =SUM(H20:U20) -> 0 | E20: 700 | F20: =D20*E20*(100-$D$2)/100 -> 0 | X20: =AE20*$D20 -> 0 | Y20: =AF20*$D20 -> 0 | Z20: =AG20*$D20 -> 0 | AE20: 20 | AF20: 35 | AG20: 10 | AL20: =AX20*$D20 -> 0 | AM20: =AY20*$D20 -> 0 | AN20: =AZ20*$D20 -> 0 | AO20: =BA20*$D20 -> 0 | AP20: =BB20*$D20 -> 0 | AX20: 22 | AY20: 16 | AZ20: 15 | BA20: 9 | BB20: 1 | BO20: 32.8 | BP20: =BO20*D20 -> 0
A21: Pack TribeLine Jugs Deluxe (PE/PU) | B21: S to XL | C21: 76 | D21: =SUM(H21:U21) -> 0 | E21: 1840 | F21: =D21*E21*(100-$D$2)/100 -> 0 | X21: =AE21*$D21 -> 0 | Y21: =AF21*$D21 -> 0 | Z21: =AG21*$D21 -> 0 | AA21: =AH21*$D21 -> 0 | AE21: 20 | AF21: 30 | AG21: 15 | AH21: 11 | AL21: =AX21*$D21 -> 0 | AM21: =AY21*$D21 -> 0 | AN21: =AZ21*$D21 -> 0 | AO21: =BA21*$D21 -> 0 | AP21: =BB21*$D21 -> 0 | AX21: 22 | AY21: 9 | AZ21: 14 | BA21: 28 | BB21: 3 | BO21: 60.7 | BP21: =BO21*D21 -> 0
A22: Pack TribeLine Pinches (PE/PU) | B22: S to XXL | C22: 55 | D22: =SUM(H22:U22) -> 0 | E22: 750 | F22: =D22*E22*(100-$D$2)/100 -> 0 | X22: =AE22*$D22 -> 0 | Y22: =AF22*$D22 -> 0 | Z22: =AG22*$D22 -> 0 | AA22: =AH22*$D22 -> 0 | AB22: =AI22*$D22 -> 0 | AE22: 25 | AF22: 5 | AG22: 10 | AH22: 10 | AI22: 5 | AL22: =AX22*$D22 -> 0 | AM22: =AY22*$D22 -> 0 | AN22: =AZ22*$D22 -> 0 | AO22: =BA22*$D22 -> 0 | AP22: =BB22*$D22 -> 0 | AQ22: =BC22*$D22 -> 0 | AX22: 6 | AY22: 21 | AZ22: 17 | BA22: 8 | BB22: 4 | BC22: 4 | BO22: 32.8 | BP22: =BO22*D22 -> 0
A23: Pack TribeLine Pockets (PE/PU) | B23: S to XL | C23: 51 | D23: =SUM(H23:U23) -> 0 | E23: 1125 | F23: =D23*E23*(100-$D$2)/100 -> 0 | X23: =AE23*$D23 -> 0 | Y23: =AF23*$D23 -> 0 | Z23: =AG23*$D23 -> 0 | AA23: =AH23*$D23 -> 0 | AE23: 20 | AF23: 4 | AG23: 21 | AH23: 6 | AL23: =AX23*$D23 -> 0 | AM23: =AY23*$D23 -> 0 | AN23: =AZ23*$D23 -> 0 | AO23: =BA23*$D23 -> 0 | AP23: =BB23*$D23 -> 0 | AQ23: =BC23*$D23 -> 0 | AR23: =BD23*$D23 -> 0 | AX23: 2 | AY23: 20 | AZ23: 2 | BA23: 15 | BB23: 6 | BC23: 3 | BD23: 3 | BO23: 38.3 | BP23: =BO23*D23 -> 0
A24: Pack TribeLine Pockets DT (PU) | B24: M to XXL | C24: 40 | D24: =SUM(H24:U24) -> 0 | E24: 1185 | F24: =D24*E24*(100-$D$2)/100 -> 0 | Y24: =AF24*$D24 -> 0 | Z24: =AG24*$D24 -> 0 | AA24: =AH24*$D24 -> 0 | AB24: =AI24*$D24 -> 0 | AF24: 19 | AG24: 11 | AH24: 5 | AI24: 5 | AN24: =AZ24*$D24 -> 0 | AP24: =BB24*$D24 -> 0 | AQ24: =BC24*$D24 -> 0 | AZ24: 5 | BB24: 3 | BC24: 2 | BJ24: =BL24*$D24 -> 0 | BL24: 95 | BO24: 15.7 | BP24: =BO24*D24 -> 0
A25: Pack Vortex Boulder | B25: XS to XXL | C25: 42 | D25: =SUM(H25:U25) -> 0 | E25: 715 | F25: =D25*E25*(100-$D$2)/100 -> 0 | W25: =AD25*$D25 -> 0 | X25: =AE25*$D25 -> 0 | Y25: =AF25*$D25 -> 0 | Z25: =AG25*$D25 -> 0 | AA25: =AH25*$D25 -> 0 | AB25: =AI25*$D25 -> 0 | AD25: 15 | AE25: 10 | AF25: 5 | AG25: 3 | AH25: 6 | AI25: 3 | AL25: =AX25*$D25 -> 0 | AM25: =AY25*$D25 -> 0 | AO25: =BA25*$D25 -> 0 | AP25: =BB25*$D25 -> 0 | AQ25: =BC25*$D25 -> 0 | AX25: 1 | AY25: 3 | BA25: 4 | BB25: 3 | BC25: 1 | BJ25: =BL25*$D25 -> 0 | BL25: 70 | BO25: 8.1 | BP25: =BO25*D25 -> 0
A26: Pack Vortex Lead | B26: XS to L | C26: 54 | D26: =SUM(H26:U26) -> 0 | E26: 725 | F26: =D26*E26*(100-$D$2)/100 -> 0 | W26: =AD26*$D26 -> 0 | X26: =AE26*$D26 -> 0 | Y26: =AF26*$D26 -> 0 | Z26: =AG26*$D26 -> 0 | AD26: 15 | AE26: 5 | AF26: 20 | AG26: 14 | AL26: =AX26*$D26 -> 0 | AM26: =AY26*$D26 -> 0 | AO26: =BA26*$D26 -> 0 | AP26: =BB26*$D26 -> 0 | AX26: 18 | AY26: 3 | BA26: 2 | BB26: 1 | BJ26: =BL26*$D26 -> 0 | BL26: 50 | BO26: 8.062 | BP26: =BO26*D26 -> 0
F27: =SUM(F12:F26) -> 0 | H27: =SUM(H12:H26) -> 0 | I27: =SUM(I12:I26) -> 0 | J27: =SUM(J12:J26) -> 0 | K27: =SUM(K12:K26) -> 0 | L27: =SUM(L12:L26) -> 0 | M27: =SUM(M12:M26) -> 0 | N27: =SUM(N12:N26) -> 0 | O27: =SUM(O12:O26) -> 0 | ... U27: =SUM(U12:U26) -> 0 | W27: =SUM(W12:W26) -> 0 | X27: =SUM(X12:X26) -> 0 | Y27: =SUM(Y12:Y26) -> 0 | Z27: =SUM(Z12:Z26) -> 0 | AA27: =SUM(AA12:AA26) -> 0 | AB27: =SUM(AB12:AB26) -> 0 | AC27: =SUM(AC12:AC26) -> 0 | AL27: =SUM(AL12:AL26) -> 0 | AM27: =SUM(AM12:AM26) -> 0 | AN27: =SUM(AN12:AN26) -> 0 | AO27: =SUM(AO12:AO26) -> 0 | AP27: =SUM(AP12:AP26) -> 0 | AQ27: =SUM(AQ12:AQ26) -> 0 | AR27: =SUM(AR12:AR26) -> 0 | AS27: =SUM(AS12:AS26) -> 0 | ... AV27: =SUM(AV12:AV26) -> 0 | BJ27: =SUM(BJ12:BJ26) -> 0 | BK27: =SUM(BK12:BK26) -> 0 | BP27: =SUM(BP12:BP26) -> 0

Sheet TP Thermoplastic - Ghold
C1: EUR HT | D1: DISCOUNT % | H1: Holds Size of your order : | V1: Total Weight of your order (kg) : | Y1: =BN25+BN52+BN40+BN48 -> 0
A2: Total Amount order : | C2: =F25+F52+F40+F48 -> 0 | D2: 0 | H2: XS | I2: S | J2: M | K2: L | L2: XL | M2: XXL | N2: XXXL | O2: TOTAL
H3: =V25+V52+V40+V48 -> 0 | I3: =W25+W52+W40+W48 -> 0 | J3: =X25+X52+X40+X48 -> 0 | K3: =Y25+Y52+Y40+Y48 -> 0 | L3: =Z25+Z52+Z40+Z48 -> 0 | M3: =AA25+AA52+AA40+AA48 -> 0 | N3: =AB25+AB52+AB40+AB48 -> 0 | O3: =SUM(H3:N3) -> 0
A5: Thermoplastic (TP) by Ghold
B6: Recyclable by Ghold | H6: Bolts adapted to your order: | V6: Screws adapted to your order:
H7: 30 mm | I7: 40 mm | J7: 50 mm | K7: 70 mm | L7: 90 mm | M7: 100 mm | N7: 120 mm | O7: 140 mm | P7: 160 mm | Q7: 180 mm | R7: 200 mm | S7: TOTAL | V7: 50 mm | W7: 70 mm | X7: TOTAL
A8: In RED : NEW | H8: =AK25+AK52+AK40+AK48 -> 0 | I8: =AL25+AL52+AL40+AL48 -> 0 | J8: =AM25+AM52+AM40+AM48 -> 0 | K8: =AN25+AN52+AN40+AN48 -> 0 | L8: =AO25+AO52+AO40+AO48 -> 0 | M8: =AP25+AP52+AP40+AP48 -> 0 | N8: =AQ25+AQ52+AQ40+AQ48 -> 0 | O8: =AR25+AR52+AR40+AR48 -> 0 | ... R8: =AU25+AU52+AU40+AU48 -> 0 | S8: =SUM(H8:R8) -> 0 | V8: =BH25+BH52+BH40+BH48 -> 0 | W8: =BI25+BI52+BI40+BI48 -> 0 | X8: =SUM(V8:W8) -> 0
B10: Size | C10: Nb of Holds per Set | D10: Sets Total | E10: Retail Price | F10: Final Price | H10: US 16-16 Green HEX 009933 | I10: Yellow Pantone 116C | J10: Red RAL 3020 | K10: Blue RAL 5015 | L10: Violet RAL 4008 | M10: Blue Mint RAL 6027 | N10: Black RAL 9005 | O10: White RAL 9010 | P10: Fluo Orange RAL 2005 | Q10: Fluo Pink Pantone 806C | R10: Fluo Green Pantone 802C | V10: Sizes | AK10: Bolts | BH10: Screws | BM10: Weight
A11: Mercy | V11: XS | W11: S | X11: M | Y11: L | Z11: XL | AA11: XXL | AB11: XXXL | AC11: XS | AD11: S | AE11: M | AF11: L | AG11: XL | AH11: XXL | AI11: XXXL | AK11: 30 mm | AL11: 40 mm | AM11: 50 mm | AN11: 70 mm | AO11: 90 mm | AP11: 100 mm | AQ11: 120 mm | AR11: 140 mm | AS11: 160 mm | AT11: 180 mm | AU11: 200 mm | AV11: 30 mm | AW11: 40 mm | AX11: 50 mm | AY11: 70 mm | AZ11: 90 mm | BA11: 100 mm | BB11: 120 mm | BC11: 140 mm | BD11: 160 mm | BE11: 180 mm | BF11: 200 mm | BH11: 50 mm | BI11: 70 mm | BJ11: 50 mm | BK11: 70 mm | BM11: Set | BN11: Total Sets
A12: Mercy XS1 DT | B12: XS | C12: 5 | D12: =SUM(H12:T12) -> 0 | E12: 27.5 | F12: =D12*E12*(100-$D$2)/100 -> 0 | V12: =AC12*D12 -> 0 | AC12: 5 | BH12: =BJ12*D12 -> 0 | BJ12: 10 | BM12: 0.1 | BN12: =BM12*D12 -> 0
A13: Mercy S1 DT | B13: S | C13: 5 | D13: =SUM(H13:T13) -> 0 | E13: 40 | F13: =D13*E13*(100-$D$2)/100 -> 0 | W13: =AD13*$D13 -> 0 | AD13: 5 | BH13: =BJ13*D13 -> 0 | BJ13: 10 | BM13: 0.24 | BN13: =BM13*D13 -> 0
A14: Mercy S2 DT | B14: S | C14: 5 | D14: =SUM(H14:T14) -> 0 | E14: 40 | F14: =D14*E14*(100-$D$2)/100 -> 0 | W14: =AD14*$D14 -> 0 | AD14: 5 | BH14: =BJ14*D14 -> 0 | BJ14: 10 | BM14: 0.25 | BN14: =BM14*D14 -> 0
A15: Mercy M1 DT | B15: M | C15: 5 | D15: =SUM(H15:T15) -> 0 | E15: 50 | F15: =D15*E15*(100-$D$2)/100 -> 0 | X15: =AE15*$D15 -> 0 | AE15: 5 | BH15: =BJ15*D15 -> 0 | BJ15: 10 | BM15: 0.37 | BN15: =BM15*D15 -> 0
A16: Mercy M2 DT | B16: M | C16: 5 | D16: =SUM(H16:T16) -> 0 | E16: 50 | F16: =D16*E16*(100-$D$2)/100 -> 0 | X16: =AE16*$D16 -> 0 | AE16: 5 | BH16: =BJ16*D16 -> 0 | BJ16: 10 | BM16: 0.46 | BN16: =BM16*D16 -> 0
A17: Mercy M3 | B17: M | C17: 5 | D17: =SUM(H17:T17) -> 0 | E17: 50 | F17: =D17*E17*(100-$D$2)/100 -> 0 | X17: =AE17*$D17 -> 0 | AE17: 5 | AK17: =AV17*$D17 -> 0 | AV17: 5 | BM17: 0.47 | BN17: =BM17*D17 -> 0
A18: Mercy M4 | B18: M | C18: 5 | D18: =SUM(H18:T18) -> 0 | E18: 50 | F18: =D18*E18*(100-$D$2)/100 -> 0 | X18: =AE18*$D18 -> 0 | AE18: 5 | AK18: =AV18*$D18 -> 0 | AV18: 5 | BM18: 0.4 | BN18: =BM18*D18 -> 0
A19: Mercy L1 DT | B19: L | C19: 5 | D19: =SUM(H19:T19) -> 0 | E19: 70 | F19: =D19*E19*(100-$D$2)/100 -> 0 | Y19: =AF19*$D19 -> 0 | AF19: 5 | BH19: =BJ19*D19 -> 0 | BJ19: 15 | BM19: 0.78 | BN19: =BM19*D19 -> 0
A20: Mercy L2 DT | B20: L | C20: 5 | D20: =SUM(H20:T20) -> 0 | E20: 65 | F20: =D20*E20*(100-$D$2)/100 -> 0 | Y20: =AF20*$D20 -> 0 | AF20: 5 | BH20: =BJ20*D20 -> 0 | BJ20: 15 | BM20: 0.69 | BN20: =BM20*D20 -> 0
A21: Mercy L3 DT | B21: L | C21: 5 | D21: =SUM(H21:T21) -> 0 | E21: 97.5 | F21: =D21*E21*(100-$D$2)/100 -> 0 | Y21: =AF21*$D21 -> 0 | AF21: 5 | BH21: =BJ21*D21 -> 0 | BJ21: 15 | BM21: 1.36 | BN21: =BM21*D21 -> 0
A22: Mercy L4 DT | B22: L | C22: 5 | D22: =SUM(H22:T22) -> 0 | E22: 70 | F22: =D22*E22*(100-$D$2)/100 -> 0 | Y22: =AF22*$D22 -> 0 | AF22: 5 | BH22: =BJ22*D22 -> 0 | BJ22: 15 | BM22: 0.81 | BN22: =BM22*D22 -> 0
A23: Mercy L5 | B23: L | C23: 5 | D23: =SUM(H23:T23) -> 0 | E23: 87.5 | F23: =D23*E23*(100-$D$2)/100 -> 0 | Y23: =AF23*$D23 -> 0 | AF23: 5 | AL23: =AW23*$D23 -> 0 | AW23: 5 | BH23: =BJ23*D23 -> 0 | BJ23: 15 | BM23: 1.08 | BN23: =BM23*D23 -> 0
A24: Pack | B24: XS-L | C24: =SUM(C12:C23) -> 60 | D24: =SUM(H24:T24) -> 0 | E24: 697.5 | F24: =D24*E24*(100-$D$2)/100 -> 0 | V24: =AC24*$D24 -> 0 | W24: =AD24*$D24 -> 0 | X24: =AE24*$D24 -> 0 | Y24: =AF24*$D24 -> 0 | AC24: 5 | AD24: 10 | AE24: 20 | AF24: 25 | AK24: =AV24*$D24 -> 0 | AL24: =AW24*$D24 -> 0 | AV24: 10 | AW24: 5 | BH24: =BJ24*D24 -> 0 | BJ24: =SUM(BJ12:BJ23) -> 125 | BM24: =SUM(BM12:BM23) -> 7.01 | BN24: =BM24*D24 -> 0
F25: =SUM(F12:F24) -> 0 | H25: =SUM(H12:H24) -> 0 | I25: =SUM(I12:I24) -> 0 | J25: =SUM(J12:J24) -> 0 | K25: =SUM(K12:K24) -> 0 | L25: =SUM(L12:L24) -> 0 | M25: =SUM(M12:M24) -> 0 | N25: =SUM(N12:N24) -> 0 | O25: =SUM(O12:O24) -> 0 | ... T25: =SUM(T12:T24) -> 0 | V25: =SUM(V12:V24) -> 0 | W25: =SUM(W12:W24) -> 0 | X25: =SUM(X12:X24) -> 0 | Y25: =SUM(Y12:Y24) -> 0 | Z25: =SUM(Z12:Z24) -> 0 | AA25: =SUM(AA12:AA24) -> 0 | AB25: =SUM(AB12:AB24) -> 0 | AK25: =SUM(AK12:AK24) -> 0 | AL25: =SUM(AL12:AL24) -> 0 | AM25: =SUM(AM12:AM24) -> 0 | AN25: =SUM(AN12:AN24) -> 0 | AO25: =SUM(AO12:AO24) -> 0 | AP25: =SUM(AP12:AP24) -> 0 | AQ25: =SUM(AQ12:AQ24) -> 0 | AR25: =SUM(AR12:AR24) -> 0 | ... AU25: =SUM(AU12:AU24) -> 0 | BH25: =SUM(BH12:BH24) -> 0 | BI25: =SUM(BI12:BI24) -> 0 | BN25: =SUM(BN12:BN24) -> 0
A26: Mercy (reverse) | V26: XS | W26: S | X26: M | Y26: L | Z26: XL | AA26: XXL | AB26: XXXL | AC26: XS | AD26: S | AE26: M | AF26: L | AG26: XL | AH26: XXL | AI26: XXXL | AK26: 30 mm | AL26: 40 mm | AM26: 50 mm | AN26: 70 mm | AO26: 90 mm | AP26: 100 mm | AQ26: 120 mm | AR26: 140 mm | AS26: 160 mm | AT26: 180 mm | AU26: 200 mm | AV26: 30 mm | AW26: 40 mm | AX26: 50 mm | AY26: 70 mm | AZ26: 90 mm | BA26: 100 mm | BB26: 120 mm | BC26: 140 mm | BD26: 160 mm | BE26: 180 mm | BF26: 200 mm | BH26: 50 mm | BI26: 70 mm | BJ26: 50 mm | BK26: 70 mm | BM26: Set | BN26: Total Sets
A27: Mercy XS2 DT | B27: XS | C27: 5 | D27: =SUM(H27:T27) -> 0 | E27: 27.5 | F27: =D27*E27*(100-$D$2)/100 -> 0 | V27: =AC27*D27 -> 0 | AC27: 5 | BH27: =BJ27*D27 -> 0 | BJ27: 10 | BM27: 0.1 | BN27: =BM27*D27 -> 0
A28: Mercy XS3 DT | B28: XS | C28: 5 | D28: =SUM(H28:T28) -> 0 | E28: 27.5 | F28: =D28*E28*(100-$D$2)/100 -> 0 | V28: =AC28*D28 -> 0 | AC28: 5 | BH28: =BJ28*D28 -> 0 | BJ28: 10 | BM28: 0.12 | BN28: =BM28*D28 -> 0
A29: Mercy S3 | B29: S | C29: 5 | D29: =SUM(H29:T29) -> 0 | E29: 42.5 | F29: =D29*E29*(100-$D$2)/100 -> 0 | W29: =AD29*$D29 -> 0 | AD29: 5 | BH29: =BJ29*D29 -> 0 | BJ29: 10 | BM29: 0.33 | BN29: =BM29*D29 -> 0
A30: Mercy M5 DT | B30: M | C30: 5 | D30: =SUM(H30:T30) -> 0 | E30: 40 | F30: =D30*E30*(100-$D$2)/100 -> 0 | X30: =AE30*$D30 -> 0 | AE30: 5 | BH30: =BJ30*D30 -> 0 | BJ30: 10 | BM30: 0.25 | BN30: =BM30*D30 -> 0
A31: Mercy M6 DT | B31: M | C31: 5 | D31: =SUM(H31:T31) -> 0 | E31: 45 | F31: =D31*E31*(100-$D$2)/100 -> 0 | X31: =AE31*$D31 -> 0 | AE31: 5 | BH31: =BJ31*D31 -> 0 | BJ31: 10 | BM31: 0.36 | BN31: =BM31*D31 -> 0
A32: Mercy M7 DT | B32: M | C32: 5 | D32: =SUM(H32:T32) -> 0 | E32: 47.5 | F32: =D32*E32*(100-$D$2)/100 -> 0 | X32: =AE32*$D32 -> 0 | AE32: 5 | BH32: =BJ32*D32 -> 0 | BJ32: 10 | BM32: 0.39 | BN32: =BM32*D32 -> 0
A33: Mercy M8 DT | B33: M | C33: 5 | D33: =SUM(H33:T33) -> 0 | E33: 45 | F33: =D33*E33*(100-$D$2)/100 -> 0 | X33: =AE33*$D33 -> 0 | AE33: 5 | BH33: =BJ33*D33 -> 0 | BJ33: 10 | BM33: 0.36 | BN33: =BM33*D33 -> 0
A34: Mercy M9 | B34: M | C34: 5 | D34: =SUM(H34:T34) -> 0 | E34: 55 | F34: =D34*E34*(100-$D$2)/100 -> 0 | X34: =AE34*$D34 -> 0 | AE34: 5 | AK34: =AV34*$D34 -> 0 | AV34: 5 | BM34: 0.54 | BN34: =BM34*D34 -> 0
A35: Mercy M10 | B35: M | C35: 5 | D35: =SUM(H35:T35) -> 0 | E35: 60 | F35: =D35*E35*(100-$D$2)/100 -> 0 | X35: =AE35*$D35 -> 0 | AE35: 5 | AK35: =AV35*$D35 -> 0 | AV35: 5 | BM35: 0.61 | BN35: =BM35*D35 -> 0
A36: Mercy L6 DT | B36: L | C36: 5 | D36: =SUM(H36:T36) -> 0 | E36: 80 | F36: =D36*E36*(100-$D$2)/100 -> 0 | Y36: =AF36*$D36 -> 0 | AF36: 5 | BH36: =BJ36*D36 -> 0 | BJ36: 15 | BM36: 0.97 | BN36: =BM36*D36 -> 0
A37: Mercy L7 | B37: L | C37: 5 | D37: =SUM(H37:T37) -> 0 | E37: 87.5 | F37: =D37*E37*(100-$D$2)/100 -> 0 | Y37: =AF37*$D37 -> 0 | AF37: 5 | AL37: =AW37*$D37 -> 0 | AW37: 5 | BM37: 1.24 | BN37: =BM37*D37 -> 0
A38: Mercy L8 | B38: L | C38: 5 | D38: =SUM(H38:T38) -> 0 | E38: 100 | F38: =D38*E38*(100-$D$2)/100 -> 0 | Y38: =AF38*$D38 -> 0 | AF38: 5 | AL38: =AW38*$D38 -> 0 | AW38: 5 | BM38: 1.31 | BN38: =BM38*D38 -> 0
A39: Pack | B39: XS-L | C39: =SUM(C27:C38) -> 60 | D39: =SUM(H39:T39) -> 0 | E39: 657.5 | F39: =D39*E39*(100-$D$2)/100 -> 0 | V39: =AC39*$D39 -> 0 | W39: =AD39*$D39 -> 0 | X39: =AE39*$D39 -> 0 | Y39: =AF39*$D39 -> 0 | AC39: 10 | AD39: 5 | AE39: 30 | AF39: 15 | AK39: =AV39*$D39 -> 0 | AL39: =AW39*$D39 -> 0 | AV39: 10 | AW39: 5 | BH39: =BJ39*D39 -> 0 | BJ39: =SUM(BJ27:BJ38) -> 85 | BM39: 6.58 | BN39: =BM39*D39 -> 0
F40: =SUM(F27:F39) -> 0 | H40: =SUM(H27:H39) -> 0 | I40: =SUM(I27:I39) -> 0 | J40: =SUM(J27:J39) -> 0 | K40: =SUM(K27:K39) -> 0 | L40: =SUM(L27:L39) -> 0 | M40: =SUM(M27:M39) -> 0 | N40: =SUM(N27:N39) -> 0 | O40: =SUM(O27:O39) -> 0 | ... T40: =SUM(T27:T39) -> 0 | V40: =SUM(V27:V39) -> 0 | W40: =SUM(W27:W39) -> 0 | X40: =SUM(X27:X39) -> 0 | Y40: =SUM(Y27:Y39) -> 0 | Z40: =SUM(Z27:Z39) -> 0 | AA40: =SUM(AA27:AA39) -> 0 | AB40: =SUM(AB27:AB39) -> 0 | AK40: =SUM(AK27:AK39) -> 0 | AL40: =SUM(AL27:AL39) -> 0 | AM40: =SUM(AM27:AM39) -> 0 | AN40: =SUM(AN27:AN39) -> 0 | AO40: =SUM(AO27:AO39) -> 0 | AP40: =SUM(AP27:AP39) -> 0 | AQ40: =SUM(AQ27:AQ39) -> 0 | AR40: =SUM(AR27:AR39) -> 0 | ... AU40: =SUM(AU27:AU39) -> 0 | BH40: =SUM(BH27:BH39) -> 0 | BI40: =SUM(BI27:BI39) -> 0 | BN40: =SUM(BN27:BN39) -> 0
A41: ArtLab | V41: XS | W41: S | X41: M | Y41: L | Z41: XL | AA41: XXL | AB41: XXXL | AC41: XS | AD41: S | AE41: M | AF41: L | AG41: XL | AH41: XXL | AI41: XXXL | AK41: 30 mm | AL41: 40 mm | AM41: 50 mm | AN41: 70 mm | AO41: 90 mm | AP41: 100 mm | AQ41: 120 mm | AR41: 140 mm | AS41: 160 mm | AT41: 180 mm | AU41: 200 mm | AV41: 30 mm | AW41: 40 mm | AX41: 50 mm | AY41: 70 mm | AZ41: 90 mm | BA41: 100 mm | BB41: 120 mm | BC41: 140 mm | BD41: 160 mm | BE41: 180 mm | BF41: 200 mm | BH41: 50 mm | BI41: 70 mm | BJ41: 50 mm | BK41: 70 mm | BM41: Set | BN41: Total Sets
A42: Manta XS DT | B42: XS | C42: 15 | D42: =SUM(H42:T42) -> 0 | E42: 85 | F42: =D42*E42*(100-$D$2)/100 -> 0 | V42: =AC42*D42 -> 0 | AC42: 15 | BH42: =BJ42*D42 -> 0 | BJ42: 30 | BM42: 0.34 | BN42: =BM42*D42 -> 0
A43: Manta M1 DT | B43: M | C43: 5 | D43: =SUM(H43:T43) -> 0 | E43: 50 | F43: =D43*E43*(100-$D$2)/100 -> 0 | X43: =AE43*$D43 -> 0 | AE43: 5 | BH43: =BJ43*D43 -> 0 | BJ43: 10 | BM43: 0.46 | BN43: =BM43*D43 -> 0
A44: Manta M2 DT | B44: M | C44: 5 | D44: =SUM(H44:T44) -> 0 | E44: 57.5 | F44: =D44*E44*(100-$D$2)/100 -> 0 | X44: =AE44*$D44 -> 0 | AE44: 5 | BH44: =BJ44*D44 -> 0 | BJ44: 10 | BM44: 0.58 | BN44: =BM44*D44 -> 0
A45: Manta L1 DT | B45: L | C45: 5 | D45: =SUM(H45:T45) -> 0 | E45: 97.5 | F45: =D45*E45*(100-$D$2)/100 -> 0 | Y45: =AF45*$D45 -> 0 | AF45: 5 | BH45: =BJ45*D45 -> 0 | BJ45: 10 | BM45: 1.43 | BN45: =BM45*D45 -> 0
A46: Manta L2 DT | B46: L | C46: 5 | D46: =SUM(H46:T46) -> 0 | E46: 145 | F46: =D46*E46*(100-$D$2)/100 -> 0 | Y46: =AF46*$D46 -> 0 | AF46: 5 | BH46: =BJ46*D46 -> 0 | BJ46: 10 | BM46: 2.71 | BN46: =BM46*D46 -> 0
A47: Pack | B47: XS to L | C47: 35 | D47: =SUM(H47:T47) -> 0 | E47: 435 | F47: =D47*E47*(100-$D$2)/100 -> 0 | V47: =AC47*$D47 -> 0 | W47: =AD47*$D47 -> 0 | X47: =AE47*$D47 -> 0 | Y47: =AF47*$D47 -> 0 | AC47: 15 | AE47: 10 | AF47: 10 | BH47: =BJ47*D47 -> 0 | BJ47: =SUM(BJ42:BJ46) -> 70 | BM47: 5.52 | BN47: =BM47*D47 -> 0
F48: =SUM(F42:F47) -> 0 | H48: =SUM(H42:H47) -> 0 | I48: =SUM(I42:I47) -> 0 | J48: =SUM(J42:J47) -> 0 | K48: =SUM(K42:K47) -> 0 | L48: =SUM(L42:L47) -> 0 | M48: =SUM(M42:M47) -> 0 | N48: =SUM(N42:N47) -> 0 | O48: =SUM(O42:O47) -> 0 | ... T48: =SUM(T42:T47) -> 0 | V48: =SUM(V42:V47) -> 0 | W48: =SUM(W42:W47) -> 0 | X48: =SUM(X42:X47) -> 0 | Y48: =SUM(Y42:Y47) -> 0 | Z48: =SUM(Z42:Z47) -> 0 | AA48: =SUM(AA42:AA47) -> 0 | AB48: =SUM(AB42:AB47) -> 0 | AK48: =SUM(AK42:AK47) -> 0 | AL48: =SUM(AL42:AL47) -> 0 | AM48: =SUM(AM42:AM47) -> 0 | AN48: =SUM(AN42:AN47) -> 0 | AO48: =SUM(AO42:AO47) -> 0 | AP48: =SUM(AP42:AP47) -> 0 | AQ48: =SUM(AQ42:AQ47) -> 0 | AR48: =SUM(AR42:AR47) -> 0 | ... AU48: =SUM(AU42:AU47) -> 0 | BH48: =SUM(BH42:BH47) -> 0 | BI48: =SUM(BI42:BI47) -> 0 | BN48: =SUM(BN42:BN47) -> 0
A49: Pinpoints | V49: XS | W49: S | X49: M | Y49: L | Z49: XL | AA49: XXL | AB49: XXXL | AC49: XS | AD49: S | AE49: M | AF49: L | AG49: XL | AH49: XXL | AI49: XXXL | AK49: 30 mm | AL49: 40 mm | AM49: 50 mm | AN49: 70 mm | AO49: 90 mm | AP49: 100 mm | AQ49: 120 mm | AR49: 140 mm | AS49: 160 mm | AT49: 180 mm | AU49: 200 mm | AV49: 30 mm | AW49: 40 mm | AX49: 50 mm | AY49: 70 mm | AZ49: 90 mm | BA49: 100 mm | BB49: 120 mm | BC49: 140 mm | BD49: 160 mm | BE49: 180 mm | BF49: 200 mm | BH49: 50 mm | BI49: 70 mm | BJ49: 50 mm | BK49: 70 mm | BM49: Set | BN49: Total Sets
A50: Pinpoints Solo | B50: XS | C50: 50 | D50: =SUM(H50:T50) -> 0 | E50: 42.5 | F50: =D50*E50*(100-$D$2)/100 -> 0 | V50: =AC50*D50 -> 0 | AC50: 50 | BH50: =BJ50*D50 -> 0 | BJ50: 50 | BM50: 0.25 | BN50: =BM50*D50 -> 0
A51: Pinpoints Duo | B51: XS | C51: 20 | D51: =SUM(H51:T51) -> 0 | E51: 30 | F51: =D51*E51*(100-$D$2)/100 -> 0 | V51: =AC51*D51 -> 0 | AC51: 20 | BH51: =BJ51*D51 -> 0 | BJ51: 20 | BM51: 0.18 | BN51: =BM51*D51 -> 0
F52: =SUM(F50:F51) -> 0 | H52: =SUM(H50:H51) -> 0 | I52: =SUM(I50:I51) -> 0 | J52: =SUM(J50:J51) -> 0 | K52: =SUM(K50:K51) -> 0 | L52: =SUM(L50:L51) -> 0 | M52: =SUM(M50:M51) -> 0 | N52: =SUM(N50:N51) -> 0 | O52: =SUM(O50:O51) -> 0 | ... T52: =SUM(T50:T51) -> 0 | V52: =SUM(V50:V51) -> 0 | W52: =SUM(W50:W51) -> 0 | X52: =SUM(X50:X51) -> 0 | Y52: =SUM(Y50:Y51) -> 0 | Z52: =SUM(Z50:Z51) -> 0 | AA52: =SUM(AA50:AA51) -> 0 | AB52: =SUM(AB50:AB51) -> 0 | AK52: =SUM(AK50:AK51) -> 0 | AL52: =SUM(AL50:AL51) -> 0 | AM52: =SUM(AM50:AM51) -> 0 | AN52: =SUM(AN50:AN51) -> 0 | AO52: =SUM(AO50:AO51) -> 0 | AP52: =SUM(AP50:AP51) -> 0 | AQ52: =SUM(AQ50:AQ51) -> 0 | AR52: =SUM(AR50:AR51) -> 0 | ... AU52: =SUM(AU50:AU51) -> 0 | BH52: =SUM(BH50:BH51) -> 0 | BI52: =SUM(BI50:BI51) -> 0 | BN52: =SUM(BN50:BN51) -> 0

Sheet PU - Peak Performance USA
D1: $ HT | E1: DISCOUNT % | I1: Holds Size of your order : | V1: Total Weight of your order (kg) : | Y1: =BK36+BK41 -> 0
B2: Total Amount order : | D2: =G36 -> 0 | E2: 0 | I2: XS | J2: S | K2: M | L2: L | M2: XL | N2: XXL | O2: XXXL | P2: TOTAL
I3: =S36+S41 -> 0 | J3: =T36+T41 -> 0 | K3: =U36+U41 -> 0 | L3: =V36+V41 -> 0 | M3: =W36+W41 -> 0 | N3: =X36+X41 -> 0 | O3: =Y36+Y41 -> 0 | P3: =SUM(I3:O3) -> 0
B5: PU by Peak Performance
I6: Bolts adapted to your order: | V6: Screws adapted to your order:
I7: 30 mm | J7: 40 mm | K7: 50 mm | L7: 70 mm | M7: 90 mm | N7: 100 mm | O7: 120 mm | P7: 140 mm | Q7: 160 mm | R7: 180 mm | S7: 200 mm | T7: TOTAL | V7: 50 mm | W7: 70 mm | X7: TOTAL
A8: In RED : NEW | I8: =S36+S41 -> 0 | J8: =T36+T41 -> 0 | K8: =U36+U41 -> 0 | L8: =V36+V41 -> 0 | M8: =W36+W41 -> 0 | N8: =X36+X41 -> 0 | O8: =Y36+Y41 -> 0 | P8: =Z36+Z41 -> 0 | ... S8: =AC36+AC41 -> 0 | T8: =SUM(I8:S8) -> 0 | V8: =BE36+BE41 -> 0 | W8: =BF36+BF41 -> 0 | X8: =SUM(V8:W8) -> 0
A10: SKU | C10: Size | D10: Nb of Holds per Set | E10: Sets Total | F10: Retail Price $ | G10: Final Price | I10: Green 16-16 | J10: Yellow 15-12 | K10: Red RAL 11-12 | L10: Blue RAL 13-01 | M10: Purple 07-13 | N10: Black 18-01 | O10: White 12-01 | P10: Pink 11-26 | Q10: Orange 14-01 | S10: Sizes | AH10: Bolts | BE10: Screws | BJ10: Weight
B11: Vortex line | S11: XS | T11: S | U11: M | V11: L | W11: XL | X11: XXL | Y11: XXXL | Z11: XS | AA11: S | AB11: M | AC11: L | AD11: XL | AE11: XXL | AF11: XXXL | AH11: 30 mm | AI11: 40 mm | AJ11: 50 mm | AK11: 70 mm | AL11: 90 mm | AM11: 100 mm | AN11: 120 mm | AO11: 140 mm | AP11: 160 mm | AQ11: 180 mm | AR11: 200 mm | AS11: 30 mm | AT11: 40 mm | AU11: 50 mm | AV11: 70 mm | AW11: 90 mm | AX11: 100 mm | AY11: 120 mm | AZ11: 140 mm | BA11: 160 mm | BB11: 180 mm | BC11: 200 mm | BE11: 50 mm | BF11: 70 mm | BG11: 50 mm | BH11: 70 mm | BJ11: Set | BK11: Total Sets
A12: PPUSARVOXS | B12: Screw-ons XS PU | C12: XS | D12: 15 | E12: =SUM(I12:Q12) -> 0 | F12: 85 | G12: =E12*F12*(100-$E$2)/100 -> 0 | S12: =Z12*$E12 -> 0 | Z12: 15 | BE12: =BG12*$E12 -> 0 | BG12: 30 | BJ12: 0.36 | BK12: =BJ12*E12 -> 0
A13: PPUSARVOS | B13: Screw-ons S PU | C13: S | D13: 10 | E13: =SUM(I13:Q13) -> 0 | F13: 87.5 | G13: =E13*F13*(100-$F$2)/100 -> 0 | T13: =AA13*$E13 -> 0 | AA13: 10 | BE13: =BG13*$E13 -> 0 | BG13: 30 | BJ13: 0.54 | BK13: =BJ13*E13 -> 0
A14: PPUSARVOS1 | B14: Foot S1 DT PU | C14: S | D14: 5 | E14: =SUM(I14:Q14) -> 0 | F14: 62.5 | G14: =E14*F14*(100-$F$2)/100 -> 0 | T14: =AA14*$E14 -> 0 | AA14: 5 | BE14: =BG14*$E14 -> 0 | BG14: 10 | BJ14: 0.27 | BK14: =BJ14*E14 -> 0
A15: PPUSARVOS2 | B15: Foot S2 DT PU | C15: S | D15: 5 | E15: =SUM(I15:Q15) -> 0 | F15: 62.5 | G15: =E15*F15*(100-$F$2)/100 -> 0 | T15: =AA15*$E15 -> 0 | AA15: 5 | BE15: =BG15*$E15 -> 0 | BG15: 10 | BJ15: 0.27 | BK15: =BJ15*E15 -> 0
A16: PPUSARVOM1 | B16: Crimps M1PU | C16: M | D16: 5 | E16: =SUM(I16:Q16) -> 0 | F16: 80 | G16: =E16*F16*(100-$F$2)/100 -> 0 | U16: =AB16*$E16 -> 0 | AB16: 5 | AH16: =AS16*$E16 -> 0 | AS16: 5 | BJ16: 0.54 | BK16: =BJ16*E16 -> 0
A17: PPUSARVOM2 | B17: Edges M2 PU | C17: M | D17: 5 | E17: =SUM(I17:Q17) -> 0 | F17: 90 | G17: =E17*F17*(100-$F$2)/100 -> 0 | U17: =AB17*$E17 -> 0 | AB17: 5 | AH17: =AS17*$E17 -> 0 | AS17: 5 | BJ17: 0.81 | BK17: =BJ17*E17 -> 0
A18: PPUSARVOM3 | B18: Edges M3 PU | C18: M | D18: 5 | E18: =SUM(I18:Q18) -> 0 | F18: 92.5 | G18: =E18*F18*(100-$F$2)/100 -> 0 | U18: =AB18*$E18 -> 0 | AB18: 5 | AH18: =AS18*$E18 -> 0 | AS18: 5 | BE18: =BG18*$E18 -> 0 | BG18: 10 | BJ18: 0.81 | BK18: =BJ18*E18 -> 0
A19: PPUSARVOM4 | B19: Crimps M4 DT PU | C19: M | D19: 5 | E19: =SUM(I19:Q19) -> 0 | F19: 92.5 | G19: =E19*F19*(100-$F$2)/100 -> 0 | U19: =AB19*$E19 -> 0 | AB19: 5 | BE19: =BG19*$E19 -> 0 | BG19: 10 | BJ19: 0.81 | BK19: =BJ19*E19 -> 0
A20: PPUSARVOM5 | B20: Edges M5 DT PU | C20: M | D20: 5 | E20: =SUM(I20:Q20) -> 0 | F20: 77.5 | G20: =E20*F20*(100-$F$2)/100 -> 0 | U20: =AB20*$E20 -> 0 | AB20: 5 | BE20: =BG20*$E20 -> 0 | BG20: 10 | BJ20: 0.45 | BK20: =BJ20*E20 -> 0
A21: PPUSARVOL1 | B21: Edges L1 PU | C21: L | D21: 3 | E21: =SUM(I21:Q21) -> 0 | F21: 82.5 | G21: =E21*F21*(100-$F$2)/100 -> 0 | V21: =AC21*$E21 -> 0 | AC21: 3 | AH21: =AS21*$E21 -> 0 | AS21: 3 | BJ21: 0.81 | BK21: =BJ21*E21 -> 0
A22: PPUSARVOL2 | B22: Edges L2 DT PU | C22: L | D22: 5 | E22: =SUM(I22:Q22) -> 0 | F22: 137.5 | G22: =E22*F22*(100-$F$2)/100 -> 0 | V22: =AC22*$E22 -> 0 | AC22: 5 | AH22: =AS22*$E22 -> 0 | AS22: 5 | BJ22: 1.53 | BK22: =BJ22*E22 -> 0
A23: PPUSARVOL3 | B23: Slopers L3 DT PU | C23: L | D23: 3 | E23: =SUM(I23:Q23) -> 0 | F23: 137.5 | G23: =E23*F23*(100-$F$2)/100 -> 0 | V23: =AC23*$E23 -> 0 | AC23: 3 | AI23: =AT23*$E23 -> 0 | AT23: 3 | BJ23: 1.71 | BK23: =BJ23*E23 -> 0
A24: PPUSARVOL4 | B24: Flat jugs L4 DT PU | C24: L | D24: 3 | E24: =SUM(I24:Q24) -> 0 | F24: 132.5 | G24: =E24*F24*(100-$F$2)/100 -> 0 | V24: =AC24*$E24 -> 0 | AC24: 3 | AK24: =AV24*$E24 -> 0 | AL24: =AW24*$E24 -> 0 | AV24: 2 | AW24: 1 | BJ24: 1.53 | BK24: =BJ24*E24 -> 0
A25: PPUSARVOXL1 | B25: Edges XL1 DT PU | C25: XL | D25: 3 | E25: =SUM(I25:Q25) -> 0 | F25: 97.5 | G25: =E25*F25*(100-$F$2)/100 -> 0 | W25: =AD25*$E25 -> 0 | AD25: 3 | AH25: =AS25*$E25 -> 0 | AK25: =AV25*$E25 -> 0 | AS25: 1 | AV25: 2 | BJ25: 0.81 | BK25: =BJ25*E25 -> 0
A26: PPUSARVOXL2 | B26: Slopers XL2 DT PU | C26: XL | D26: 3 | E26: =SUM(I26:Q26) -> 0 | F26: 170 | G26: =E26*F26*(100-$F$2)/100 -> 0 | W26: =AD26*$E26 -> 0 | AD26: 3 | AL26: =AW26*$E26 -> 0 | AM26: =AX26*$E26 -> 0 | AW26: 2 | AX26: 1 | BJ26: 2.43 | BK26: =BJ26*E26 -> 0
A27: PPUSARVOXL3 | B27: Slopers XL3 DT PU | C27: XL | D27: 3 | E27: =SUM(I27:Q27) -> 0 | F27: 147.5 | G27: =E27*F27*(100-$F$2)/100 -> 0 | W27: =AD27*$E27 -> 0 | AD27: 3 | AK27: =AV27*$E27 -> 0 | AL27: =AW27*$E27 -> 0 | AV27: 1 | AW27: 2 | BJ27: 1.98 | BK27: =BJ27*E27 -> 0
A28: PPUSARVOXL4 | B28: Slopers XL4 DT PU | C28: XL | D28: 3 | E28: =SUM(I28:Q28) -> 0 | F28: 192.5 | G28: =E28*F28*(100-$F$2)/100 -> 0 | W28: =AD28*$E28 -> 0 | AD28: 3 | AK28: =AV28*$E28 -> 0 | AL28: =AW28*$E28 -> 0 | AM28: =AX28*$E28 -> 0 | AV28: 1 | AW28: 1 | AX28: 1 | BJ28: 2.79 | BK28: =BJ28*E28 -> 0
A29: PPUSARVOXXL1 | B29: Sloper XXL1 DT PU | C29: XXL | D29: 1 | E29: =SUM(I29:Q29) -> 0 | F29: 97.5 | G29: =E29*F29*(100-$F$2)/100 -> 0 | X29: =AE29*$E29 -> 0 | AE29: 1 | AM29: =AX29*$E29 -> 0 | AX29: 1 | BJ29: 1.17 | BK29: =BJ29*E29 -> 0
A30: PPUSARVOXXL2 | B30: Sloper XXL2 DT PU | C30: XXL | D30: 1 | E30: =SUM(I30:Q30) -> 0 | F30: 92.5 | G30: =E30*F30*(100-$F$2)/100 -> 0 | X30: =AE30*$E30 -> 0 | AE30: 1 | AL30: =AW30*$E30 -> 0 | AW30: 1 | BJ30: 1.08 | BK30: =BJ30*E30 -> 0
A31: PPUSARVOXXL3 | B31: Sloper XXL3 DT PU | C31: XXL | D31: 1 | E31: =SUM(I31:Q31) -> 0 | F31: 95 | G31: =E31*F31*(100-$F$2)/100 -> 0 | X31: =AE31*$E31 -> 0 | AE31: 1 | AM31: =AX31*$E31 -> 0 | AX31: 1 | BJ31: 1.17 | BK31: =BJ31*E31 -> 0
A32: PPUSARVOXXL4 | B32: Jug XXL4 DT PU | C32: XXL | D32: 1 | E32: =SUM(I32:Q32) -> 0 | F32: 102.5 | G32: =E32*F32*(100-$F$2)/100 -> 0 | X32: =AE32*$E32 -> 0 | AE32: 1 | AK32: =AV32*$E32 -> 0 | AV32: 1 | BJ32: 1.26 | BK32: =BJ32*E32 -> 0
A33: PPUSARVOXXL5 | B33: Sloper XXL5 DT PU | C33: XXL | D33: 1 | E33: =SUM(I33:Q33) -> 0 | F33: 95 | G33: =E33*F33*(100-$F$2)/100 -> 0 | X33: =AE33*$E33 -> 0 | AE33: 1 | AK33: =AV33*$E33 -> 0 | AV33: 1 | BJ33: 1.08 | BK33: =BJ33*E33 -> 0
A34: PPUSARVOPABO | B34: Pack Vortex Boulder | C34: XS to XXL | D34: 42 | E34: =SUM(I34:Q34) -> 0 | F34: 630 | G34: =E34*F34*(100-$F$2)/100 -> 0 | S34: =Z34*$E34 -> 0 | T34: =AA34*$E34 -> 0 | U34: =AB34*$E34 -> 0 | V34: =AC34*$E34 -> 0 | W34: =AD34*$E34 -> 0 | X34: =AE34*$E34 -> 0 | Z34: 15 | AA34: 10 | AB34: 5 | AC34: 3 | AD34: 6 | AE34: 3 | AH34: =AS34*$E34 -> 0 | AI34: =AT34*$E34 -> 0 | AL34: =AW34*$E34 -> 0 | AN34: =AY34*$E34 -> 0 | AO34: =AZ34*$E34 -> 0 | AS34: 1 | AT34: 3 | AW34: 4 | AY34: 3 | AZ34: 1 | BE34: =BG34*$E34 -> 0 | BG34: 70 | BJ34: 9.72 | BK34: =BJ34*E34 -> 0
A35: PPUSARVOPALE | B35: Pack Vortex Lead | C35: XS to L | D35: 54 | E35: =SUM(I35:Q35) -> 0 | F35: 645 | G35: =E35*F35*(100-$F$2)/100 -> 0 | S35: =Z35*$E35 -> 0 | T35: =AA35*$E35 -> 0 | U35: =AB35*$E35 -> 0 | V35: =AC35*$E35 -> 0 | Z35: 15 | AA35: 5 | AB35: 20 | AC35: 14 | AH35: =AS35*$E35 -> 0 | AI35: =AT35*$E35 -> 0 | AL35: =AW35*$E35 -> 0 | AN35: =AY35*$E35 -> 0 | AS35: 18 | AT35: 3 | AW35: 2 | AY35: 1 | BE35: =BG35*$E35 -> 0 | BG35: 50 | BJ35: 8.82 | BK35: =BJ35*E35 -> 0
G36: =SUM(G12:G35) -> 0 | I36: =SUM(I12:I35) -> 0 | J36: =SUM(J12:J35) -> 0 | K36: =SUM(K12:K35) -> 0 | L36: =SUM(L12:L35) -> 0 | M36: =SUM(M12:M35) -> 0 | N36: =SUM(N12:N35) -> 0 | O36: =SUM(O12:O35) -> 0 | P36: =SUM(P12:P35) -> 0 | Q36: =SUM(Q12:Q35) -> 0 | S36: =SUM(S12:S35) -> 0 | T36: =SUM(T12:T35) -> 0 | U36: =SUM(U12:U35) -> 0 | V36: =SUM(V12:V35) -> 0 | W36: =SUM(W12:W35) -> 0 | X36: =SUM(X12:X35) -> 0 | Y36: =SUM(Y12:Y35) -> 0 | AH36: =SUM(AH12:AH35) -> 0 | AI36: =SUM(AI12:AI35) -> 0 | AJ36: =SUM(AJ12:AJ35) -> 0 | AK36: =SUM(AK12:AK35) -> 0 | AL36: =SUM(AL12:AL35) -> 0 | AM36: =SUM(AM12:AM35) -> 0 | AN36: =SUM(AN12:AN35) -> 0 | AO36: =SUM(AO12:AO35) -> 0 | ... AR36: =SUM(AR12:AR35) -> 0 | BE36: =SUM(BE12:BE33) -> 0 | BF36: =SUM(BF12:BF33) -> 0 | BK36: =SUM(BK12:BK35) -> 0
B37: Speed Kid | S37: XS | T37: S | U37: M | V37: L | W37: XL | X37: XXL | Y37: XXXL | Z37: XS | AA37: S | AB37: M | AC37: L | AD37: XL | AE37: XXL | AF37: XXXL | AH37: 30 mm | AI37: 40 mm | AJ37: 50 mm | AK37: 70 mm | AL37: 90 mm | AM37: 100 mm | AN37: 120 mm | AO37: 140 mm | AP37: 160 mm | AQ37: 180 mm | AR37: 200 mm | AS37: 30 mm | AT37: 40 mm | AU37: 50 mm | AV37: 70 mm | AW37: 90 mm | AX37: 100 mm | AY37: 120 mm | AZ37: 140 mm | BA37: 160 mm | BB37: 180 mm | BC37: 200 mm | BE37: 50 mm | BF37: 70 mm | BG37: 50 mm | BH37: 70 mm | BJ37: Set | BK37: Total Sets
A38: PPUSFISPKF | B38: Pack Speed Kid | C38: S/XL | D38: 16 | E38: =SUM(I38:Q38) -> 0 | F38: 860 | G38: =E38*F38*(100-$E$2)/100 -> 0 | T38: =AA38*$E38 -> 0 | W38: =AD38*$E38 -> 0 | AA38: 4 | AD38: 12 | AH38: =AS38*$E38 -> 0 | AL38: =AW38*$E38 -> 0 | AS38: 4 | AW38: 12 | BK38: =BJ38*E38 -> 0
A39: PPUSFISPKH | B39: Speed Kid Foot | C39: S | D39: 1 | E39: =SUM(I39:Q39) -> 0 | F39: std bye | G39: =E39*F39*(100-$E$2)/100 -> #VALUE! | T39: =AA39*$E39 -> 0 | AA39: 1 | AH39: =AS39*$E39 -> 0 | AS39: 1 | BK39: =BJ39*E39 -> 0
A40: PPUSFIPASP | B40: Speed Kid Hand | C40: XL | D40: 1 | E40: =SUM(I40:Q40) -> 0 | F40: std bye | G40: =E40*F40*(100-$E$2)/100 -> #VALUE! | W40: =AD40*$E40 -> 0 | AD40: 1 | AL40: =AW40*$E40 -> 0 | AW40: 1 | BK40: =BJ40*E40 -> 0
G41: =SUM(G38:G40) -> #VALUE! | I41: =SUM(I38:I40) -> 0 | J41: =SUM(J38:J40) -> 0 | K41: =SUM(K38:K40) -> 0 | L41: =SUM(L38:L40) -> 0 | M41: =SUM(M38:M40) -> 0 | N41: =SUM(N38:N40) -> 0 | O41: =SUM(O38:O40) -> 0 | P41: =SUM(P38:P40) -> 0 | Q41: =SUM(Q38:Q40) -> 0 | S41: =SUM(S38:S40) -> 0 | T41: =SUM(T38:T40) -> 0 | U41: =SUM(U38:U40) -> 0 | V41: =SUM(V38:V40) -> 0 | W41: =SUM(W38:W40) -> 0 | X41: =SUM(X38:X40) -> 0 | Y41: =SUM(Y38:Y40) -> 0 | AH41: =SUM(AH38:AH40) -> 0 | AI41: =SUM(AI38:AI40) -> 0 | AJ41: =SUM(AJ38:AJ40) -> 0 | AK41: =SUM(AK38:AK40) -> 0 | AL41: =SUM(AL38:AL40) -> 0 | AM41: =SUM(AM38:AM40) -> 0 | AN41: =SUM(AN38:AN40) -> 0 | AO41: =SUM(AO38:AO40) -> 0 | ... AR41: =SUM(AR38:AR40) -> 0 | BE41: =SUM(BE38:BE40) -> 0 | BF41: =SUM(BF38:BF40) -> 0 | BK41: =SUM(BK38:BK40) -> 0

Sheet GRP-PU - 360 Europe
C1: EUR HT | D1: DISCOUNT% | H1: Holds Size of your order : | U1: Total Weight of your order (kg) : | Y1: =BS24+BS56+BS93+BS143 -> 0
A2: Total Amount order : | C2: =C3+C4 -> 0 | D2: =AVERAGE(D3:D4) -> 0 | H2: XS | I2: S | J2: M | K2: L | L2: XL | M2: XXL | N2: XXXL | O2: Mega | P2: TOTAL
C3: =F24+F56+F143 -> 0 | D3: 0 | H3: =U24+U56+U93+U143 -> 0 | I3: =V24+V56+V93+V143 -> 0 | J3: =W24+W56+W93+W143 -> 0 | K3: =X24+X56+X93+X143 -> 0 | L3: =Y24+Y56+Y93+Y143 -> 0 | M3: =Z24+Z56+Z93+Z143 -> 0 | N3: =AA24+AA56+AA93+AA143 -> 0 | O3: =AB24+AB56+AB93+AB143 -> 0 | P3: =SUM(H3:O3) -> 0
C4: =F93 -> 0 | D4: 0 | E4: ArtLab
A5: GRP/PU by 360 Europe | C5: =C2/P3 -> #DIV/0!
H6: Bolts adapted to your order: | U6: Screws adapted to your order:
H7: 30 mm | I7: 40 mm | J7: 50 mm | K7: 70 mm | L7: 90 mm | M7: 100 mm | N7: 120 mm | O7: 140 mm | P7: 160 mm | Q7: 180 mm | R7: 200 mm | S7: TOTAL | U7: 50 mm | V7: 70 mm | W7: TOTAL
A8: In RED : NEW | H8: =AL24+AL56+AL93+AL143 -> 0 | I8: =AM24+AM56+AM93+AM143 -> 0 | J8: =AN24+AN56+AN93+AN143 -> 0 | K8: =AO24+AO56+AO93+AO143 -> 0 | L8: =AP24+AP56+AP93+AP143 -> 0 | M8: =AQ24+AQ56+AQ93+AQ143 -> 0 | N8: =AR24+AR56+AR93+AR143 -> 0 | O8: =AS24+AS56+AS93+AS143 -> 0 | ... R8: =AV24+AV56+AV93+AV143 -> 0 | S8: =SUM(H8:R8) -> 0 | U8: =BM24+BM56+BM93+BM143 -> 0 | V8: =BN24+BN56+BN93+BN143 -> 0 | W8: =SUM(U8:V8) -> 0
B10: Size | C10: Nb of Holds per Set | D10: Sets Total | E10: Retail Price | F10: Final Price | H10: Green RAL 6018 or 6037 | I10: Yellow RAL 1018 | J10: Red RAL 3000 | K10: Blue RAL 5015 | L10: Violet RAL 4008 | M10: Grey RAL 7001 | N10: Black RAL 9005 | O10: White | P10: Orange RAL 2011 | Q10: Pink RAL 4003 | R10: Violet US S4050-R60B/M | S10: Blue Mint RAL 6027 | U10: Sizes | AL10: Bolts | BM10: Screws | BR10: Weight
A11: FatLine | U11: XS | V11: S | W11: M | X11: L | Y11: XL | Z11: XXL | AA11: XXXL | AB11: Mega | AC11: XS | AD11: S | AE11: M | AF11: L | AG11: XL | AH11: XXL | AI11: XXXL | AJ11: Mega | AL11: 30 mm | AM11: 40 mm | AN11: 50 mm | AO11: 60 mm | AP11: 70 mm | AQ11: 80 mm | AR11: 90 mm | AS11: 100 mm | AT11: 120 mm | AU11: 140 mm | AV11: 160 mm | AW11: 180 mm | AX11: 200 mm | AY11: 30 mm | AZ11: 40 mm | BA11: 50 mm | BB11: 60 mm | BC11: 70 mm | BD11: 80 mm | BE11: 90 mm | BF11: 100 mm | BG11: 120 mm | BH11: 140 mm | BI11: 160 mm | BJ11: 180 mm | BK11: 200 mm | BM11: 50 mm | BN11: 70 mm | BO11: 50 mm | BP11: 70 mm | BR11: Set | BS11: Total Sets
A12: BLADE 1 | B12: XXXL : 115 x 30 x 20 cm | C12: 1 | D12: =SUM(H12:S12) -> 0 | E12: 285 | F12: =D12*E12*(100-$D$3)/100 -> 0 | AA12: =AI12*$D12 -> 0 | AI12: 1 | BN12: =BP12*D12 -> 0 | BP12: 7 | BR12: 4.6 | BS12: =BR12*D12 -> 0
A13: BLADE 2 | B13: XXXL | C13: 1 | D13: =SUM(H13:S13) -> 0 | E13: 247.5 | F13: =D13*E13*(100-$D$3)/100 -> 0 | AA13: =AI13*$D13 -> 0 | AI13: 1 | BM13: =BO13*D13 -> 0 | BO13: 8 | BR13: 2.3 | BS13: =BR13*D13 -> 0
A14: BLADE 3 | B14: XXXL | C14: 1 | D14: =SUM(H14:S14) -> 0 | E14: 235 | F14: =D14*E14*(100-$D$3)/100 -> 0 | AA14: =AI14*$D14 -> 0 | AI14: 1 | BM14: =BO14*D14 -> 0 | BO14: 6 | BR14: 1.8 | BS14: =BR14*D14 -> 0
A15: BLADE 4 | B15: XXXL | C15: 1 | D15: =SUM(H15:S15) -> 0 | E15: 240 | F15: =D15*E15*(100-$D$3)/100 -> 0 | AA15: =AI15*$D15 -> 0 | AI15: 1 | BM15: =BO15*D15 -> 0 | BO15: 6 | BR15: 2 | BS15: =BR15*D15 -> 0
A16: BLADE 5 | B16: XXXL | C16: 1 | D16: =SUM(H16:S16) -> 0 | E16: 230 | F16: =D16*E16*(100-$D$3)/100 -> 0 | AA16: =AI16*$D16 -> 0 | AI16: 1 | BM16: =BO16*D16 -> 0 | BO16: 6 | BR16: 1.6 | BS16: =BR16*D16 -> 0
A17: BLADE complete series | B17: XXXL | C17: 5 | D17: =SUM(H17:S17) -> 0 | E17: 1180 | F17: =D17*E17*(100-$D$3)/100 -> 0 | AA17: =AI17*$D17 -> 0 | AI17: 5 | BM17: =BO17*D17 -> 0 | BN17: =BP17*D17 -> 0 | BO17: 26 | BP17: 7 | BR17: 12.3 | BS17: =BR17*D17 -> 0
A18: LOBE | B18: 80 x 45 x 30 cm | C18: 1 | D18: =SUM(H18:S18) -> 0 | E18: 312.5 | F18: =D18*E18*(100-$D$3)/100 -> 0 | Z18: =AH18*$D18 -> 0 | AH18: 1 | BN18: =BP18*D18 -> 0 | BP18: 10 | BR18: 5 | BS18: =BR18*D18 -> 0
A19: ABYSS 1 DT | B19: XXXL | C19: 1 | D19: =SUM(H19:S19) -> 0 | E19: 350 | F19: =D19*E19*(100-$D$3)/100 -> 0 | AA19: =AI19*$D19 -> 0 | AI19: 1 | BM19: =BO19*D19 -> 0 | BO19: 7 | BR19: 3.25 | BS19: =BR19*D19 -> 0
A20: ABYSS 2 DT | B20: XXXL | C20: 1 | D20: =SUM(H20:S20) -> 0 | E20: 320 | F20: =D20*E20*(100-$D$3)/100 -> 0 | AA20: =AI20*$D20 -> 0 | AI20: 1 | BM20: =BO20*D20 -> 0 | BO20: 7 | BR20: 2.85 | BS20: =BR20*D20 -> 0
A21: ABYSS 3 DT | B21: XXL | C21: 1 | D21: =SUM(H21:S21) -> 0 | E21: 315 | F21: =D21*E21*(100-$D$3)/100 -> 0 | Z21: =AH21*$D21 -> 0 | AH21: 1 | BM21: =BO21*D21 -> 0 | BO21: 6 | BR21: 2.45 | BS21: =BR21*D21 -> 0
A22: ABYSS 4 DT | B22: XXL | C22: 1 | D22: =SUM(H22:S22) -> 0 | E22: 305 | F22: =D22*E22*(100-$D$3)/100 -> 0 | Z22: =AH22*$D22 -> 0 | AH22: 1 | BM22: =BO22*D22 -> 0 | BO22: 6 | BR22: 1.7 | BS22: =BR22*D22 -> 0
A23: ABYSS DT complete series | B23: XXL-XXXL | C23: 4 | D23: =SUM(H23:S23) -> 0 | E23: 1225 | F23: =D23*E23*(100-$D$3)/100 -> 0 | Z23: =AH23*$D23 -> 0 | AA23: =AI23*$D23 -> 0 | AH23: 2 | AI23: 2 | BM23: =BO23*D23 -> 0 | BO23: 26 | BR23: 10.25 | BS23: =BR23*D23 -> 0
F24: =SUM(F12:F23) -> 0 | H24: =SUM(H12:H23) -> 0 | I24: =SUM(I12:I23) -> 0 | J24: =SUM(J12:J23) -> 0 | K24: =SUM(K12:K23) -> 0 | L24: =SUM(L12:L23) -> 0 | M24: =SUM(M12:M23) -> 0 | N24: =SUM(N12:N23) -> 0 | O24: =SUM(O12:O23) -> 0 | ... S24: =SUM(S12:S23) -> 0 | Z24: =SUM(Z12:Z23) -> 0 | AA24: =SUM(AA12:AA23) -> 0 | AB24: =SUM(AB12:AB23) -> 0 | BM24: =SUM(BM12:BM23) -> 0 | BN24: =SUM(BN12:BN23) -> 0 | BS24: =SUM(BS12:BS23) -> 0
A25: Vortex line | U25: XS | V25: S | W25: M | X25: L | Y25: XL | Z25: XXL | AA25: XXXL | AC25: XS | AD25: S | AE25: M | AF25: L | AG25: XL | AH25: XXL | AI25: XXXL | AJ25: Mega | AL25: 30 mm | AM25: 40 mm | AN25: 50 mm | AO25: 60 mm | AP25: 70 mm | AQ25: 80 mm | AR25: 90 mm | AS25: 100 mm | AT25: 120 mm | AU25: 140 mm | AV25: 160 mm | AW25: 180 mm | AX25: 200 mm | AY25: 30 mm | AZ25: 40 mm | BA25: 50 mm | BB25: 60 mm | BC25: 70 mm | BD25: 80 mm | BE25: 90 mm | BF25: 100 mm | BG25: 120 mm | BH25: 140 mm | BI25: 160 mm | BJ25: 180 mm | BK25: 200 mm | BM25: 50 mm | BN25: 70 mm | BO25: 50 mm | BP25: 70 mm | BR25: Set | BS25: Total Sets
A26: VORTEX 1 | B26: XXL | C26: 1 | D26: =SUM(H26:S26) -> 0 | E26: 235 | F26: =D26*E26*(100-$D$3)/100 -> 0 | Z26: =AH26*$D26 -> 0 | AH26: 1 | BM26: =BO26*D26 -> 0 | BO26: 6 | BR26: 1.6 | BS26: =BR26*D26 -> 0
A27: VORTEX 2 | B27: XXL | C27: 1 | D27: =SUM(H27:S27) -> 0 | E27: 235 | F27: =D27*E27*(100-$D$3)/100 -> 0 | Z27: =AH27*$D27 -> 0 | AH27: 1 | BM27: =BO27*D27 -> 0 | BO27: 5 | BR27: 1.65 | BS27: =BR27*D27 -> 0
A28: VORTEX 3 | B28: XXL | C28: 1 | D28: =SUM(H28:S28) -> 0 | E28: 240 | F28: =D28*E28*(100-$D$3)/100 -> 0 | Z28: =AH28*$D28 -> 0 | AH28: 1 | BM28: =BO28*D28 -> 0 | BO28: 6 | BR28: 1.9 | BS28: =BR28*D28 -> 0
A29: VORTEX 4 | B29: XXL | C29: 1 | D29: =SUM(H29:S29) -> 0 | E29: 280 | F29: =D29*E29*(100-$D$3)/100 -> 0 | Z29: =AH29*$D29 -> 0 | AH29: 1 | BM29: =BO29*D29 -> 0 | BO29: 6 | BR29: 2.85 | BS29: =BR29*D29 -> 0
A30: VORTEX 5 | B30: XXXL | C30: 1 | D30: =SUM(H30:S30) -> 0 | E30: 290 | F30: =D30*E30*(100-$D$3)/100 -> 0 | AA30: =AI30*$D30 -> 0 | AI30: 1 | BM30: =BO30*D30 -> 0 | BO30: 7 | BR30: 3.35 | BS30: =BR30*D30 -> 0
A31: VORTEX Complete Series 1-5 | B31: XXL-XXXL | C31: 5 | D31: =SUM(H31:S31) -> 0 | E31: 1215 | F31: =D31*E31*(100-$D$3)/100 -> 0 | Z31: =AH31*$D31 -> 0 | AA31: =AI31*$D31 -> 0 | AH31: 4 | AI31: 1 | BM31: =BO31*D31 -> 0 | BO31: =SUM(BO26:BO30) -> 30 | BR31: =SUM(BR26:BR30) -> 11.35 | BS31: =BR31*D31 -> 0
A32: VORTEX 6 | B32: XXL | C32: 1 | D32: =SUM(H32:S32) -> 0 | E32: 235 | F32: =D32*E32*(100-$D$3)/100 -> 0 | Z32: =AH32*$D32 -> 0 | AH32: 1 | BM32: =BO32*D32 -> 0 | BO32: 4 | BR32: 1.07 | BS32: =BR32*D32 -> 0
A33: VORTEX 7 | B33: XXL | C33: 1 | D33: =SUM(H33:S33) -> 0 | E33: 235 | F33: =D33*E33*(100-$D$3)/100 -> 0 | Z33: =AH33*$D33 -> 0 | AH33: 1 | BM33: =BO33*D33 -> 0 | BO33: 5 | BR33: 1.4 | BS33: =BR33*D33 -> 0
A34: VORTEX 8 | B34: XXL | C34: 1 | D34: =SUM(H34:S34) -> 0 | E34: 235 | F34: =D34*E34*(100-$D$3)/100 -> 0 | Z34: =AH34*$D34 -> 0 | AH34: 1 | BM34: =BO34*D34 -> 0 | BO34: 5 | BR34: 1.25 | BS34: =BR34*D34 -> 0
A35: VORTEX Complete Series 6-8 | B35: XXL | C35: 3 | D35: =SUM(H35:S35) -> 0 | E35: 670 | F35: =D35*E35*(100-$D$3)/100 -> 0 | Z35: =AH35*$D35 -> 0 | AH35: 3 | BM35: =BO35*D35 -> 0 | BO35: =SUM(BO32:BO34) -> 14 | BR35: =SUM(BR32:BR34) -> 3.72 | BS35: =BR35*D35 -> 0
A36: VORTEX 9 | B36: XXL | C36: 1 | D36: =SUM(H36:S36) -> 0 | E36: 212.5 | F36: =D36*E36*(100-$D$3)/100 -> 0 | Z36: =AH36*$D36 -> 0 | AH36: 1 | BM36: =BO36*D36 -> 0 | BO36: 5 | BR36: 1.2 | BS36: =BR36*D36 -> 0
A37: VORTEX 10 | B37: XXL | C37: 1 | D37: =SUM(H37:S37) -> 0 | E37: 212.5 | F37: =D37*E37*(100-$D$3)/100 -> 0 | Z37: =AH37*$D37 -> 0 | AH37: 1 | BM37: =BO37*D37 -> 0 | BO37: 4 | BR37: 1.05 | BS37: =BR37*D37 -> 0
A38: VORTEX 11 | B38: XXL | C38: 1 | D38: =SUM(H38:S38) -> 0 | E38: 212.5 | F38: =D38*E38*(100-$D$3)/100 -> 0 | Z38: =AH38*$D38 -> 0 | AH38: 1 | BM38: =BO38*D38 -> 0 | BO38: 4 | BR38: 1.05 | BS38: =BR38*D38 -> 0
A39: VORTEX Complete Series 9-11 | B39: XXL | C39: 3 | D39: =SUM(H39:S39) -> 0 | E39: 605 | F39: =D39*E39*(100-$D$3)/100 -> 0 | Z39: =AH39*$D39 -> 0 | AH39: 3 | BM39: =BO39*D39 -> 0 | BO39: =SUM(BO36:BO38) -> 13 | BR39: =SUM(BR36:BR38) -> 3.3 | BS39: =BR39*D39 -> 0
A40: VORTEX 12 | B40: XXXL | C40: 1 | D40: =SUM(H40:S40) -> 0 | E40: 290 | F40: =D40*E40*(100-$D$3)/100 -> 0 | AA40: =AI40*$D40 -> 0 | AI40: 1 | BM40: =BO40*D40 -> 0 | BO40: 7 | BR40: 2.8 | BS40: =BR40*D40 -> 0
A41: VORTEX 1 DT | B41: XXL | C41: 1 | D41: =SUM(H41:S41) -> 0 | E41: 280 | F41: =D41*E41*(100-$D$3)/100 -> 0 | Z41: =AH41*$D41 -> 0 | AH41: 1 | BM41: =BO41*D41 -> 0 | BO41: 6 | BR41: 1.6 | BS41: =BR41*D41 -> 0
A42: VORTEX 2 DT | B42: XXL | C42: 1 | D42: =SUM(H42:S42) -> 0 | E42: 280 | F42: =D42*E42*(100-$D$3)/100 -> 0 | Z42: =AH42*$D42 -> 0 | AH42: 1 | BM42: =BO42*D42 -> 0 | BO42: 5 | BR42: 1.65 | BS42: =BR42*D42 -> 0
A43: VORTEX 3 DT | B43: XXL | C43: 1 | D43: =SUM(H43:S43) -> 0 | E43: 285 | F43: =D43*E43*(100-$D$3)/100 -> 0 | Z43: =AH43*$D43 -> 0 | AH43: 1 | BM43: =BO43*D43 -> 0 | BO43: 6 | BR43: 1.9 | BS43: =BR43*D43 -> 0
A44: VORTEX 4 DT | B44: XXL | C44: 1 | D44: =SUM(H44:S44) -> 0 | E44: 330 | F44: =D44*E44*(100-$D$3)/100 -> 0 | Z44: =AH44*$D44 -> 0 | AH44: 1 | BM44: =BO44*D44 -> 0 | BO44: 6 | BR44: 2.85 | BS44: =BR44*D44 -> 0
A45: VORTEX 5 DT | B45: XXXL | C45: 1 | D45: =SUM(H45:S45) -> 0 | E45: 340 | F45: =D45*E45*(100-$D$3)/100 -> 0 | AA45: =AI45*$D45 -> 0 | AI45: 1 | BM45: =BO45*D45 -> 0 | BO45: 7 | BR45: 3.35 | BS45: =BR45*D45 -> 0
A46: VORTEX DT complete series 1-5 | B46: XXL-XXXL | C46: 5 | D46: =SUM(H46:S46) -> 0 | E46: 1440 | F46: =D46*E46*(100-$D$3)/100 -> 0 | Z46: =AH46*$D46 -> 0 | AA46: =AI46*$D46 -> 0 | AH46: 4 | AI46: 1 | BM46: =BO46*D46 -> 0 | BO46: 30 | BR46: 11.35 | BS46: =BR46*D46 -> 0
A47: VORTEX 6 DT | B47: XXL | C47: 1 | D47: =SUM(H47:S47) -> 0 | E47: 280 | F47: =D47*E47*(100-$D$3)/100 -> 0 | Z47: =AH47*$D47 -> 0 | AH47: 1 | BM47: =BO47*D47 -> 0 | BO47: 4 | BR47: 1.07 | BS47: =BR47*D47 -> 0
A48: VORTEX 7 DT | B48: XXL | C48: 1 | D48: =SUM(H48:S48) -> 0 | E48: 280 | F48: =D48*E48*(100-$D$3)/100 -> 0 | Z48: =AH48*$D48 -> 0 | AH48: 1 | BM48: =BO48*D48 -> 0 | BO48: 5 | BR48: 1.4 | BS48: =BR48*D48 -> 0
A49: VORTEX 8 DT | B49: XXL | C49: 1 | D49: =SUM(H49:S49) -> 0 | E49: 280 | F49: =D49*E49*(100-$D$3)/100 -> 0 | Z49: =AH49*$D49 -> 0 | AH49: 1 | BM49: =BO49*D49 -> 0 | BO49: 5 | BR49: 1.25 | BS49: =BR49*D49 -> 0
A50: VORTEX DT complete series 6-8 | B50: XXL | C50: 3 | D50: =SUM(H50:S50) -> 0 | E50: 800 | F50: =D50*E50*(100-$D$3)/100 -> 0 | Z50: =AH50*$D50 -> 0 | AH50: 3 | BM50: =BO50*D50 -> 0 | BO50: =+SUM(BO47:BO49) -> 14 | BR50: =+SUM(BR47:BR49) -> 3.72 | BS50: =BR50*D50 -> 0
A51: VORTEX 9 DT | B51: XXL | C51: 1 | D51: =SUM(H51:S51) -> 0 | E51: 257.5 | F51: =D51*E51*(100-$D$3)/100 -> 0 | Z51: =AH51*$D51 -> 0 | AH51: 1 | BM51: =BO51*D51 -> 0 | BO51: 5 | BR51: 1.2 | BS51: =BR51*D51 -> 0
A52: VORTEX 10 DT | B52: XXL | C52: 1 | D52: =SUM(H52:S52) -> 0 | E52: 257.5 | F52: =D52*E52*(100-$D$3)/100 -> 0 | Z52: =AH52*$D52 -> 0 | AH52: 1 | BM52: =BO52*D52 -> 0 | BO52: 4 | BR52: 1.05 | BS52: =BR52*D52 -> 0
A53: VORTEX 11 DT | B53: XXL | C53: 1 | D53: =SUM(H53:S53) -> 0 | E53: 257.5 | F53: =D53*E53*(100-$D$3)/100 -> 0 | Z53: =AH53*$D53 -> 0 | AH53: 1 | BM53: =BO53*D53 -> 0 | BO53: 4 | BR53: 1.05 | BS53: =BR53*D53 -> 0
A54: VORTEX DT complete series 9-11 | B54: XXL | C54: 3 | D54: =SUM(H54:S54) -> 0 | E54: 722.5 | F54: =D54*E54*(100-$D$3)/100 -> 0 | Z54: =AH54*$D54 -> 0 | AH54: 3 | BM54: =BO54*D54 -> 0 | BO54: =+SUM(BO51:BO53) -> 13 | BR54: =+SUM(BR51:BR53) -> 3.3 | BS54: =BR54*D54 -> 0
A55: VORTEX 12 DT | B55: XXXL | C55: 1 | D55: =SUM(H55:S55) -> 0 | E55: 340 | F55: =D55*E55*(100-$D$3)/100 -> 0 | AA55: =AI55*$D55 -> 0 | AI55: 1 | BM55: =BO55*D55 -> 0 | BO55: 7 | BR55: 2.8 | BS55: =BR55*D55 -> 0
F56: =SUM(F26:F55) -> 0 | H56: =SUM(H26:H55) -> 0 | I56: =SUM(I26:I55) -> 0 | J56: =SUM(J26:J55) -> 0 | K56: =SUM(K26:K55) -> 0 | L56: =SUM(L26:L55) -> 0 | M56: =SUM(M26:M55) -> 0 | N56: =SUM(N26:N55) -> 0 | O56: =SUM(O26:O55) -> 0 | ... S56: =SUM(S26:S55) -> 0 | Z56: =SUM(Z26:Z55) -> 0 | AA56: =SUM(AA26:AA55) -> 0 | BM56: =SUM(BM26:BM55) -> 0 | BS56: =SUM(BS26:BS55) -> 0
A57: ArtLab | U57: XS | V57: S | W57: M | X57: L | Y57: XL | Z57: XXL | AA57: XXXL | AB57: Mega | AC57: XS | AD57: S | AE57: M | AF57: L | AG57: XL | AH57: XXL | AI57: XXXL | AJ57: Mega | AL57: 30 mm | AM57: 40 mm | AN57: 50 mm | AO57: 60 mm | AP57: 70 mm | AQ57: 80 mm | AR57: 90 mm | AS57: 100 mm | AT57: 120 mm | AU57: 140 mm | AV57: 160 mm | AW57: 180 mm | AX57: 200 mm | AY57: 30 mm | AZ57: 40 mm | BA57: 50 mm | BB57: 60 mm | BC57: 70 mm | BD57: 80 mm | BE57: 90 mm | BF57: 100 mm | BG57: 120 mm | BH57: 140 mm | BI57: 160 mm | BJ57: 180 mm | BK57: 200 mm | BM57: 50 mm | BN57: 70 mm | BO57: 50 mm | BP57: 70 mm | BR57: Set | BS57: Total Sets
A58: Slope S (PU) | B58: S | C58: 5 | D58: =SUM(H58:S58) -> 0 | E58: 47.5 | F58: =D58*E58*(100-$D$4)/100 -> 0 | V58: =AD58*$D58 -> 0 | AD58: 5 | BM58: =BO58*D58 -> 0 | BO58: 10 | BR58: 0.3 | BS58: =BR58*D58 -> 0
A59: Slope M (PU) | B59: M | C59: 5 | D59: =SUM(H59:S59) -> 0 | E59: 137.5 | F59: =D59*E59*(100-$D$4)/100 -> 0 | W59: =AE59*$D59 -> 0 | AE59: 5 | BM59: =BO59*D59 -> 0 | BO59: 15 | BR59: 2.8 | BS59: =BR59*D59 -> 0
A60: Slope L | B60: L : Ø 23cm | C60: 5 | D60: =SUM(H60:S60) -> 0 | E60: 590 | F60: =D60*E60*(100-$D$4)/100 -> 0 | X60: =AF60*$D60 -> 0 | AF60: 5 | BM60: =BO60*D60 -> 0 | BO60: 15 | BR60: 2.7 | BS60: =BR60*D60 -> 0
A61: Slope XL | B61: XL : Ø 30 cm | C61: 5 | D61: =SUM(H61:S61) -> 0 | E61: 695 | F61: =D61*E61*(100-$D$4)/100 -> 0 | Y61: =AG61*$D61 -> 0 | AG61: 5 | BM61: =BO61*D61 -> 0 | BO61: 25 | BR61: 4.6 | BS61: =BR61*D61 -> 0
A62: Slope 1 XXXL | B62: XXXL : Ø 55 cm | C62: 1 | D62: =SUM(H62:S62) -> 0 | E62: 232.5 | F62: =D62*E62*(100-$D$4)/100 -> 0 | AA62: =AI62*$D62 -> 0 | AI62: 1 | BN62: =BP62*D62 -> 0 | BP62: 7 | BR62: 2.8 | BS62: =BR62*D62 -> 0
A63: Slope 2 XXXL | B63: XXXL : Ø 55 cm | C63: 1 | D63: =SUM(H63:S63) -> 0 | E63: 242.5 | F63: =D63*E63*(100-$D$4)/100 -> 0 | AA63: =AI63*$D63 -> 0 | AI63: 1 | BN63: =BP63*D63 -> 0 | BP63: 7 | BR63: 2.9 | BS63: =BR63*D63 -> 0
A64: Slope 3 XXXL | B64: XXXL : Ø 55 cm | C64: 1 | D64: =SUM(H64:S64) -> 0 | E64: 242.5 | F64: =D64*E64*(100-$D$4)/100 -> 0 | AA64: =AI64*$D64 -> 0 | AI64: 1 | BN64: =BP64*D64 -> 0 | BP64: 7 | BR64: 3.1 | BS64: =BR64*D64 -> 0
A65: Slope 4 XXXL | B65: XXXL : Ø 55 cm | C65: 1 | D65: =SUM(H65:S65) -> 0 | E65: 242.5 | F65: =D65*E65*(100-$D$4)/100 -> 0 | AA65: =AI65*$D65 -> 0 | AI65: 1 | BN65: =BP65*D65 -> 0 | BP65: 7 | BR65: 3.5 | BS65: =BR65*D65 -> 0
A66: Slope 5 XXXL | B66: XXXL : Ø 55 cm | C66: 1 | D66: =SUM(H66:S66) -> 0 | E66: 242.5 | F66: =D66*E66*(100-$D$4)/100 -> 0 | AA66: =AI66*$D66 -> 0 | AI66: 1 | BN66: =BP66*D66 -> 0 | BP66: 7 | BR66: 3.7 | BS66: =BR66*D66 -> 0
A67: Slope XXXL complete series | B67: XXXL : Ø 55 cm | C67: 5 | D67: =SUM(H67:S67) -> 0 | E67: 1145 | F67: =D67*E67*(100-$D$4)/100 -> 0 | AA67: =AI67*$D67 -> 0 | AI67: 5 | BN67: =BP67*D67 -> 0 | BP67: 35 | BR67: 16 | BS67: =BR67*D67 -> 0
A68: Slope S to XXXL complete series | B68: S to XXXL | C68: 25 | D68: =SUM(H68:S68) -> 0 | E68: 2570 | F68: =D68*E68*(100-$D$4)/100 -> 0 | V68: =AD68*$D68 -> 0 | W68: =AE68*$D68 -> 0 | X68: =AF68*$D68 -> 0 | Y68: =AG68*$D68 -> 0 | AA68: =AI68*$D68 -> 0 | AD68: 5 | AE68: 5 | AF68: 5 | AG68: 5 | AI68: 5 | BM68: =BO68*D68 -> 0 | BN68: =BP68*D68 -> 0 | BO68: 65 | BP68: 35 | BR68: 26.4 | BS68: =BR68*D68 -> 0
A69: Slope Méga 1 - 25° Ø 90 cm | B69: XXXL+ : Ø 90 cm | C69: 1 | D69: =SUM(H69:S69) -> 0 | E69: 422.5 | F69: =D69*E69*(100-$D$4)/100 -> 0 | AB69: =AJ69*$D69 -> 0 | AJ69: 1 | BN69: =BP69*D69 -> 0 | BP69: 7 | BR69: 6.45 | BS69: =BR69*D69 -> 0
A70: Slope Méga 2 - 35° Ø 90 cm | B70: XXXL+ : Ø 90 cm | C70: 1 | D70: =SUM(H70:S70) -> 0 | E70: 435 | F70: =D70*E70*(100-$D$4)/100 -> 0 | AB70: =AJ70*$D70 -> 0 | AJ70: 1 | BN70: =BP70*D70 -> 0 | BP70: 7 | BR70: 10.3 | BS70: =BR70*D70 -> 0
A71: Slope Méga 3 - 30° Ø 120 cm | B71: XXXL+ : Ø 120 cm | C71: 1 | D71: =SUM(H71:S71) -> 0 | E71: 535 | F71: =D71*E71*(100-$D$4)/100 -> 0 | AB71: =AJ71*$D71 -> 0 | AJ71: 1 | BN71: =BP71*D71 -> 0 | BP71: 9 | BR71: 17.2 | BS71: =BR71*D71 -> 0
A72: Slope Méga 4 - 40° Ø 120 cm | B72: XXXL+ : Ø 120 cm | C72: 1 | D72: =SUM(H72:S72) -> 0 | E72: 565 | F72: =D72*E72*(100-$D$4)/100 -> 0 | AB72: =AJ72*$D72 -> 0 | AJ72: 1 | BN72: =BP72*D72 -> 0 | BP72: 9 | BR72: 18.1 | BS72: =BR72*D72 -> 0
A73: Slices M (PU) | B73: M | C73: 5 | D73: =SUM(H73:S73) -> 0 | E73: 57.5 | F73: =D73*E73*(100-$D$4)/100 -> 0 | W73: =AE73*$D73 -> 0 | AE73: 5 | BM73: =BO73*D73 -> 0 | BO73: 10 | BR73: 0.2 | BS73: =BR73*D73 -> 0
A74: Slices L (PU) | B74: L | C74: 5 | D74: =SUM(H74:S74) -> 0 | E74: 92.5 | F74: =D74*E74*(100-$D$4)/100 -> 0 | X74: =AF74*$D74 -> 0 | AF74: 5 | BM74: =BO74*D74 -> 0 | BO74: 20 | BR74: 1 | BS74: =BR74*D74 -> 0
A75: Slices XL | B75: XXL | C75: 5 | D75: =SUM(H75:S75) -> 0 | E75: 700 | F75: =D75*E75*(100-$D$4)/100 -> 0 | Z75: =AH75*$D75 -> 0 | AH75: 5 | BM75: =BO75*D75 -> 0 | BO75: 20 | BR75: 3.9 | BS75: =BR75*D75 -> 0
A76: Slices XXL1 | B76: XXXL 78* 18 cm / 10° | C76: 1 | D76: =SUM(H76:S76) -> 0 | E76: 185 | F76: =D76*E76*(100-$D$4)/100 -> 0 | AA76: =AI76*$D76 -> 0 | AI76: 1 | BN76: =BP76*D76 -> 0 | BP76: 4 | BR76: 1.5 | BS76: =BR76*D76 -> 0
A77: Slices XXL2 | B77: XXXL 80 * 17,5 cm / 20° | C77: 1 | D77: =SUM(H77:S77) -> 0 | E77: 187.5 | F77: =D77*E77*(100-$D$4)/100 -> 0 | AA77: =AI77*$D77 -> 0 | AI77: 1 | BN77: =BP77*D77 -> 0 | BP77: 4 | BR77: 1.9 | BS77: =BR77*D77 -> 0
A78: Slices XXL3 | B78: XXXL 80*18 cm / 25° | C78: 1 | D78: =SUM(H78:S78) -> 0 | E78: 187.5 | F78: =D78*E78*(100-$D$4)/100 -> 0 | AA78: =AI78*$D78 -> 0 | AI78: 1 | BN78: =BP78*D78 -> 0 | BP78: 4 | BR78: 1.6 | BS78: =BR78*D78 -> 0
A79: Slices XXL4 | B79: XXXL 79*17 cm / 30° | C79: 1 | D79: =SUM(H79:S79) -> 0 | E79: 187.5 | F79: =D79*E79*(100-$D$4)/100 -> 0 | AA79: =AI79*$D79 -> 0 | AI79: 1 | BN79: =BP79*D79 -> 0 | BP79: 4 | BR79: 1.9 | BS79: =BR79*D79 -> 0
A80: Slices XXL5 | B80: XXXL 80*17,5 cm / 40° | C80: 1 | D80: =SUM(H80:S80) -> 0 | E80: 197.5 | F80: =D80*E80*(100-$D$4)/100 -> 0 | AA80: =AI80*$D80 -> 0 | AI80: 1 | BN80: =BP80*D80 -> 0 | BP80: 4 | BR80: 1.9 | BS80: =BR80*D80 -> 0
A81: Slices XXL complete series | B81: XXXL | C81: 5 | D81: =SUM(H81:S81) -> 0 | E81: 907.5 | F81: =D81*E81*(100-$D$4)/100 -> 0 | AA81: =AI81*$D81 -> 0 | AI81: 5 | BN81: =BP81*D81 -> 0 | BP81: 20 | BR81: 8.8 | BS81: =BR81*D81 -> 0
A82: Slices XXXL1 DT | B82: XXXL 101*25 cm /10° | C82: 1 | D82: =SUM(H82:S82) -> 0 | E82: 240 | F82: =D82*E82*(100-$D$4)/100 -> 0 | AA82: =AI82*$D82 -> 0 | AI82: 1 | BN82: =BP82*D82 -> 0 | BP82: 5 | BR82: 2 | BS82: =BR82*D82 -> 0
A83: Slices XXXL2 DT | B83: XXXL 100*24 cm /20° | C83: 1 | D83: =SUM(H83:S83) -> 0 | E83: 252.5 | F83: =D83*E83*(100-$D$4)/100 -> 0 | AA83: =AI83*$D83 -> 0 | AI83: 1 | BN83: =BP83*D83 -> 0 | BP83: 5 | BR83: 2.35 | BS83: =BR83*D83 -> 0
A84: Slices XXXL3 DT | B84: XXXL 101*27 cm / 25° | C84: 1 | D84: =SUM(H84:S84) -> 0 | E84: 252.5 | F84: =D84*E84*(100-$D$4)/100 -> 0 | AA84: =AI84*$D84 -> 0 | AI84: 1 | BN84: =BP84*D84 -> 0 | BP84: 5 | BR84: 2.5 | BS84: =BR84*D84 -> 0
A85: Slices XXXL4 DT | B85: XXXL 100*25,5 cm / 30° | C85: 1 | D85: =SUM(H85:S85) -> 0 | E85: 265 | F85: =D85*E85*(100-$D$4)/100 -> 0 | AA85: =AI85*$D85 -> 0 | AI85: 1 | BN85: =BP85*D85 -> 0 | BP85: 5 | BR85: 3.2 | BS85: =BR85*D85 -> 0
A86: Slices XXXL5 DT | B86: XXXL 100*25,5 cm / 40° | C86: 1 | D86: =SUM(H86:S86) -> 0 | E86: 275 | F86: =D86*E86*(100-$D$4)/100 -> 0 | AA86: =AI86*$D86 -> 0 | AI86: 1 | BN86: =BP86*D86 -> 0 | BP86: 5 | BR86: 3.4 | BS86: =BR86*D86 -> 0
A87: Slices XXXL complete series | B87: XXXL | C87: 5 | D87: =SUM(H87:S87) -> 0 | E87: 1235 | F87: =D87*E87*(100-$D$4)/100 -> 0 | AA87: =AI87*$D87 -> 0 | AI87: 5 | BN87: =BP87*D87 -> 0 | BP87: 25 | BR87: 13.45 | BS87: =BR87*D87 -> 0
A88: Slices XL to XXXL complete series | B88: XXL to XXXL | C88: 15 | D88: =SUM(H88:S88) -> 0 | E88: 2817.5 | F88: =D88*E88*(100-$D$4)/100 -> 0 | Z88: =AH88*$D88 -> 0 | AA88: =AI88*$D88 -> 0 | AH88: 5 | AI88: 10 | BM88: =BO88*D88 -> 0 | BN88: =BP88*D88 -> 0 | BO88: 20 | BP88: 45 | BR88: 26.15 | BS88: =BR88*D88 -> 0
A89: Slices XXXL2 DT Reverse | B89: XXXL 100*24 cm /20° | C89: 1 | D89: =SUM(H89:S89) -> 0 | E89: 252.5 | F89: =D89*E89*(100-$D$4)/100 -> 0 | AA89: =AI89*$D89 -> 0 | AI89: 1 | BN89: =BP89*D89 -> 0 | BP89: 5 | BR89: 2.35 | BS89: =BR89*D89 -> 0
A90: Slices XXXL4 DT Reverse | B90: XXXL 100*25,5 cm / 30° | C90: 1 | D90: =SUM(H90:S90) -> 0 | E90: 265 | F90: =D90*E90*(100-$D$4)/100 -> 0 | AA90: =AI90*$D90 -> 0 | AI90: 1 | BN90: =BP90*D90 -> 0 | BP90: 5 | BR90: 3.2 | BS90: =BR90*D90 -> 0
A91: SLICES Méga 1 - 25° | B91: 150x40x14 cm | C91: 1 | D91: =SUM(H91:S91) -> 0 | E91: 522.5 | F91: =D91*E91*(100-$D$4)/100 -> 0 | AB91: =AJ91*$D91 -> 0 | AJ91: 1 | BN91: =BP91*D91 -> 0 | BP91: 8 | BR91: 7.95 | BS91: =BR91*D91 -> 0
A92: SLICES Méga 2 - 35° | B92: 150x40x21 cm | C92: 1 | D92: =SUM(H92:S92) -> 0 | E92: 522.5 | F92: =D92*E92*(100-$D$4)/100 -> 0 | AB92: =AJ92*$D92 -> 0 | AJ92: 1 | BN92: =BP92*D92 -> 0 | BP92: 8 | BR92: 8.25 | BS92: =BR92*D92 -> 0
F93: =SUM(F58:F92) -> 0 | H93: =SUM(H58:H92) -> 0 | I93: =SUM(I58:I92) -> 0 | J93: =SUM(J58:J92) -> 0 | K93: =SUM(K58:K92) -> 0 | L93: =SUM(L58:L92) -> 0 | M93: =SUM(M58:M92) -> 0 | N93: =SUM(N58:N92) -> 0 | O93: =SUM(O58:O92) -> 0 | ... S93: =SUM(S58:S92) -> 0 | V93: =SUM(V58:V92) -> 0 | W93: =SUM(W58:W92) -> 0 | X93: =SUM(X58:X92) -> 0 | Y93: =SUM(Y58:Y92) -> 0 | Z93: =SUM(Z58:Z92) -> 0 | AA93: =SUM(AA58:AA92) -> 0 | AB93: =SUM(AB58:AB92) -> 0 | BM93: =SUM(BM58:BM92) -> 0 | BN93: =SUM(BN58:BN92) -> 0 | BS93: =SUM(BS58:BS92) -> 0
A94: Mercy line | U94: XS | V94: S | W94: M | X94: L | Y94: XL | Z94: XXL | AA94: XXXL | AC94: XS | AD94: S | AE94: M | AF94: L | AG94: XL | AH94: XXL | AI94: XXXL | AJ94: Mega | AL94: 30 mm | AM94: 40 mm | AN94: 50 mm | AO94: 60 mm | AP94: 70 mm | AQ94: 80 mm | AR94: 90 mm | AS94: 100 mm | AT94: 120 mm | AU94: 140 mm | AV94: 160 mm | AW94: 180 mm | AX94: 200 mm | AY94: 30 mm | AZ94: 40 mm | BA94: 50 mm | BB94: 60 mm | BC94: 70 mm | BD94: 80 mm | BE94: 90 mm | BF94: 100 mm | BG94: 120 mm | BH94: 140 mm | BI94: 160 mm | BJ94: 180 mm | BK94: 200 mm | BM94: 50 mm | BN94: 70 mm | BO94: 50 mm | BP94: 70 mm | BR94: Set | BS94: Total Sets
A95: Mercy XXL 1 | B95: 66 x 17 x 5 cm | C95: 1 | D95: =SUM(H95:S95) -> 0 | E95: 187.5 | F95: =D95*E95*(100-$D$3)/100 -> 0 | Z95: =AH95*$D95 -> 0 | AH95: 1 | BM95: =BO95*D95 -> 0 | BO95: 5 | BR95: 1.1 | BS95: =BR95*D95 -> 0
A96: Mercy XXL 2 | B96: 66 x 15 x 6 cm | C96: 1 | D96: =SUM(H96:S96) -> 0 | E96: 187.5 | F96: =D96*E96*(100-$D$3)/100 -> 0 | Z96: =AH96*$D96 -> 0 | AH96: 1 | BM96: =BO96*D96 -> 0 | BO96: 5 | BR96: 1.3 | BS96: =BR96*D96 -> 0
A97: Mercy XXL 3 | B97: 66 x 17 x 6 cm | C97: 1 | D97: =SUM(H97:S97) -> 0 | E97: 187.5 | F97: =D97*E97*(100-$D$3)/100 -> 0 | Z97: =AH97*$D97 -> 0 | AH97: 1 | BM97: =BO97*D97 -> 0 | BO97: 5 | BR97: 1.2 | BS97: =BR97*D97 -> 0
A98: Mercy XXL 4 | B98: 66 x 18 x 8 cm | C98: 1 | D98: =SUM(H98:S98) -> 0 | E98: 202.5 | F98: =D98*E98*(100-$D$3)/100 -> 0 | Z98: =AH98*$D98 -> 0 | AH98: 1 | BM98: =BO98*D98 -> 0 | BO98: 6 | BR98: 1.3 | BS98: =BR98*D98 -> 0
A99: Mercy XXL 5 | B99: 66 x 18 x 7 cm | C99: 1 | D99: =SUM(H99:S99) -> 0 | E99: 195 | F99: =D99*E99*(100-$D$3)/100 -> 0 | Z99: =AH99*$D99 -> 0 | AH99: 1 | BM99: =BO99*D99 -> 0 | BO99: 5 | BR99: 1.4 | BS99: =BR99*D99 -> 0
A100: Pack Mercy XXL 1-5 | B100: XXL | C100: 5 | D100: =SUM(H100:S100) -> 0 | E100: 915 | F100: =D100*E100*(100-$D$3)/100 -> 0 | Z100: =AH100*$D100 -> 0 | AH100: 5 | BM100: =BO100*D100 -> 0 | BO100: 26 | BR100: 6.3 | BS100: =BR100*D100 -> 0
A101: Mercy XXL 6 | B101: 66x18x6,5 cm | C101: 1 | D101: =SUM(H101:S101) -> 0 | E101: 180 | F101: =D101*E101*(100-$D$3)/100 -> 0 | Z101: =AH101*$D101 -> 0 | AH101: 1 | BM101: =BO101*D101 -> 0 | BO101: 5 | BR101: 1.1 | BS101: =BR101*D101 -> 0
...

Sheet GRP - 360 Mexico
C1: EUR HT | D1: DISCOUNT% | I1: Holds Size of your order : | V1: Total Weight of your order (kg) : | Z1: =BT42+BT68 -> 0
B2: Total Amount order : | C2: =G42+G68 -> 0 | D2: 0 | I2: XS | J2: S | K2: M | L2: L | M2: XL | N2: XXL | O2: XXXL | P2: Mega | Q2: TOTAL
I3: =V42+V68 -> 0 | J3: =W42+W68 -> 0 | K3: =X42+X68 -> 0 | L3: =Y42+Y68 -> 0 | M3: =Z42+Z68 -> 0 | N3: =AA42+AA68 -> 0 | O3: =AB42+AB68 -> 0 | P3: =AC42+AC68 -> 0 | Q3: =SUM(I3:O3) -> 0
B5: GRP/PU by 360 Mexico
I6: Bolts adapted to your order: | V6: Screws adapted to your order:
I7: 30 mm | J7: 40 mm | K7: 50 mm | L7: 70 mm | M7: 90 mm | N7: 100 mm | O7: 120 mm | P7: 140 mm | Q7: 160 mm | R7: 180 mm | S7: 200 mm | T7: TOTAL | V7: 50 mm | W7: 70 mm | X7: TOTAL
B8: In RED : NEW | I8: =AM42+AM68 -> 0 | J8: =AN42+AN68 -> 0 | K8: =AO42+AO68 -> 0 | L8: =AP42+AP68 -> 0 | M8: =AQ42+AQ68 -> 0 | N8: =AR42+AR68 -> 0 | O8: =AS42+AS68 -> 0 | P8: =AT42+AT68 -> 0 | ... S8: =AW42+AW68 -> 0 | T8: =SUM(I8:S8) -> 0 | V8: =BN42+BN68 -> 0 | W8: =BO42+BO68 -> 0 | X8: =SUM(V8:W8) -> 0
A10: SKU | C10: Size | D10: Nb of Holds per Set | E10: Sets Total | F10: Retail Price | G10: Final Price | I10: Green RAL 6018 or 6037 | J10: Yellow RAL 1018 | K10: Red RAL 3000 | L10: Blue RAL 5015 | M10: Violet RAL 4008 | N10: Grey RAL 7001 | O10: Black RAL 9005 | P10: White | Q10: Orange RAL 2011 | R10: Pink RAL 4003 | S10: Violet US S4050-R60B/M | T10: Blue Mint RAL 6027 | V10: Sizes | AM10: Bolts | BN10: Screws | BS10: Weight
B11: Vortex line | V11: XS | W11: S | X11: M | Y11: L | Z11: XL | AA11: XXL | AB11: XXXL | AC11: Mega | AD11: XS | AE11: S | AF11: M | AG11: L | AH11: XL | AI11: XXL | AJ11: XXXL | AK11: Mega | AM11: 30 mm | AN11: 40 mm | AO11: 50 mm | AP11: 60 mm | AQ11: 70 mm | AR11: 80 mm | AS11: 90 mm | AT11: 100 mm | AU11: 120 mm | AV11: 140 mm | AW11: 160 mm | AX11: 180 mm | AY11: 200 mm | AZ11: 30 mm | BA11: 40 mm | BB11: 50 mm | BC11: 60 mm | BD11: 70 mm | BE11: 80 mm | BF11: 90 mm | BG11: 100 mm | BH11: 120 mm | BI11: 140 mm | BJ11: 160 mm | BK11: 180 mm | BL11: 200 mm | BN11: 50 mm | BO11: 70 mm | BP11: 50 mm | BQ11: 70 mm | BS11: Set | BT11: Total Sets
A12: VGRPMAVOVO1 | B12: VORTEX 1 | C12: XXL | D12: 1 | E12: =SUM(I12:T12) -> 0 | F12: 212.5 | G12: =E12*F12*(100-$D$2)/100 -> 0 | AA12: =AI12*$E12 -> 0 | AI12: 1 | BN12: =BP12*E12 -> 0 | BP12: 6 | BS12: 1.6 | BT12: =BS12*E12 -> 0
A13: VGRPMAVOVO2 | B13: VORTEX 2 | C13: XXL | D13: 1 | E13: =SUM(I13:T13) -> 0 | F13: 212.5 | G13: =E13*F13*(100-$D$2)/100 -> 0 | AA13: =AI13*$E13 -> 0 | AI13: 1 | BN13: =BP13*E13 -> 0 | BP13: 5 | BS13: 1.65 | BT13: =BS13*E13 -> 0
A14: VGRPMAVOVO3 | B14: VORTEX 3 | C14: XXL | D14: 1 | E14: =SUM(I14:T14) -> 0 | F14: 217.5 | G14: =E14*F14*(100-$D$2)/100 -> 0 | AA14: =AI14*$E14 -> 0 | AI14: 1 | BN14: =BP14*E14 -> 0 | BP14: 6 | BS14: 1.9 | BT14: =BS14*E14 -> 0
A15: VGRPMAVOVO4 | B15: VORTEX 4 | C15: XXL | D15: 1 | E15: =SUM(I15:T15) -> 0 | F15: 255 | G15: =E15*F15*(100-$D$2)/100 -> 0 | AA15: =AI15*$E15 -> 0 | AI15: 1 | BN15: =BP15*E15 -> 0 | BP15: 6 | BS15: 2.85 | BT15: =BS15*E15 -> 0
A16: VGRPMAVOVO5 | B16: VORTEX 5 | C16: XXXL | D16: 1 | E16: =SUM(I16:T16) -> 0 | F16: 262.5 | G16: =E16*F16*(100-$D$2)/100 -> 0 | AB16: =AJ16*$E16 -> 0 | AJ16: 1 | BN16: =BP16*E16 -> 0 | BP16: 7 | BS16: 3.35 | BT16: =BS16*E16 -> 0
A17: VGRPMAVOVO15 | B17: VORTEX Complete Series 1-5 | C17: XXL-XXXL | D17: 5 | E17: =SUM(I17:T17) -> 0 | F17: 1105 | G17: =E17*F17*(100-$D$2)/100 -> 0 | AA17: =AI17*$E17 -> 0 | AB17: =AJ17*$E17 -> 0 | AI17: 4 | AJ17: 1 | BN17: =BP17*E17 -> 0 | BP17: =SUM(BP12:BP16) -> 30 | BS17: =SUM(BS12:BS16) -> 11.35 | BT17: =BS17*E17 -> 0
A18: VGRPMAVOVO6 | B18: VORTEX 6 | C18: XXL | D18: 1 | E18: =SUM(I18:T18) -> 0 | F18: 212.5 | G18: =E18*F18*(100-$D$2)/100 -> 0 | AA18: =AI18*$E18 -> 0 | AI18: 1 | BN18: =BP18*E18 -> 0 | BP18: 4 | BS18: 1.07 | BT18: =BS18*E18 -> 0
A19: VGRPMAVOVO7 | B19: VORTEX 7 | C19: XXL | D19: 1 | E19: =SUM(I19:T19) -> 0 | F19: 212.5 | G19: =E19*F19*(100-$D$2)/100 -> 0 | AA19: =AI19*$E19 -> 0 | AI19: 1 | BN19: =BP19*E19 -> 0 | BP19: 5 | BS19: 1.4 | BT19: =BS19*E19 -> 0
A20: VGRPMAVOVO8 | B20: VORTEX 8 | C20: XXL | D20: 1 | E20: =SUM(I20:T20) -> 0 | F20: 212.5 | G20: =E20*F20*(100-$D$2)/100 -> 0 | AA20: =AI20*$E20 -> 0 | AI20: 1 | BN20: =BP20*E20 -> 0 | BP20: 5 | BS20: 1.25 | BT20: =BS20*E20 -> 0
A21: VGRPMAVOVOSE6-8 | B21: VORTEX Complete Series 6-8 | C21: XXL | D21: 3 | E21: =SUM(I21:T21) -> 0 | F21: 607.5 | G21: =E21*F21*(100-$D$2)/100 -> 0 | AA21: =AI21*$E21 -> 0 | AI21: 3 | BN21: =BP21*E21 -> 0 | BP21: =SUM(BP18:BP20) -> 14 | BS21: =SUM(BS18:BS20) -> 3.72 | BT21: =BS21*E21 -> 0
A22: VGRPMAVOVO9 | B22: VORTEX 9 | C22: XXL | D22: 1 | E22: =SUM(I22:T22) -> 0 | F22: 192.5 | G22: =E22*F22*(100-$D$2)/100 -> 0 | AA22: =AI22*$E22 -> 0 | AI22: 1 | BN22: =BP22*E22 -> 0 | BP22: 5 | BS22: 1.2 | BT22: =BS22*E22 -> 0
A23: VGRPMAVOVO10 | B23: VORTEX 10 | C23: XXL | D23: 1 | E23: =SUM(I23:T23) -> 0 | F23: 192.5 | G23: =E23*F23*(100-$D$2)/100 -> 0 | AA23: =AI23*$E23 -> 0 | AI23: 1 | BN23: =BP23*E23 -> 0 | BP23: 4 | BS23: 1.05 | BT23: =BS23*E23 -> 0
A24: VGRPMAVOVO11 | B24: VORTEX 11 | C24: XXL | D24: 1 | E24: =SUM(I24:T24) -> 0 | F24: 192.5 | G24: =E24*F24*(100-$D$2)/100 -> 0 | AA24: =AI24*$E24 -> 0 | AI24: 1 | BN24: =BP24*E24 -> 0 | BP24: 4 | BS24: 1.05 | BT24: =BS24*E24 -> 0
A25: VGRPMAVOVOSE9-11 | B25: VORTEX Complete Series 9-11 | C25: XXL | D25: 3 | E25: =SUM(I25:T25) -> 0 | F25: 550 | G25: =E25*F25*(100-$D$2)/100 -> 0 | AA25: =AI25*$E25 -> 0 | AI25: 3 | BN25: =BP25*E25 -> 0 | BP25: =SUM(BP22:BP24) -> 13 | BS25: =SUM(BS22:BS24) -> 3.3 | BT25: =BS25*E25 -> 0
A26: VGRPMAVOVO12 | B26: VORTEX 12 | C26: XXXL | D26: 1 | E26: =SUM(I26:T26) -> 0 | F26: 262.5 | G26: =E26*F26*(100-$D$2)/100 -> 0 | AB26: =AJ26*$E26 -> 0 | AJ26: 1 | BN26: =BP26*E26 -> 0 | BP26: 7 | BS26: 2.8 | BT26: =BS26*E26 -> 0
A27: VGRPMAFAVO1 | B27: VORTEX 1 DT | C27: XXL | D27: 1 | E27: =SUM(I27:T27) -> 0 | F27: 257.5 | G27: =E27*F27*(100-$D$2)/100 -> 0 | AA27: =AI27*$E27 -> 0 | AI27: 1 | BN27: =BP27*E27 -> 0 | BP27: 6 | BS27: 1.6 | BT27: =BS27*E27 -> 0
A28: VGRPMAFAVO2 | B28: VORTEX 2 DT | C28: XXL | D28: 1 | E28: =SUM(I28:T28) -> 0 | F28: 257.5 | G28: =E28*F28*(100-$D$2)/100 -> 0 | AA28: =AI28*$E28 -> 0 | AI28: 1 | BN28: =BP28*E28 -> 0 | BP28: 5 | BS28: 1.65 | BT28: =BS28*E28 -> 0
A29: VGRPMAFAVO3 | B29: VORTEX 3 DT | C29: XXL | D29: 1 | E29: =SUM(I29:T29) -> 0 | F29: 257.5 | G29: =E29*F29*(100-$D$2)/100 -> 0 | AA29: =AI29*$E29 -> 0 | AI29: 1 | BN29: =BP29*E29 -> 0 | BP29: 6 | BS29: 1.9 | BT29: =BS29*E29 -> 0
A30: VGRPMAFAVO4 | B30: VORTEX 4 DT | C30: XXL | D30: 1 | E30: =SUM(I30:T30) -> 0 | F30: 302.5 | G30: =E30*F30*(100-$D$2)/100 -> 0 | AA30: =AI30*$E30 -> 0 | AI30: 1 | BN30: =BP30*E30 -> 0 | BP30: 6 | BS30: 2.85 | BT30: =BS30*E30 -> 0
A31: VGRPMAFAVO5 | B31: VORTEX 5 DT | C31: XXXL | D31: 1 | E31: =SUM(I31:T31) -> 0 | F31: 310 | G31: =E31*F31*(100-$D$2)/100 -> 0 | AB31: =AJ31*$E31 -> 0 | AJ31: 1 | BN31: =BP31*E31 -> 0 | BP31: 7 | BS31: 3.35 | BT31: =BS31*E31 -> 0
A32: VGRPMAFAVOSE | B32: VORTEX DT complete series 1-5 | C32: XXL-XXXL | D32: 5 | E32: =SUM(I32:T32) -> 0 | F32: 1317.5 | G32: =E32*F32*(100-$D$2)/100 -> 0 | AA32: =AI32*$E32 -> 0 | AB32: =AJ32*$E32 -> 0 | AI32: 4 | AJ32: 1 | BN32: =BP32*E32 -> 0 | BP32: 30 | BS32: 11.35 | BT32: =BS32*E32 -> 0
A33: VGRPMAVOVO06DT | B33: VORTEX 6 DT | C33: XXL | D33: 1 | E33: =SUM(I33:T33) -> 0 | F33: 257.5 | G33: =E33*F33*(100-$D$2)/100 -> 0 | AA33: =AI33*$E33 -> 0 | AI33: 1 | BN33: =BP33*E33 -> 0 | BP33: 4 | BS33: 1.07 | BT33: =BS33*E33 -> 0
A34: VGRPMAVOVO7DT | B34: VORTEX 7 DT | C34: XXL | D34: 1 | E34: =SUM(I34:T34) -> 0 | F34: 257.5 | G34: =E34*F34*(100-$D$2)/100 -> 0 | AA34: =AI34*$E34 -> 0 | AI34: 1 | BN34: =BP34*E34 -> 0 | BP34: 5 | BS34: 1.4 | BT34: =BS34*E34 -> 0
A35: VGRPMAVOVO8DT | B35: VORTEX 8 DT | C35: XXL | D35: 1 | E35: =SUM(I35:T35) -> 0 | F35: 257.5 | G35: =E35*F35*(100-$D$2)/100 -> 0 | AA35: =AI35*$E35 -> 0 | AI35: 1 | BN35: =BP35*E35 -> 0 | BP35: 5 | BS35: 1.25 | BT35: =BS35*E35 -> 0
A36: VGRPMAVOVOSE6-8DT | B36: VORTEX DT complete series 6-8 | C36: XXL | D36: 3 | E36: =SUM(I36:T36) -> 0 | F36: 735 | G36: =E36*F36*(100-$D$2)/100 -> 0 | AA36: =AI36*$E36 -> 0 | AI36: 3 | BN36: =BP36*E36 -> 0 | BP36: =+SUM(BP33:BP35) -> 14 | BS36: =+SUM(BS33:BS35) -> 3.72 | BT36: =BS36*E36 -> 0
A37: VGRPMAVOVO9DT | B37: VORTEX 9 DT | C37: XXL | D37: 1 | E37: =SUM(I37:T37) -> 0 | F37: 235 | G37: =E37*F37*(100-$D$2)/100 -> 0 | AA37: =AI37*$E37 -> 0 | AI37: 1 | BN37: =BP37*E37 -> 0 | BP37: 5 | BS37: 1.2 | BT37: =BS37*E37 -> 0
A38: VGRPMAVOVO10DT | B38: VORTEX 10 DT | C38: XXL | D38: 1 | E38: =SUM(I38:T38) -> 0 | F38: 235 | G38: =E38*F38*(100-$D$2)/100 -> 0 | AA38: =AI38*$E38 -> 0 | AI38: 1 | BN38: =BP38*E38 -> 0 | BP38: 4 | BS38: 1.05 | BT38: =BS38*E38 -> 0
A39: VGRPMAVOVO11DT | B39: VORTEX 11 DT | C39: XXL | D39: 1 | E39: =SUM(I39:T39) -> 0 | F39: 235 | G39: =E39*F39*(100-$D$2)/100 -> 0 | AA39: =AI39*$E39 -> 0 | AI39: 1 | BN39: =BP39*E39 -> 0 | BP39: 4 | BS39: 1.05 | BT39: =BS39*E39 -> 0
A40: VGRPMAVOVODT911 | B40: VORTEX DT complete series 9-11 | C40: XXL | D40: 3 | E40: =SUM(I40:T40) -> 0 | F40: 670 | G40: =E40*F40*(100-$D$2)/100 -> 0 | AA40: =AI40*$E40 -> 0 | AI40: 3 | BN40: =BP40*E40 -> 0 | BP40: =+SUM(BP37:BP39) -> 13 | BS40: =+SUM(BS37:BS39) -> 3.3 | BT40: =BS40*E40 -> 0
A41: VGRPMAVOVO12DT | B41: VORTEX 12 DT | C41: XXXL | D41: 1 | E41: =SUM(I41:T41) -> 0 | F41: 310 | G41: =E41*F41*(100-$D$2)/100 -> 0 | AB41: =AJ41*$E41 -> 0 | AJ41: 1 | BN41: =BP41*E41 -> 0 | BP41: 7 | BS41: 2.8 | BT41: =BS41*E41 -> 0
G42: =SUM(G12:G41) -> 0 | I42: =SUM(I12:I41) -> 0 | J42: =SUM(J12:J41) -> 0 | K42: =SUM(K12:K41) -> 0 | L42: =SUM(L12:L41) -> 0 | M42: =SUM(M12:M41) -> 0 | N42: =SUM(N12:N41) -> 0 | O42: =SUM(O12:O41) -> 0 | P42: =SUM(P12:P41) -> 0 | ... T42: =SUM(T12:T41) -> 0 | AA42: =SUM(AA12:AA41) -> 0 | AB42: =SUM(AB12:AB41) -> 0 | BN42: =SUM(BN12:BN41) -> 0 | BT42: =SUM(BT12:BT41) -> 0
B43: Mercy line | V43: XS | W43: S | X43: M | Y43: L | Z43: XL | AA43: XXL | AB43: XXXL | AD43: XS | AE43: S | AF43: M | AG43: L | AH43: XL | AI43: XXL | AJ43: XXXL | AK43: Mega | AM43: 30 mm | AN43: 40 mm | AO43: 50 mm | AP43: 60 mm | AQ43: 70 mm | AR43: 80 mm | AS43: 90 mm | AT43: 100 mm | AU43: 120 mm | AV43: 140 mm | AW43: 160 mm | AX43: 180 mm | AY43: 200 mm | AZ43: 30 mm | BA43: 40 mm | BB43: 50 mm | BC43: 60 mm | BD43: 70 mm | BE43: 80 mm | BF43: 90 mm | BG43: 100 mm | BH43: 120 mm | BI43: 140 mm | BJ43: 160 mm | BK43: 180 mm | BL43: 200 mm | BN43: 50 mm | BO43: 70 mm | BP43: 50 mm | BQ43: 70 mm | BS43: Set | BT43: Total Sets
A44: VGRPMAMEXXL6 | B44: Mercy XXL 6 | C44: 66x18x6,5 cm | D44: 1 | E44: =SUM(I44:T44) -> 0 | F44: 180 | G44: =E44*F44*(100-$D$2)/100 -> 0 | AA44: =AI44*$E44 -> 0 | AI44: 1 | BN44: =BP44*E44 -> 0 | BP44: 5 | BS44: 1.1 | BT44: =BS44*E44 -> 0
A45: VGRPMAMEXXL7 | B45: Mercy XXL 7 | C45: 66x18x9 cm | D45: 1 | E45: =SUM(I45:T45) -> 0 | F45: 175 | G45: =E45*F45*(100-$D$2)/100 -> 0 | AA45: =AI45*$E45 -> 0 | AI45: 1 | BN45: =BP45*E45 -> 0 | BP45: 5 | BS45: 1.3 | BT45: =BS45*E45 -> 0
A46: VGRPMAMEXXL8 | B46: Mercy XXL 8 | C46: 66x18x11 cm | D46: 1 | E46: =SUM(I46:T46) -> 0 | F46: 175 | G46: =E46*F46*(100-$D$2)/100 -> 0 | AA46: =AI46*$E46 -> 0 | AI46: 1 | BN46: =BP46*E46 -> 0 | BP46: 5 | BS46: 1.2 | BT46: =BS46*E46 -> 0
A47: VGRPMAMEXXL9 | B47: Mercy XXL 9 | C47: 66x18x13 cm | D47: 1 | E47: =SUM(I47:T47) -> 0 | F47: 187.5 | G47: =E47*F47*(100-$D$2)/100 -> 0 | AA47: =AI47*$E47 -> 0 | AI47: 1 | BN47: =BP47*E47 -> 0 | BP47: 6 | BS47: 1.3 | BT47: =BS47*E47 -> 0
A48: VGRPMAMEXXL10 | B48: Mercy XXL 10 | C48: 66x18x14 cm | D48: 1 | E48: =SUM(I48:T48) -> 0 | F48: 187.5 | G48: =E48*F48*(100-$D$2)/100 -> 0 | AA48: =AI48*$E48 -> 0 | AI48: 1 | BN48: =BP48*E48 -> 0 | BP48: 5 | BS48: 1.4 | BT48: =BS48*E48 -> 0
A49: VGRPMAMEXXL610 | B49: Pack Mercy XXL 6-10 | C49: XXL | D49: 5 | E49: =SUM(I49:T49) -> 0 | F49: 860 | G49: =E49*F49*(100-$D$2)/100 -> 0 | AA49: =AI49*$E49 -> 0 | AI49: 5 | BN49: =BP49*E49 -> 0 | BP49: 26 | BS49: 6.3 | BT49: =BS49*E49 -> 0
A50: VGRPMAMEXXXL6 | B50: Mercy XXXL 6 | C50: 82 x 32 x 12,5 cm | D50: 1 | E50: =SUM(I50:T50) -> 0 | F50: 220 | G50: =E50*F50*(100-$D$2)/100 -> 0 | AB50: =AJ50*$E50 -> 0 | AJ50: 1 | BO50: =BQ50*E50 -> 0 | BQ50: 7 | BS50: 2.35 | BT50: =BS50*E50 -> 0
A51: VGRPMAMEXXXL7 | B51: Mercy XXXL 7 | C51: 82 x 32 x 13 cm | D51: 1 | E51: =SUM(I51:T51) -> 0 | F51: 220 | G51: =E51*F51*(100-$D$2)/100 -> 0 | AB51: =AJ51*$E51 -> 0 | AJ51: 1 | BO51: =BQ51*E51 -> 0 | BQ51: 7 | BS51: 2.5 | BT51: =BS51*E51 -> 0
A52: VGRPMAMEXXXL8 | B52: Mercy XXXL 8 | C52: 82 x 32 x 14 cm | D52: 1 | E52: =SUM(I52:T52) -> 0 | F52: 220 | G52: =E52*F52*(100-$D$2)/100 -> 0 | AB52: =AJ52*$E52 -> 0 | AJ52: 1 | BO52: =BQ52*E52 -> 0 | BQ52: 7 | BS52: 2.6 | BT52: =BS52*E52 -> 0
A53: VGRPMAMEXXXL9 | B53: Mercy XXXL 9 | C53: 82 x 32 x 10 cm | D53: 1 | E53: =SUM(I53:T53) -> 0 | F53: 220 | G53: =E53*F53*(100-$D$2)/100 -> 0 | AB53: =AJ53*$E53 -> 0 | AJ53: 1 | BO53: =BQ53*E53 -> 0 | BQ53: 7 | BS53: 2.3 | BT53: =BS53*E53 -> 0
A54: VGRPMAMEXXXL10 | B54: Mercy XXXL 10 | C54: 82 x 32 x 11 cm | D54: 1 | E54: =SUM(I54:T54) -> 0 | F54: 220 | G54: =E54*F54*(100-$D$2)/100 -> 0 | AB54: =AJ54*$E54 -> 0 | AJ54: 1 | BO54: =BQ54*E54 -> 0 | BQ54: 7 | BS54: 2.35 | BT54: =BS54*E54 -> 0
A55: VGRPMAMEXXXL610 | B55: Pack Mercy XXXL 6-10 | C55: XXXL | D55: 5 | E55: =SUM(I55:T55) -> 0 | F55: 1045 | G55: =E55*F55*(100-$D$2)/100 -> 0 | AB55: =AJ55*$E55 -> 0 | AJ55: 5 | BO55: =BQ55*E55 -> 0 | BQ55: 35 | BS55: 12.2 | BT55: =BS55*E55 -> 0
A56: VGRPMAMEXXL6DT | B56: Mercy XXL 6 DT | C56: 66x18x6,5 cm | D56: 1 | E56: =SUM(I56:T56) -> 0 | F56: 220 | G56: =E56*F56*(100-$D$2)/100 -> 0 | AA56: =AI56*$E56 -> 0 | AI56: 1 | BN56: =BP56*E56 -> 0 | BP56: 5 | BS56: 1.1 | BT56: =BS56*E56 -> 0
A57: VGRPMAMEXXL7DT | B57: Mercy XXL 7 DT | C57: 66x18x9 cm | D57: 1 | E57: =SUM(I57:T57) -> 0 | F57: 225 | G57: =E57*F57*(100-$D$2)/100 -> 0 | AA57: =AI57*$E57 -> 0 | AI57: 1 | BN57: =BP57*E57 -> 0 | BP57: 5 | BS57: 1.3 | BT57: =BS57*E57 -> 0
A58: VGRPMAMEXXL8DT | B58: Mercy XXL 8 DT | C58: 66x18x11 cm | D58: 1 | E58: =SUM(I58:T58) -> 0 | F58: 225 | G58: =E58*F58*(100-$D$2)/100 -> 0 | AA58: =AI58*$E58 -> 0 | AI58: 1 | BN58: =BP58*E58 -> 0 | BP58: 5 | BS58: 1.2 | BT58: =BS58*E58 -> 0
A59: VGRPMAMEXXL9DT | B59: Mercy XXL 9 DT | C59: 66x18x13 cm | D59: 1 | E59: =SUM(I59:T59) -> 0 | F59: 230 | G59: =E59*F59*(100-$D$2)/100 -> 0 | AA59: =AI59*$E59 -> 0 | AI59: 1 | BN59: =BP59*E59 -> 0 | BP59: 6 | BS59: 1.3 | BT59: =BS59*E59 -> 0
A60: VGRPMAMEXXL10DT | B60: Mercy XXL 10 DT | C60: 66x18x14 cm | D60: 1 | E60: =SUM(I60:T60) -> 0 | F60: 230 | G60: =E60*F60*(100-$D$2)/100 -> 0 | AA60: =AI60*$E60 -> 0 | AI60: 1 | BN60: =BP60*E60 -> 0 | BP60: 5 | BS60: 1.4 | BT60: =BS60*E60 -> 0
A61: VGRPMAMEXXL610DT | B61: Pack Mercy XXL 6-10 DT | C61: XXL | D61: 5 | E61: =SUM(I61:T61) -> 0 | F61: 1072.5 | G61: =E61*F61*(100-$D$2)/100 -> 0 | AA61: =AI61*$E61 -> 0 | AI61: 5 | BN61: =BP61*E61 -> 0 | BP61: 26 | BS61: 6.3 | BT61: =BS61*E61 -> 0
A62: VGRPMAMEXXXL6DT | B62: Mercy XXXL 6 DT | C62: 82 x 32 x 12,5 cm | D62: 1 | E62: =SUM(I62:T62) -> 0 | F62: 267.5 | G62: =E62*F62*(100-$D$2)/100 -> 0 | AB62: =AJ62*$E62 -> 0 | AJ62: 1 | BN62: =BP62*E62 -> 0 | BP62: 7 | BS62: 2.5 | BT62: =BS62*E62 -> 0
A63: VGRPMAMEXXXL7DT | B63: Mercy XXXL 7 DT | C63: 82 x 32 x 13 cm | D63: 1 | E63: =SUM(I63:T63) -> 0 | F63: 267.5 | G63: =E63*F63*(100-$D$2)/100 -> 0 | AB63: =AJ63*$E63 -> 0 | AJ63: 1 | BN63: =BP63*E63 -> 0 | BP63: 7 | BS63: 2.6 | BT63: =BS63*E63 -> 0
A64: VGRPMAMEXXXL8DT | B64: Mercy XXXL 8 DT | C64: 82 x 32 x 14 cm | D64: 1 | E64: =SUM(I64:T64) -> 0 | F64: 267.5 | G64: =E64*F64*(100-$D$2)/100 -> 0 | AB64: =AJ64*$E64 -> 0 | AJ64: 1 | BN64: =BP64*E64 -> 0 | BP64: 7 | BS64: 2.6 | BT64: =BS64*E64 -> 0
A65: VGRPMAMEXXXL9DT | B65: Mercy XXXL 9 DT | C65: 82 x 32 x 10 cm | D65: 1 | E65: =SUM(I65:T65) -> 0 | F65: 267.5 | G65: =E65*F65*(100-$D$2)/100 -> 0 | AB65: =AJ65*$E65 -> 0 | AJ65: 1 | BN65: =BP65*E65 -> 0 | BP65: 7 | BS65: 2.6 | BT65: =BS65*E65 -> 0
A66: VGRPMAMEXXXL10DT | B66: Mercy XXXL 10 DT | C66: 82 x 32 x 11 cm | D66: 1 | E66: =SUM(I66:T66) -> 0 | F66: 267.5 | G66: =E66*F66*(100-$D$2)/100 -> 0 | AB66: =AJ66*$E66 -> 0 | AJ66: 1 | BN66: =BP66*E66 -> 0 | BP66: 7 | BS66: 2.6 | BT66: =BS66*E66 -> 0
A67: VGRPMAMEXXXL610DT | B67: Pack Mercy XXXL 6-10 DT | C67: XXXL | D67: 5 | E67: =SUM(I67:T67) -> 0 | F67: 1272.5 | G67: =E67*F67*(100-$D$2)/100 -> 0 | AB67: =AJ67*$E67 -> 0 | AJ67: 5 | BN67: =BP67*E67 -> 0 | BP67: 35 | BS67: 12.9 | BT67: =BS67*E67 -> 0
G68: =SUM(G44:G67) -> 0 | I68: =SUM(I44:I67) -> 0 | J68: =SUM(J44:J67) -> 0 | K68: =SUM(K44:K67) -> 0 | L68: =SUM(L44:L67) -> 0 | M68: =SUM(M44:M67) -> 0 | N68: =SUM(N44:N67) -> 0 | O68: =SUM(O44:O67) -> 0 | P68: =SUM(P44:P67) -> 0 | ... T68: =SUM(T44:T67) -> 0 | W68: =SUM(W44:W67) -> 0 | X68: =SUM(X44:X67) -> 0 | Y68: =SUM(Y44:Y67) -> 0 | Z68: =SUM(Z44:Z67) -> 0 | AA68: =SUM(AA44:AA67) -> 0 | AB68: =SUM(AB44:AB67) -> 0 | AC68: =SUM(AC44:AC67) -> 0 | BN68: =SUM(BN44:BN67) -> 0 | BO68: =SUM(BO44:BO67) -> 0 | BT68: =SUM(BT44:BT67) -> 0

Sheet GRP-PU - KastLine
C1: EUR HT | D1: DISCOUNT% | H1: Holds Size of your order : | X1: Total Weight of your order (kg) : | AB1: =BV60+BV86+BV16+BV50+BV124 -> 0
A2: Total Amount order : | C2: =C3+C4 -> 0 | D2: =AVERAGE(D3:D4) -> 0 | H2: XS | I2: S | J2: M | K2: L | L2: XL | M2: XXL | N2: XXXL | O2: Mega | P2: TOTAL
B3: Fiberglass | C3: =F60+F86+F16+F50 -> 0 | D3: 0 | H3: =X60+X86+X16+X50+X124+X132 -> 0 | I3: =Y60+Y86+Y16+Y50+Y124+Y132 -> 0 | J3: =Z60+Z86+Z16+Z50+Z124+Z132 -> 0 | K3: =AA60+AA86+AA16+AA50+AA124+AA132 -> 0 | L3: =AB60+AB86+AB16+AB50+AB124+AB132 -> 0 | M3: =AC60+AC86+AC16+AC50+AC124+AC132 -> 0 | N3: =AD60+AD86+AD16+AD50+AD124+AD132 -> 0 | O3: =AE60+AE86+AE16+AE50+AE124+AE132 -> 0 | P3: =SUM(H3:N3) -> 0
B4: PU | C4: =F124+F132 -> 0 | D4: 0
A5: GRP/PU by Kastline
H6: Bolts adapted to your order: | X6: Screws adapted to your order
H7: 30 mm | I7: 40 mm | J7: 50 mm | K7: 70 mm | L7: 90 mm | M7: 100 mm | N7: 120 mm | O7: 140 mm | P7: 160 mm | Q7: 180 mm | R7: 200 mm | S7: TOTAL | X7: 50 mm | Y7: 70 mm | Z7: TOTAL
A8: In RED : NEW | H8: =AO60+AO86+AO16+AO50+AO124 -> 0 | I8: =AP60+AP86+AP16+AP50+AP124 -> 0 | J8: =AQ60+AQ86+AQ16+AQ50+AQ124 -> 0 | K8: =AR60+AR86+AR16+AR50+AR124 -> 0 | L8: =AS60+AS86+AS16+AS50+AS124 -> 0 | M8: =AT60+AT86+AT16+AT50+AT124 -> 0 | N8: =AU60+AU86+AU16+AU50+AU124 -> 0 | O8: =AV60+AV86+AV16+AV50+AV124 -> 0 | ... R8: =AY60+AY86+AY16+AY50+AY124 -> 0 | S8: =SUM(H8:R8) -> 0 | X8: =BP60+BP86+BP16+BP50+BP124 -> 0 | Y8: =BQ60+BQ86+BQ16+BQ50+BQ124 -> 0 | Z8: =SUM(X8:Y8) -> 0
B10: Size | C10: Nb of Holds per Set | D10: Sets Total | E10: Retail Price | F10: Final Price | H10: Green RAL 6037 | I10: Yellow RAL 1018 | J10: Red RAL 3020 | K10: Blue RAL 5015 | L10: Violet RAL 4008 | M10: Purple US Pantone 267U | N10: Grey RAL 7001 | O10: Black RAL 9005 | P10: White RAL 9016 | Q10: Fluo Orange RAL 2005 | R10: Fluo Pink Pantone 806C | S10: Fluo Yellow RAL 1026 | T10: Fluo Green Pantone 802C | U10: Pure Orange RAL 2009 | V10: Blue Mint RAL 6027 | X10: Sizes | AO10: Bolts | BP10: Screws | BU10: Weight
A11: GRP
A12: FatLine | X12: XS | Y12: S | Z12: M | AA12: L | AB12: XL | AC12: XXL | AD12: XXXL | AE12: Mega | AF12: XS | AG12: S | AH12: M | AI12: L | AJ12: XL | AK12: XXL | AL12: XXXL | AM12: Mega | AO12: 30 mm | AP12: 40 mm | AQ12: 50 mm | AR12: 60 mm | AS12: 70 mm | AT12: 80 mm | AU12: 90 mm | AV12: 100 mm | AW12: 120 mm | AX12: 140 mm | AY12: 160 mm | AZ12: 180 mm | BA12: 200 mm | BB12: 30 mm | BC12: 40 mm | BD12: 50 mm | BE12: 60 mm | BF12: 70 mm | BG12: 80 mm | BH12: 90 mm | BI12: 100 mm | BJ12: 120 mm | BK12: 140 mm | BL12: 160 mm | BM12: 180 mm | BN12: 200 mm | BP12: 50 mm | BQ12: 70 mm | BR12: 50 mm | BS12: 70 mm | BU12: Set | BV12: Total Sets
A13: The Blade 1-5 | B13: XXXL | C13: 5 | D13: =SUM(H13:V13) -> 0 | E13: 965 | F13: =D13*E13*(100-$D$3)/100 -> 0 | AD13: =AL13*$D13 -> 0 | AL13: 5 | BP13: =BR13*D13 -> 0 | BQ13: =BS13*D13 -> 0 | BR13: 26 | BS13: 7 | BU13: 12.3 | BV13: =BU13*D13 -> 0
A14: The Drop | B14: XXXL | C14: 1 | D14: =SUM(H14:V14) -> 0 | E14: 240 | F14: =D14*E14*(100-$D$3)/100 -> 0 | AD14: =AL14*$D14 -> 0 | AL14: 1 | BQ14: =BS14*D14 -> 0 | BS14: 10 | BU14: 5 | BV14: =BU14*D14 -> 0
A15: The Abyss 1-4 DT | B15: XXL/XXXL | C15: 4 | D15: =SUM(H15:V15) -> 0 | E15: 850 | F15: =D15*E15*(100-$D$3)/100 -> 0 | AC15: =AK15*$D15 -> 0 | AD15: =AL15*$D15 -> 0 | AK15: 2 | AL15: 2 | BP15: =BR15*D15 -> 0 | BR15: 30 | BU15: 10.3 | BV15: =BU15*D15 -> 0
F16: =SUM(F13:F15) -> 0 | H16: =SUM(H13:H15) -> 0 | I16: =SUM(I13:I15) -> 0 | J16: =SUM(J13:J15) -> 0 | K16: =SUM(K13:K15) -> 0 | L16: =SUM(L13:L15) -> 0 | M16: =SUM(M13:M15) -> 0 | N16: =SUM(N13:N15) -> 0 | O16: =SUM(O13:O15) -> 0 | ... V16: =SUM(V13:V15) -> 0 | AC16: =SUM(AC13:AC15) -> 0 | AD16: =SUM(AD13:AD15) -> 0 | BP16: =SUM(BP13:BP15) -> 0 | BQ16: =SUM(BQ13:BQ15) -> 0 | BV16: =SUM(BV13:BV15) -> 0
A17: ArtLab | BP17: 50 mm | BQ17: 70 mm | BR17: 50 mm | BS17: 70 mm
A18: Manta XXL1 | B18: XXL | C18: 1 | D18: =SUM(H18:V18) -> 0 | E18: 130 | F18: =D18*E18*(100-$D$3)/100 -> 0 | AC18: =AK18*$D18 -> 0 | AK18: 1 | BP18: =BR18*D18 -> 0 | BR18: 4 | BU18: 0.81 | BV18: =BU18*D18 -> 0
A19: Manta XXL2 | B19: XXL | C19: 1 | D19: =SUM(H19:V19) -> 0 | E19: 130 | F19: =D19*E19*(100-$D$3)/100 -> 0 | AC19: =AK19*$D19 -> 0 | AK19: 1 | BP19: =BR19*D19 -> 0 | BR19: 4 | BU19: 0.8 | BV19: =BU19*D19 -> 0
A20: Manta XXL3 | B20: XXL | C20: 1 | D20: =SUM(H20:V20) -> 0 | E20: 130 | F20: =D20*E20*(100-$D$3)/100 -> 0 | AC20: =AK20*$D20 -> 0 | AK20: 1 | BP20: =BR20*D20 -> 0 | BR20: 4 | BU20: 0.87 | BV20: =BU20*D20 -> 0
A21: Manta XXL4 | B21: XXL | C21: 1 | D21: =SUM(H21:V21) -> 0 | E21: 130 | F21: =D21*E21*(100-$D$3)/100 -> 0 | AC21: =AK21*$D21 -> 0 | AK21: 1 | BP21: =BR21*D21 -> 0 | BR21: 4 | BU21: 0.85 | BV21: =BU21*D21 -> 0
A22: Manta XXL5 | B22: XXL | C22: 1 | D22: =SUM(H22:V22) -> 0 | E22: 135 | F22: =D22*E22*(100-$D$3)/100 -> 0 | AC22: =AK22*$D22 -> 0 | AK22: 1 | BP22: =BR22*D22 -> 0 | BR22: 4 | BU22: 0.94 | BV22: =BU22*D22 -> 0
A23: Manta XXL6 | B23: XXL | C23: 1 | D23: =SUM(H23:V23) -> 0 | E23: 135 | F23: =D23*E23*(100-$D$3)/100 -> 0 | AC23: =AK23*$D23 -> 0 | AK23: 1 | BP23: =BR23*D23 -> 0 | BR23: 4 | BU23: 0.91 | BV23: =BU23*D23 -> 0
A24: Manta XXL7 | B24: XXL | C24: 1 | D24: =SUM(H24:V24) -> 0 | E24: 135 | F24: =D24*E24*(100-$D$3)/100 -> 0 | AC24: =AK24*$D24 -> 0 | AK24: 1 | BP24: =BR24*D24 -> 0 | BR24: 4 | BU24: 0.95 | BV24: =BU24*D24 -> 0
A25: Manta XXL8 | B25: XXL | C25: 1 | D25: =SUM(H25:V25) -> 0 | E25: 135 | F25: =D25*E25*(100-$D$3)/100 -> 0 | AC25: =AK25*$D25 -> 0 | AK25: 1 | BP25: =BR25*D25 -> 0 | BR25: 4 | BU25: 0.93 | BV25: =BU25*D25 -> 0
A26: Pack Manta XXL | B26: XXL | C26: 8 | D26: =SUM(H26:V26) -> 0 | E26: 1010 | F26: =D26*E26*(100-$D$3)/100 -> 0 | AC26: =AK26*$D26 -> 0 | AK26: 8 | BP26: =BR26*D26 -> 0 | BR26: 32 | BU26: 7.06 | BV26: =BU26*D26 -> 0
A27: Manta XXL1 DT | B27: XXL | C27: 1 | D27: =SUM(H27:V27) -> 0 | E27: 150 | F27: =D27*E27*(100-$D$3)/100 -> 0 | AC27: =AK27*$D27 -> 0 | AK27: 1 | BP27: =BR27*D27 -> 0 | BR27: 4 | BU27: 0.81 | BV27: =BU27*D27 -> 0
A28: Manta XXL2 DT | B28: XXL | C28: 1 | D28: =SUM(H28:V28) -> 0 | E28: 150 | F28: =D28*E28*(100-$D$3)/100 -> 0 | AC28: =AK28*$D28 -> 0 | AK28: 1 | BP28: =BR28*D28 -> 0 | BR28: 4 | BU28: 0.8 | BV28: =BU28*D28 -> 0
A29: Manta XXL3 DT | B29: XXL | C29: 1 | D29: =SUM(H29:V29) -> 0 | E29: 150 | F29: =D29*E29*(100-$D$3)/100 -> 0 | AC29: =AK29*$D29 -> 0 | AK29: 1 | BP29: =BR29*D29 -> 0 | BR29: 4 | BU29: 0.87 | BV29: =BU29*D29 -> 0
... A35: Pack Manta XXL DT | B35: XXL | C35: 8 | D35: =SUM(H35:V35) -> 0 | E35: 1150 | F35: =D35*E35*(100-$D$3)/100 -> 0 | AC35: =AK35*$D35 -> 0 | AK35: 8 | BP35: =BR35*D35 -> 0 | BR35: 32 | BU35: 7.06 | BV35: =BU35*D35 -> 0
A36: Manta XXXL 1 | B36: XXXL | C36: 1 | D36: =SUM(H36:V36) -> 0 | E36: 255 | F36: =D36*E36*(100-$D$3)/100 -> 0 | AD36: =AL36*$D36 -> 0 | AL36: 1 | BP36: =BR36*D36 -> 0 | BR36: 5 | BU36: 2.23 | BV36: =BU36*D36 -> 0
A37: Manta XXXL 2 | B37: XXXL | C37: 1 | D37: =SUM(H37:V37) -> 0 | E37: 255 | F37: =D37*E37*(100-$D$3)/100 -> 0 | AD37: =AL37*$D37 -> 0 | AL37: 1 | BP37: =BR37*D37 -> 0 | BR37: 5 | BU37: 2.2 | BV37: =BU37*D37 -> 0
A38: Manta XXXL 3 | B38: XXXL | C38: 1 | D38: =SUM(H38:V38) -> 0 | E38: 280 | F38: =D38*E38*(100-$D$3)/100 -> 0 | AD38: =AL38*$D38 -> 0 | AL38: 1 | BP38: =BR38*D38 -> 0 | BR38: 5 | BU38: 2.76 | BV38: =BU38*D38 -> 0
A39: Manta XXXL 4 | B39: XXXL | C39: 1 | D39: =SUM(H39:V39) -> 0 | E39: 280 | F39: =D39*E39*(100-$D$3)/100 -> 0 | AD39: =AL39*$D39 -> 0 | AL39: 1 | BP39: =BR39*D39 -> 0 | BR39: 5 | BU39: 2.75 | BV39: =BU39*D39 -> 0
A40: Manta XXXL 5 | B40: XXXL | C40: 1 | D40: =SUM(H40:V40) -> 0 | E40: 280 | F40: =D40*E40*(100-$D$3)/100 -> 0 | AD40: =AL40*$D40 -> 0 | AL40: 1 | BP40: =BR40*D40 -> 0 | BR40: 5 | BU40: 2.86 | BV40: =BU40*D40 -> 0
A41: Manta XXXL 6 | B41: XXXL | C41: 1 | D41: =SUM(H41:V41) -> 0 | E41: 280 | F41: =D41*E41*(100-$D$3)/100 -> 0 | AD41: =AL41*$D41 -> 0 | AL41: 1 | BP41: =BR41*D41 -> 0 | BR41: 5 | BU41: 2.82 | BV41: =BU41*D41 -> 0
A42: Manta XXXL 7 | B42: Mega | C42: 1 | D42: =SUM(H42:V42) -> 0 | E42: 320 | F42: =D42*E42*(100-$D$3)/100 -> 0 | AE42: =AM42*$D42 -> 0 | AM42: 1 | BP42: =BR42*D42 -> 0 | BR42: 5 | BU42: 4.24 | BV42: =BU42*D42 -> 0
A43: Manta XXXL 1 DT | B43: XXXL | C43: 1 | D43: =SUM(H43:V43) -> 0 | E43: 300 | F43: =D43*E43*(100-$D$3)/100 -> 0 | AD43: =AL43*$D43 -> 0 | AL43: 1 | BP43: =BR43*D43 -> 0 | BR43: 5 | BU43: 2.23 | BV43: =BU43*D43 -> 0
A44: Manta XXXL 2 DT | B44: XXXL | C44: 1 | D44: =SUM(H44:V44) -> 0 | E44: 300 | F44: =D44*E44*(100-$D$3)/100 -> 0 | AD44: =AL44*$D44 -> 0 | AL44: 1 | BP44: =BR44*D44 -> 0 | BR44: 5 | BU44: 2.2 | BV44: =BU44*D44 -> 0
A45: Manta XXXL 3 DT | B45: XXXL | C45: 1 | D45: =SUM(H45:V45) -> 0 | E45: 325 | F45: =D45*E45*(100-$D$3)/100 -> 0 | AD45: =AL45*$D45 -> 0 | AL45: 1 | BP45: =BR45*D45 -> 0 | BR45: 5 | BU45: 2.76 | BV45: =BU45*D45 -> 0
A46: Manta XXXL 4 DT | B46: XXXL | C46: 1 | D46: =SUM(H46:V46) -> 0 | E46: 325 | F46: =D46*E46*(100-$D$3)/100 -> 0 | AD46: =AL46*$D46 -> 0 | AL46: 1 | BP46: =BR46*D46 -> 0 | BR46: 5 | BU46: 2.75 | BV46: =BU46*D46 -> 0
A47: Manta XXXL 5 DT | B47: XXXL | C47: 1 | D47: =SUM(H47:V47) -> 0 | E47: 325 | F47: =D47*E47*(100-$D$3)/100 -> 0 | AD47: =AL47*$D47 -> 0 | AL47: 1 | BP47: =BR47*D47 -> 0 | BR47: 5 | BU47: 2.86 | BV47: =BU47*D47 -> 0
A48: Manta XXXL 6 DT | B48: XXXL | C48: 1 | D48: =SUM(H48:V48) -> 0 | E48: 325 | F48: =D48*E48*(100-$D$3)/100 -> 0 | AD48: =AL48*$D48 -> 0 | AL48: 1 | BP48: =BR48*D48 -> 0 | BR48: 5 | BU48: 2.82 | BV48: =BU48*D48 -> 0
A49: Manta XXXL 7 DT | B49: Mega | C49: 1 | D49: =SUM(H49:V49) -> 0 | E49: 365 | F49: =D49*E49*(100-$D$3)/100 -> 0 | AE49: =AM49*$D49 -> 0 | AM49: 1 | BP49: =BR49*D49 -> 0 | BR49: 5 | BU49: 4.24 | BV49: =BU49*D49 -> 0
F50: =SUM(F18:F49) -> 0 | H50: =SUM(H18:H49) -> 0 | I50: =SUM(I18:I49) -> 0 | J50: =SUM(J18:J49) -> 0 | K50: =SUM(K18:K49) -> 0 | L50: =SUM(L18:L49) -> 0 | M50: =SUM(M18:M49) -> 0 | N50: =SUM(N18:N49) -> 0 | O50: =SUM(O18:O49) -> 0 | ... V50: =SUM(V18:V49) -> 0 | AC50: =SUM(AC18:AC49) -> 0 | AD50: =SUM(AD18:AD49) -> 0 | AE50: =SUM(AE18:AE49) -> 0 | BP50: =SUM(BP18:BP49) -> 0 | BQ50: =SUM(BQ18:BQ49) -> 0 | BV50: =SUM(BV18:BV49) -> 0
A51: Mercy | BP51: 50 mm | BQ51: 70 mm | BR51: 50 mm | BS51: 70 mm
A52: The Mercy XXXL 1-5 | B52: XXXL | C52: 5 | D52: =SUM(H52:V52) -> 0 | E52: 950 | F52: =D52*E52*(100-$D$3)/100 -> 0 | AD52: =AL52*$D52 -> 0 | AL52: 5 | BQ52: =BS52*D52 -> 0 | BS52: 35 | BU52: 12.2 | BV52: =BU52*D52 -> 0
A53: The Mercy XXXL 6-10 | B53: XXXL | C53: 5 | D53: =SUM(H53:V53) -> 0 | E53: 950 | F53: =D53*E53*(100-$D$3)/100 -> 0 | AD53: =AL53*$D53 -> 0 | AL53: 5 | BQ53: =BS53*D53 -> 0 | BS53: 30 | BU53: 9.9 | BV53: =BU53*D53 -> 0
A54: The Mercy XXL 1-5 | B54: XXL | C54: 5 | D54: =SUM(H54:V54) -> 0 | E54: 640 | F54: =D54*E54*(100-$D$3)/100 -> 0 | AC54: =AK54*$D54 -> 0 | AK54: 5 | BP54: =BR54*D54 -> 0 | BR54: 26 | BU54: 6.3 | BV54: =BU54*D54 -> 0
A55: The Mercy XXL 6-10 | B55: XXL | C55: 5 | D55: =SUM(H55:V55) -> 0 | E55: 810 | F55: =D55*E55*(100-$D$3)/100 -> 0 | AC55: =AK55*$D55 -> 0 | AK55: 5 | BP55: =BR55*D55 -> 0 | BR55: 25 | BU55: 6.17 | BV55: =BU55*D55 -> 0
A56: The Mercy XXXL 1-5 DT | B56: XXXL | C56: 5 | D56: =SUM(H56:V56) -> 0 | E56: 1140 | F56: =D56*E56*(100-$D$3)/100 -> 0 | AD56: =AK58*$D58 -> 0 | AL56: 5 | BQ56: =BS56*D56 -> 0 | BS56: 35 | BU56: 12.2 | BV56: =BU56*D56 -> 0
A57: The Mercy XXXL 6-10 DT | B57: XXXL | C57: 5 | D57: =SUM(H57:V57) -> 0 | E57: 1140 | F57: =D57*E57*(100-$D$3)/100 -> 0 | AD57: =AK59*$D59 -> 0 | AL57: 5 | BQ57: =BS57*D57 -> 0 | BS57: 30 | BU57: 9.9 | BV57: =BU57*D57 -> 0
A58: The Mercy XXL 1-5 DT | B58: XXL | C58: 5 | D58: =SUM(H58:V58) -> 0 | E58: 785 | F58: =D58*E58*(100-$D$3)/100 -> 0 | AC58: =AK58*$D58 -> 0 | AK58: 5 | BP58: =BR58*D58 -> 0 | BR58: 26 | BU58: 6.3 | BV58: =BU58*D58 -> 0
A59: The Mercy XXL 6-10 DT | B59: XXL | C59: 5 | D59: =SUM(H59:V59) -> 0 | E59: 950 | F59: =D59*E59*(100-$D$3)/100 -> 0 | AC59: =AK59*$D59 -> 0 | AK59: 5 | BP59: =BR59*D59 -> 0 | BR59: 25 | BU59: 6.17 | BV59: =BU59*D59 -> 0
F60: =SUM(F52:F59) -> 0 | H60: =SUM(H52:H59) -> 0 | I60: =SUM(I52:I59) -> 0 | J60: =SUM(J52:J59) -> 0 | K60: =SUM(K52:K59) -> 0 | L60: =SUM(L52:L59) -> 0 | M60: =SUM(M52:M59) -> 0 | N60: =SUM(N52:N59) -> 0 | O60: =SUM(O52:O59) -> 0 | ... V60: =SUM(V52:V59) -> 0 | AC60: =SUM(AC52:AC59) -> 0 | AD60: =SUM(AD52:AD59) -> 0 | BP60: =SUM(BP52:BP59) -> 0 | BQ60: =SUM(BQ52:BQ59) -> 0 | BV60: =SUM(BV52:BV59) -> 0
A61: Vortex | B61: Vortex : 5% extra discount by pack of 5 | X61: XS | Y61: S | Z61: M | AA61: L | AB61: XL | AC61: XXL | AD61: XXXL | AE61: Mega | AF61: XS | AG61: S | AH61: M | AI61: L | AJ61: XL | AK61: XXL | AL61: XXXL | AM61: Mega | AO61: 30 mm | AP61: 40 mm | AQ61: 50 mm | AR61: 60 mm | AS61: 70 mm | AT61: 80 mm | AU61: 90 mm | AV61: 100 mm | AW61: 120 mm | AX61: 140 mm | AY61: 160 mm | AZ61: 180 mm | BA61: 200 mm | BB61: 30 mm | BC61: 40 mm | BD61: 50 mm | BE61: 60 mm | BF61: 70 mm | BG61: 80 mm | BH61: 90 mm | BI61: 100 mm | BJ61: 120 mm | BK61: 140 mm | BL61: 160 mm | BM61: 180 mm | BN61: 200 mm | BP61: 50 mm | BQ61: 70 mm | BR61: 50 mm | BS61: 70 mm | BU61: Set | BV61: Total Sets
A62: VORTEX 1 | B62: XXL | C62: 1 | D62: =SUM(H62:V62) -> 0 | E62: 180 | F62: =D62*E62*(100-$F$3)/100 -> 0 | AC62: =AK62*$D62 -> 0 | AK62: 1 | BP62: =BR62*D62 -> 0 | BR62: 6 | BU62: 1.6 | BV62: =BU62*D62 -> 0
A63: VORTEX 2 | B63: XXL | C63: 1 | D63: =SUM(H63:V63) -> 0 | E63: 190 | F63: =D63*E63*(100-$F$3)/100 -> 0 | AC63: =AK63*$D63 -> 0 | AK63: 1 | BP63: =BR63*D63 -> 0 | BR63: 5 | BU63: 1.65 | BV63: =BU63*D63 -> 0
A64: VORTEX 3 | B64: XXL | C64: 1 | D64: =SUM(H64:V64) -> 0 | E64: 190 | F64: =D64*E64*(100-$F$3)/100 -> 0 | AC64: =AK64*$D64 -> 0 | AK64: 1 | BP64: =BR64*D64 -> 0 | BR64: 6 | BU64: 1.9 | BV64: =BU64*D64 -> 0
A65: VORTEX 4 | B65: XXL | C65: 1 | D65: =SUM(H65:V65) -> 0 | E65: 220 | F65: =D65*E65*(100-$F$3)/100 -> 0 | AC65: =AK65*$D65 -> 0 | AK65: 1 | BP65: =BR65*D65 -> 0 | BR65: 6 | BU65: 2.85 | BV65: =BU65*D65 -> 0
A66: VORTEX 5 | B66: XXXL | C66: 1 | D66: =SUM(H66:V66) -> 0 | E66: 260 | F66: =D66*E66*(100-$F$3)/100 -> 0 | AD66: =AL66*$D66 -> 0 | AL66: 1 | BP66: =BR66*D66 -> 0 | BR66: 7 | BU66: 3.35 | BV66: =BU66*D66 -> 0
A67: VORTEX 6 | B67: XXL | C67: 1 | D67: =SUM(H67:V67) -> 0 | E67: 165 | F67: =D67*E67*(100-$F$3)/100 -> 0 | AC67: =AK67*$D67 -> 0 | AK67: 1 | BP67: =BR67*D67 -> 0 | BR67: 4 | BU67: 1.07 | BV67: =BU67*D67 -> 0
A68: VORTEX 7 | B68: XXL | C68: 1 | D68: =SUM(H68:V68) -> 0 | E68: 175 | F68: =D68*E68*(100-$F$3)/100 -> 0 | AC68: =AK68*$D68 -> 0 | AK68: 1 | BP68: =BR68*D68 -> 0 | BR68: 5 | BU68: 1.4 | BV68: =BU68*D68 -> 0
A69: VORTEX 8 | B69: XXL | C69: 1 | D69: =SUM(H69:V69) -> 0 | E69: 175 | F69: =D69*E69*(100-$F$3)/100 -> 0 | AC69: =AK69*$D69 -> 0 | AK69: 1 | BP69: =BR69*D69 -> 0 | BR69: 5 | BU69: 1.25 | BV69: =BU69*D69 -> 0
A70: VORTEX 9 | B70: XXL | C70: 1 | D70: =SUM(H70:V70) -> 0 | E70: 170 | F70: =D70*E70*(100-$F$3)/100 -> 0 | AC70: =AK70*$D70 -> 0 | AK70: 1 | BP70: =BR70*D70 -> 0 | BR70: 5 | BU70: 1.2 | BV70: =BU70*D70 -> 0
A71: VORTEX 10 | B71: XXL | C71: 1 | D71: =SUM(H71:V71) -> 0 | E71: 165 | F71: =D71*E71*(100-$F$3)/100 -> 0 | AC71: =AK71*$D71 -> 0 | AK71: 1 | BP71: =BR71*D71 -> 0 | BR71: 4 | BU71: 1.05 | BV71: =BU71*D71 -> 0
A72: VORTEX 11 | B72: XXL | C72: 1 | D72: =SUM(H72:V72) -> 0 | E72: 160 | F72: =D72*E72*(100-$F$3)/100 -> 0 | AC72: =AK72*$D72 -> 0 | AK72: 1 | BP72: =BR72*D72 -> 0 | BR72: 4 | BU72: 1.05 | BV72: =BU72*D72 -> 0
A73: VORTEX 12 | B73: XXXL | C73: 1 | D73: =SUM(H73:V73) -> 0 | E73: 215 | F73: =D73*E73*(100-$F$3)/100 -> 0 | AD73: =AL73*$D73 -> 0 | AL73: 1 | BP73: =BR73*D73 -> 0 | BR73: 7 | BU73: 2.8 | BV73: =BU73*D73 -> 0
A74: VORTEX 1 DT | B74: XXL | C74: 1 | D74: =SUM(H74:V74) -> 0 | E74: 200 | F74: =D74*E74*(100-$F$3)/100 -> 0 | AC74: =AK74*$D74 -> 0 | AK74: 1 | BP74: =BR74*D74 -> 0 | BR74: 6 | BU74: 1.6 | BV74: =BU74*D74 -> 0
A75: VORTEX 2 DT | B75: XXL | C75: 1 | D75: =SUM(H75:V75) -> 0 | E75: 210 | F75: =D75*E75*(100-$F$3)/100 -> 0 | AC75: =AK75*$D75 -> 0 | AK75: 1 | BP75: =BR75*D75 -> 0 | BR75: 5 | BU75: 1.65 | BV75: =BU75*D75 -> 0
A76: VORTEX 3 DT | B76: XXL | C76: 1 | D76: =SUM(H76:V76) -> 0 | E76: 220 | F76: =D76*E76*(100-$F$3)/100 -> 0 | AC76: =AK76*$D76 -> 0 | AK76: 1 | BP76: =BR76*D76 -> 0 | BR76: 6 | BU76: 1.9 | BV76: =BU76*D76 -> 0
A77: VORTEX 4 DT | B77: XXL | C77: 1 | D77: =SUM(H77:V77) -> 0 | E77: 250 | F77: =D77*E77*(100-$F$3)/100 -> 0 | AC77: =AK77*$D77 -> 0 | AK77: 1 | BP77: =BR77*D77 -> 0 | BR77: 6 | BU77: 2.85 | BV77: =BU77*D77 -> 0
A78: VORTEX 5 DT | B78: XXXL | C78: 1 | D78: =SUM(H78:V78) -> 0 | E78: 290 | F78: =D78*E78*(100-$F$3)/100 -> 0 | AD78: =AL78*$D78 -> 0 | AL78: 1 | BP78: =BR78*D78 -> 0 | BR78: 7 | BU78: 3.35 | BV78: =BU78*D78 -> 0
A79: VORTEX 6 DT | B79: XXL | C79: 1 | D79: =SUM(H79:V79) -> 0 | E79: 190 | F79: =D79*E79*(100-$F$3)/100 -> 0 | AC79: =AK79*$D79 -> 0 | AK79: 1 | BP79: =BR79*D79 -> 0 | BR79: 4 | BU79: 1.07 | BV79: =BU79*D79 -> 0
A80: VORTEX 7 DT | B80: XXL | C80: 1 | D80: =SUM(H80:V80) -> 0 | E80: 200 | F80: =D80*E80*(100-$F$3)/100 -> 0 | AC80: =AK80*$D80 -> 0 | AK80: 1 | BP80: =BR80*D80 -> 0 | BR80: 5 | BU80: 1.4 | BV80: =BU80*D80 -> 0
A81: VORTEX 8 DT | B81: XXL | C81: 1 | D81: =SUM(H81:V81) -> 0 | E81: 200 | F81: =D81*E81*(100-$F$3)/100 -> 0 | AC81: =AK81*$D81 -> 0 | AK81: 1 | BP81: =BR81*D81 -> 0 | BR81: 5 | BU81: 1.25 | BV81: =BU81*D81 -> 0
A82: VORTEX 9 DT | B82: XXL | C82: 1 | D82: =SUM(H82:V82) -> 0 | E82: 195 | F82: =D82*E82*(100-$F$3)/100 -> 0 | AC82: =AK82*$D82 -> 0 | AK82: 1 | BP82: =BR82*D82 -> 0 | BR82: 5 | BU82: 1.2 | BV82: =BU82*D82 -> 0
A83: VORTEX 10 DT | B83: XXL | C83: 1 | D83: =SUM(H83:V83) -> 0 | E83: 180 | F83: =D83*E83*(100-$F$3)/100 -> 0 | AC83: =AK83*$D83 -> 0 | AK83: 1 | BP83: =BR83*D83 -> 0 | BR83: 4 | BU83: 1.05 | BV83: =BU83*D83 -> 0
A84: VORTEX 11 DT | B84: XXL | C84: 1 | D84: =SUM(H84:V84) -> 0 | E84: 180 | F84: =D84*E84*(100-$F$3)/100 -> 0 | AC84: =AK84*$D84 -> 0 | AK84: 1 | BP84: =BR84*D84 -> 0 | BR84: 4 | BU84: 1.05 | BV84: =BU84*D84 -> 0
A85: VORTEX 12 DT | B85: XXXL | C85: 1 | D85: =SUM(H85:V85) -> 0 | E85: 240 | F85: =D85*E85*(100-$F$3)/100 -> 0 | AD85: =AL85*$D85 -> 0 | AL85: 1 | BP85: =BR85*D85 -> 0 | BR85: 7 | BU85: 2.8 | BV85: =BU85*D85 -> 0
F86: =SUM(F62:F85) -> 0 | H86: =SUM(H62:H85) -> 0 | I86: =SUM(I62:I85) -> 0 | J86: =SUM(J62:J85) -> 0 | K86: =SUM(K62:K85) -> 0 | L86: =SUM(L62:L85) -> 0 | M86: =SUM(M62:M85) -> 0 | N86: =SUM(N62:N85) -> 0 | O86: =SUM(O62:O85) -> 0 | ... V86: =SUM(V62:V85) -> 0 | AC86: =SUM(AC62:AC85) -> 0 | AD86: =SUM(AD62:AD85) -> 0 | BP86: =SUM(BP62:BP85) -> 0 | BQ86: =SUM(BQ62:BQ85) -> 0 | BV86: =SUM(BV62:BV85) -> 0
A87: PU
A88: Tagliamento | X88: XS | Y88: S | Z88: M | AA88: L | AB88: XL | AC88: XXL | AD88: XXXL | AE88: Mega | AF88: XS | AG88: S | AH88: M | AI88: L | AJ88: XL | AK88: XXL | AL88: XXXL | AM88: Mega | AO88: 30 mm | AP88: 40 mm | AQ88: 50 mm | AR88: 60 mm | AS88: 70 mm | AT88: 80 mm | AU88: 90 mm | AV88: 100 mm | AW88: 120 mm | AX88: 140 mm | AY88: 160 mm | AZ88: 180 mm | BA88: 200 mm | BB88: 30 mm | BC88: 40 mm | BD88: 50 mm | BE88: 60 mm | BF88: 70 mm | BG88: 80 mm | BH88: 90 mm | BI88: 100 mm | BJ88: 120 mm | BK88: 140 mm | BL88: 160 mm | BM88: 180 mm | BN88: 200 mm | BP88: 50 mm | BQ88: 70 mm | BR88: 50 mm | BS88: 70 mm | BU88: Set | BV88: Total Sets
A89: Screw-ons XS | B89: XS | C89: 10 | D89: =SUM(H89:V89) -> 0 | E89: 35 | F89: =D89*E89*(100-$D$4)/100 -> 0 | X89: =AF89*$D89 -> 0 | AF89: 10 | BP89: =BR89*$D89 -> 0 | BR89: 20 | BU89: 0.3 | BV89: =BU89*D89 -> 0
A90: Foot S1 | B90: S | C90: 10 | D90: =SUM(H90:V90) -> 0 | E90: 45 | F90: =D90*E90*(100-$D$4)/100 -> 0 | Y90: =AG90*$D90 -> 0 | AG90: 10 | AO90: =BB90*$D90 -> 0 | BB90: 10 | BU90: 0.55 | BV90: =BU90*D90 -> 0
A91: Foot S2 | B91: S | C91: 10 | D91: =SUM(H91:V91) -> 0 | E91: 40 | F91: =D91*E91*(100-$D$4)/100 -> 0 | Y91: =AG91*$D91 -> 0 | AG91: 10 | AO91: =BB91*$D91 -> 0 | BB91: 10 | BU91: 0.45 | BV91: =BU91*D91 -> 0
A92: Incut Edges M1 | B92: M | C92: 10 | D92: =SUM(H92:V92) -> 0 | E92: 85 | F92: =D92*E92*(100-$D$4)/100 -> 0 | Z92: =AH92*$D92 -> 0 | AH92: 10 | AP92: =BC92*$D92 -> 0 | BC92: 10 | BU92: 1.4 | BV92: =BU92*D92 -> 0
A93: Edges M2 | B93: M | C93: 10 | D93: =SUM(H93:V93) -> 0 | E93: 100 | F93: =D93*E93*(100-$D$4)/100 -> 0 | Z93: =AH93*$D93 -> 0 | AH93: 10 | AP93: =BC93*$D93 -> 0 | BC93: 10 | BU93: 1.6 | BV93: =BU93*D93 -> 0
A94: Edges M3 | B94: M | C94: 10 | D94: =SUM(H94:V94) -> 0 | E94: 100 | F94: =D94*E94*(100-$D$4)/100 -> 0 | Z94: =AH94*$D94 -> 0 | AH94: 10 | AP94: =BC94*$D94 -> 0 | BC94: 10 | BU94: 1.55 | BV94: =BU94*D94 -> 0
A95: Crimps M4 | B95: M | C95: 10 | D95: =SUM(H95:V95) -> 0 | E95: 90 | F95: =D95*E95*(100-$D$4)/100 -> 0 | Z95: =AH95*$D95 -> 0 | AH95: 10 | AP95: =BC95*$D95 -> 0 | BC95: 10 | BU95: 1.25 | BV95: =BU95*D95 -> 0
A96: Edges L1 | B96: L | C96: 5 | D96: =SUM(H96:V96) -> 0 | E96: 75 | F96: =D96*E96*(100-$D$4)/100 -> 0 | AA96: =AI96*$D96 -> 0 | AI96: 5 | AP96: =BC96*$D96 -> 0 | AQ96: =BD96*$D96 -> 0 | BC96: 4 | BD96: 1 | BU96: 1.5 | BV96: =BU96*D96 -> 0
A97: Edges L2 | B97: L | C97: 5 | D97: =SUM(H97:V97) -> 0 | E97: 95 | F97: =D97*E97*(100-$D$4)/100 -> 0 | AA97: =AI97*$D97 -> 0 | AI97: 5 | AP97: =BC97*$D97 -> 0 | AQ97: =BD97*$D97 -> 0 | BC97: 2 | BD97: 3 | BU97: 2 | BV97: =BU97*D97 -> 0
A98: Jugs L3 | B98: L | C98: 5 | D98: =SUM(H98:V98) -> 0 | E98: 145 | F98: =D98*E98*(100-$D$4)/100 -> 0 | AA98: =AI98*$D98 -> 0 | AI98: 5 | AQ98: =BD98*$D98 -> 0 | AR98: =BE98*$D98 -> 0 | AS98: =BF98*$D98 -> 0 | BD98: 2 | BE98: 2 | BF98: 1 | BU98: 3.45 | BV98: =BU98*D98 -> 0
A99: Jugs L4 | B99: L | C99: 5 | D99: =SUM(H99:V99) -> 0 | E99: 135 | F99: =D99*E99*(100-$D$4)/100 -> 0 | AA99: =AI99*$D99 -> 0 | AI99: 5 | AP99: =BC99*$D99 -> 0 | AQ99: =BD99*$D99 -> 0 | AR99: =BE99*$D99 -> 0 | BC99: 2 | BD99: 2 | BE99: 1 | BU99: 3 | BV99: =BU99*D99 -> 0
A100: Jugs XL1 | B100: XL | C100: 3 | D100: =SUM(H100:V100) -> 0 | E100: 195 | F100: =D100*E100*(100-$D$4)/100 -> 0 | AB100: =AJ100*$D100 -> 0 | AJ100: 3 | AS100: =BF100*$D100 -> 0 | AT100: =BG100*$D100 -> 0 | AU100: =BH100*$D100 -> 0 | BF100: 1 | BG100: 1 | BH100: 1 | BU100: 3.85 | BV100: =BU100*D100 -> 0
A101: Jugs XL2 | B101: XL | C101: 3 | D101: =SUM(H101:V101) -> 0 | E101: 190 | F101: =D101*E101*(100-$D$4)/100 -> 0 | AB101: =AJ101*$D101 -> 0 | AJ101: 3 | AR101: =BE101*$D101 -> 0 | AS101: =BF101*$D101 -> 0 | AT101: =BG101*$D101 -> 0 | BE101: 1 | BF101: 1 | BG101: 1 | BU101: 3.4 | BV101: =BU101*D101 -> 0
A102: Jugs XXL1 | B102: XXL | C102: 1 | D102: =SUM(H102:V102) -> 0 | E102: 95 | F102: =D102*E102*(100-$D$4)/100 -> 0 | AC102: =AK102*$D102 -> 0 | AK102: 1 | AU102: =BH102*$D102 -> 0 | BH102: 1 | BU102: 1.85 | BV102: =BU102*D102 -> 0
A103: Jugs XXL2 | B103: XXL | C103: 1 | D103: =SUM(H103:V103) -> 0 | E103: 75 | F103: =D103*E103*(100-$D$4)/100 -> 0 | AC103: =AK103*$D103 -> 0 | AK103: 1 | AS103: =BF103*$D103 -> 0 | BF103: 1 | BU103: 1.7 | BV103: =BU103*D103 -> 0
A104: Pinches L5 | B104: L | C104: 5 | D104: =SUM(H104:V104) -> 0 | E104: 115 | F104: =D104*E104*(100-$D$4)/100 -> 0 | AA104: =AI104*$D104 -> 0 | AI104: 5 | AQ104: =BD104*$D104 -> 0 | AR104: =BE104*$D104 -> 0 | AS104: =BF104*$D104 -> 0 | AT104: =BG104*$D104 -> 0 | BD104: 1 | BE104: 2 | BF104: 1 | BG104: 1 | BU104: 1.45 | BV104: =BU104*D104 -> 0
A105: Pinches L6 | B105: L | C105: 5 | D105: =SUM(H105:V105) -> 0 | E105: 105 | F105: =D105*E105*(100-$D$4)/100 -> 0 | AA105: =AI105*$D105 -> 0 | AI105: 5 | AT105: =BG105*$D105 -> 0 | AU105: =BH105*$D105 -> 0 | AV105: =BI105*$D105 -> 0 | BG105: 2 | BH105: 2 | BI105: 1 | BU105: 2.4 | BV105: =BU105*D105 -> 0
A106: Pinches XL3 | B106: XL | C106: 5 | D106: =SUM(H106:V106) -> 0 | E106: 175 | F106: =D106*E106*(100-$D$4)/100 -> 0 | AB106: =AJ106*$D106 -> 0 | AJ106: 5 | AW106: =BJ106*$D106 -> 0 | AX106: =BK106*$D106 -> 0 | BJ106: 4 | BK106: 1 | BU106: 4.05 | BV106: =BU106*D106 -> 0
...

Sheet Wooden Volumes - Manusad
C1: EUR HT | D1: DISCOUNT % | H1: Volume Size of your order : | X1: Total Weight of your order (kg) : | AB1: =BT63+BT71+BT85+BT108+BT118+BT132+BT138+BT146+BT157+BT163+BT169+BT177+BT183+BT189 -> 0
A2: Total Amount order : | C2: =F63+F71+F85+F108+F118+F132+F138+F146+F157+F163+F169+F177+F183+F189 -> 0 | D2: =AVERAGE(D3:D4) -> 0 | H2: XS | I2: S | J2: M | K2: L | L2: XL | M2: XXL | N2: XXXL | O2: TOTAL
D3: 0 | E3: Full Texture | H3: =X71+X85+X108+X132+X118+X63+X138+X146+X157+X163+X169+X177+X183+X189 -> 0 | I3: =Y71+Y85+Y108+Y132+Y118+Y63+Y138+Y146+Y157+Y163+Y169+Y177+Y183+Y189 -> 0 | J3: =Z71+Z85+Z108+Z132+Z118+Z63+Z138+Z146+Z157+Z163+Z169+Z177+Z183+Z189 -> 0 | K3: =AA71+AA85+AA108+AA132+AA118+AA63+AA138+AA146+AA157+AA163+AA169+AA177+AA183+AA189 -> 0 | L3: =AB71+AB85+AB108+AB132+AB118+AB63+AB138+AB146+AB157+AB163+AB169+AB177+AB183+AB189 -> 0 | M3: =AC71+AC85+AC108+AC132+AC118+AC63+AC138+AC146+AC157+AC163+AC169+AC177+AC183+AC189 -> 0 | O3: =SUM(H3:N3) -> 0
D4: 0 | E4: Dual texture
A5: Wooden volumes by Manusad
H6: Bolts adapted to your order: | X6: Screws adapted to your order:
H7: 30 mm | I7: 40 mm | J7: 50 mm | K7: 70 mm | L7: 90 mm | M7: 100 mm | N7: 120 mm | O7: 140 mm | P7: 160 mm | Q7: 180 mm | R7: 200 mm | S7: TOTAL | X7: 50 mm | Y7: 70 mm | Z7: TOTAL
A8: In RED : NEW | H8: 0 | I8: 0 | J8: 0 | K8: 0 | L8: 0 | M8: 0 | N8: 0 | O8: 0 | P8: 0 | Q8: 0 | R8: 0 | S8: =SUM(H8:R8) -> 0 | X8: 0 | Y8: =BO63+BO85+BO108+O118+BO132+BO138+BO146+BO157+BO71+BO163+BO169+BO177+BO183+BO189+BO118 -> 0 | Z8: =SUM(X8:Y8) -> 0
B10: Size | C10: Nb of volumes per Set | D10: Sets Total | E10: Retail Price | F10: Final Price | H10: Green RAL 6037 | I10: Yellow RAL 1018 | J10: Red RAL 3020 | K10: Blue RAL 5015 | L10: Violet RAL 4008 | M10: Light Grey RAL 7038 | N10: Grey RAL 7040 | O10: Dark Grey RAL 7046 | P10: Black RAL 9005 | Q10: White RAL 9010 | R10: Blue Mint RAL 6027 | X10: Sizes | AM10: Bolts | BN10: Screws | BS10: Weight
A11: WoodLine Element | X11: XS | Y11: S | Z11: M | AA11: L | AB11: XL | AC11: XXL | AD11: XXXL | AE11: XS | AF11: S | AG11: M | AH11: L | AI11: XL | AJ11: XXL | AK11: XXXL | AM11: 30 mm | AN11: 40 mm | AO11: 50 mm | AP11: 60 mm | AQ11: 70 mm | AR11: 80 mm | AS11: 90 mm | AT11: 100 mm | AU11: 120 mm | AV11: 140 mm | AW11: 160 mm | AX11: 180 mm | AY11: 200 mm | AZ11: 30 mm | BA11: 40 mm | BB11: 50 mm | BC11: 60 mm | BD11: 70 mm | BE11: 80 mm | BF11: 90 mm | BG11: 100 mm | BH11: 120 mm | BI11: 140 mm | BJ11: 160 mm | BK11: 180 mm | BL11: 200 mm | BN11: 50 mm | BO11: 70 mm | BP11: 50 mm | BQ11: 70 mm | BS11: Set | BT11: Total Sets
A12: Dual Pack S1 | B12: 30 x 30 x 6 cm | C12: 5 | D12: =SUM(H12:V12) -> 0 | E12: 200 | F12: =D12*E12*(100-$D$4)/100 -> 0 | Y12: =AF12*$D12 -> 0 | AF12: 5 | BO12: =BQ12*D12 -> 0 | BQ12: 15 | BS12: 1.5 | BT12: =BS12*D12 -> 0
A13: Dual Pack S2 | B13: 30 x 30 x 6 cm | C13: 5 | D13: =SUM(H13:V13) -> 0 | E13: 200 | F13: =D13*E13*(100-$D$4)/100 -> 0 | Y13: =AF13*$D13 -> 0 | AF13: 5 | BO13: =BQ13*D13 -> 0 | BQ13: 15 | BS13: 1.5 | BT13: =BS13*D13 -> 0
A14: Dual L1 | B14: 100 x 70 x 23 cm | C14: 1 | D14: =SUM(H14:V14) -> 0 | E14: 170 | F14: =D14*E14*(100-$D$4)/100 -> 0 | AA14: =AH14*$D14 -> 0 | AH14: 1 | BO14: =BQ14*D14 -> 0 | BQ14: 5 | BS14: 4.2 | BT14: =BS14*D14 -> 0
A15: Dual L2 | B15: 100 x 70 x 23 cm | C15: 1 | D15: =SUM(H15:V15) -> 0 | E15: 155 | F15: =D15*E15*(100-$D$4)/100 -> 0 | AA15: =AH15*$D15 -> 0 | AH15: 1 | BO15: =BQ15*D15 -> 0 | BQ15: 5 | BS15: 3.8 | BT15: =BS15*D15 -> 0
A16: Dual L3 | B16: 100 x 70 x 23 cm | C16: 1 | D16: =SUM(H16:V16) -> 0 | E16: 145 | F16: =D16*E16*(100-$D$4)/100 -> 0 | AA16: =AH16*$D16 -> 0 | AH16: 1 | BO16: =BQ16*D16 -> 0 | BQ16: 7 | BS16: 3 | BT16: =BS16*D16 -> 0
A17: Element S1 | B17: 30 x 30 x 9 cm | C17: 1 | D17: =SUM(H17:V17) -> 0 | E17: 45 | F17: =D17*E17*(100-$D$3)/100 -> 0 | Y17: =AF17*$D17 -> 0 | AF17: 1 | BO17: =BQ17*D17 -> 0 | BQ17: 3 | BS17: 0.7 | BT17: =BS17*D17 -> 0
A18: Element S1 - Bolt | B18: 30x 30 x 9 cm | C18: 1 | D18: =SUM(H18:V18) -> 0 | E18: 65 | F18: =D18*E18*(100-$D$3)/100 -> 0 | Y18: =AF18*$D18 -> 0 | AF18: 1 | BO18: =BQ18*D18 -> 0 | BQ18: 2 | BS18: 0.8 | BT18: =BS18*D18 -> 0
A19: Element S2 | B19: 30 x 30 x 9 cm | C19: 1 | D19: =SUM(H19:V19) -> 0 | E19: 47.5 | F19: =D19*E19*(100-$D$3)/100 -> 0 | Y19: =AF19*$D19 -> 0 | AF19: 1 | BO19: =BQ19*D19 -> 0 | BQ19: 2 | BS19: 0.75 | BT19: =BS19*D19 -> 0
A20: Element S3 | B20: 30 x 30 x 8 cm | C20: 1 | D20: =SUM(H20:V20) -> 0 | E20: 47.5 | F20: =D20*E20*(100-$D$3)/100 -> 0 | Y20: =AF20*$D20 -> 0 | AF20: 1 | BO20: =BQ20*D20 -> 0 | BQ20: 2 | BS20: 0.85 | BT20: =BS20*D20 -> 0
A21: Element S3 - Bolt | B21: 30 x 30 x 8 cm | C21: 1 | D21: =SUM(H21:V21) -> 0 | E21: 67.5 | F21: =D21*E21*(100-$D$3)/100 -> 0 | Y21: =AF21*$D21 -> 0 | AF21: 1 | BO21: =BQ21*D21 -> 0 | BQ21: 2 | BS21: 1 | BT21: =BS21*D21 -> 0
A22: Element S4 | B22: 30x 30 x 6 cm | C22: 1 | D22: =SUM(H22:V22) -> 0 | E22: 52.5 | F22: =D22*E22*(100-$D$3)/100 -> 0 | Y22: =AF22*$D22 -> 0 | AF22: 1 | BO22: =BQ22*D22 -> 0 | BQ22: 3 | BS22: 1 | BT22: =BS22*D22 -> 0
A23: Element S4 - Bolt | B23: 30x 30 x 6 cm | C23: 1 | D23: =SUM(H23:V23) -> 0 | E23: 75 | F23: =D23*E23*(100-$D$3)/100 -> 0 | Y23: =AF23*$D23 -> 0 | AF23: 1 | BO23: =BQ23*D23 -> 0 | BQ23: 3 | BS23: 1.1 | BT23: =BS23*D23 -> 0
A24: Element S5 | B24: 50x 30 x 7 cm | C24: 1 | D24: =SUM(H24:V24) -> 0 | E24: 60 | F24: =D24*E24*(100-$D$3)/100 -> 0 | Y24: =AF24*$D24 -> 0 | AF24: 1 | BO24: =BQ24*D24 -> 0 | BQ24: 3 | BS24: 1.75 | BT24: =BS24*D24 -> 0
A25: Element S5 - Bolt | B25: 50x 30 x 7 cm | C25: 1 | D25: =SUM(H25:V25) -> 0 | E25: 85 | F25: =D25*E25*(100-$D$3)/100 -> 0 | Y25: =AF25*$D25 -> 0 | AF25: 1 | BO25: =BQ25*D25 -> 0 | BQ25: 3 | BS25: 1.9 | BT25: =BS25*D25 -> 0
A26: Element S6 | B26: 50x 30 x 7 cm | C26: 1 | D26: =SUM(H26:V26) -> 0 | E26: 55 | F26: =D26*E26*(100-$D$3)/100 -> 0 | Y26: =AF26*$D26 -> 0 | AF26: 1 | BO26: =BQ26*D26 -> 0 | BQ26: 3 | BS26: 1.05 | BT26: =BS26*D26 -> 0
A27: Element S6 - Bolt | B27: 50x 30 x 7 cm | C27: 1 | D27: =SUM(H27:V27) -> 0 | E27: 80 | F27: =D27*E27*(100-$D$3)/100 -> 0 | Y27: =AF27*$D27 -> 0 | AF27: 1 | BO27: =BQ27*D27 -> 0 | BQ27: 3 | BS27: 1.2 | BT27: =BS27*D27 -> 0
A28: Element S7 | B28: 50x 30 x 9 cm | C28: 1 | D28: =SUM(H28:V28) -> 0 | E28: 62.5 | F28: =D28*E28*(100-$D$3)/100 -> 0 | Y28: =AF28*$D28 -> 0 | AF28: 1 | BO28: =BQ28*D28 -> 0 | BQ28: 3 | BS28: 1.1 | BT28: =BS28*D28 -> 0
... A32: Element S11 | B32: 50 x 30 x 16 cm | C32: 1 | D32: =SUM(H32:V32) -> 0 | E32: 75 | F32: =D32*E32*(100-$D$3)/100 -> 0 | Y32: =AF32*$D32 -> 0 | AF32: 1 | BO32: =BQ32*D32 -> 0 | BQ32: 5 | BS32: 2.15 | BT32: =BS32*D32 -> 0
A33: Element M1 | B33: 50 x 50 x 12 cm | C33: 1 | D33: =SUM(H33:V33) -> 0 | E33: 92.5 | F33: =D33*E33*(100-$D$3)/100 -> 0 | Z33: =AG33*$D33 -> 0 | AG33: 1 | BO33: =BQ33*D33 -> 0 | BQ33: 3 | BS33: 2.3 | BT33: =BS33*D33 -> 0
A34: Element M1 - Bolt | B34: 50 x 50 x 12 cm | C34: 1 | D34: =SUM(H34:V34) -> 0 | E34: 120 | F34: =D34*E34*(100-$D$3)/100 -> 0 | Z34: =AG34*$D34 -> 0 | AG34: 1 | BO34: =BQ34*D34 -> 0 | BQ34: 3 | BS34: 2.4 | BT34: =BS34*D34 -> 0
A35: Element M2 | B35: 50 x 50 x 13 cm | C35: 1 | D35: =SUM(H35:V35) -> 0 | E35: 137.5 | F35: =D35*E35*(100-$D$3)/100 -> 0 | Z35: =AG35*$D35 -> 0 | AG35: 1 | BO35: =BQ35*D35 -> 0 | BQ35: 4 | BS35: 4.15 | BT35: =BS35*D35 -> 0
A36: Element M2 - Bolt | B36: 50 x 50 x 13 cm | C36: 1 | D36: =SUM(H36:V36) -> 0 | E36: 160 | F36: =D36*E36*(100-$D$3)/100 -> 0 | Z36: =AG36*$D36 -> 0 | AG36: 1 | BO36: =BQ36*D36 -> 0 | BQ36: 4 | BS36: 4.3 | BT36: =BS36*D36 -> 0
A37: Element M3 | B37: 50 x 50 x 12 cm | C37: 1 | D37: =SUM(H37:V37) -> 0 | E37: 120 | F37: =D37*E37*(100-$D$3)/100 -> 0 | Z37: =AG37*$D37 -> 0 | AG37: 1 | BO37: =BQ37*D37 -> 0 | BQ37: 4 | BS37: 3.45 | BT37: =BS37*D37 -> 0
A38: Element M3 - Bolt | B38: 50 x 50 x 12 cm | C38: 1 | D38: =SUM(H38:V38) -> 0 | E38: 140 | F38: =D38*E38*(100-$D$3)/100 -> 0 | Z38: =AG38*$D38 -> 0 | AG38: 1 | BO38: =BQ38*D38 -> 0 | BQ38: 4 | BS38: 3.6 | BT38: =BS38*D38 -> 0
A39: Element M4 | B39: 80 x 50 x 15 cm | C39: 1 | D39: =SUM(H39:V39) -> 0 | E39: 127.5 | F39: =D39*E39*(100-$D$3)/100 -> 0 | Z39: =AG39*$D39 -> 0 | AG39: 1 | BO39: =BQ39*D39 -> 0 | BQ39: 3 | BS39: 3.6 | BT39: =BS39*D39 -> 0
A40: Element M5 | B40: 60 x 50 x 14 cm | C40: 1 | D40: =SUM(H40:V40) -> 0 | E40: 142.5 | F40: =D40*E40*(100-$D$3)/100 -> 0 | Z40: =AG40*$D40 -> 0 | AG40: 1 | BO40: =BQ40*D40 -> 0 | BQ40: 3 | BS40: 4.35 | BT40: =BS40*D40 -> 0
A41: Element M6 | B41: 80 x 16 x 13 cm | C41: 1 | D41: =SUM(H41:V41) -> 0 | E41: 87.5 | F41: =D41*E41*(100-$D$3)/100 -> 0 | Z41: =AG41*$D41 -> 0 | AG41: 1 | BO41: =BQ41*D41 -> 0 | BQ41: 5 | BS41: 2.7 | BT41: =BS41*D41 -> 0
A42: Element M7 | B42: 80 x 17 x 14 cm | C42: 1 | D42: =SUM(H42:V42) -> 0 | E42: 95 | F42: =D42*E42*(100-$D$3)/100 -> 0 | Z42: =AG42*$D42 -> 0 | AG42: 1 | BO42: =BQ42*D42 -> 0 | BQ42: 5 | BS42: 2.9 | BT42: =BS42*D42 -> 0
A43: Element M8 | B43: 80 x 27 x 22 cm | C43: 1 | D43: =SUM(H43:V43) -> 0 | E43: 145 | F43: =D43*E43*(100-$D$3)/100 -> 0 | Z43: =AG43*$D43 -> 0 | AG43: 1 | BO43: =BQ43*D43 -> 0 | BQ43: 8 | BS43: 4.5 | BT43: =BS43*D43 -> 0
A44: Element M9 | B44: 50 x 50 x 18 cm | C44: 1 | D44: =SUM(H44:V44) -> 0 | E44: 127.5 | F44: =D44*E44*(100-$D$3)/100 -> 0 | Z44: =AG44*$D44 -> 0 | AG44: 1 | BO44: =BQ44*D44 -> 0 | BQ44: 6 | BS44: 3.95 | BT44: =BS44*D44 -> 0
A45: Element M10 | B45: 70 x 35 x 15 cm | C45: 1 | D45: =SUM(H45:V45) -> 0 | E45: 122.5 | F45: =D45*E45*(100-$D$3)/100 -> 0 | Z45: =AG45*$D45 -> 0 | AG45: 1 | BO45: =BQ45*D45 -> 0 | BQ45: 5 | BS45: 3.4 | BT45: =BS45*D45 -> 0
A46: Element M11 | B46: 70 x 70 x 5 cm | C46: 1 | D46: =SUM(H46:V46) -> 0 | E46: 115 | Z46: =AG46*$D46 -> 0 | AG46: 1 | BO46: =BQ46*D46 -> 0 | BQ46: 6 | BS46: 5.5 | BT46: =BS46*D46 -> 0
A47: Element M12 | B47: 40 x 35 x 18 cm | C47: 1 | D47: =SUM(H47:V47) -> 0 | E47: Unavailable | Z47: =AG47*$D47 -> 0 | AG47: 1 | BO47: =BQ47*D47 -> 0 | BQ47: 8 | BS47: 3.9 | BT47: =BS47*D47 -> 0
A48: Element M13 | B48: 40 x 40 x 25 cm | C48: 1 | D48: =SUM(H48:V48) -> 0 | E48: Unavailable | Z48: =AG48*$D48 -> 0 | AG48: 1 | BO48: =BQ48*D48 -> 0 | BQ48: 8 | BS48: 4.8 | BT48: =BS48*D48 -> 0
A49: Element M14 | B49: 40 x 35 x 16 cm | C49: 1 | D49: =SUM(H49:V49) -> 0 | E49: Unavailable | Z49: =AG49*$D49 -> 0 | AG49: 1 | BO49: =BQ49*D49 -> 0 | BQ49: 6 | BS49: 3.2 | BT49: =BS49*D49 -> 0
A50: Element L1 | B50: 100 x 30 x 13 cm | C50: 1 | D50: =SUM(H50:V50) -> 0 | E50: 105 | F50: =D50*E50*(100-$D$3)/100 -> 0 | AA50: =AH50*$D50 -> 0 | AH50: 1 | BO50: =BQ50*D50 -> 0 | BQ50: 4 | BS50: 3.4 | BT50: =BS50*D50 -> 0
A51: Element L2 | B51: 100 x 30 x 16 cm | C51: 1 | D51: =SUM(H51:V51) -> 0 | E51: 142.5 | F51: =D51*E51*(100-$D$3)/100 -> 0 | AA51: =AH51*$D51 -> 0 | AH51: 1 | BO51: =BQ51*D51 -> 0 | BQ51: 4 | BS51: 4.95 | BT51: =BS51*D51 -> 0
A52: Element L3 | B52: 90 x 50 x 10 cm | C52: 1 | D52: =SUM(H52:V52) -> 0 | E52: 115 | F52: =D52*E52*(100-$D$3)/100 -> 0 | AA52: =AH52*$D52 -> 0 | AH52: 1 | BO52: =BQ52*D52 -> 0 | BQ52: 4 | BS52: 4 | BT52: =BS52*D52 -> 0
A53: Element L4 | B53: 100 x 50 x 13 cm | C53: 1 | D53: =SUM(H53:V53) -> 0 | E53: 152.5 | F53: =D53*E53*(100-$D$3)/100 -> 0 | AA53: =AH53*$D53 -> 0 | AH53: 1 | BO53: =BQ53*D53 -> 0 | BQ53: 4 | BS53: 5.15 | BT53: =BS53*D53 -> 0
A54: Element L5 | B54: 100 x 50 x 16 cm | C54: 1 | D54: =SUM(H54:V54) -> 0 | E54: 227.5 | F54: =D54*E54*(100-$D$3)/100 -> 0 | AA54: =AH54*$D54 -> 0 | AH54: 1 | BO54: =BQ54*D54 -> 0 | BQ54: 4 | BS54: 6 | BT54: =BS54*D54 -> 0
A55: Element L6 | B55: 100 x 100 x 16 cm | C55: 1 | D55: =SUM(H55:V55) -> 0 | E55: 255 | F55: =D55*E55*(100-$D$3)/100 -> 0 | AA55: =AH55*$D55 -> 0 | AH55: 1 | BO55: =BQ55*D55 -> 0 | BQ55: 6 | BS55: 9.25 | BT55: =BS55*D55 -> 0
A56: Element L7 | B56: 65 x 60 x 27 cm | C56: 1 | D56: =SUM(H56:V56) -> 0 | E56: Unavailable | AA56: =AH56*$D56 -> 0 | AH56: 1 | BO56: =BQ56*D56 -> 0 | BQ56: 12 | BS56: 9.1 | BT56: =BS56*D56 -> 0
A57: Element L8 | B57: 70 x 70 x 37 cm | C57: 1 | D57: =SUM(H57:V57) -> 0 | E57: Unavailable | AA57: =AH57*$D57 -> 0 | AH57: 1 | BO57: =BQ57*D57 -> 0 | BQ57: 12 | BS57: 14 | BT57: =BS57*D57 -> 0
A58: Element L9 | B58: 70 x 60 x 34 cm | C58: 1 | D58: =SUM(H58:V58) -> 0 | E58: Unavailable | AA58: =AH58*$D58 -> 0 | AH58: 1 | BO58: =BQ58*D58 -> 0 | BQ58: 12 | BS58: 11.5 | BT58: =BS58*D58 -> 0
A59: Element L10 | B59: 80 x 40 x 30 cm | C59: 1 | D59: =SUM(H59:V59) -> 0 | E59: 212.5 | F59: =D59*E59*(100-$D$3)/100 -> 0 | AA59: =AH59*$D59 -> 0 | AH59: 1 | BO59: =BQ59*D59 -> 0 | BQ59: 9 | BS59: 6.6 | BT59: =BS59*D59 -> 0
A60: Element L11 | B60: 100 x 30 x 13 cm | C60: 1 | D60: =SUM(H60:V60) -> 0 | E60: 92.5 | F60: =D60*E60*(100-$D$3)/100 -> 0 | AA60: =AH60*$D60 -> 0 | AH60: 1 | BO60: =BQ60*D60 -> 0 | BQ60: 6 | BS60: 2.5 | BT60: =BS60*D60 -> 0
A61: Element XL1 | B61: 150 x 80 x 24 cm | C61: 1 | D61: =SUM(H61:V61) -> 0 | E61: 435 | F61: =D61*E61*(100-$D$3)/100 -> 0 | AB61: =AI61*$D61 -> 0 | AI61: 1 | BO61: =BQ61*D61 -> 0 | BQ61: 12 | BS61: 13.7 | BT61: =BS61*D61 -> 0
A62: Element XL2 | B62: 150 x 50 x 40 cm | C62: 1 | D62: =SUM(H62:V62) -> 0 | E62: 450 | F62: =D62*E62*(100-$D$3)/100 -> 0 | AB62: =AI62*$D62 -> 0 | AI62: 1 | BO62: =BQ62*D62 -> 0 | BQ62: 14 | BS62: 15.1 | BT62: =BS62*D62 -> 0
F63: =SUM(F12:F62) -> 0 | H63: =SUM(H12:H62) -> 0 | I63: =SUM(I12:I62) -> 0 | J63: =SUM(J12:J62) -> 0 | K63: =SUM(K12:K62) -> 0 | L63: =SUM(L12:L62) -> 0 | M63: =SUM(M12:M62) -> 0 | N63: =SUM(N12:N62) -> 0 | O63: =SUM(O12:O62) -> 0 | ... R63: =SUM(R12:R62) -> 0 | Y63: =SUM(Y12:Y62) -> 0 | Z63: =SUM(Z12:Z62) -> 0 | AA63: =SUM(AA12:AA62) -> 0 | AB63: =SUM(AB12:AB62) -> 0 | BO63: =SUM(BO12:BO62) -> 0 | BT63: =SUM(BT12:BT62) -> 0
A64: WoodLine Twins
A65: Twins S1 | B65: 30 x 25 x 7 cm / 50 x 25 x 9 cm | C65: 2 | D65: =SUM(H65:V65) -> 0 | E65: 110 | F65: =D65*E65*(100-$D$3)/100 -> 0 | Y65: =AF65*$D65 -> 0 | AF65: 2 | BO65: =BQ65*D65 -> 0 | BQ65: 5 | BS65: 1.65 | BT65: =BS65*D65 -> 0
A66: Twins M1 | B66: 60 x 30 x 14 cm / 45 x 30 x 13 cm | C66: 2 | D66: =SUM(H66:V66) -> 0 | E66: 142.5 | F66: =D66*E66*(100-$D$3)/100 -> 0 | Z66: =AG66*$D66 -> 0 | AG66: 2 | BO66: =BQ66*D66 -> 0 | BQ66: 6 | BS66: 3.4 | BT66: =BS66*D66 -> 0
A67: Twins M2 | B67: 70 x 33 x 11 + 70 x 33 x 11 cm | C67: 2 | D67: =SUM(H67:V67) -> 0 | E67: 172.5 | F67: =D67*E67*(100-$D$3)/100 -> 0 | Z67: =AG67*$D67 -> 0 | AG67: 2 | BO67: =BQ67*D67 -> 0 | BQ67: 10 | BS67: 4 | BT67: =BS67*D67 -> 0
A68: Twins L1 | B68: 90 x 50 x 16 cm / 90 x 50 x 16 cm | C68: 2 | D68: =SUM(H68:V68) -> 0 | E68: 280 | F68: =D68*E68*(100-$D$3)/100 -> 0 | AA68: =AH68*$D68 -> 0 | AH68: 2 | BO68: =BQ68*D68 -> 0 | BQ68: 8 | BS68: 9.6 | BT68: =BS68*D68 -> 0
A69: Twins L2 | B69: 85 x 80 x 20 cm / 45 x 30 x 16 cm | C69: 2 | D69: =SUM(H69:V69) -> 0 | E69: 275 | F69: =D69*E69*(100-$D$3)/100 -> 0 | AA69: =AH69*$D69 -> 0 | AH69: 2 | BO69: =BQ69*D69 -> 0 | BQ69: 10 | BS69: 7.85 | BT69: =BS69*D69 -> 0
A70: Twins L3 | B70: 100 x60 x 17 + 100 x 80 x 17 cm | C70: 2 | D70: =SUM(H70:V70) -> 0 | E70: 302.5 | F70: =D70*E70*(100-$D$3)/100 -> 0 | AA70: =AH70*$D70 -> 0 | AH70: 2 | BO70: =BQ70*D70 -> 0 | BQ70: 12 | BS70: 8.2 | BT70: =BS70*D70 -> 0
F71: =SUM(F65:F70) -> 0 | H71: =SUM(H65:H70) -> 0 | I71: =SUM(I65:I70) -> 0 | J71: =SUM(J65:J70) -> 0 | K71: =SUM(K65:K70) -> 0 | L71: =SUM(L65:L70) -> 0 | M71: =SUM(M65:M70) -> 0 | N71: =SUM(N65:N70) -> 0 | O71: =SUM(O65:O70) -> 0 | ... R71: =SUM(R65:R70) -> 0 | Y71: =SUM(Y65:Y70) -> 0 | Z71: =SUM(Z65:Z70) -> 0 | AA71: =SUM(AA65:AA70) -> 0 | AB71: =SUM(AB65:AB70) -> 0 | BO71: =SUM(BO65:BO70) -> 0 | BT71: =SUM(BT65:BT70) -> 0
A72: Triamid
A73: Pack XS1 DT | B73: 20 x 20 x 7 | C73: 5 | D73: =SUM(H73:V73) -> 0 | E73: 227.5 | F73: =D73*E73*(100-$D$4)/100 -> 0 | X73: =AE73*$D73 -> 0 | AE73: 5 | BO73: =BQ73*D73 -> 0 | BQ73: 15 | BS73: 0.35 | BT73: =BS73*D73 -> 0
A74: Pack XS2 DT | B74: 20 x 20 x 5 | C74: 5 | D74: =SUM(H74:V74) -> 0 | E74: 227.5 | F74: =D74*E74*(100-$D$4)/100 -> 0 | X74: =AE74*$D74 -> 0 | AE74: 5 | BO74: =BQ74*D74 -> 0 | BQ74: 15 | BS74: 0.3 | BT74: =BS74*D74 -> 0
A75: Pack S1 DT | B75: 30 x 30 x 5 | C75: 5 | D75: =SUM(H75:V75) -> 0 | E75: 232.5 | F75: =D75*E75*(100-$D$4)/100 -> 0 | Y75: =AF75*$D75 -> 0 | AF75: 5 | BO75: =BQ75*D75 -> 0 | BQ75: 15 | BS75: 0.6 | BT75: =BS75*D75 -> 0
A76: Pack S2 DT | B76: 30 x 30 x 5 | C76: 5 | D76: =SUM(H76:V76) -> 0 | E76: 232.5 | F76: =D76*E76*(100-$D$4)/100 -> 0 | Y76: =AF76*$D76 -> 0 | AF76: 5 | BO76: =BQ76*D76 -> 0 | BQ76: 15 | BS76: 0.6 | BT76: =BS76*D76 -> 0
A77: Pack M1 DT | B77: 40 x 40 x 15 | C77: 4 | D77: =SUM(H77:V77) -> 0 | E77: 312.5 | F77: =D77*E77*(100-$D$4)/100 -> 0 | Z77: =AG77*$D77 -> 0 | AG77: 4 | BO77: =BQ77*D77 -> 0 | BQ77: 12 | BS77: 1.45 | BT77: =BS77*D77 -> 0
A78: Pack M2 DT | B78: 40 x 40 x 12 | C78: 4 | D78: =SUM(H78:V78) -> 0 | E78: 282.5 | F78: =D78*E78*(100-$D$4)/100 -> 0 | Z78: =AG78*$D78 -> 0 | AG78: 4 | BO78: =BQ78*D78 -> 0 | BQ78: 12 | BS78: 1.21 | BT78: =BS78*D78 -> 0
A79: Pack XS1 DT + Adjuster XS1 & XS2 DT | B79: Adjuster : 55x35x5 + 55x30x7 | C79: 7 | D79: =SUM(H79:V79) -> 0 | E79: 382.5 | F79: =D79*E79*(100-$D$4)/100 -> 0 | X79: =AE79*$D79 -> 0 | Z79: =AG79*$D79 -> 0 | AE79: 5 | AG79: 2 | BO79: =BQ79*D79 -> 0 | BQ79: 23 | BS79: 3 | BT79: =BS79*D79 -> 0
A80: Pack XS2 DT + Adjuster XS1 & XS2 DT | B80: Adjuster : 55x35x5 + 55x30x7 | C80: 7 | D80: =SUM(H80:V80) -> 0 | E80: 382.5 | F80: =D80*E80*(100-$D$4)/100 -> 0 | X80: =AE80*$D80 -> 0 | Z80: =AG80*$D80 -> 0 | AE80: 5 | AG80: 2 | BO80: =BQ80*D80 -> 0 | BQ80: 23 | BS80: 3 | BT80: =BS80*D80 -> 0
A81: Pack S1 DT + Adjuster S1 & S2 DT | B81: Adjuster : 80x55x8 + 80x50x10 | C81: 7 | D81: =SUM(H81:V81) -> 0 | E81: 537.5 | F81: =D81*E81*(100-$D$4)/100 -> 0 | Y81: =AF81*$D81 -> 0 | Z81: =AG81*$D81 -> 0 | AF81: 5 | AG81: 2 | BO81: =BQ81*D81 -> 0 | BQ81: 23 | BS81: 6.5 | BT81: =BS81*D81 -> 0
A82: Pack S2 DT + Adjuster S1 & S2 DT | B82: Adjuster : 80x55x8 + 80x50x10 | C82: 7 | D82: =SUM(H82:V82) -> 0 | E82: 537.5 | F82: =D82*E82*(100-$D$4)/100 -> 0 | Y82: =AF82*$D82 -> 0 | Z82: =AG82*$D82 -> 0 | AF82: 5 | AG82: 2 | BO82: =BQ82*D82 -> 0 | BQ82: 23 | BS82: 6.5 | BT82: =BS82*D82 -> 0
A83: Pack M1 DT + Adjuster M1 & M2 DT | B83: Adjuster : 110x70x10 + 110x60x15 | C83: 6 | D83: =SUM(H83:V83) -> 0 | E83: 822.5 | F83: =D83*E83*(100-$D$4)/100 -> 0 | Z83: =AG83*$D83 -> 0 | AA83: =AH83*$D83 -> 0 | AG83: 4 | AH83: 2 | BO83: =BQ83*D83 -> 0 | BQ83: 24 | BS83: 11.9 | BT83: =BS83*D83 -> 0
A84: Pack M2 DT + Adjuster M1 & M2 DT | B84: Adjuster : 110x70x10 + 110x60x15 | C84: 6 | D84: =SUM(H84:V84) -> 0 | E84: 792.5 | F84: =D84*E84*(100-$D$4)/100 -> 0 | Z84: =AG84*$D84 -> 0 | AA84: =AH84*$D84 -> 0 | AG84: 4 | AH84: 2 | BO84: =BQ84*D84 -> 0 | BQ84: 24 | BS84: 11.9 | BT84: =BS84*D84 -> 0
F85: =SUM(F73:F84) -> 0 | H85: =SUM(H73:H84) -> 0 | I85: =SUM(I73:I84) -> 0 | J85: =SUM(J73:J84) -> 0 | K85: =SUM(K73:K84) -> 0 | L85: =SUM(L73:L84) -> 0 | M85: =SUM(M73:M84) -> 0 | N85: =SUM(N73:N84) -> 0 | O85: =SUM(O73:O84) -> 0 | ... R85: =SUM(R73:R84) -> 0 | X85: =SUM(X73:X84) -> 0 | Y85: =SUM(Y73:Y84) -> 0 | Z85: =SUM(Z73:Z84) -> 0 | AA85: =SUM(AA73:AA84) -> 0 | AB85: =SUM(AB73:AB84) -> 0 | BO85: =SUM(BO73:BO84) -> 0 | BT85: =SUM(BT73:BT84) -> 0
A86: Ramps
A87: M1 - 65° | B87: 70 x 25 x 8 | C87: 1 | D87: =SUM(H87:V87) -> 0 | E87: 127.5 | F87: =D87*E87*(100-$D$3)/100 -> 0 | Z87: =AG87*$D87 -> 0 | AG87: 1 | BO87: =BQ87*D87 -> 0 | BQ87: 4 | BS87: 2.6 | BT87: =BS87*D87 -> 0
A88: M2 - 75° | B88: 70 x 25 x 8 | C88: 1 | D88: =SUM(H88:V88) -> 0 | E88: 127.5 | F88: =D88*E88*(100-$D$3)/100 -> 0 | Z88: =AG88*$D88 -> 0 | AG88: 1 | BO88: =BQ88*D88 -> 0 | BQ88: 4 | BS88: 2.6 | BT88: =BS88*D88 -> 0
A89: M3 - 90° | B89: 70 x 25 x 8 | C89: 1 | D89: =SUM(H89:V89) -> 0 | E89: 127.5 | F89: =D89*E89*(100-$D$3)/100 -> 0 | Z89: =AG89*$D89 -> 0 | AG89: 1 | BO89: =BQ89*D89 -> 0 | BQ89: 4 | BS89: 2.5 | BT89: =BS89*D89 -> 0
A90: M4 - 105° | B90: 70 x 25 x 8 | C90: 1 | D90: =SUM(H90:V90) -> 0 | E90: 127.5 | F90: =D90*E90*(100-$D$3)/100 -> 0 | Z90: =AG90*$D90 -> 0 | AG90: 1 | BO90: =BQ90*D90 -> 0 | BQ90: 4 | BS90: 2.6 | BT90: =BS90*D90 -> 0
A91: M5 - 115° | B91: 70 x 25 x 8 | C91: 1 | D91: =SUM(H91:V91) -> 0 | E91: 127.5 | F91: =D91*E91*(100-$D$3)/100 -> 0 | Z91: =AG91*$D91 -> 0 | AG91: 1 | BO91: =BQ91*D91 -> 0 | BQ91: 4 | BS91: 2.2 | BT91: =BS91*D91 -> 0
A92: M6 - 125° | B92: 70 x 25 x 8 | C92: 1 | D92: =SUM(H92:V92) -> 0 | E92: 127.5 | F92: =D92*E92*(100-$D$3)/100 -> 0 | Z92: =AG92*$D92 -> 0 | AG92: 1 | BO92: =BQ92*D92 -> 0 | BQ92: 4 | BS92: 2.1 | BT92: =BS92*D92 -> 0
A93: M7 - 135° | B93: 70 x 25 x 8 | C93: 1 | D93: =SUM(H93:V93) -> 0 | E93: 127.5 | F93: =D93*E93*(100-$D$3)/100 -> 0 | Z93: =AG93*$D93 -> 0 | AG93: 1 | BO93: =BQ93*D93 -> 0 | BQ93: 4 | BS93: 2.1 | BT93: =BS93*D93 -> 0
A94: L1 - 65° | B94: 100 x 35 x 8 | C94: 1 | D94: =SUM(H94:V94) -> 0 | E94: 212.5 | F94: =D94*E94*(100-$D$3)/100 -> 0 | AA94: =AH94*$D94 -> 0 | AH94: 1 | BO94: =BQ94*D94 -> 0 | BQ94: 5 | BS94: 4.7 | BT94: =BS94*D94 -> 0
A95: L2 - 75° | B95: 100 x 35 x 8 | C95: 1 | D95: =SUM(H95:V95) -> 0 | E95: 212.5 | F95: =D95*E95*(100-$D$3)/100 -> 0 | AA95: =AH95*$D95 -> 0 | AH95: 1 | BO95: =BQ95*D95 -> 0 | BQ95: 5 | BS95: 4.6 | BT95: =BS95*D95 -> 0
A96: L3 - 90° | B96: 100 x 35 x 8 | C96: 1 | D96: =SUM(H96:V96) -> 0 | E96: 212.5 | F96: =D96*E96*(100-$D$3)/100 -> 0 | AA96: =AH96*$D96 -> 0 | AH96: 1 | BO96: =BQ96*D96 -> 0 | BQ96: 5 | BS96: 4.4 | BT96: =BS96*D96 -> 0
A97: L4 - 105° | B97: 100 x 35 x 8 | C97: 1 | D97: =SUM(H97:V97) -> 0 | E97: 212.5 | F97: =D97*E97*(100-$D$3)/100 -> 0 | AA97: =AH97*$D97 -> 0 | AH97: 1 | BO97: =BQ97*D97 -> 0 | BQ97: 5 | BS97: 4.2 | BT97: =BS97*D97 -> 0
A98: L5 - 115° | B98: 100 x 35 x 8 | C98: 1 | D98: =SUM(H98:V98) -> 0 | E98: 212.5 | F98: =D98*E98*(100-$D$3)/100 -> 0 | AA98: =AH98*$D98 -> 0 | AH98: 1 | BO98: =BQ98*D98 -> 0 | BQ98: 5 | BS98: 4.1 | BT98: =BS98*D98 -> 0
A99: L6 - 125° | B99: 100 x 35 x 8 | C99: 1 | D99: =SUM(H99:V99) -> 0 | E99: 212.5 | F99: =D99*E99*(100-$D$3)/100 -> 0 | AA99: =AH99*$D99 -> 0 | AH99: 1 | BO99: =BQ99*D99 -> 0 | BQ99: 5 | BS99: 4 | BT99: =BS99*D99 -> 0
A100: L7 - 135° | B100: 100 x 35 x 8 | C100: 1 | D100: =SUM(H100:V100) -> 0 | E100: 212.5 | F100: =D100*E100*(100-$D$3)/100 -> 0 | AA100: =AH100*$D100 -> 0 | AH100: 1 | BO100: =BQ100*D100 -> 0 | BQ100: 5 | BS100: 3.9 | BT100: =BS100*D100 -> 0
A101: XL1 - 65° | B101: 150 x 55 x 12 | C101: 1 | D101: =SUM(H101:V101) -> 0 | E101: 412.5 | F101: =D101*E101*(100-$D$3)/100 -> 0 | AB101: =AI101*$D101 -> 0 | AI101: 1 | BO101: =BQ101*D101 -> 0 | BQ101: 6 | BS101: 10.7 | BT101: =BS101*D101 -> 0
A102: XL2 - 75° | B102: 150 x 55 x 12 | C102: 1 | D102: =SUM(H102:V102) -> 0 | E102: 412.5 | F102: =D102*E102*(100-$D$3)/100 -> 0 | AB102: =AI102*$D102 -> 0 | AI102: 1 | BO102: =BQ102*D102 -> 0 | BQ102: 6 | BS102: 10.5 | BT102: =BS102*D102 -> 0
A103: XL3 - 90° | B103: 150 x 55 x 12 | C103: 1 | D103: =SUM(H103:V103) -> 0 | E103: 412.5 | F103: =D103*E103*(100-$D$3)/100 -> 0 | AB103: =AI103*$D103 -> 0 | AI103: 1 | BO103: =BQ103*D103 -> 0 | BQ103: 6 | BS103: 10.1 | BT103: =BS103*D103 -> 0
A104: XL4 - 105° | B104: 150 x 55 x 12 | C104: 1 | D104: =SUM(H104:V104) -> 0 | E104: 412.5 | F104: =D104*E104*(100-$D$3)/100 -> 0 | AB104: =AI104*$D104 -> 0 | AI104: 1 | BO104: =BQ104*D104 -> 0 | BQ104: 6 | BS104: 9.6 | BT104: =BS104*D104 -> 0
...

Sheet Training & Homewall
C1: EUR HT | D1: DISCOUNT % | H1: Screws adapted of your order: | U1: Total Weight of your order (kg) : | Y1: =AM37 -> 0
