Workbook

Sheet Macros
A1: ="Grand Total: €"&TEXT(SUM('Macros'!R3:R137)+SUM('PU Kastline'!X3:X62)+SUM('PU Composite X'!W3:W113)+SUM('PU Aragon'!BE3:BE105)+SUM('Volumes'!V3:V581)+SUM('Animal Prints'!M3:M88)+SUM('Paint'!J3:J7),"#,##0.00") | C1: ="Macros: €"&TEXT(SUM('Macros'!R3:R137),"#,##0.00") | E1: ="Volumes: €"&TEXT(SUM('Volumes'!V3:V581),"#,##0.00") | G1: ="PU Total: €"&TEXT(SUM('PU Kastline'!X3:X62)+SUM('PU Composite X'!W3:W113)+SUM('PU Aragon'!BE3:BE105),"#,##0.00") | I1: ="Animal Prints: €"&TEXT(SUM('Animal Prints'!M3:M88),"#,##0.00") | K1: ="PU Kastline: €"&TEXT(SUM('PU Kastline'!X3:X62),"#,##0.00") | M1: ="PU Comp-X: €"&TEXT(SUM('PU Composite X'!W3:W113),"#,##0.00") | O1: ="PU Aragon: €"&TEXT(SUM('PU Aragon'!BE3:BE105),"#,##0.00") | Q1: ="Paint: €"&TEXT(SUM('Paint'!J3:J7),"#,##0.00")
A2: finish | B2: product_name | C2: sku | D2: material | E2: angle | F2: size | G2: holds | H2: unit_price_eur | I2: Traffic Red | J2: Zinc Yellow | K2: Sky Blue | L2: Jet Black | M2: Mint | N2: Signal White | O2: Purple | P2: Deep Orange | Q2: total_quantity | R2: line_total_eur
A3: Standard | B3: Basic Crescent 45 1200 | C3: basic-crescent-45-1200 | D3: vtf-abs | E3: 45 | F3: 1200 | G3: 1 | H3: 323.40 | I3: 0 | J3: 0 | K3: 0 | L3: 0 | M3: 0 | N3: 0 | O3: 0 | P3: 0 | Q3: =SUM(I3:P3) | R3: =H3*Q3
A4: Standard | B4: Basic Crescent 45 400 | C4: basic-crescent-45-400 | D4: vtf-abs | E4: 45 | F4: 400 | G4: 1 | H4: 110.00 | I4: 0 | J4: 0 | K4: 0 | L4: 0 | M4: 0 | N4: 0 | O4: 0 | P4: 0 | Q4: =SUM(I4:P4) | R4: =H4*Q4
A5: Standard | B5: Basic Crescent 45 600 | C5: basic-crescent-45-600 | D5: vtf-abs | E5: 45 | F5: 600 | G5: 1 | H5: 204.60 | I5: 0 | J5: 0 | K5: 0 | L5: 0 | M5: 0 | N5: 0 | O5: 0 | P5: 0 | Q5: =SUM(I5:P5) | R5: =H5*Q5
A6: Standard | B6: Basic Crescent 45 900 | C6: basic-crescent-45-900 | D6: vtf-abs | E6: 45 | F6: 900 | G6: 1 | H6: 282.70 | I6: 0 | J6: 0 | K6: 0 | L6: 0 | M6: 0 | N6: 0 | O6: 0 | P6: 0 | Q6: =SUM(I6:P6) | R6: =H6*Q6
A7: Standard | B7: Basic Crescent 60 1200 | C7: basic-crescent-60-1200 | D7: vtf-abs | E7: 60 | F7: 1200 | G7: 1 | H7: 323.40 | I7: 0 | J7: 0 | K7: 0 | L7: 0 | M7: 0 | N7: 0 | O7: 0 | P7: 0 | Q7: =SUM(I7:P7) | R7: =H7*Q7
A8: Standard | B8: Basic Crescent 60 400 | C8: basic-crescent-60-400 | D8: vtf-abs | E8: 60 | F8: 400 | G8: 1 | H8: 82.50 | I8: 0 | J8: 0 | K8: 0 | L8: 0 | M8: 0 | N8: 0 | O8: 0 | P8: 0 | Q8: =SUM(I8:P8) | R8: =H8*Q8
A9: Standard | B9: Basic Crescent 60 600 | C9: basic-crescent-60-600 | D9: vtf-abs | E9: 60 | F9: 600 | G9: 1 | H9: 204.60 | I9: 0 | J9: 0 | K9: 0 | L9: 0 | M9: 0 | N9: 0 | O9: 0 | P9: 0 | Q9: =SUM(I9:P9) | R9: =H9*Q9
A10: Standard | B10: Basic Crescent 60 900 | C10: basic-crescent-60-900 | D10: vtf-abs | E10: 60 | F10: 900 | G10: 1 | H10: 282.70 | I10: 0 | J10: 0 | K10: 0 | L10: 0 | M10: 0 | N10: 0 | O10: 0 | P10: 0 | Q10: =SUM(I10:P10) | R10: =H10*Q10
A11: Standard | B11: Basic Crescent 75 1200 | C11: basic-crescent-75-1200 | D11: vtf-abs | E11: 75 | F11: 1200 | G11: 1 | H11: 323.40 | I11: 0 | J11: 0 | K11: 0 | L11: 0 | M11: 0 | N11: 0 | O11: 0 | P11: 0 | Q11: =SUM(I11:P11) | R11: =H11*Q11
A12: Standard | B12: Basic Crescent 75 400 | C12: basic-crescent-75-400 | D12: vtf-abs | E12: 75 | F12: 400 | G12: 1 | H12: 110.00 | I12: 0 | J12: 0 | K12: 0 | L12: 0 | M12: 0 | N12: 0 | O12: 0 | P12: 0 | Q12: =SUM(I12:P12) | R12: =H12*Q12
A13: Standard | B13: Basic Crescent 75 600 | C13: basic-crescent-75-600 | D13: vtf-abs | E13: 75 | F13: 600 | G13: 1 | H13: 204.60 | I13: 0 | J13: 0 | K13: 0 | L13: 0 | M13: 0 | N13: 0 | O13: 0 | P13: 0 | Q13: =SUM(I13:P13) | R13: =H13*Q13
A14: Standard | B14: Basic Crescent 75 900 | C14: basic-crescent-75-900 | D14: vtf-abs | E14: 75 | F14: 900 | G14: 1 | H14: 282.70 | I14: 0 | J14: 0 | K14: 0 | L14: 0 | M14: 0 | N14: 0 | O14: 0 | P14: 0 | Q14: =SUM(I14:P14) | R14: =H14*Q14
... A137: Standard | B137: UFO+ 800 | C137: ufo-801 | D137: vtf-abs | E137: - | F137: 800 | G137: 1 | H137: 374.00 | I137: 0 | J137: 0 | K137: 0 | L137: 0 | M137: 0 | N137: 0 | O137: 0 | P137: 0 | Q137: =SUM(I137:P137) | R137: =H137*Q137

Sheet PU Kastline
A1: ="Grand Total: €"&TEXT(SUM('Macros'!R3:R137)+SUM('PU Kastline'!X3:X62)+SUM('PU Composite X'!W3:W113)+SUM('PU Aragon'!BE3:BE105)+SUM('Volumes'!V3:V581)+SUM('Animal Prints'!M3:M88)+SUM('Paint'!J3:J7),"#,##0.00") | C1: ="Macros: €"&TEXT(SUM('Macros'!R3:R137),"#,##0.00") | E1: ="Volumes: €"&TEXT(SUM('Volumes'!V3:V581),"#,##0.00") | G1: ="PU Total: €"&TEXT(SUM('PU Kastline'!X3:X62)+SUM('PU Composite X'!W3:W113)+SUM('PU Aragon'!BE3:BE105),"#,##0.00") | I1: ="Animal Prints: €"&TEXT(SUM('Animal Prints'!M3:M88),"#,##0.00") | K1: ="PU Kastline: €"&TEXT(SUM('PU Kastline'!X3:X62),"#,##0.00") | M1: ="PU Comp-X: €"&TEXT(SUM('PU Composite X'!W3:W113),"#,##0.00") | O1: ="PU Aragon: €"&TEXT(SUM('PU Aragon'!BE3:BE105),"#,##0.00") | Q1: ="Paint: €"&TEXT(SUM('Paint'!J3:J7),"#,##0.00")
A2: finish | B2: product_name | C2: sku | D2: material | E2: angle | F2: size | G2: holds | H2: unit_price_eur | I2: Traffic White | J2: Sky Blue | K2: Mint | L2: Pure Green | M2: Zinc Yellow | N2: Traffic Yellow | O2: Pure Orange | P2: Traffic Red | Q2: Signal Violet | R2: Purple | S2: Jet Black | T2: Fluro Orange | U2: Fluro Pink | V2: Fluro Green | W2: total_quantity | X2: line_total_eur
A3: 150 | B3: Biote Sets - -1 - 150 | C3: 14698 | D3: pu-kastline | E3: -1 | G3: 8 | H3: 70.00 | I3: 0 | J3: 0 | K3: 0 | L3: 0 | M3: 0 | N3: 0 | O3: 0 | P3: 0 | Q3: 0 | R3: 0 | S3: 0 | T3: 0 | U3: 0 | V3: 0 | W3: =SUM(I3:V3) | X3: =H3*W3
A4: 200 | B4: Biote Sets - -1 - 200 | C4: 14705 | D4: pu-kastline | E4: -1 | G4: 8 | H4: 121.00 | I4: 0 | J4: 0 | K4: 0 | L4: 0 | M4: 0 | N4: 0 | O4: 0 | P4: 0 | Q4: 0 | R4: 0 | S4: 0 | T4: 0 | U4: 0 | V4: 0 | W4: =SUM(I4:V4) | X4: =H4*W4
A5: 250 | B5: Biote Sets - -1 - 250 | C5: 14715 | D5: pu-kastline | E5: -1 | G5: 4 | H5: 89.00 | I5: 0 | J5: 0 | K5: 0 | L5: 0 | M5: 0 | N5: 0 | O5: 0 | P5: 0 | Q5: 0 | R5: 0 | S5: 0 | T5: 0 | U5: 0 | V5: 0 | W5: =SUM(I5:V5) | X5: =H5*W5
A6: 300 | B6: Biote Sets - -1 - 300 | C6: 14725 | D6: pu-kastline | E6: -1 | G6: 4 | H6: 118.00 | I6: 0 | J6: 0 | K6: 0 | L6: 0 | M6: 0 | N6: 0 | O6: 0 | P6: 0 | Q6: 0 | R6: 0 | S6: 0 | T6: 0 | U6: 0 | V6: 0 | W6: =SUM(I6:V6) | X6: =H6*W6
A7: 150 | B7: Biote Sets - +0 - 150 | C7: 14697 | D7: pu-kastline | E7: +0 | G7: 8 | H7: 82.00 | I7: 0 | J7: 0 | K7: 0 | L7: 0 | M7: 0 | N7: 0 | O7: 0 | P7: 0 | Q7: 0 | R7: 0 | S7: 0 | T7: 0 | U7: 0 | V7: 0 | W7: =SUM(I7:V7) | X7: =H7*W7
A8: 200 | B8: Biote Sets - +0 - 200 | C8: 14704 | D8: pu-kastline | E8: +0 | G8: 6 | H8: 119.00 | I8: 0 | J8: 0 | K8: 0 | L8: 0 | M8: 0 | N8: 0 | O8: 0 | P8: 0 | Q8: 0 | R8: 0 | S8: 0 | T8: 0 | U8: 0 | V8: 0 | W8: =SUM(I8:V8) | X8: =H8*W8
A9: 250 | B9: Biote Sets - +0 - 250 | C9: 14714 | D9: pu-kastline | E9: +0 | G9: 4 | H9: 78.00 | I9: 0 | J9: 0 | K9: 0 | L9: 0 | M9: 0 | N9: 0 | O9: 0 | P9: 0 | Q9: 0 | R9: 0 | S9: 0 | T9: 0 | U9: 0 | V9: 0 | W9: =SUM(I9:V9) | X9: =H9*W9
A10: 300 | B10: Biote Sets - +0 - 300 | C10: 14724 | D10: pu-kastline | E10: +0 | G10: 4 | H10: 113.00 | I10: 0 | J10: 0 | K10: 0 | L10: 0 | M10: 0 | N10: 0 | O10: 0 | P10: 0 | Q10: 0 | R10: 0 | S10: 0 | T10: 0 | U10: 0 | V10: 0 | W10: =SUM(I10:V10) | X10: =H10*W10
A11: 150 | B11: Biote Sets - +1 - 150 | C11: 14696 | D11: pu-kastline | E11: +1 | G11: 8 | H11: 84.00 | I11: 0 | J11: 0 | K11: 0 | L11: 0 | M11: 0 | N11: 0 | O11: 0 | P11: 0 | Q11: 0 | R11: 0 | S11: 0 | T11: 0 | U11: 0 | V11: 0 | W11: =SUM(I11:V11) | X11: =H11*W11
A12: 200 | B12: Biote Sets - +1 - 200 | C12: 14703 | D12: pu-kastline | E12: +1 | G12: 6 | H12: 112.00 | I12: 0 | J12: 0 | K12: 0 | L12: 0 | M12: 0 | N12: 0 | O12: 0 | P12: 0 | Q12: 0 | R12: 0 | S12: 0 | T12: 0 | U12: 0 | V12: 0 | W12: =SUM(I12:V12) | X12: =H12*W12
A13: 250 | B13: Biote Sets - +1 - 250 | C13: 14713 | D13: pu-kastline | E13: +1 | G13: 4 | H13: 105.00 | I13: 0 | J13: 0 | K13: 0 | L13: 0 | M13: 0 | N13: 0 | O13: 0 | P13: 0 | Q13: 0 | R13: 0 | S13: 0 | T13: 0 | U13: 0 | V13: 0 | W13: =SUM(I13:V13) | X13: =H13*W13
A14: 300 | B14: Biote Sets - +1 - 300 | C14: 14723 | D14: pu-kastline | E14: +1 | G14: 4 | H14: 125.00 | I14: 0 | J14: 0 | K14: 0 | L14: 0 | M14: 0 | N14: 0 | O14: 0 | P14: 0 | Q14: 0 | R14: 0 | S14: 0 | T14: 0 | U14: 0 | V14: 0 | W14: =SUM(I14:V14) | X14: =H14*W14
... A34: 300 | B34: Biote Sets - +8 - 300 | C34: 14716 | D34: pu-kastline | E34: +8 | G34: 4 | H34: 133.00 | I34: 0 | J34: 0 | K34: 0 | L34: 0 | M34: 0 | N34: 0 | O34: 0 | P34: 0 | Q34: 0 | R34: 0 | S34: 0 | T34: 0 | U34: 0 | V34: 0 | W34: =SUM(I34:V34) | X34: =H34*W34
A35: Standard | B35: Jug H Sets - 150 | C35: 14730 | D35: pu-kastline | E35: - | F35: 150 | G35: 4 | H35: 67.00 | I35: 0 | J35: 0 | K35: 0 | L35: 0 | M35: 0 | N35: 0 | O35: 0 | P35: 0 | Q35: 0 | R35: 0 | S35: 0 | T35: 0 | U35: 0 | V35: 0 | W35: =SUM(I35:V35) | X35: =H35*W35
A36: Standard | B36: Jug H Sets - 200 | C36: 14731 | D36: pu-kastline | E36: - | F36: 200 | G36: 4 | H36: 125.00 | I36: 0 | J36: 0 | K36: 0 | L36: 0 | M36: 0 | N36: 0 | O36: 0 | P36: 0 | Q36: 0 | R36: 0 | S36: 0 | T36: 0 | U36: 0 | V36: 0 | W36: =SUM(I36:V36) | X36: =H36*W36
A37: Standard | B37: Jug H Sets - 250 | C37: 14732 | D37: pu-kastline | E37: - | F37: 250 | G37: 4 | H37: 135.00 | I37: 0 | J37: 0 | K37: 0 | L37: 0 | M37: 0 | N37: 0 | O37: 0 | P37: 0 | Q37: 0 | R37: 0 | S37: 0 | T37: 0 | U37: 0 | V37: 0 | W37: =SUM(I37:V37) | X37: =H37*W37
A38: Standard | B38: Jug H Sets - 300 | C38: 14733 | D38: pu-kastline | E38: - | F38: 300 | G38: 4 | H38: 195.00 | I38: 0 | J38: 0 | K38: 0 | L38: 0 | M38: 0 | N38: 0 | O38: 0 | P38: 0 | Q38: 0 | R38: 0 | S38: 0 | T38: 0 | U38: 0 | V38: 0 | W38: =SUM(I38:V38) | X38: =H38*W38
A39: 150 | B39: Jug S Sets - 150 | C39: 14734 | D39: pu-kastline | E39: S | F39: Sets | G39: 5 | H39: 61.00 | I39: 0 | J39: 0 | K39: 0 | L39: 0 | M39: 0 | N39: 0 | O39: 0 | P39: 0 | Q39: 0 | R39: 0 | S39: 0 | T39: 0 | U39: 0 | V39: 0 | W39: =SUM(I39:V39) | X39: =H39*W39
A40: 200 | B40: Jug S Sets - 200 | C40: 14735 | D40: pu-kastline | E40: S | F40: Sets | G40: 5 | H40: 117.00 | I40: 0 | J40: 0 | K40: 0 | L40: 0 | M40: 0 | N40: 0 | O40: 0 | P40: 0 | Q40: 0 | R40: 0 | S40: 0 | T40: 0 | U40: 0 | V40: 0 | W40: =SUM(I40:V40) | X40: =H40*W40
A41: 250 | B41: Jug S Sets - 250 | C41: 14736 | D41: pu-kastline | E41: S | F41: Sets | G41: 5 | H41: 125.00 | I41: 0 | J41: 0 | K41: 0 | L41: 0 | M41: 0 | N41: 0 | O41: 0 | P41: 0 | Q41: 0 | R41: 0 | S41: 0 | T41: 0 | U41: 0 | V41: 0 | W41: =SUM(I41:V41) | X41: =H41*W41
A42: 300 | B42: Jug S Sets - 300 | C42: 14737 | D42: pu-kastline | E42: S | F42: Sets | G42: 5 | H42: 180.00 | I42: 0 | J42: 0 | K42: 0 | L42: 0 | M42: 0 | N42: 0 | O42: 0 | P42: 0 | Q42: 0 | R42: 0 | S42: 0 | T42: 0 | U42: 0 | V42: 0 | W42: =SUM(I42:V42) | X42: =H42*W42
A43: Standard | B43: Ledge Sets - 100 | C43: 14738 | D43: pu-kastline | E43: - | F43: 100 | G43: 3 | H43: 30.00 | I43: 0 | J43: 0 | K43: 0 | L43: 0 | M43: 0 | N43: 0 | O43: 0 | P43: 0 | Q43: 0 | R43: 0 | S43: 0 | T43: 0 | U43: 0 | V43: 0 | W43: =SUM(I43:V43) | X43: =H43*W43
A44: Standard | B44: Ledge Sets - 150 | C44: 14739 | D44: pu-kastline | E44: - | F44: 150 | G44: 3 | H44: 41.00 | I44: 0 | J44: 0 | K44: 0 | L44: 0 | M44: 0 | N44: 0 | O44: 0 | P44: 0 | Q44: 0 | R44: 0 | S44: 0 | T44: 0 | U44: 0 | V44: 0 | W44: =SUM(I44:V44) | X44: =H44*W44
A45: Standard | B45: Ledge Sets - 200 | C45: 14740 | D45: pu-kastline | E45: - | F45: 200 | G45: 3 | H45: 79.00 | I45: 0 | J45: 0 | K45: 0 | L45: 0 | M45: 0 | N45: 0 | O45: 0 | P45: 0 | Q45: 0 | R45: 0 | S45: 0 | T45: 0 | U45: 0 | V45: 0 | W45: =SUM(I45:V45) | X45: =H45*W45
A46: Standard | B46: Ledge Sets - 250 | C46: 14741 | D46: pu-kastline | E46: - | F46: 250 | G46: 3 | H46: 85.00 | I46: 0 | J46: 0 | K46: 0 | L46: 0 | M46: 0 | N46: 0 | O46: 0 | P46: 0 | Q46: 0 | R46: 0 | S46: 0 | T46: 0 | U46: 0 | V46: 0 | W46: =SUM(I46:V46) | X46: =H46*W46
... A62: Standard | B62: Ellipse & Sloper Sets - 250 | C62: 14753 | D62: pu-kastline | E62: - | F62: 250 | G62: 5 | H62: 109.00 | I62: 0 | J62: 0 | K62: 0 | L62: 0 | M62: 0 | N62: 0 | O62: 0 | P62: 0 | Q62: 0 | R62: 0 | S62: 0 | T62: 0 | U62: 0 | V62: 0 | W62: =SUM(I62:V62) | X62: =H62*W62

Sheet PU Composite X
A1: ="Grand Total: €"&TEXT(SUM('Macros'!R3:R137)+SUM('PU Kastline'!X3:X62)+SUM('PU Composite X'!W3:W113)+SUM('PU Aragon'!BE3:BE105)+SUM('Volumes'!V3:V581)+SUM('Animal Prints'!M3:M88)+SUM('Paint'!J3:J7),"#,##0.00") | C1: ="Macros: €"&TEXT(SUM('Macros'!R3:R137),"#,##0.00") | E1: ="Volumes: €"&TEXT(SUM('Volumes'!V3:V581),"#,##0.00") | G1: ="PU Total: €"&TEXT(SUM('PU Kastline'!X3:X62)+SUM('PU Composite X'!W3:W113)+SUM('PU Aragon'!BE3:BE105),"#,##0.00") | I1: ="Animal Prints: €"&TEXT(SUM('Animal Prints'!M3:M88),"#,##0.00") | K1: ="PU Kastline: €"&TEXT(SUM('PU Kastline'!X3:X62),"#,##0.00") | M1: ="PU Comp-X: €"&TEXT(SUM('PU Composite X'!W3:W113),"#,##0.00") | O1: ="PU Aragon: €"&TEXT(SUM('PU Aragon'!BE3:BE105),"#,##0.00") | Q1: ="Paint: €"&TEXT(SUM('Paint'!J3:J7),"#,##0.00")
A2: finish | B2: product_name | C2: sku | D2: material | E2: angle | F2: size | G2: holds | H2: unit_price_eur | I2: Bright Yellow | J2: Traffic Red | K2: Sky Blue | L2: Jet Black | M2: Fluro Orange | N2: Fluro Green | O2: Fluro Pink | P2: Signal Violet | Q2: Yellow Green | R2: Pure Orange | S2: Pure White | T2: Purple | U2: Mint | V2: total_quantity | W2: line_total_eur
A3: Standard | B3: Basic Crescent & Edges 100 | C3: 14754 | D3: pu-compx | E3: - | F3: 100 | G3: 1 | H3: 30.00 | I3: 0 | J3: 0 | K3: 0 | L3: 0 | M3: 0 | N3: 0 | O3: 0 | P3: 0 | Q3: 0 | R3: 0 | S3: 0 | T3: 0 | U3: 0 | V3: =SUM(I3:U3) | W3: =H3*V3
A4: Standard | B4: Basic Ellipse and Slopers 100 | C4: 14755 | D4: pu-compx | E4: - | F4: 100 | G4: 1 | H4: 27.00 | I4: 0 | J4: 0 | K4: 0 | L4: 0 | M4: 0 | N4: 0 | O4: 0 | P4: 0 | Q4: 0 | R4: 0 | S4: 0 | T4: 0 | U4: 0 | V4: =SUM(I4:U4) | W4: =H4*V4
A5: Standard | B5: Basic Ellipse and Slopers 75 | C5: 14756 | D5: pu-compx | E5: - | F5: 75 | G5: 1 | H5: 21.00 | I5: 0 | J5: 0 | K5: 0 | L5: 0 | M5: 0 | N5: 0 | O5: 0 | P5: 0 | Q5: 0 | R5: 0 | S5: 0 | T5: 0 | U5: 0 | V5: =SUM(I5:U5) | W5: =H5*V5
A6: Standard | B6: Basic Slugs 100 | C6: 14757 | D6: pu-compx | E6: - | F6: 100 | G6: 1 | H6: 25.00 | I6: 0 | J6: 0 | K6: 0 | L6: 0 | M6: 0 | N6: 0 | O6: 0 | P6: 0 | Q6: 0 | R6: 0 | S6: 0 | T6: 0 | U6: 0 | V6: =SUM(I6:U6) | W6: =H6*V6
A7: Standard | B7: Basic Slugs 75 | C7: 14758 | D7: pu-compx | E7: - | F7: 75 | G7: 1 | H7: 18.00 | I7: 0 | J7: 0 | K7: 0 | L7: 0 | M7: 0 | N7: 0 | O7: 0 | P7: 0 | Q7: 0 | R7: 0 | S7: 0 | T7: 0 | U7: 0 | V7: =SUM(I7:U7) | W7: =H7*V7
A8: Standard | B8: Biotes +1 100 | C8: 14759 | D8: pu-compx | E8: +1 | F8: 100 | G8: 1 | H8: 58.00 | I8: 0 | J8: 0 | K8: 0 | L8: 0 | M8: 0 | N8: 0 | O8: 0 | P8: 0 | Q8: 0 | R8: 0 | S8: 0 | T8: 0 | U8: 0 | V8: =SUM(I8:U8) | W8: =H8*V8
A9: Standard | B9: Biotes +1 75 | C9: 14760 | D9: pu-compx | E9: +1 | F9: 75 | G9: 1 | H9: 45.00 | I9: 0 | J9: 0 | K9: 0 | L9: 0 | M9: 0 | N9: 0 | O9: 0 | P9: 0 | Q9: 0 | R9: 0 | S9: 0 | T9: 0 | U9: 0 | V9: =SUM(I9:U9) | W9: =H9*V9
A10: Standard | B10: Biotes +2 100 | C10: 14761 | D10: pu-compx | E10: +2 | F10: 100 | G10: 1 | H10: 65.00 | I10: 0 | J10: 0 | K10: 0 | L10: 0 | M10: 0 | N10: 0 | O10: 0 | P10: 0 | Q10: 0 | R10: 0 | S10: 0 | T10: 0 | U10: 0 | V10: =SUM(I10:U10) | W10: =H10*V10
A11: Standard | B11: Biotes +2 75 | C11: 14762 | D11: pu-compx | E11: +2 | F11: 75 | G11: 1 | H11: 48.00 | I11: 0 | J11: 0 | K11: 0 | L11: 0 | M11: 0 | N11: 0 | O11: 0 | P11: 0 | Q11: 0 | R11: 0 | S11: 0 | T11: 0 | U11: 0 | V11: =SUM(I11:U11) | W11: =H11*V11
A12: Standard | B12: Biotes 0 100 | C12: 14763 | D12: pu-compx | E12: - | F12: 0 100 | G12: 1 | H12: 61.00 | I12: 0 | J12: 0 | K12: 0 | L12: 0 | M12: 0 | N12: 0 | O12: 0 | P12: 0 | Q12: 0 | R12: 0 | S12: 0 | T12: 0 | U12: 0 | V12: =SUM(I12:U12) | W12: =H12*V12
A13: Standard | B13: Biotes 0 75 | C13: 14764 | D13: pu-compx | E13: - | F13: 0 75 | G13: 1 | H13: 40.00 | I13: 0 | J13: 0 | K13: 0 | L13: 0 | M13: 0 | N13: 0 | O13: 0 | P13: 0 | Q13: 0 | R13: 0 | S13: 0 | T13: 0 | U13: 0 | V13: =SUM(I13:U13) | W13: =H13*V13
A14: Shadow M/L | B14: Fontainebleau Dishes - Shadow M/L | C14: 14793 | D14: pu-compx | E14: - | F14: Not specified | G14: 1 | H14: 89.00 | I14: 0 | J14: 0 | K14: 0 | L14: 0 | M14: 0 | N14: 0 | O14: 0 | P14: 0 | Q14: 0 | R14: 0 | S14: 0 | T14: 0 | U14: 0 | V14: =SUM(I14:U14) | W14: =H14*V14
... A113: Standard | B113: UFO+ 75mm Mono, Boss, Tiny Edge | C113: 14865 | D113: pu-compx | E113: - | F113: 75mm Mono, Boss, Tiny Edge | G113: 1 | H113: 22.00 | I113: 0 | J113: 0 | K113: 0 | L113: 0 | M113: 0 | N113: 0 | O113: 0 | P113: 0 | Q113: 0 | R113: 0 | S113: 0 | T113: 0 | U113: 0 | V113: =SUM(I113:U113) | W113: =H113*V113

Sheet PU Aragon
A1: ="Grand Total: €"&TEXT(SUM('Macros'!R3:R137)+SUM('PU Kastline'!X3:X62)+SUM('PU Composite X'!W3:W113)+SUM('PU Aragon'!BE3:BE105)+SUM('Volumes'!V3:V581)+SUM('Animal Prints'!M3:M88)+SUM('Paint'!J3:J7),"#,##0.00") | C1: ="Macros: €"&TEXT(SUM('Macros'!R3:R137),"#,##0.00") | E1: ="Volumes: €"&TEXT(SUM('Volumes'!V3:V581),"#,##0.00") | G1: ="PU Total: €"&TEXT(SUM('PU Kastline'!X3:X62)+SUM('PU Composite X'!W3:W113)+SUM('PU Aragon'!BE3:BE105),"#,##0.00") | I1: ="Animal Prints: €"&TEXT(SUM('Animal Prints'!M3:M88),"#,##0.00") | K1: ="PU Kastline: €"&TEXT(SUM('PU Kastline'!X3:X62),"#,##0.00") | M1: ="PU Comp-X: €"&TEXT(SUM('PU Composite X'!W3:W113),"#,##0.00") | O1: ="PU Aragon: €"&TEXT(SUM('PU Aragon'!BE3:BE105),"#,##0.00") | Q1: ="Paint: €"&TEXT(SUM('Paint'!J3:J7),"#,##0.00")
A2: finish | B2: product_name | C2: sku | D2: material | E2: angle | F2: size | G2: holds | H2: unit_price_eur | I2: Alien Green | J2: Alt Yellow | K2: Aqua | L2: AquaClimb Blue | M2: Black | N2: Blue | O2: Brick | P2: Bright Pink | Q2: Brown | R2: Charcoal | S2: Dark Blue | T2: Dark Brown | U2: Dark Green | V2: Dark Purple | W2: Dark Red | X2: Dune | Y2: Egg Shell | Z2: Euro Mint | AA2: Green | AB2: Grey | AC2: Hera Teal | AD2: Light Blue | AE2: Light Brown | AF2: Light Purple | AG2: Light Red | AH2: Lavender Violet | AI2: Melon Orange | AJ2: Movement Green | AK2: Neon Benky Green | AL2: Neon Blue | AM2: Neon Green | AN2: Neon Orange | AO2: Neon Pink | AP2: Neon Yellow | AQ2: Orange | AR2: PG Blue | AS2: Pink | AT2: Pike | AU2: Purple | AV2: PlayCore Green | AW2: PlayCore Yellow | AX2: Red | AY2: Seafoam | AZ2: Sedona | BA2: Sender Grey | BB2: White | BC2: Yellow | BD2: total_quantity | BE2: line_total_eur
A3: Standard | B3: Gritstone Big Edge XL | C3: gritstone-big-edge-xl | D3: pu-aragon | E3: - | F3: XL | G3: 1 | H3: 61.60 | I3: 0 | J3: 0 | K3: 0 | L3: 0 | M3: 0 | N3: 0 | O3: 0 | P3: 0 | Q3: 0 | R3: 0 | S3: 0 | T3: 0 | U3: 0 | V3: 0 | W3: 0 | X3: 0 | Y3: 0 | Z3: 0 | AA3: 0 | AB3: 0 | AC3: 0 | AD3: 0 | AE3: 0 | AF3: 0 | AG3: 0 | AH3: 0 | AI3: 0 | AJ3: 0 | AK3: 0 | AL3: 0 | AM3: 0 | AN3: 0 | AO3: 0 | AP3: 0 | AQ3: 0 | AR3: 0 | AS3: 0 | AT3: 0 | AU3: 0 | AV3: 0 | AW3: 0 | AX3: 0 | AY3: 0 | AZ3: 0 | BA3: 0 | BB3: 0 | BC3: 0 | BD3: =SUM(I3:BC3) | BE3: =H3*BD3
A4: Standard | B4: Gritstone Big Ledge XL | C4: gritstone-big-ledge-xl | D4: pu-aragon | E4: - | F4: XL | G4: 1 | H4: 87.50 | I4: 0 | J4: 0 | K4: 0 | L4: 0 | M4: 0 | N4: 0 | O4: 0 | P4: 0 | Q4: 0 | R4: 0 | S4: 0 | T4: 0 | U4: 0 | V4: 0 | W4: 0 | X4: 0 | Y4: 0 | Z4: 0 | AA4: 0 | AB4: 0 | AC4: 0 | AD4: 0 | AE4: 0 | AF4: 0 | AG4: 0 | AH4: 0 | AI4: 0 | AJ4: 0 | AK4: 0 | AL4: 0 | AM4: 0 | AN4: 0 | AO4: 0 | AP4: 0 | AQ4: 0 | AR4: 0 | AS4: 0 | AT4: 0 | AU4: 0 | AV4: 0 | AW4: 0 | AX4: 0 | AY4: 0 | AZ4: 0 | BA4: 0 | BB4: 0 | BC4: 0 | BD4: =SUM(I4:BC4) | BE4: =H4*BD4
A5: Standard | B5: Gritstone Blocked Edges L | C5: blocked-edges-l | D5: pu-aragon | E5: - | F5: L | G5: 4 | H5: 120.00 | I5: 0 | J5: 0 | K5: 0 | L5: 0 | M5: 0 | N5: 0 | O5: 0 | P5: 0 | Q5: 0 | R5: 0 | S5: 0 | T5: 0 | U5: 0 | V5: 0 | W5: 0 | X5: 0 | Y5: 0 | Z5: 0 | AA5: 0 | AB5: 0 | AC5: 0 | AD5: 0 | AE5: 0 | AF5: 0 | AG5: 0 | AH5: 0 | AI5: 0 | AJ5: 0 | AK5: 0 | AL5: 0 | AM5: 0 | AN5: 0 | AO5: 0 | AP5: 0 | AQ5: 0 | AR5: 0 | AS5: 0 | AT5: 0 | AU5: 0 | AV5: 0 | AW5: 0 | AX5: 0 | AY5: 0 | AZ5: 0 | BA5: 0 | BB5: 0 | BC5: 0 | BD5: =SUM(I5:BC5) | BE5: =H5*BD5
A6: Standard | B6: Gritstone Blocked Edges L 2 | C6: blocked-edges-l-2 | D6: pu-aragon | E6: - | F6: L 2 | G6: 2 | H6: 74.00 | I6: 0 | J6: 0 | K6: 0 | L6: 0 | M6: 0 | N6: 0 | O6: 0 | P6: 0 | Q6: 0 | R6: 0 | S6: 0 | T6: 0 | U6: 0 | V6: 0 | W6: 0 | X6: 0 | Y6: 0 | Z6: 0 | AA6: 0 | AB6: 0 | AC6: 0 | AD6: 0 | AE6: 0 | AF6: 0 | AG6: 0 | AH6: 0 | AI6: 0 | AJ6: 0 | AK6: 0 | AL6: 0 | AM6: 0 | AN6: 0 | AO6: 0 | AP6: 0 | AQ6: 0 | AR6: 0 | AS6: 0 | AT6: 0 | AU6: 0 | AV6: 0 | AW6: 0 | AX6: 0 | AY6: 0 | AZ6: 0 | BA6: 0 | BB6: 0 | BC6: 0 | BD6: =SUM(I6:BC6) | BE6: =H6*BD6
A7: Standard | B7: Gritstone Blocked Edges L 3 | C7: blocked-edges-l-3 | D7: pu-aragon | E7: - | F7: L 3 | G7: 2 | H7: 81.00 | I7: 0 | J7: 0 | K7: 0 | L7: 0 | M7: 0 | N7: 0 | O7: 0 | P7: 0 | Q7: 0 | R7: 0 | S7: 0 | T7: 0 | U7: 0 | V7: 0 | W7: 0 | X7: 0 | Y7: 0 | Z7: 0 | AA7: 0 | AB7: 0 | AC7: 0 | AD7: 0 | AE7: 0 | AF7: 0 | AG7: 0 | AH7: 0 | AI7: 0 | AJ7: 0 | AK7: 0 | AL7: 0 | AM7: 0 | AN7: 0 | AO7: 0 | AP7: 0 | AQ7: 0 | AR7: 0 | AS7: 0 | AT7: 0 | AU7: 0 | AV7: 0 | AW7: 0 | AX7: 0 | AY7: 0 | AZ7: 0 | BA7: 0 | BB7: 0 | BC7: 0 | BD7: =SUM(I7:BC7) | BE7: =H7*BD7
A8: Standard | B8: Gritstone Blocked Edges XXL | C8: blocked-edges-xxl | D8: pu-aragon | E8: - | F8: XXL | G8: 2 | H8: 85.00 | I8: 0 | J8: 0 | K8: 0 | L8: 0 | M8: 0 | N8: 0 | O8: 0 | P8: 0 | Q8: 0 | R8: 0 | S8: 0 | T8: 0 | U8: 0 | V8: 0 | W8: 0 | X8: 0 | Y8: 0 | Z8: 0 | AA8: 0 | AB8: 0 | AC8: 0 | AD8: 0 | AE8: 0 | AF8: 0 | AG8: 0 | AH8: 0 | AI8: 0 | AJ8: 0 | AK8: 0 | AL8: 0 | AM8: 0 | AN8: 0 | AO8: 0 | AP8: 0 | AQ8: 0 | AR8: 0 | AS8: 0 | AT8: 0 | AU8: 0 | AV8: 0 | AW8: 0 | AX8: 0 | AY8: 0 | AZ8: 0 | BA8: 0 | BB8: 0 | BC8: 0 | BD8: =SUM(I8:BC8) | BE8: =H8*BD8
A9: Standard | B9: Gritstone Blocked Edges XXXL | C9: blocked-edge-xxxl | D9: pu-aragon | E9: - | F9: XXXL | G9: 2 | H9: 88.00 | I9: 0 | J9: 0 | K9: 0 | L9: 0 | M9: 0 | N9: 0 | O9: 0 | P9: 0 | Q9: 0 | R9: 0 | S9: 0 | T9: 0 | U9: 0 | V9: 0 | W9: 0 | X9: 0 | Y9: 0 | Z9: 0 | AA9: 0 | AB9: 0 | AC9: 0 | AD9: 0 | AE9: 0 | AF9: 0 | AG9: 0 | AH9: 0 | AI9: 0 | AJ9: 0 | AK9: 0 | AL9: 0 | AM9: 0 | AN9: 0 | AO9: 0 | AP9: 0 | AQ9: 0 | AR9: 0 | AS9: 0 | AT9: 0 | AU9: 0 | AV9: 0 | AW9: 0 | AX9: 0 | AY9: 0 | AZ9: 0 | BA9: 0 | BB9: 0 | BC9: 0 | BD9: =SUM(I9:BC9) | BE9: =H9*BD9
A10: Standard | B10: Gritstone Blocked Edges XXXL 2 | C10: blocked-edge-xxxl-2 | D10: pu-aragon | E10: - | F10: XXXL 2 | G10: 2 | H10: 87.00 | I10: 0 | J10: 0 | K10: 0 | L10: 0 | M10: 0 | N10: 0 | O10: 0 | P10: 0 | Q10: 0 | R10: 0 | S10: 0 | T10: 0 | U10: 0 | V10: 0 | W10: 0 | X10: 0 | Y10: 0 | Z10: 0 | AA10: 0 | AB10: 0 | AC10: 0 | AD10: 0 | AE10: 0 | AF10: 0 | AG10: 0 | AH10: 0 | AI10: 0 | AJ10: 0 | AK10: 0 | AL10: 0 | AM10: 0 | AN10: 0 | AO10: 0 | AP10: 0 | AQ10: 0 | AR10: 0 | AS10: 0 | AT10: 0 | AU10: 0 | AV10: 0 | AW10: 0 | AX10: 0 | AY10: 0 | AZ10: 0 | BA10: 0 | BB10: 0 | BC10: 0 | BD10: =SUM(I10:BC10) | BE10: =H10*BD10
A11: Standard | B11: Gritstone Blocked Edges XXXL 3 | C11: blocked-edge-xxxl-3 | D11: pu-aragon | E11: - | F11: XXXL 3 | G11: 2 | H11: 92.00 | I11: 0 | J11: 0 | K11: 0 | L11: 0 | M11: 0 | N11: 0 | O11: 0 | P11: 0 | Q11: 0 | R11: 0 | S11: 0 | T11: 0 | U11: 0 | V11: 0 | W11: 0 | X11: 0 | Y11: 0 | Z11: 0 | AA11: 0 | AB11: 0 | AC11: 0 | AD11: 0 | AE11: 0 | AF11: 0 | AG11: 0 | AH11: 0 | AI11: 0 | AJ11: 0 | AK11: 0 | AL11: 0 | AM11: 0 | AN11: 0 | AO11: 0 | AP11: 0 | AQ11: 0 | AR11: 0 | AS11: 0 | AT11: 0 | AU11: 0 | AV11: 0 | AW11: 0 | AX11: 0 | AY11: 0 | AZ11: 0 | BA11: 0 | BB11: 0 | BC11: 0 | BD11: =SUM(I11:BC11) | BE11: =H11*BD11
A12: Standard | B12: Gritstone Break L | C12: break-l | D12: pu-aragon | E12: - | F12: L | G12: 2 | H12: 89.00 | I12: 0 | J12: 0 | K12: 0 | L12: 0 | M12: 0 | N12: 0 | O12: 0 | P12: 0 | Q12: 0 | R12: 0 | S12: 0 | T12: 0 | U12: 0 | V12: 0 | W12: 0 | X12: 0 | Y12: 0 | Z12: 0 | AA12: 0 | AB12: 0 | AC12: 0 | AD12: 0 | AE12: 0 | AF12: 0 | AG12: 0 | AH12: 0 | AI12: 0 | AJ12: 0 | AK12: 0 | AL12: 0 | AM12: 0 | AN12: 0 | AO12: 0 | AP12: 0 | AQ12: 0 | AR12: 0 | AS12: 0 | AT12: 0 | AU12: 0 | AV12: 0 | AW12: 0 | AX12: 0 | AY12: 0 | AZ12: 0 | BA12: 0 | BB12: 0 | BC12: 0 | BD12: =SUM(I12:BC12) | BE12: =H12*BD12
A13: Standard | B13: Gritstone Crack 2 XXL | C13: crack-2-xxl | D13: pu-aragon | E13: - | F13: 2 XXL | G13: 2 | H13: 73.00 | I13: 0 | J13: 0 | K13: 0 | L13: 0 | M13: 0 | N13: 0 | O13: 0 | P13: 0 | Q13: 0 | R13: 0 | S13: 0 | T13: 0 | U13: 0 | V13: 0 | W13: 0 | X13: 0 | Y13: 0 | Z13: 0 | AA13: 0 | AB13: 0 | AC13: 0 | AD13: 0 | AE13: 0 | AF13: 0 | AG13: 0 | AH13: 0 | AI13: 0 | AJ13: 0 | AK13: 0 | AL13: 0 | AM13: 0 | AN13: 0 | AO13: 0 | AP13: 0 | AQ13: 0 | AR13: 0 | AS13: 0 | AT13: 0 | AU13: 0 | AV13: 0 | AW13: 0 | AX13: 0 | AY13: 0 | AZ13: 0 | BA13: 0 | BB13: 0 | BC13: 0 | BD13: =SUM(I13:BC13) | BE13: =H13*BD13
A14: Standard | B14: Gritstone Crack XXL | C14: crack-xxl | D14: pu-aragon | E14: - | F14: XXL | G14: 2 | H14: 88.00 | I14: 0 | J14: 0 | K14: 0 | L14: 0 | M14: 0 | N14: 0 | O14: 0 | P14: 0 | Q14: 0 | R14: 0 | S14: 0 | T14: 0 | U14: 0 | V14: 0 | W14: 0 | X14: 0 | Y14: 0 | Z14: 0 | AA14: 0 | AB14: 0 | AC14: 0 | AD14: 0 | AE14: 0 | AF14: 0 | AG14: 0 | AH14: 0 | AI14: 0 | AJ14: 0 | AK14: 0 | AL14: 0 | AM14: 0 | AN14: 0 | AO14: 0 | AP14: 0 | AQ14: 0 | AR14: 0 | AS14: 0 | AT14: 0 | AU14: 0 | AV14: 0 | AW14: 0 | AX14: 0 | AY14: 0 | AZ14: 0 | BA14: 0 | BB14: 0 | BC14: 0 | BD14: =SUM(I14:BC14) | BE14: =H14*BD14
... A105: Standard | B105: Gritstone Wide Grooves 2 3XL | C105: gritstone-wide-grooves-2-3xl | D105: pu-aragon | E105: - | F105: 2 3XL | G105: 1 | H105: 90.30 | I105: 0 | J105: 0 | K105: 0 | L105: 0 | M105: 0 | N105: 0 | O105: 0 | P105: 0 | Q105: 0 | R105: 0 | S105: 0 | T105: 0 | U105: 0 | V105: 0 | W105: 0 | X105: 0 | Y105: 0 | Z105: 0 | AA105: 0 | AB105: 0 | AC105: 0 | AD105: 0 | AE105: 0 | AF105: 0 | AG105: 0 | AH105: 0 | AI105: 0 | AJ105: 0 | AK105: 0 | AL105: 0 | AM105: 0 | AN105: 0 | AO105: 0 | AP105: 0 | AQ105: 0 | AR105: 0 | AS105: 0 | AT105: 0 | AU105: 0 | AV105: 0 | AW105: 0 | AX105: 0 | AY105: 0 | AZ105: 0 | BA105: 0 | BB105: 0 | BC105: 0 | BD105: =SUM(I105:BC105) | BE105: =H105*BD105

Sheet Volumes
A1: ="Grand Total: €"&TEXT(SUM('Macros'!R3:R137)+SUM('PU Kastline'!X3:X62)+SUM('PU Composite X'!W3:W113)+SUM('PU Aragon'!BE3:BE105)+SUM('Volumes'!V3:V581)+SUM('Animal Prints'!M3:M88)+SUM('Paint'!J3:J7),"#,##0.00") | C1: ="Macros: €"&TEXT(SUM('Macros'!R3:R137),"#,##0.00") | E1: ="Volumes: €"&TEXT(SUM('Volumes'!V3:V581),"#,##0.00") | G1: ="PU Total: €"&TEXT(SUM('PU Kastline'!X3:X62)+SUM('PU Composite X'!W3:W113)+SUM('PU Aragon'!BE3:BE105),"#,##0.00") | I1: ="Animal Prints: €"&TEXT(SUM('Animal Prints'!M3:M88),"#,##0.00") | K1: ="PU Kastline: €"&TEXT(SUM('PU Kastline'!X3:X62),"#,##0.00") | M1: ="PU Comp-X: €"&TEXT(SUM('PU Composite X'!W3:W113),"#,##0.00") | O1: ="PU Aragon: €"&TEXT(SUM('PU Aragon'!BE3:BE105),"#,##0.00") | Q1: ="Paint: €"&TEXT(SUM('Paint'!J3:J7),"#,##0.00")
A2: finish | B2: product_name | C2: sku | D2: material | E2: angle | F2: size | G2: holds | H2: unit_price_eur | I2: Heather Violet | J2: Purple | K2: Silver Grey | L2: Sky Blue | M2: Jet Black | N2: Yellow Green | O2: Zinc Yellow | P2: Dahlia Yellow | Q2: Traffic Red | R2: Mint | S2: Signal Violet | T2: Deep Orange | U2: total_quantity | V2: line_total_eur
A3: Textured | B3: Cube 0-15 Large 600mm - Textured | C3: cube-0-15-large-600mm-textured | D3: Plywood | E3: 0-15 / Large | F3: 600mm | G3: 1 | H3: 243.94 | I3: 0 | J3: 0 | K3: 0 | L3: 0 | M3: 0 | N3: 0 | O3: 0 | P3: 0 | Q3: 0 | R3: 0 | S3: 0 | T3: 0 | U3: =SUM(I3:T3) | V3: =H3*U3
A4: Textured | B4: Cube 0-15 Large 900mm - Textured | C4: cube-0-15-large-900mm-textured | D4: Plywood | E4: 0-15 / Large | F4: 900mm | G4: 1 | H4: 456.83 | I4: 0 | J4: 0 | K4: 0 | L4: 0 | M4: 0 | N4: 0 | O4: 0 | P4: 0 | Q4: 0 | R4: 0 | S4: 0 | T4: 0 | U4: =SUM(I4:T4) | V4: =H4*U4
A5: Textured | B5: Cube 0-15 Medium 1200mm - Textured | C5: cube-0-15-medium-1200mm-textured | D5: Plywood | E5: 0-15 / Medium | F5: 1200mm | G5: 1 | H5: 715.18 | I5: 0 | J5: 0 | K5: 0 | L5: 0 | M5: 0 | N5: 0 | O5: 0 | P5: 0 | Q5: 0 | R5: 0 | S5: 0 | T5: 0 | U5: =SUM(I5:T5) | V5: =H5*U5
A6: Textured | B6: Cube 0-15 Medium 600mm - Textured | C6: cube-0-15-medium-600mm-textured | D6: Plywood | E6: 0-15 / Medium | F6: 600mm | G6: 1 | H6: 243.94 | I6: 0 | J6: 0 | K6: 0 | L6: 0 | M6: 0 | N6: 0 | O6: 0 | P6: 0 | Q6: 0 | R6: 0 | S6: 0 | T6: 0 | U6: =SUM(I6:T6) | V6: =H6*U6
A7: Textured | B7: Cube 0-15 Medium 900mm - Textured | C7: cube-0-15-medium-900mm-textured | D7: Plywood | E7: 0-15 / Medium | F7: 900mm | G7: 1 | H7: 456.83 | I7: 0 | J7: 0 | K7: 0 | L7: 0 | M7: 0 | N7: 0 | O7: 0 | P7: 0 | Q7: 0 | R7: 0 | S7: 0 | T7: 0 | U7: =SUM(I7:T7) | V7: =H7*U7
A8: Textured | B8: Cube 0-15 Small 1200mm - Textured | C8: cube-0-15-small-1200mm-textured | D8: Plywood | E8: 0-15 / Small | F8: 1200mm | G8: 1 | H8: 343.73 | I8: 0 | J8: 0 | K8: 0 | L8: 0 | M8: 0 | N8: 0 | O8: 0 | P8: 0 | Q8: 0 | R8: 0 | S8: 0 | T8: 0 | U8: =SUM(I8:T8) | V8: =H8*U8
A9: Textured | B9: Cube 0-15 Small 600mm - Textured | C9: cube-0-15-small-600mm-textured | D9: Plywood | E9: 0-15 / Small | F9: 600mm | G9: 1 | H9: 199.58 | I9: 0 | J9: 0 | K9: 0 | L9: 0 | M9: 0 | N9: 0 | O9: 0 | P9: 0 | Q9: 0 | R9: 0 | S9: 0 | T9: 0 | U9: =SUM(I9:T9) | V9: =H9*U9
A10: Textured | B10: Cube 0-15 Small 900mm - Textured | C10: cube-0-15-small-900mm-textured | D10: Plywood | E10: 0-15 / Small | F10: 900mm | G10: 1 | H10: 243.94 | I10: 0 | J10: 0 | K10: 0 | L10: 0 | M10: 0 | N10: 0 | O10: 0 | P10: 0 | Q10: 0 | R10: 0 | S10: 0 | T10: 0 | U10: =SUM(I10:T10) | V10: =H10*U10
A11: Textured | B11: Cube 15-15 Large 600mm - Textured | C11: cube-15-15-large-600mm-textured | D11: Plywood | E11: 15-15 / Large | F11: 600mm | G11: 1 | H11: 243.94 | I11: 0 | J11: 0 | K11: 0 | L11: 0 | M11: 0 | N11: 0 | O11: 0 | P11: 0 | Q11: 0 | R11: 0 | S11: 0 | T11: 0 | U11: =SUM(I11:T11) | V11: =H11*U11
A12: Textured | B12: Cube 15-15 Large 900mm - Textured | C12: cube-15-15-large-900mm-textured | D12: Plywood | E12: 15-15 / Large | F12: 900mm | G12: 1 | H12: 456.83 | I12: 0 | J12: 0 | K12: 0 | L12: 0 | M12: 0 | N12: 0 | O12: 0 | P12: 0 | Q12: 0 | R12: 0 | S12: 0 | T12: 0 | U12: =SUM(I12:T12) | V12: =H12*U12
A13: Textured | B13: Cube 15-15 Medium 1200mm - Textured | C13: cube-15-15-medium-1200mm-textured | D13: Plywood | E13: 15-15 / Medium | F13: 1200mm | G13: 1 | H13: 715.18 | I13: 0 | J13: 0 | K13: 0 | L13: 0 | M13: 0 | N13: 0 | O13: 0 | P13: 0 | Q13: 0 | R13: 0 | S13: 0 | T13: 0 | U13: =SUM(I13:T13) | V13: =H13*U13
A14: Textured | B14: Cube 15-15 Medium 600mm - Textured | C14: cube-15-15-medium-600mm-textured | D14: Plywood | E14: 15-15 / Medium | F14: 600mm | G14: 1 | H14: 243.94 | I14: 0 | J14: 0 | K14: 0 | L14: 0 | M14: 0 | N14: 0 | O14: 0 | P14: 0 | Q14: 0 | R14: 0 | S14: 0 | T14: 0 | U14: =SUM(I14:T14) | V14: =H14*U14
... A581: Textured | B581: X-Wing Half Right 2400mm - Textured | C581: x-wing-half-right-2400mm-textured | D581: Plywood | E581: - | F581: 2400mm | G581: 1 | H581: 792.00 | I581: 0 | J581: 0 | K581: 0 | L581: 0 | M581: 0 | N581: 0 | O581: 0 | P581: 0 | Q581: 0 | R581: 0 | S581: 0 | T581: 0 | U581: =SUM(I581:T581) | V581: =H581*U581

Sheet Animal Prints
A1: ="Grand Total: €"&TEXT(SUM('Macros'!R3:R137)+SUM('PU Kastline'!X3:X62)+SUM('PU Composite X'!W3:W113)+SUM('PU Aragon'!BE3:BE105)+SUM('Volumes'!V3:V581)+SUM('Animal Prints'!M3:M88)+SUM('Paint'!J3:J7),"#,##0.00") | C1: ="Macros: €"&TEXT(SUM('Macros'!R3:R137),"#,##0.00") | E1: ="Volumes: €"&TEXT(SUM('Volumes'!V3:V581),"#,##0.00") | G1: ="PU Total: €"&TEXT(SUM('PU Kastline'!X3:X62)+SUM('PU Composite X'!W3:W113)+SUM('PU Aragon'!BE3:BE105),"#,##0.00") | I1: ="Animal Prints: €"&TEXT(SUM('Animal Prints'!M3:M88),"#,##0.00") | K1: ="PU Kastline: €"&TEXT(SUM('PU Kastline'!X3:X62),"#,##0.00") | M1: ="PU Comp-X: €"&TEXT(SUM('PU Composite X'!W3:W113),"#,##0.00") | O1: ="PU Aragon: €"&TEXT(SUM('PU Aragon'!BE3:BE105),"#,##0.00") | Q1: ="Paint: €"&TEXT(SUM('Paint'!J3:J7),"#,##0.00")
A2: finish | B2: product_name | C2: sku | D2: material | E2: angle | F2: size | G2: holds | H2: unit_price_eur | I2: Tiger | J2: Leopard | K2: Zebra | L2: total_quantity | M2: line_total_eur
A3: Standard | B3: Limpet 1200 16>36 - Leopard | C3: limpet-12000-16-36-leopard | D3: Plywood | E3: 16>36 | F3: 1200 | G3: 1 | H3: 1572.97 | J3: 0 | L3: =SUM(I3:K3) | M3: =H3*L3
A4: Standard | B4: Limpet 1200 18>38 - Leopard | C4: limpet-12000-18-38-leopard | D4: Plywood | E4: 18>38 | F4: 1200 | G4: 1 | H4: 1573.69 | J4: 0 | L4: =SUM(I4:K4) | M4: =H4*L4
A5: Standard | B5: Limpet 1200 19>39 - Zebra | C5: limpet-1200-19-39-zebra | D5: Plywood | E5: 19>39 | F5: 1200 | G5: 1 | H5: 1556.82 | K5: 0 | L5: =SUM(I5:K5) | M5: =H5*L5
A6: Standard | B6: Limpet 300 15>35 - Leopard | C6: limpet-300-15-35-leopard | D6: Plywood | E6: 15>35 | F6: 300 | G6: 1 | H6: 252.67 | J6: 0 | L6: =SUM(I6:K6) | M6: =H6*L6
A7: Standard | B7: Limpet 300 15>35 - Zebra | C7: limpet-300-15-35-zebra | D7: Plywood | E7: 15>35 | F7: 300 | G7: 1 | H7: 244.24 | K7: 0 | L7: =SUM(I7:K7) | M7: =H7*L7
A8: Standard | B8: Limpet 300 16>36 - Leopard | C8: limpet-300-16-36-leopard | D8: Plywood | E8: 16>36 | F8: 300 | G8: 1 | H8: 259.88 | J8: 0 | L8: =SUM(I8:K8) | M8: =H8*L8
A9: Standard | B9: Limpet 300 16>36 - Tiger | C9: limpet-300-16-36-tiger | D9: Plywood | E9: 16>36 | F9: 300 | G9: 1 | H9: 242.55 | I9: 0 | L9: =SUM(I9:K9) | M9: =H9*L9
A10: Standard | B10: Limpet 300 16>36 - Zebra | C10: limpet-300-16-36-zebra | D10: Plywood | E10: 16>36 | F10: 300 | G10: 1 | H10: 251.22 | K10: 0 | L10: =SUM(I10:K10) | M10: =H10*L10
A11: Standard | B11: Limpet 300 17>37 - Leopard | C11: limpet-300-17-37-leopard | D11: Plywood | E11: 17>37 | F11: 300 | G11: 1 | H11: 260.92 | J11: 0 | L11: =SUM(I11:K11) | M11: =H11*L11
A12: Standard | B12: Limpet 300 17>37 - Tiger | C12: limpet-300-17-37-tiger | D12: Plywood | E12: 17>37 | F12: 300 | G12: 1 | H12: 243.52 | I12: 0 | L12: =SUM(I12:K12) | M12: =H12*L12
A13: Standard | B13: Limpet 300 17>37 - Zebra | C13: limpet-300-17-37-zebra | D13: Plywood | E13: 17>37 | F13: 300 | G13: 1 | H13: 252.22 | K13: 0 | L13: =SUM(I13:K13) | M13: =H13*L13
A14: Standard | B14: Limpet 300 18>38 - Leopard | C14: limpet-300-18-38-leopard | D14: Plywood | E14: 18>38 | F14: 300 | G14: 1 | H14: 256.80 | J14: 0 | L14: =SUM(I14:K14) | M14: =H14*L14
A15: Standard | B15: Limpet 300 19>39 - Leopard | C15: limpet-300-19-39-leopard | D15: Plywood | E15: 19>39 | F15: 300 | G15: 1 | H15: 266.07 | J15: 0 | L15: =SUM(I15:K15) | M15: =H15*L15
A16: Standard | B16: Limpet 300 19>39 - Zebra | C16: limpet-300-18-38-zebra-1 | D16: Plywood | E16: 19>39 | F16: 300 | G16: 1 | H16: 257.19 | K16: 0 | L16: =SUM(I16:K16) | M16: =H16*L16
A17: Standard | B17: Limpet 600 15>35 - Leopard | C17: limpet-600-15-35-leopard | D17: Plywood | E17: 15>35 | F17: 600 | G17: 1 | H17: 469.23 | J17: 0 | L17: =SUM(I17:K17) | M17: =H17*L17
A18: Standard | B18: Limpet 600 15>35 - Tiger | C18: limpit-600-15-25-tiger | D18: Plywood | E18: 15>35 | F18: 600 | G18: 1 | H18: 437.89 | I18: 0 | L18: =SUM(I18:K18) | M18: =H18*L18
A19: Standard | B19: Limpet 600 15>35 - Zebra | C19: limpet-600-15-35-zebra | D19: Plywood | E19: 15>35 | F19: 600 | G19: 1 | H19: 453.59 | K19: 0 | L19: =SUM(I19:K19) | M19: =H19*L19
A20: Standard | B20: Limpet 600 16>36 - Leopard | C20: limpet-600-16-36-leopard | D20: Plywood | E20: 16>36 | F20: 600 | G20: 1 | H20: 481.49 | J20: 0 | L20: =SUM(I20:K20) | M20: =H20*L20
A21: Standard | B21: Limpet 600 16>36 - Zebra | C21: limpet-600-16-36-zebra | D21: Plywood | E21: 16>36 | F21: 600 | G21: 1 | H21: 465.43 | K21: 0 | L21: =SUM(I21:K21) | M21: =H21*L21
A22: Standard | B22: Limpet 600 17>37 - Leopard | C22: limpet-600-17-37-leopard | D22: Plywood | E22: 17>37 | F22: 600 | G22: 1 | H22: 482.94 | J22: 0 | L22: =SUM(I22:K22) | M22: =H22*L22
A23: Standard | B23: Limpet 600 17>37 - Tiger | C23: limpet-600-17-37-tiger | D23: Plywood | E23: 17>37 | F23: 600 | G23: 1 | H23: 450.75 | I23: 0 | L23: =SUM(I23:K23) | M23: =H23*L23
A24: Standard | B24: Limpet 600 17>37 - Zebra | C24: limpet-600-17-37-zebra | D24: Plywood | E24: 17>37 | F24: 600 | G24: 1 | H24: 466.84 | K24: 0 | L24: =SUM(I24:K24) | M24: =H24*L24
A25: Standard | B25: Limpet 600 18>38 - Leopard | C25: limpet-600-18-38-leopard | D25: Plywood | E25: 18>38 | F25: 600 | G25: 1 | H25: 479.33 | J25: 0 | L25: =SUM(I25:K25) | M25: =H25*L25
A26: Standard | B26: Limpet 600 18>38 - Tiger | C26: limpet-600-17-37-tiger-1 | D26: Plywood | E26: 18>38 | F26: 600 | G26: 1 | H26: 447.37 | I26: 0 | L26: =SUM(I26:K26) | M26: =H26*L26
A27: Standard | B27: Limpet 600 18>38 - Zebra | C27: limpet-600-18-38-zebra | D27: Plywood | E27: 18>38 | F27: 600 | G27: 1 | H27: 463.35 | K27: 0 | L27: =SUM(I27:K27) | M27: =H27*L27
A28: Standard | B28: Limpet 600 19>39 - Leopard | C28: limpet-600-19-39-leopard | D28: Plywood | E28: 19>39 | F28: 600 | G28: 1 | H28: 492.33 | J28: 0 | L28: =SUM(I28:K28) | M28: =H28*L28
A29: Standard | B29: Limpet 600 19>39 - Tiger | C29: limpet-600-19-39-tiger | D29: Plywood | E29: 19>39 | F29: 600 | G29: 1 | H29: 459.50 | I29: 0 | L29: =SUM(I29:K29) | M29: =H29*L29
A30: Standard | B30: Limpet 600 19>39 - Zebra | C30: limpet-600-19-39-zebra | D30: Plywood | E30: 19>39 | F30: 600 | G30: 1 | H30: 475.92 | K30: 0 | L30: =SUM(I30:K30) | M30: =H30*L30
A31: Standard | B31: Limpet 900 15>35 - Zebra | C31: limpet-900-15-35-zebra | D31: Plywood | E31: 15>35 | F31: 900 | G31: 1 | H31: 865.29 | K31: 0 | L31: =SUM(I31:K31) | M31: =H31*L31
A32: Standard | B32: Limpet 900 16>36 - Leopard | C32: limpit-900-16-36-leopard | D32: Plywood | E32: 16>36 | F32: 900 | G32: 1 | H32: 916.80 | J32: 0 | L32: =SUM(I32:K32) | M32: =H32*L32
A33: Standard | B33: Limpet 900 17>37 - Leopard | C33: limpet-900-17-37-leopard | D33: Plywood | E33: 17>37 | F33: 900 | G33: 1 | H33: 920.39 | J33: 0 | L33: =SUM(I33:K33) | M33: =H33*L33
A34: Standard | B34: Limpet 900 17>37 - Tiger | C34: limpit-900-17-37-tiger | D34: Plywood | E34: 17>37 | F34: 900 | G34: 1 | H34: 859.02 | I34: 0 | L34: =SUM(I34:K34) | M34: =H34*L34
A35: Standard | B35: Limpet 900 18>38 - Leopard | C35: limpet-900-18-38-leopard | D35: Plywood | E35: 18>38 | F35: 900 | G35: 1 | H35: 915.34 | J35: 0 | L35: =SUM(I35:K35) | M35: =H35*L35
A36: Standard | B36: Shard Half Left XXL - Leopard | C36: half-wedge-left-2100mm-leopard | D36: Plywood | E36: - | F36: 2100mm | G36: 1 | H36: 752.40 | J36: 0 | L36: =SUM(I36:K36) | M36: =H36*L36
A37: Standard | B37: Shard Half Left XXL - Zebra | C37: half-wedge-left-2100mm-zebra | D37: Plywood | E37: - | F37: 2100mm | G37: 1 | H37: 752.40 | K37: 0 | L37: =SUM(I37:K37) | M37: =H37*L37
A38: Standard | B38: Shard Half Left XXXL - Tiger | C38: half-wedge-left-2400mm-tiger | D38: Plywood | E38: - | F38: 2400mm | G38: 1 | H38: 643.72 | I38: 0 | L38: =SUM(I38:K38) | M38: =H38*L38
A39: Standard | B39: Shard Half Left XXXL - Zebra | C39: half-wedge-left-2400mm-zebra | D39: Plywood | E39: - | F39: 2400mm | G39: 1 | H39: 666.71 | K39: 0 | L39: =SUM(I39:K39) | M39: =H39*L39
A40: Standard | B40: Shard Half Left XXXL- Leopard | C40: half-wedge-left-2400mm-leopard | D40: Plywood | E40: - | F40: 2400mm | G40: 1 | H40: 689.70 | J40: 0 | L40: =SUM(I40:K40) | M40: =H40*L40
A41: Standard | B41: Shard Half Right XXL - Leopard | C41: half-wedge-left-2100mm-leopard-1 | D41: Plywood | E41: - | F41: 2100mm | G41: 1 | H41: 752.40 | J41: 0 | L41: =SUM(I41:K41) | M41: =H41*L41
A42: Standard | B42: Shard Half Right XXL - Tiger | C42: half-wedge-right-2100mm-tiger | D42: Plywood | E42: - | F42: 2100mm | G42: 1 | H42: 752.40 | I42: 0 | L42: =SUM(I42:K42) | M42: =H42*L42
A43: Standard | B43: Shard Half Right XXL - Zebra | C43: half-wedge-right-2100mm-zebra | D43: Plywood | E43: - | F43: 2100mm | G43: 1 | H43: 752.40 | K43: 0 | L43: =SUM(I43:K43) | M43: =H43*L43
A44: Standard | B44: Shard Half Right XXXL - Leopard | C44: half-wedge-right-2400mm-leopard | D44: Plywood | E44: - | F44: 2400mm | G44: 1 | H44: 689.70 | J44: 0 | L44: =SUM(I44:K44) | M44: =H44*L44
A45: Standard | B45: Shard Half Right XXXL - Tiger | C45: half-wedge-right-2400mm-tiger | D45: Plywood | E45: - | F45: 2400mm | G45: 1 | H45: 643.72 | I45: 0 | L45: =SUM(I45:K45) | M45: =H45*L45
A46: Standard | B46: Shard Half Right XXXL - Zebra | C46: half-wedge-right-2400mm-zebra | D46: Plywood | E46: - | F46: 2400mm | G46: 1 | H46: 666.71 | K46: 0 | L46: =SUM(I46:K46) | M46: =H46*L46
A47: Standard | B47: Iconic Stealth A-12 F 1200mm - Leopard | C47: iconic-stealth-a-12-f-1200mm-leopard | D47: Plywood | E47: - | F47: 1200mm | G47: 1 | H47: 394.19 | J47: 0 | L47: =SUM(I47:K47) | M47: =H47*L47
A48: Standard | B48: Iconic Stealth A-12 F 1200mm - Tiger | C48: iconic-stealth-a-12-f-1200mm-tiger | D48: Plywood | E48: - | F48: 1200mm | G48: 1 | H48: 367.91 | I48: 0 | L48: =SUM(I48:K48) | M48: =H48*L48
A49: Standard | B49: Iconic Stealth A-12 F 1200mm - Zebra | C49: iconic-stealth-a-12-f-1200mm-zebra | D49: Plywood | E49: - | F49: 1200mm | G49: 1 | H49: 381.05 | K49: 0 | L49: =SUM(I49:K49) | M49: =H49*L49
A50: Standard | B50: Iconic Stealth A-12 F 1500mm - Leopard | C50: iconic-stealth-a-12-f-1500mm-leopard | D50: Plywood | E50: - | F50: 1500mm | G50: 1 | H50: 706.86 | J50: 0 | L50: =SUM(I50:K50) | M50: =H50*L50
A51: Standard | B51: Iconic Stealth A-12 F 1500mm - Tiger | C51: iconic-stealth-a-12-f-1500mm-tiger | D51: Plywood | E51: - | F51: 1500mm | G51: 1 | H51: 659.74 | I51: 0 | L51: =SUM(I51:K51) | M51: =H51*L51
A52: Standard | B52: Iconic Stealth A-12 F 1500mm - Zebra | C52: iconic-stealth-a-12-f-1500mm-zebra | D52: Plywood | E52: - | F52: 1500mm | G52: 1 | H52: 683.30 | K52: 0 | L52: =SUM(I52:K52) | M52: =H52*L52
A53: Standard | B53: Iconic Stealth A-12 P15 1500mm - Leopard | C53: iconic-stealth-a-12-p15-1500mm-leopard | D53: Plywood | E53: P15 | F53: 1500mm | G53: 1 | H53: 914.76 | J53: 0 | L53: =SUM(I53:K53) | M53: =H53*L53
A54: Standard | B54: Iconic Stealth A-12 P15 1500mm - Tiger | C54: iconic-stealth-a-12-p15-1500mm-tiger | D54: Plywood | E54: P15 | F54: 1500mm | G54: 1 | H54: 853.78 | I54: 0 | L54: =SUM(I54:K54) | M54: =H54*L54
A55: Standard | B55: Iconic Stealth A-12 P15 1500mm - Zebra | C55: iconic-stealth-a-12-p15-1500mm-zebra | D55: Plywood | E55: P15 | F55: 1500mm | G55: 1 | H55: 884.27 | K55: 0 | L55: =SUM(I55:K55) | M55: =H55*L55
A56: Standard | B56: Iconic Stealth A-12 P30 1500mm - Leopard | C56: iconic-stealth-a-12-p30-1500mm-leopard | D56: Plywood | E56: P30 | F56: 1500mm | G56: 1 | H56: 914.76 | J56: 0 | L56: =SUM(I56:K56) | M56: =H56*L56
A57: Standard | B57: Iconic Stealth A-12 P30 1500mm - Tiger | C57: iconic-stealth-a-12-p30-1500mm-tiger | D57: Plywood | E57: P30 | F57: 1500mm | G57: 1 | H57: 853.78 | I57: 0 | L57: =SUM(I57:K57) | M57: =H57*L57
A58: Standard | B58: Iconic Stealth A-12 P30 1500mm - Zebra | C58: iconic-stealth-a-12-p30-1500mm-zebra | D58: Plywood | E58: P30 | F58: 1500mm | G58: 1 | H58: 884.27 | K58: 0 | L58: =SUM(I58:K58) | M58: =H58*L58
A59: Standard | B59: Iconic Stealth A-12 S15 1200mm - Leopard | C59: iconic-stealth-a-12-s15-1200mm-leopard | D59: Plywood | E59: S15 | F59: 1200mm | G59: 1 | H59: 490.64 | J59: 0 | L59: =SUM(I59:K59) | M59: =H59*L59
A60: Standard | B60: Iconic Stealth B-2 F 1200mm - Tiger | C60: iconic-stealth-b-2-f-1200mm-tiger | D60: Plywood | E60: - | F60: 1200mm | G60: 1 | H60: 367.91 | I60: 0 | L60: =SUM(I60:K60) | M60: =H60*L60
A61: Standard | B61: Iconic Stealth B-2 F 1200mm - Zebra | C61: iconic-stealth-b-2-f-1200mm-zebra | D61: Plywood | E61: - | F61: 1200mm | G61: 1 | H61: 381.05 | K61: 0 | L61: =SUM(I61:K61) | M61: =H61*L61
A62: Standard | B62: Iconic Stealth B-2 F 1500mm - Tiger | C62: iconic-stealth-b-2-f-1500mm-tiger | D62: Plywood | E62: - | F62: 1500mm | G62: 1 | H62: 659.74 | I62: 0 | L62: =SUM(I62:K62) | M62: =H62*L62
A63: Standard | B63: Iconic Stealth B-2 F 600mm - Tiger | C63: iconic-stealth-b-2-f-600mm-tiger | D63: Plywood | E63: - | F63: 600mm | G63: 1 | H63: 235.96 | I63: 0 | L63: =SUM(I63:K63) | M63: =H63*L63
A64: Standard | B64: Iconic Stealth B-2 F 900mm - Leopard | C64: iconic-stealth-b-2-f-900mm-leopard | D64: Plywood | E64: - | F64: 900mm | G64: 1 | H64: 335.97 | J64: 0 | L64: =SUM(I64:K64) | M64: =H64*L64
A65: Standard | B65: Iconic Stealth B-2 F 900mm - Tiger | C65: iconic-stealth-b-2-f-900mm-tiger | D65: Plywood | E65: - | F65: 900mm | G65: 1 | H65: 313.58 | I65: 0 | L65: =SUM(I65:K65) | M65: =H65*L65
A66: Standard | B66: Iconic Stealth B-2 K 1200mm - Tiger | C66: iconic-stealth-b-2-k-1200mm-tiger | D66: Plywood | E66: - | F66: 1200mm | G66: 1 | H66: 457.93 | I66: 0 | L66: =SUM(I66:K66) | M66: =H66*L66
A67: Standard | B67: Iconic Stealth B-2 P 1200mm - Tiger | C67: iconic-stealth-b-2-p-1200mm-tiger | D67: Plywood | E67: - | F67: 1200mm | G67: 1 | H67: 457.93 | I67: 0 | L67: =SUM(I67:K67) | M67: =H67*L67
A68: Standard | B68: Iconic Stealth F 117F 1200mm - Tiger | C68: iconic-stealth-f-117f-1200mm-tiger | D68: Plywood | E68: - | F68: 1200mm | G68: 1 | H68: 367.91 | I68: 0 | L68: =SUM(I68:K68) | M68: =H68*L68
A69: Standard | B69: Iconic Stealth F 117F 1500mm - Tiger | C69: iconic-stealth-f-117f-1500mm-tiger | D69: Plywood | E69: - | F69: 1500mm | G69: 1 | H69: 659.74 | I69: 0 | L69: =SUM(I69:K69) | M69: =H69*L69
A70: Standard | B70: Iconic Stealth F 117F 600mm - Tiger | C70: iconic-stealth-f-117f-600mm | D70: Plywood | E70: - | F70: 600mm | G70: 1 | H70: 235.96 | I70: 0 | L70: =SUM(I70:K70) | M70: =H70*L70
A71: Standard | B71: Iconic Stealth F 117F 600mm - Zebra | C71: iconic-stealth-f-117f-600mm-zebra | D71: Plywood | E71: - | F71: 600mm | G71: 1 | H71: 244.39 | K71: 0 | L71: =SUM(I71:K71) | M71: =H71*L71
A72: Standard | B72: Iconic Stealth F 117F 900mm - Leopard | C72: iconic-stealth-f-117f-900mm-leopard | D72: Plywood | E72: - | F72: 900mm | G72: 1 | H72: 335.97 | J72: 0 | L72: =SUM(I72:K72) | M72: =H72*L72
A73: Standard | B73: Iconic Stealth F 117F 900mm - Tiger | C73: iconic-stealth-f-117f-900mm-tiger | D73: Plywood | E73: - | F73: 900mm | G73: 1 | H73: 313.58 | I73: 0 | L73: =SUM(I73:K73) | M73: =H73*L73
A74: Standard | B74: Iconic Stealth F 117P 1200mm - Leopard | C74: iconic-stealth-f-117p-1200mm-leopard | D74: Plywood | E74: - | F74: 1200mm | G74: 1 | H74: 490.64 | J74: 0 | L74: =SUM(I74:K74) | M74: =H74*L74
A75: Standard | B75: Iconic Stealth F 117P 1200mm - Tiger | C75: iconic-stealth-f-117p-1200mm-tiger | D75: Plywood | E75: - | F75: 1200mm | G75: 1 | H75: 457.93 | I75: 0 | L75: =SUM(I75:K75) | M75: =H75*L75
A76: Standard | B76: Iconic Stealth F 117P 1500mm - Zebra | C76: iconic-stealth-f-117p-1500mm-zebra | D76: Plywood | E76: - | F76: 1500mm | G76: 1 | H76: 771.73 | K76: 0 | L76: =SUM(I76:K76) | M76: =H76*L76
A77: Standard | B77: Iconic Stealth F 117P 600mm - Zebra | C77: iconic-stealth-f-117p-600mm-zebra | D77: Plywood | E77: - | F77: 600mm | G77: 1 | H77: 265.28 | K77: 0 | L77: =SUM(I77:K77) | M77: =H77*L77
A78: Standard | B78: Block Taper Right XXXL-XXL - Tiger | C78: wedge-block-taper-right-2400mm-tiger | D78: Plywood | E78: - | F78: XXL | G78: 1 | H78: 876.26 | I78: 0 | L78: =SUM(I78:K78) | M78: =H78*L78
A79: Standard | B79: Block Taper Right XXXL-XXL- Leopard | C79: wedge-block-taper-right-2400mm-leopard | D79: Plywood | E79: - | F79: XXL | G79: 1 | H79: 938.85 | J79: 0 | L79: =SUM(I79:K79) | M79: =H79*L79
A80: Standard | B80: Block Taper Left XXXL-XXL - Leopard | C80: wedge-block-taper-left-2400mm-leopard | D80: Plywood | E80: - | F80: XXL | G80: 1 | H80: 1089.00 | J80: 0 | L80: =SUM(I80:K80) | M80: =H80*L80
A81: Standard | B81: Block Taper Left XXXL-XXL - Tiger | C81: wedge-block-taper-left-2400mm-tiger | D81: Plywood | E81: - | F81: XXL | G81: 1 | H81: 876.26 | I81: 0 | L81: =SUM(I81:K81) | M81: =H81*L81
A82: Standard | B82: Hex Steep Inside XXXL - Leopard | C82: hex-steep-inside-2400mm-leopard | D82: Plywood | E82: - | F82: 2400mm | G82: 1 | H82: 1018.22 | J82: 0 | L82: =SUM(I82:K82) | M82: =H82*L82
A83: Standard | B83: Hex Steep Inside XXXL - Zebra | C83: hex-steep-inside-2400mm-zebra | D83: Plywood | E83: - | F83: 2400mm | G83: 1 | H83: 984.28 | K83: 0 | L83: =SUM(I83:K83) | M83: =H83*L83
A84: Standard | B84: Hex Steep Outside XXL - Leopard | C84: hex-steep-outside-2400mm-leopard | D84: Plywood | E84: - | F84: 2400mm | G84: 1 | H84: 1018.22 | J84: 0 | L84: =SUM(I84:K84) | M84: =H84*L84
A85: Standard | B85: Hex Steep Outside XXL - Zebra | C85: hex-steep-outside-2400mm-zebra | D85: Plywood | E85: - | F85: 2400mm | G85: 1 | H85: 984.28 | K85: 0 | L85: =SUM(I85:K85) | M85: =H85*L85
A86: Standard | B86: Wedge Half Left XXL- Tiger | C86: half-wedge-left-2100mm-tiger | D86: Plywood | E86: - | F86: 2100mm | G86: 1 | H86: 752.40 | I86: 0 | L86: =SUM(I86:K86) | M86: =H86*L86
A87: Standard | B87: X-Wing Half Left 2400mm - Leopard | C87: x-wing-half-left-leopard | D87: Plywood | E87: - | F87: 2400mm | G87: 1 | H87: 1188.00 | J87: 0 | L87: =SUM(I87:K87) | M87: =H87*L87
A88: Standard | B88: X-Wing Half Right 2400mm - Leopard | C88: x-wing-half-right-2400mm-leopard | D88: Plywood | E88: - | F88: 2400mm | G88: 1 | H88: 1188.00 | J88: 0 | L88: =SUM(I88:K88) | M88: =H88*L88

Sheet Paint
A1: ="Grand Total: €"&TEXT(SUM('Macros'!R3:R137)+SUM('PU Kastline'!X3:X62)+SUM('PU Composite X'!W3:W113)+SUM('PU Aragon'!BE3:BE105)+SUM('Volumes'!V3:V581)+SUM('Animal Prints'!M3:M88)+SUM('Paint'!J3:J7),"#,##0.00") | C1: ="Macros: €"&TEXT(SUM('Macros'!R3:R137),"#,##0.00") | E1: ="Volumes: €"&TEXT(SUM('Volumes'!V3:V581),"#,##0.00") | G1: ="PU Total: €"&TEXT(SUM('PU Kastline'!X3:X62)+SUM('PU Composite X'!W3:W113)+SUM('PU Aragon'!BE3:BE105),"#,##0.00") | I1: ="Animal Prints: €"&TEXT(SUM('Animal Prints'!M3:M88),"#,##0.00") | K1: ="PU Kastline: €"&TEXT(SUM('PU Kastline'!X3:X62),"#,##0.00") | M1: ="PU Comp-X: €"&TEXT(SUM('PU Composite X'!W3:W113),"#,##0.00") | O1: ="PU Aragon: €"&TEXT(SUM('PU Aragon'!BE3:BE105),"#,##0.00") | Q1: ="Paint: €"&TEXT(SUM('Paint'!J3:J7),"#,##0.00")
A2: finish | B2: product_name | C2: sku | D2: material | E2: angle | F2: size | G2: holds | H2: unit_price_eur | I2: total_quantity | J2: line_total_eur
A3: Standard | B3: 25KG Aluminium Oxide | C3: 25kg-aluminium-oxide | D3: Paint | E3: - | F3: Not specified | G3: 1 | H3: 45.41
A4: Standard | B4: ProWall Base | C4: prowall-base | D4: Paint | E4: - | F4: Not specified | G4: 1 | H4: 155.50
A5: Standard | B5: ProWall Shield | C5: prowall-sheild | D5: Paint | E5: - | F5: Not specified | G5: 1 | H5: 226.22
A6: Standard | B6: Rockcity Climbing Wall Paint 1L | C6: rockcity-climbing-wall-paint-1l | D6: Paint | E6: - | F6: 1L | G6: 1 | H6: 23.70
A7: Standard | B7: Rockcity Climbing Wall Paint 5L | C7: rockcity-climbing-wall-paint-5l | D7: Paint | E7: - | F7: 5L | G7: 1 | H7: 70.50
